Workbook

Sheet 20年1月
B1: 主要旅行業者の旅行取扱状況速報
F2: 43831
B3: 会 社 名 | C3: 海 外 旅 行 | F3: 外 国 人 旅 行 | I3: 国 内 旅 行 | L3: 合 計
C4: 取扱額（千円） | D4: 前年（千円） | E4: 前年比（％） | F4: 取扱額（千円） | G4: 前年（千円） | H4: 前年比（％） | I4: 取扱額（千円） | J4: 前年（千円） | K4: 前年比（％） | L4: 取扱額（千円） | M4: 前年（千円） | N4: 前年比（％）
B5: JTB（10社計 *1） | C5: 32676840 | D5: 36947196 | E5: 88.4 | F5: 6619624 | G5: 5278963 | H5: 125.4 | I5: 58609776 | J5: 62145545 | K5: 94.3 | L5: 97906241 | M5: 104371704 | N5: 93.8
B6: エイチ・アイ・エス（6社計 *2)
B7: KNT-CTホールディングス（13社計 *3） | C7: 11554199 | D7: 11849447 | E7: 97.5 | F7: 1447358 | G7: 1460864 | H7: 99.1 | I7: 18479508 | J7: 20082715 | K7: 92 | L7: 31481065 | M7: 33393026 | N7: 94.3
B8: （株）日本旅行 | C8: 8154220 | D8: 8350981 | E8: 97.6 | F8: 2683016 | G8: 2010627 | H8: 133.4 | I8: 18468176 | J8: 19433371 | K8: 95 | L8: 29305412 | M8: 29794979 | N8: 98.4
B9: 阪急交通社（3社計 *4） | C9: 16229000 | D9: 16923416 | E9: 95.9 | F9: 43366 | G9: 49668 | H9: 87.3 | I9: 7664415 | J9: 7967632 | K9: 96.2 | L9: 23936781 | M9: 24940718 | N9: 96
B10: （株）ジャルパック | C10: 2965661 | D10: 3384379 | E10: 87.6 | F10: 3249 | G10: 5424 | H10: 59.9 | I10: 8836540 | J10: 9060937 | K10: 97.5 | L10: 11805450 | M10: 12450740 | N10: 94.8
B11: ANAセールス（株） | C11: 1568361 | D11: 1422387 | E11: 110.3 | F11: 162551 | G11: 110625 | H11: 146.9 | I11: 9919597 | J11: 9814161 | K11: 101.1 | L11: 11650509 | M11: 11347174 | N11: 102.7
B12: 東武トップツアーズ（株） | C12: 2044449 | D12: 1644794 | E12: 124.3 | F12: 182802 | G12: 242148 | H12: 75.5 | I12: 4816920 | J12: 5216007 | K12: 92.3 | L12: 7044171 | M12: 7102949 | N12: 99.2
B13: （株）ジェイアール東海ツアーズ | C13: 92922 | D13: 97105 | E13: 95.7 | F13: 161169 | G13: 103095 | H13: 156.3 | I13: 6062307 | J13: 6520505 | K13: 93 | L13: 6316398 | M13: 6720705 | N13: 94
B14: 名鉄観光サービス（株） | C14: 713744 | D14: 919155 | E14: 77.7 | F14: 192467 | G14: 177182 | H14: 108.6 | I14: 3985901 | J14: 3625400 | K14: 109.9 | L14: 4892112 | M14: 4721737 | N14: 103.6
B15: （株）農協観光 | C15: 576305 | D15: 771904 | E15: 74.7 | F15: 47962 | G15: 51333 | H15: 93.4 | I15: 4074531 | J15: 4333537 | K15: 94 | L15: 4698798 | M15: 5156774 | N15: 91.1
B16: ビッグホリデー（株） | C16: 311770 | D16: 323100 | E16: 96.5 | F16: 0 | G16: 0 | H16: － | I16: 4382650 | J16: 4504300 | K16: 97.3 | L16: 4694420 | M16: 4827400 | N16: 97.2
B17: 日新航空サービス（株） | C17: 2845180 | D17: 3482318 | E17: 81.7 | F17: 0 | G17: 0 | H17: － | I17: 273692 | J17: 227712 | K17: 120.2 | L17: 3118872 | M17: 3710030 | N17: 84.1
B18: (株）びゅうトラベルサービス | C18: 122326 | D18: 121881 | E18: 100.4 | F18: 468577 | G18: 340372 | H18: 137.7 | I18: 3212149 | J18: 3569453 | K18: 90 | L18: 3803053 | M18: 4031706 | N18: 94.3
B19: （株）読売旅行 | C19: 891736 | D19: 516787 | E19: 172.6 | F19: 1536 | G19: 4456 | H19: 34.5 | I19: 1822388 | J19: 2131859 | K19: 85.5 | L19: 2715660 | M19: 2653102 | N19: 102.4
B20: エムオーツーリスト（株） | C20: 2414658 | D20: 2670867 | E20: 90.4 | F20: 0 | G20: 163 | H20: － | I20: 176406 | J20: 164871 | K20: 107 | L20: 2591064 | M20: 2835901 | N20: 91.4
B21: 日通旅行（株） | C21: 1613537 | D21: 2421975 | E21: 66.6 | F21: 30138 | G21: 39894 | H21: 75.5 | I21: 338924 | J21: 417996 | K21: 81.1 | L21: 1982599 | M21: 2879865 | N21: 68.8
B22: 株式会社HTB-BCDトラベル | C22: 1761850 | D22: 1528438 | E22: 115.3 | F22: 10 | G22: 961 | H22: 1 | I22: 1198337 | J22: 1151223 | K22: 104.1 | L22: 2960197 | M22: 2680622 | N22: 110.4
B23: 西鉄旅行（株） | C23: 579785 | D23: 837537 | E23: 69.2 | F23: 20383 | G23: 25559 | H23: 79.7 | I23: 1343081 | J23: 1352648 | K23: 99.3 | L23: 1943249 | M23: 2215744 | N23: 87.7
B24: （株）エヌオーイー | C24: 2207119 | D24: 2553472 | E24: 86.4 | F24: 7236 | G24: 2669 | H24: 271.1 | I24: 175147 | J24: 108129 | K24: 162 | L24: 2389503 | M24: 2664270 | N24: 89.7
B25: 郵船トラベル（株） | C25: 1549118 | D25: 2473014 | E25: 62.6 | F25: 0 | G25: 0 | H25: － | I25: 72754 | J25: 106426 | K25: 68.4 | L25: 1621872 | M25: 2579440 | N25: 62.9
B26: （株）旅工房 | C26: 1958775 | D26: 1702654 | E26: 115 | F26: 34058 | G26: 49564 | H26: 68.7 | I26: 108583 | J26: 83042 | K26: 130.8 | L26: 2101416 | M26: 1835260 | N26: 114.5
B27: （株）IACEトラベル | C27: 1640371 | D27: 1897545 | E27: 86.4 | F27: 0 | G27: 0 | H27: － | I27: 302915 | J27: 271593 | K27: 111.5 | L27: 1943286 | M27: 2169138 | N27: 89.6
B28: 沖縄ツーリスト（株） | C28: 61057 | D28: 102685 | E28: 59.5 | F28: 10904 | G28: 59656 | H28: 18.3 | I28: 1128650 | J28: 1532428 | K28: 73.7 | L28: 1200611 | M28: 1694769 | N28: 70.8
B29: T-LIFEホールディングス（株）（4社計 *5） | C29: 446601 | D29: 526052 | E29: 84.9 | F29: 55535 | G29: 72822 | H29: 76.3 | I29: 1256603 | J29: 1628088 | K29: 77.2 | L29: 1758739 | M29: 2226962 | N29: 79
B30: WILLER（株） | C30: 0 | D30: 0 | E30: － | F30: 80403 | G30: 69888 | H30: 115 | I30: 1322413 | J30: 1223563 | K30: 108.1 | L30: 1402816 | M30: 1293451 | N30: 108.5
B31: 京王観光（株） | C31: 230775 | D31: 196810 | E31: 117.3 | F31: 79740 | G31: 22169 | H31: 359.7 | I31: 908909 | J31: 1235826 | K31: 73.5 | L31: 1219424 | M31: 1454805 | N31: 83.8
B32: （株）トヨタツーリストインターナショナル | C32: 968762 | D32: 1275339 | E32: 76 | F32: 0 | G32: 0 | H32: － | I32: 144833 | J32: 565678 | K32: 25.6 | L32: 1113595 | M32: 1841017 | N32: 60.5
B33: メルコトラベル（株） | C33: 415925 | D33: 516278 | E33: 80.6 | F33: 0 | G33: 0 | H33: － | I33: 544099 | J33: 583426 | K33: 93.3 | L33: 960024 | M33: 1099704 | N33: 87.3
B34: イオンコンパス（株） | C34: 234164 | D34: 261204 | E34: 89.6 | F34: 27231 | G34: 24897 | H34: 109.4 | I34: 727088 | J34: 582758 | K34: 124.8 | L34: 988483 | M34: 868859 | N34: 113.8
B35: （株）南海国際旅行 | C35: 225188 | D35: 246447 | E35: 91.4 | F35: 30691 | G35: 19818 | H35: 154.9 | I35: 650409 | J35: 793891 | K35: 81.9 | L35: 906288 | M35: 1060156 | N35: 85.5
B36: （株）小田急トラベル | C36: 106858 | D36: 158398 | E36: 67.5 | F36: 15199 | G36: 16138 | H36: 94.2 | I36: 695701 | J36: 712397 | K36: 97.7 | L36: 817758 | M36: 886933 | N36: 92.2
B37: 京成トラベルサービス（株） | C37: 47724 | D37: 62747 | E37: 76.1 | F37: 880 | G37: 1556 | H37: 56.6 | I37: 1003922 | J37: 983692 | K37: 102.1 | L37: 1052526 | M37: 1047995 | N37: 100.4
B38: （株）日産クリエイティブサービス | C38: 613369 | D38: 682967 | E38: 89.8 | F38: 0 | G38: 0 | H38: － | I38: 207945 | J38: 212966 | K38: 97.6 | L38: 821314 | M38: 895933 | N38: 91.7
B39: （株）フジ・トラベル・サービス | C39: 104667 | D39: 137688 | E39: 76 | F39: 8757 | G39: 3283 | H39: 266.7 | I39: 484788 | J39: 559823 | K39: 86.6 | L39: 598212 | M39: 700794 | N39: 85.4
B40: 北海道旅客鉄道（株） | C40: 87024 | D40: 51596 | E40: 168.7 | F40: 0 | G40: 0 | H40: － | I40: 497073 | J40: 623661 | K40: 79.7 | L40: 584097 | M40: 675257 | N40: 86.5
...

Sheet 2月
B1: 主要旅行業者の旅行取扱状況速報
F2: 43862
B3: 会 社 名 | C3: 海 外 旅 行 | F3: 外 国 人 旅 行 | I3: 国 内 旅 行 | L3: 合 計
C4: 取扱額（千円） | D4: 前年（千円） | E4: 前年比（％） | F4: 取扱額（千円） | G4: 前年（千円） | H4: 前年比（％） | I4: 取扱額（千円） | J4: 前年（千円） | K4: 前年比（％） | L4: 取扱額（千円） | M4: 前年（千円） | N4: 前年比（％）
B5: JTB（10社計 *1） | C5: 37934111 | D5: 44771108 | E5: 84.7 | F5: 3576940 | G5: 6488036 | H5: 55.1 | I5: 58701094 | J5: 66058204 | K5: 88.9 | L5: 100212144 | M5: 117317348 | N5: 85.4
B6: エイチ・アイ・エス（6社計 *2)
B7: KNT-CTホールディングス（13社計 *3） | C7: 10420808 | D7: 12733574 | E7: 81.8 | F7: 926048 | G7: 1690798 | H7: 54.8 | I7: 15669973 | J7: 19153551 | K7: 81.8 | L7: 27016829 | M7: 33577923 | N7: 80.5
B8: （株）日本旅行 | C8: 6128779 | D8: 9484645 | E8: 64.6 | F8: 2427847 | G8: 2603521 | H8: 93.3 | I8: 16614461 | J8: 21038530 | K8: 79 | L8: 25171087 | M8: 33126696 | N8: 76
B9: 阪急交通社（3社計 *4） | C9: 9700991 | D9: 17993402 | E9: 53.9 | F9: 90244 | G9: 158173 | H9: 57.1 | I9: 6718983 | J9: 8961052 | K9: 75 | L9: 16510218 | M9: 27112629 | N9: 60.9
B10: （株）ジャルパック | C10: 3626863 | D10: 3782703 | E10: 95.9 | F10: 1899 | G10: 1629 | H10: 116.6 | I10: 9993119 | J10: 10350554 | K10: 96.5 | L10: 13621881 | M10: 14134886 | N10: 96.4
B11: ANAセールス（株） | C11: 1741349 | D11: 1723248 | E11: 101.1 | F11: 39415 | G11: 179145 | H11: 22 | I11: 11094721 | J11: 11939481 | K11: 92.9 | L11: 12875485 | M11: 13841875 | N11: 93
B12: 東武トップツアーズ（株） | C12: 1721813 | D12: 2159480 | E12: 79.7 | F12: 203861 | G12: 281914 | H12: 72.3 | I12: 4584895 | J12: 5339046 | K12: 85.9 | L12: 6510569 | M12: 7780440 | N12: 83.7
B13: （株）ジェイアール東海ツアーズ | C13: 141089 | D13: 154695 | E13: 91.2 | F13: 102407 | G13: 112616 | H13: 90.9 | I13: 5137347 | J13: 7458740 | K13: 68.9 | L13: 5380843 | M13: 7726051 | N13: 69.6
B14: 名鉄観光サービス（株） | C14: 1159770 | D14: 1547589 | E14: 74.9 | F14: 105978 | G14: 160972 | H14: 65.8 | I14: 3908035 | J14: 4207063 | K14: 92.9 | L14: 5173783 | M14: 5915624 | N14: 87.5
B15: （株）農協観光 | C15: 893007 | D15: 1044206 | E15: 85.5 | F15: 44845 | G15: 44952 | H15: 99.8 | I15: 4542912 | J15: 5691381 | K15: 79.8 | L15: 5480764 | M15: 6780539 | N15: 80.8
B16: ビッグホリデー（株） | C16: 459580 | D16: 499712 | E16: 92 | F16: 0 | G16: 0 | H16: － | I16: 7592780 | J16: 7904560 | K16: 96.1 | L16: 8052360 | M16: 8404272 | N16: 95.8
B17: 日新航空サービス（株） | C17: 2840570 | D17: 3611380 | E17: 78.7 | F17: 0 | G17: 0 | H17: － | I17: 182953 | J17: 279098 | K17: 65.6 | L17: 3023523 | M17: 3890478 | N17: 77.7
B18: (株）びゅうトラベルサービス | C18: 71967 | D18: 48049 | E18: 149.8 | F18: 69036 | G18: 255625 | H18: 27 | I18: 3870350 | J18: 4539542 | K18: 85.3 | L18: 4011353 | M18: 4843217 | N18: 82.8
B19: （株）読売旅行 | C19: 414050 | D19: 405303 | E19: 102.2 | F19: 2381 | G19: 2816 | H19: 84.6 | I19: 1442766 | J19: 1638944 | K19: 88 | L19: 1859197 | M19: 2047063 | N19: 90.8
B20: エムオーツーリスト（株） | C20: 1968875 | D20: 2853199 | E20: 69 | F20: 1070 | G20: 0 | H20: － | I20: 165951 | J20: 164434 | K20: 100.9 | L20: 2135896 | M20: 3017633 | N20: 70.8
B21: 日通旅行（株） | C21: 1282733 | D21: 2452064 | E21: 52.3 | F21: 43033 | G21: 19233 | H21: 223.7 | I21: 366543 | J21: 408628 | K21: 89.7 | L21: 1692309 | M21: 2879925 | N21: 58.8
B22: 株式会社HTB-BCDトラベル | C22: 1026759 | D22: 1498282 | E22: 68.5 | F22: 3937 | G22: 1617 | H22: 243.5 | I22: 984738 | J22: 1005724 | K22: 97.9 | L22: 2015434 | M22: 2505623 | N22: 80.4
B23: 西鉄旅行（株） | C23: 615070 | D23: 799299 | E23: 77 | F23: 19855 | G23: 16714 | H23: 118.8 | I23: 1389740 | J23: 1675636 | K23: 82.9 | L23: 2024665 | M23: 2491649 | N23: 81.3
B24: （株）エヌオーイー | C24: 1818381 | D24: 2508215 | E24: 72.5 | F24: 9356 | G24: 1747 | H24: 535.5 | I24: 180874 | J24: 125909 | K24: 143.7 | L24: 2008611 | M24: 2635871 | N24: 76.2
B25: 郵船トラベル（株） | C25: 1190775 | D25: 2080888 | E25: 57.2 | F25: 0 | G25: 0 | H25: － | I25: 58431 | J25: 95080 | K25: 61.5 | L25: 1249206 | M25: 2175968 | N25: 57.4
B26: （株）旅工房 | C26: 3052754 | D26: 2713346 | E26: 112.5 | F26: 19165 | G26: 32093 | H26: 59.7 | I26: 66032 | J26: 204624 | K26: 32.3 | L26: 3137951 | M26: 2950063 | N26: 106.4
B27: （株）IACEトラベル | C27: 945482 | D27: 1823008 | E27: 51.9 | F27: 0 | G27: 0 | H27: － | I27: 275425 | J27: 342527 | K27: 80.4 | L27: 1220907 | M27: 2165535 | N27: 56.4
B28: 沖縄ツーリスト（株） | C28: 63830 | D28: 114631 | E28: 55.7 | F28: 3858 | G28: 46881 | H28: 8.2 | I28: 913926 | J28: 1764908 | K28: 51.8 | L28: 981614 | M28: 1926420 | N28: 51
B29: T-LIFEホールディングス（株）（4社計 *5） | C29: 352189 | D29: 643412 | E29: 54.7 | F29: 76268 | G29: 78371 | H29: 97.3 | I29: 1458600 | J29: 1923886 | K29: 75.8 | L29: 1887057 | M29: 2645669 | N29: 71.3
B30: WILLER（株） | C30: 0 | D30: 0 | E30: － | F30: 54566 | G30: 52316 | H30: 104.3 | I30: 1679158 | J30: 1612911 | K30: 104.1 | L30: 1733724 | M30: 1665227 | N30: 104.1
B31: 京王観光（株） | C31: 261335 | D31: 283746 | E31: 92.1 | F31: 23291 | G31: 1802 | H31: 1292.5 | I31: 908749 | J31: 1062468 | K31: 85.5 | L31: 1193375 | M31: 1348016 | N31: 88.5
B32: （株）トヨタツーリストインターナショナル | C32: 722172 | D32: 1139084 | E32: 63.4 | F32: 0 | G32: 0 | H32: － | I32: 111265 | J32: 171016 | K32: 65.1 | L32: 833437 | M32: 1310100 | N32: 63.6
B33: メルコトラベル（株） | C33: 314449 | D33: 595343 | E33: 52.8 | F33: 33 | G33: 43 | H33: 76.7 | I33: 518193 | J33: 665460 | K33: 77.9 | L33: 832675 | M33: 1260846 | N33: 66
B34: イオンコンパス（株） | C34: 261769 | D34: 297933 | E34: 87.9 | F34: 25483 | G34: 34188 | H34: 74.5 | I34: 510930 | J34: 569595 | K34: 89.7 | L34: 798182 | M34: 901716 | N34: 88.5
B35: （株）南海国際旅行 | C35: 194512 | D35: 258806 | E35: 75.2 | F35: 5049 | G35: 19512 | H35: 25.9 | I35: 706326 | J35: 883544 | K35: 79.9 | L35: 905887 | M35: 1161862 | N35: 78
B36: （株）小田急トラベル | C36: 250633 | D36: 271052 | E36: 92.5 | F36: 2639 | G36: 24625 | H36: 10.7 | I36: 621047 | J36: 889872 | K36: 69.8 | L36: 874319 | M36: 1185549 | N36: 73.7
B37: 京成トラベルサービス（株） | C37: 33725 | D37: 59918 | E37: 56.3 | F37: 323 | G37: 555 | H37: 58.2 | I37: 613126 | J37: 782953 | K37: 78.3 | L37: 647174 | M37: 843426 | N37: 76.7
B38: （株）日産クリエイティブサービス | C38: 417291 | D38: 902938 | E38: 46.2 | F38: 0 | G38: 0 | H38: － | I38: 154919 | J38: 217956 | K38: 71.1 | L38: 572210 | M38: 1120894 | N38: 51
B39: （株）フジ・トラベル・サービス | C39: 129764 | D39: 123989 | E39: 104.7 | F39: 1743 | G39: 3844 | H39: 45.3 | I39: 584372 | J39: 704076 | K39: 83 | L39: 715879 | M39: 831909 | N39: 86.1
B40: 北海道旅客鉄道（株） | C40: 8913 | D40: 67372 | E40: 13.2 | F40: 0 | G40: 0 | H40: － | I40: 369861 | J40: 668497 | K40: 55.3 | L40: 378774 | M40: 735869 | N40: 51.5
...

Sheet 3月
B1: 主要旅行業者の旅行取扱状況速報
F2: 43891
B3: 会 社 名 | C3: 海 外 旅 行 | F3: 外 国 人 旅 行 | I3: 国 内 旅 行 | L3: 合 計
C4: 取扱額（千円） | D4: 前年（千円） | E4: 前年比（％） | F4: 取扱額（千円） | G4: 前年（千円） | H4: 前年比（％） | I4: 取扱額（千円） | J4: 前年（千円） | K4: 前年比（％） | L4: 取扱額（千円） | M4: 前年（千円） | N4: 前年比（％）
B5: JTB（10社計 *1） | C5: 8978695 | D5: 51013641 | E5: 17.6 | F5: 2668307 | G5: 10425750 | H5: 25.6 | I5: 45886941 | J5: 92706036 | K5: 49.5 | L5: 57533944 | M5: 154145427 | N5: 37.3
B6: エイチ・アイ・エス（6社計 *2)
B7: KNT-CTホールディングス（13社計 *3） | C7: 3994855 | D7: 15080198 | E7: 26.5 | F7: 645381 | G7: 3350916 | H7: 19.3 | I7: 8819165 | J7: 24441361 | K7: 36.1 | L7: 13459401 | M7: 42872475 | N7: 31.4
B8: （株）日本旅行 | C8: 131382 | D8: 12099935 | E8: 1.1 | F8: 1872848 | G8: 3892577 | H8: 48.1 | I8: 7675608 | J8: 25018529 | K8: 30.7 | L8: 9679838 | M8: 41011041 | N8: 23.6
B9: 阪急交通社（3社計 *4） | C9: 213501 | D9: 19331861 | E9: 1.1 | F9: 36764 | G9: 239766 | H9: 15.3 | I9: 2072418 | J9: 12558210 | K9: 16.5 | L9: 2322683 | M9: 32129840 | N9: 7.2
B10: （株）ジャルパック | C10: 844397 | D10: 4419746 | E10: 19.1 | F10: 0 | G10: 4092 | H10: － | I10: 4247970 | J10: 12919233 | K10: 32.9 | L10: 5092245 | M10: 17343071 | N10: 29.4
B11: ANAセールス（株） | C11: 246295 | D11: 1811658 | E11: 13.6 | F11: 2441 | G11: 129404 | H11: 1.9 | I11: 4656751 | J11: 15094699 | K11: 30.9 | L11: 4905487 | M11: 17035761 | N11: 28.8
B12: 東武トップツアーズ（株） | C12: 564196 | D12: 3119662 | E12: 18.1 | F12: 346254 | G12: 723461 | H12: 47.9 | I12: 1660750 | J12: 5601034 | K12: 29.7 | L12: 2571200 | M12: 9444156 | N12: 27.2
B13: （株）ジェイアール東海ツアーズ | C13: 26404 | D13: 133852 | E13: 19.7 | F13: 36069 | G13: 241818 | H13: 14.9 | I13: 1705191 | J13: 8183807 | K13: 20.8 | L13: 1767664 | M13: 8559476 | N13: 20.7
B14: 名鉄観光サービス（株） | C14: 256721 | D14: 1349377 | E14: 19 | F14: 23047 | G14: 180668 | H14: 12.8 | I14: 1531744 | J14: 5506334 | K14: 27.8 | L14: 1811512 | M14: 7036379 | N14: 25.7
B15: （株）農協観光 | C15: 125327 | D15: 585480 | E15: 21.4 | F15: 13527 | G15: 103917 | H15: 13 | I15: 875247 | J15: 4831274 | K15: 18.1 | L15: 1014101 | M15: 5520671 | N15: 18.4
B16: ビッグホリデー（株） | C16: 23450 | D16: 359330 | E16: 6.5 | F16: 0 | G16: 0 | H16: － | I16: 2453210 | J16: 9019300 | K16: 27.2 | L16: 2476660 | M16: 9378630 | N16: 26.4
B17: 日新航空サービス（株） | C17: 760981 | D17: 4061760 | E17: 18.7 | H17: － | I17: 82262 | J17: 347042 | K17: 23.7 | L17: 843243 | M17: 4408802 | N17: 19.1
B18: (株）びゅうトラベルサービス | C18: 17847 | D18: 40668 | E18: 43.9 | F18: 0 | G18: 245551 | H18: － | I18: 1370385 | J18: 4717443 | K18: 29 | L18: 1388232 | M18: 5003662 | N18: 27.7
B19: （株）読売旅行 | C19: 337639 | D19: 622294 | E19: 54.3 | F19: 21806 | G19: 12223 | H19: 178.4 | I19: 228087 | J19: 2500049 | K19: 9.1 | L19: 587532 | M19: 3134566 | N19: 18.7
B20: エムオーツーリスト（株） | C20: 492038 | D20: 3337902 | E20: 14.7 | F20: 363 | G20: 8453 | H20: 4.3 | I20: 65139 | J20: 194543 | K20: 33.5 | L20: 557540 | M20: 3540898 | N20: 15.7
B21: 日通旅行（株） | C21: 267052 | D21: 2777355 | E21: 9.6 | F21: 18143 | G21: 120514 | H21: 15.1 | I21: 160463 | J21: 423736 | K21: 37.9 | L21: 445658 | M21: 3321605 | N21: 13.4
B22: 株式会社HTB-BCDトラベル | C22: 134008 | D22: 2064073 | E22: 6.5 | F22: 0 | G22: 4272 | H22: － | I22: 348959 | J22: 1944655 | K22: 17.9 | L22: 482967 | M22: 4013000 | N22: 12
B23: 西鉄旅行（株） | C23: 168139 | D23: 1058612 | E23: 15.9 | F23: 7295 | G23: 51718 | H23: 14.1 | I23: 501333 | J23: 1866693 | K23: 26.9 | L23: 676767 | M23: 2977023 | N23: 22.7
B24: （株）エヌオーイー | C24: 634547 | D24: 3094124 | E24: 20.5 | F24: 3327 | G24: 24831 | H24: 13.4 | I24: 126841 | J24: 157802 | K24: 80.4 | L24: 764715 | M24: 3276757 | N24: 23.3
B25: 郵船トラベル（株） | C25: 389553 | D25: 2374316 | E25: 16.4 | F25: 0 | G25: 0 | H25: － | I25: 27225 | J25: 255989 | K25: 10.6 | L25: 416778 | M25: 2630305 | N25: 15.8
B26: （株）旅工房 | C26: 831884 | D26: 2655561 | E26: 31.3 | F26: 6299 | G26: 53419 | H26: 11.8 | I26: 69341 | J26: 170214 | K26: 40.7 | L26: 907524 | M26: 2879194 | N26: 31.5
B27: （株）IACEトラベル | C27: 96503 | D27: 1965870 | E27: 4.9 | F27: 0 | G27: 0 | H27: － | I27: 224260 | J27: 455019 | K27: 49.3 | L27: 320763 | M27: 2420889 | N27: 13.2
B28: 沖縄ツーリスト（株） | C28: 0 | D28: 138863 | E28: － | F28: 0 | G28: 35951 | H28: － | I28: 104879 | J28: 1852323 | K28: 5.7 | L28: 104879 | M28: 2027137 | N28: 5.2
B29: T-LIFEホールディングス（株）（4社計 *5） | C29: 84611 | D29: 715295 | E29: 11.8 | F29: 73566 | G29: 207309 | H29: 35.5 | I29: 283738 | J29: 2075524 | K29: 13.7 | L29: 441915 | M29: 2998128 | N29: 14.7
B30: WILLER（株） | C30: 0 | D30: 0 | E30: － | F30: 23403 | G30: 67993 | H30: 34.4 | I30: 564359 | J30: 2529271 | K30: 22.3 | L30: 587762 | M30: 2597264 | N30: 22.6
B31: 京王観光（株） | C31: 192136 | D31: 481124 | E31: 39.9 | F31: 1397 | G31: 1196 | H31: 116.8 | I31: 276643 | J31: 1132443 | K31: 24.4 | L31: 470176 | M31: 1614763 | N31: 29.1
B32: （株）トヨタツーリストインターナショナル | C32: 388670 | D32: 1672347 | E32: 23.2 | F32: 0 | G32: 0 | H32: － | I32: 54042 | J32: 147415 | K32: 36.7 | L32: 442712 | M32: 1819762 | N32: 24.3
B33: メルコトラベル（株） | C33: 0 | D33: 655409 | E33: － | F33: 0 | G33: 1429 | H33: － | I33: 384522 | J33: 762577 | K33: 50.4 | L33: 384522 | M33: 1419415 | N33: 27.1
B34: イオンコンパス（株） | C34: 59617 | D34: 358382 | E34: 16.6 | F34: 0 | G34: 11537 | H34: － | I34: 430656 | J34: 808931 | K34: 53.2 | L34: 490273 | M34: 1178850 | N34: 41.6
B35: （株）南海国際旅行 | C35: 47523 | D35: 385308 | E35: 12.3 | F35: 6797 | G35: 69753 | H35: 9.7 | I35: 343149 | J35: 990999 | K35: 34.6 | L35: 397469 | M35: 1446060 | N35: 27.5
B36: （株）小田急トラベル | C36: 54215 | D36: 233044 | E36: 23.3 | F36: 776 | G36: 17502 | H36: 4.4 | I36: 262863 | J36: 969764 | K36: 27.1 | L36: 317854 | M36: 1220310 | N36: 26
B37: 京成トラベルサービス（株） | C37: 0 | D37: 69076 | E37: － | F37: 1649 | G37: 3137 | H37: 52.6 | I37: 534815 | J37: 1221206 | K37: 43.8 | L37: 536464 | M37: 1293419 | N37: 41.5
B38: （株）日産クリエイティブサービス | C38: 310306 | D38: 824856 | E38: 37.6 | F38: 0 | G38: 0 | H38: － | I38: 95886 | J38: 199218 | K38: 48.1 | L38: 406192 | M38: 1024074 | N38: 39.7
B39: （株）フジ・トラベル・サービス | C39: 33832 | D39: 129858 | E39: 26.1 | F39: 0 | G39: 3317 | H39: － | I39: 153536 | J39: 905773 | K39: 17 | L39: 187368 | M39: 1038948 | N39: 18
B40: 北海道旅客鉄道（株） | C40: 0 | D40: 51552 | E40: － | H40: － | I40: 134135 | J40: 672502 | K40: 19.9 | L40: 134135 | M40: 724054 | N40: 18.5
...

Sheet 4月
B1: 主要旅行業者の旅行取扱状況速報
F2: 43922
B3: 会 社 名 | C3: 海 外 旅 行 | F3: 外 国 人 旅 行 | I3: 国 内 旅 行 | L3: 合 計
C4: 取扱額（千円） | D4: 前年（千円） | E4: 前年比（％） | F4: 取扱額（千円） | G4: 前年（千円） | H4: 前年比（％） | I4: 取扱額（千円） | J4: 前年（千円） | K4: 前年比（％） | L4: 取扱額（千円） | M4: 前年（千円） | N4: 前年比（％）
B5: JTB（10社計 *1） | C5: 813302 | D5: 54110948 | E5: 1.5 | F5: 415492 | G5: 10221142 | H5: 4.1 | I5: 6828044 | J5: 79987758 | K5: 8.5 | L5: 8056839 | M5: 144319848 | N5: 5.6
B6: エイチ・アイ・エス（6社計 *2)
B7: KNT-CTホールディングス（13社計 *3） | C7: 234035 | D7: 11233046 | E7: 2.1 | F7: 0 | G7: 2078748 | H7: － | I7: 834174 | J7: 24284508 | K7: 3.4 | L7: 1068209 | M7: 37596302 | N7: 2.8
B8: （株）日本旅行 | C8: 0 | D8: 8812686 | E8: － | F8: 33105 | G8: 6732342 | H8: 0.5 | I8: 1591952 | J8: 25267764 | K8: 6.3 | L8: 1625057 | M8: 40812792 | N8: 4
B9: 阪急交通社（3社計 *4） | C9: 0 | D9: 19071765 | E9: － | F9: 8538 | G9: 814010 | H9: 1 | I9: 2591 | J9: 15182187 | K9: 0 | L9: 11129 | M9: 35067962 | N9: －
B10: （株）ジャルパック | C10: 4049 | D10: 3812342 | E10: 0.1 | F10: 0 | G10: 7140 | H10: － | I10: 633868 | J10: 12504578 | K10: 5.1 | L10: 637917 | M10: 16324060 | N10: 3.9
B11: ANAセールス（株） | C11: 0 | D11: 1959475 | E11: － | F11: 377 | G11: 181625 | H11: 0.2 | I11: 763331 | J11: 14198955 | K11: 5.4 | L11: 763708 | M11: 16340055 | N11: 4.7
B12: 東武トップツアーズ（株） | C12: 253920 | D12: 1755975 | E12: 0.1 | F12: 0 | G12: 687695 | H12: － | I12: 430426 | J12: 7017921 | K12: 0.1 | L12: 684346 | M12: 9461591 | N12: 0.1
B13: （株）ジェイアール東海ツアーズ | C13: 2606 | D13: 148795 | E13: 0 | F13: 991 | G13: 332267 | H13: 0 | I13: 212243 | J13: 7444934 | K13: 0 | L13: 215840 | M13: 7925996 | N13: 0
B14: 名鉄観光サービス（株） | C14: 31609 | D14: 1106438 | E14: 2.9 | F14: 6687 | G14: 239363 | H14: 2.8 | I14: 840020 | J14: 5185328 | K14: 16.2 | L14: 878316 | M14: 6531129 | N14: 13.4
B15: （株）農協観光 | C15: 2696 | D15: 245694 | E15: 1.1 | F15: 901 | G15: 181897 | H15: 0.5 | I15: 159319 | J15: 2440853 | K15: 6.5 | L15: 162916 | M15: 2868444 | N15: 5.7
B16: ビッグホリデー（株） | C16: 272 | D16: 331780 | E16: 0.1 | F16: 0 | G16: 0 | H16: － | I16: 62534 | J16: 2032580 | K16: 3.1 | L16: 62806 | M16: 2364360 | N16: 2.7
B17: 日新航空サービス（株） | C17: 161095 | D17: 3513414 | E17: 4.6 | H17: － | I17: 22293 | J17: 320830 | K17: 6.9 | L17: 183388 | M17: 3834244 | N17: 4.8
B18: (株）びゅうトラベルサービス | C18: 61 | D18: 57249 | E18: 0.1 | F18: 0 | G18: 260347 | H18: － | I18: 103207 | J18: 3484224 | K18: 3 | L18: 103268 | M18: 3801820 | N18: 2.7
B19: （株）読売旅行 | C19: 5279 | D19: 547762 | E19: 1 | F19: 0 | G19: 13841 | H19: － | I19: 41776 | J19: 3351491 | K19: 1.2 | L19: 47055 | M19: 3913094 | N19: 1.2
B20: エムオーツーリスト（株） | C20: 83459 | D20: 3007713 | E20: 2.8 | F20: 0 | G20: 1440 | H20: 0 | I20: 23493 | J20: 229946 | K20: 10.2 | L20: 106952 | M20: 3239099 | N20: 3.3
B21: 日通旅行（株） | C21: 1825 | D21: 2119133 | E21: 0.1 | F21: 3480 | G21: 159683 | H21: 2.2 | I21: 46266 | J21: 450850 | K21: 10.3 | L21: 51571 | M21: 2729666 | N21: 1.9
B22: 株式会社HTB-BCDトラベル | C22: 0 | D22: 1534417 | E22: － | F22: 0 | G22: 958 | H22: － | I22: 150657 | J22: 1313791 | K22: 11.5 | L22: 150657 | M22: 2849166 | N22: 5.3
B23: 西鉄旅行（株） | C23: 27873 | D23: 881285 | E23: 3.2 | F23: 22 | G23: 47799 | H23: 0 | I23: 79752 | J23: 1518873 | K23: 5.3 | L23: 107647 | M23: 2447957 | N23: 4.4
B24: （株）エヌオーイー | C24: 130034 | D24: 2401811 | E24: 0.1 | F24: 24 | G24: 5444 | H24: 0 | I24: 74621 | J24: 160936 | K24: 0.5 | L24: 204679 | M24: 2568191 | N24: 0.1
B25: 郵船トラベル（株） | C25: 122323 | D25: 2259849 | E25: 5.4 | H25: － | I25: 10006 | J25: 232742 | K25: 4.3 | L25: 132329 | M25: 2492591 | N25: 5.3
B26: （株）旅工房 | C26: 12604 | D26: 3145157 | E26: 0.4 | F26: 491 | G26: 72401 | H26: 0.7 | I26: 17946 | J26: 94468 | K26: 19 | L26: 31041 | M26: 3312026 | N26: 0.9
B27: （株）IACEトラベル | C27: 60096 | D27: 1713503 | E27: 3.5 | F27: 0 | G27: 0 | H27: － | I27: 49013 | J27: 313880 | K27: 15.6 | L27: 109109 | M27: 2027383 | N27: 5.4
B28: 沖縄ツーリスト（株） | C28: 0 | D28: 156863 | E28: － | F28: 0 | G28: 24464 | H28: － | I28: 13204 | J28: 1826320 | K28: 0.7 | L28: 13204 | M28: 2007647 | N28: 0.7
B29: T-LIFEホールディングス（株）（4社計 *5） | C29: 9569 | D29: 749841 | E29: 1.3 | F29: 27605 | G29: 421052 | H29: 6.6 | I29: 27529 | J29: 2059569 | K29: 1.3 | L29: 64703 | M29: 3230462 | N29: 2
B30: WILLER（株） | C30: 0 | D30: 0 | E30: － | F30: 1622 | G30: 79411 | H30: 2 | I30: 31079 | J30: 1361322 | K30: 2.3 | L30: 32701 | M30: 1440733 | N30: 2.3
B31: 京王観光（株） | C31: 44235 | D31: 203834 | E31: 21.7 | F31: 0 | G31: 35791 | H31: － | I31: 58429 | J31: 1002586 | K31: 5.8 | L31: 102664 | M31: 1242211 | N31: 8.3
B32: （株）トヨタツーリストインターナショナル | C32: 19153 | D32: 1048590 | E32: 1.8 | F32: 0 | G32: 0 | H32: － | I32: 17702 | J32: 118215 | K32: 15 | L32: 36855 | M32: 1166805 | N32: 3.2
B33: メルコトラベル（株） | C33: 14199 | D33: 570005 | E33: 2.5 | F33: 0 | G33: 0 | H33: － | I33: 165413 | J33: 689819 | K33: 24 | L33: 179612 | M33: 1259824 | N33: 14.3
B34: イオンコンパス（株） | C34: 13011 | D34: 321069 | E34: 4.1 | F34: 0 | G34: 23053 | H34: － | I34: 346378 | J34: 1104231 | K34: 31.4 | L34: 359389 | M34: 1448353 | N34: 24.8
B35: （株）南海国際旅行 | C35: 3184 | D35: 283579 | E35: 1.1 | F35: 2199 | G35: 70005 | H35: 3.1 | I35: 70340 | J35: 977824 | K35: 7.2 | L35: 75723 | M35: 1331408 | N35: 5.7
B36: （株）小田急トラベル | C36: 2260 | D36: 240126 | E36: 0.9 | F36: 0 | G36: 19834 | H36: － | I36: 20880 | J36: 814309 | K36: 2.6 | L36: 23140 | M36: 1074269 | N36: 2.2
B37: 京成トラベルサービス（株） | C37: 0 | D37: 44214 | E37: － | F37: 0 | G37: 2298 | H37: － | I37: 301998 | J37: 1469127 | K37: 20.6 | L37: 301998 | M37: 1515639 | N37: 19.9
B38: （株）日産クリエイティブサービス | C38: 108496 | D38: 341972 | E38: 31.7 | F38: 0 | G38: 0 | H38: － | I38: 21340 | J38: 106518 | K38: 20 | L38: 129836 | M38: 448490 | N38: 28.9
B39: （株）フジ・トラベル・サービス | C39: 2999 | D39: 222544 | E39: 1.3 | F39: 0 | G39: 6017 | H39: － | I39: 31066 | J39: 773664 | K39: 4 | L39: 34065 | M39: 1002225 | N39: 3.4
B40: 北海道旅客鉄道（株） | C40: 0 | D40: 49888 | E40: － | H40: － | I40: 15827 | J40: 430524 | K40: 3.7 | L40: 15827 | M40: 480412 | N40: 3.3
...

Sheet 5月
B1: 主要旅行業者の旅行取扱状況速報
F2: 43952
B3: 会 社 名 | C3: 海 外 旅 行 | F3: 外 国 人 旅 行 | I3: 国 内 旅 行 | L3: 合 計
C4: 取扱額（千円） | D4: 前年（千円） | E4: 前年比（％） | F4: 取扱額（千円） | G4: 前年（千円） | H4: 前年比（％） | I4: 取扱額（千円） | J4: 前年（千円） | K4: 前年比（％） | L4: 取扱額（千円） | M4: 前年（千円） | N4: 前年比（％）
B5: JTB（10社計 *1） | C5: 673953 | D5: 43629387 | E5: 1.5 | F5: 33109 | G5: 8959945 | H5: 0.4 | I5: 4396210 | J5: 88217183 | K5: 5 | L5: 5103272 | M5: 140806515 | N5: 3.6
B6: エイチ・アイ・エス（6社計 *2)
B7: KNT-CTホールディングス（13社計 *3） | C7: 124489 | D7: 15463019 | E7: 0.8 | F7: 0 | G7: 2130059 | H7: － | I7: 538969 | J7: 32810434 | K7: 1.6 | L7: 663458 | M7: 50403512 | N7: 1.3
B8: （株）日本旅行 | C8: 0 | D8: 11849174 | E8: － | F8: 0 | G8: 4403693 | H8: － | I8: 799332 | J8: 28715670 | K8: 2.8 | L8: 799332 | M8: 44968537 | N8: 1.8
B9: 阪急交通社（3社計 *4） | C9: 0 | D9: 22675838 | E9: － | F9: 2705 | G9: 478638 | H9: 0.6 | I9: 43413 | J9: 13682936 | K9: 0.3 | L9: 46118 | M9: 36837412 | N9: 0.1
B10: （株）ジャルパック | C10: 0 | D10: 3338632 | E10: － | F10: 0 | G10: 3097 | H10: － | I10: 248759 | J10: 10892688 | K10: 2.3 | L10: 248759 | M10: 14234417 | N10: 1.7
B11: ANAセールス（株） | C11: 50654 | D11: 2031044 | E11: 2.5 | F11: 157 | G11: 123169 | H11: 0.1 | I11: 353667 | J11: 12818295 | K11: 2.8 | L11: 404478 | M11: 14972508 | N11: 2.7
B12: 東武トップツアーズ（株） | C12: 56301 | D12: 2416431 | E12: 2.3 | F12: 0 | G12: 1182263 | H12: － | I12: 217005 | J12: 9351760 | K12: 2.3 | L12: 273306 | M12: 12950454 | N12: 2.1
B13: （株）ジェイアール東海ツアーズ | C13: 0 | D13: 104783 | E13: － | F13: 120 | G13: 227341 | H13: 0.1 | I13: 85809 | J13: 6149430 | K13: 1.4 | L13: 85929 | M13: 6481554 | N13: 1.3
B14: 名鉄観光サービス（株） | C14: 427 | D14: 974045 | E14: 0 | F14: 0 | G14: 259457 | H14: － | I14: 434599 | J14: 6734468 | K14: 6.5 | L14: 435026 | M14: 7967970 | N14: 5.5
B15: （株）農協観光 | C15: 2434 | D15: 283489 | E15: 0.9 | F15: 211 | G15: 152896 | H15: 0.1 | I15: 92096 | J15: 2790684 | K15: 3.3 | L15: 94741 | M15: 3227069 | N15: 2.9
B16: ビッグホリデー（株） | C16: 28 | D16: 238930 | E16: 0 | F16: 0 | G16: 0 | H16: － | I16: 21545 | J16: 3297670 | K16: 0.7 | L16: 21573 | M16: 3536600 | N16: 0.6
B17: 日新航空サービス（株） | C17: 55408 | D17: 3432020 | E17: 1.6 | F17: 0 | G17: 0 | H17: － | I17: 9956 | J17: 312682 | K17: 3.2 | L17: 65364 | M17: 3744702 | N17: 1.7
B18: (株）びゅうトラベルサービス | C18: 6 | D18: 43613 | E18: 0 | F18: 0 | G18: 185285 | H18: － | I18: 32444 | J18: 3402442 | K18: 1 | L18: 32450 | M18: 3631340 | N18: 0.9
B19: （株）読売旅行 | C19: 1035 | D19: 820571 | E19: 0.1 | F19: 0 | G19: 15071 | H19: － | I19: 20621 | J19: 3280421 | K19: 0.6 | L19: 21656 | M19: 4116063 | N19: 0.5
B20: エムオーツーリスト（株） | C20: 57247 | D20: 3024579 | E20: 1.9 | F20: 0 | G20: 371 | H20: － | I20: 10214 | J20: 226347 | K20: 4.5 | L20: 67461 | M20: 3251297 | N20: 2.1
B21: 日通旅行（株） | C21: 0 | D21: 2139217 | E21: － | F21: 86 | G21: 122031 | H21: 0.1 | I21: 30733 | J21: 697002 | K21: 4.4 | L21: 30819 | M21: 2958250 | N21: 1
B22: 株式会社HTB-BCDトラベル | C22: 37711 | D22: 1543888 | E22: 2.4 | F22: 0 | G22: 151 | H22: － | I22: 125132 | J22: 1113899 | K22: 11.2 | L22: 162843 | M22: 2657938 | N22: 6.1
B23: 西鉄旅行（株） | C23: 10457 | D23: 867354 | E23: 1.2 | F23: 0 | G23: 30947 | H23: － | I23: 38678 | J23: 1705601 | K23: 2.3 | L23: 49135 | M23: 2603902 | N23: 1.9
B24: （株）エヌオーイー | C24: 38468 | D24: 2576878 | E24: 1.5 | F24: 44 | G24: 4697 | H24: 0.9 | I24: 39563 | J24: 134184 | K24: 29.5 | L24: 78075 | M24: 2715759 | N24: 2.9
B25: 郵船トラベル（株） | C25: 35260 | D25: 2172130 | E25: 1.6 | F25: 0 | G25: 0 | H25: － | I25: 3277 | J25: 293036 | K25: 1.1 | L25: 38537 | M25: 2465166 | N25: 1.6
B26: （株）旅工房 | C26: 10555 | D26: 2030289 | E26: 0.5 | F26: 525 | G26: 47342 | H26: 1.1 | I26: 7624 | J26: 91250 | K26: 8.4 | L26: 18704 | M26: 2168881 | N26: 0.9
B27: （株）IACEトラベル | C27: 72362 | D27: 1965932 | E27: 3.7 | F27: 0 | G27: 0 | H27: － | I27: 21240 | J27: 351578 | K27: 6 | L27: 93602 | M27: 2317510 | N27: 4
B28: 沖縄ツーリスト（株） | C28: 0 | D28: 113266 | E28: － | F28: 0 | G28: 23207 | H28: － | I28: 1155 | J28: 1865693 | K28: 0.1 | L28: 1155 | M28: 2002166 | N28: 0.1
B29: T-LIFEホールディングス（株）（4社計 *5） | C29: 3301 | D29: 764517 | E29: 0.4 | F29: 25 | G29: 273572 | H29: 0 | I29: 10253 | J29: 2897446 | K29: 0.4 | L29: 13579 | M29: 3935535 | N29: 0.3
B30: WILLER（株） | E30: － | F30: 2191 | G30: 69193 | H30: 3.2 | I30: 4047 | J30: 1342832 | K30: 0.3 | L30: 6238 | M30: 1412025 | N30: 0.4
B31: 京王観光（株） | C31: 659 | D31: 222372 | E31: 0.3 | F31: 0 | G31: 29969 | H31: － | I31: 13768 | J31: 990048 | K31: 1.4 | L31: 14427 | M31: 1242389 | N31: 1.2
B32: （株）トヨタツーリストインターナショナル | C32: 20489 | D32: 1016996 | E32: 2 | F32: 0 | G32: 0 | H32: － | I32: 0 | J32: 153537 | K32: － | L32: 20489 | M32: 1170533 | N32: 1.8
B33: メルコトラベル（株） | C33: 28674 | D33: 568094 | E33: 5 | F33: 0 | G33: 401 | H33: － | I33: 48362 | J33: 640461 | K33: 7.6 | L33: 77036 | M33: 1208956 | N33: 6.4
B34: イオンコンパス（株） | C34: 22787 | D34: 307047 | E34: 7.4 | F34: 0 | G34: 32309 | H34: － | I34: 139279 | J34: 958329 | K34: 14.5 | L34: 162066 | M34: 1297685 | N34: 12.5
B35: （株）南海国際旅行 | C35: 1886 | D35: 250068 | E35: 0.8 | F35: 19 | G35: 41525 | H35: 0 | I35: 47750 | J35: 877269 | K35: 5.4 | L35: 49655 | M35: 1168862 | N35: 4.2
B36: （株）小田急トラベル | C36: 851 | D36: 168714 | E36: 0.5 | F36: 0 | G36: 13484 | H36: － | I36: 6791 | J36: 879545 | K36: 0.8 | L36: 7642 | M36: 1061743 | N36: 0.7
B37: 京成トラベルサービス（株） | C37: 0 | D37: 28095 | E37: － | F37: 0 | G37: 129 | H37: － | I37: 250288 | J37: 985554 | K37: 25.4 | L37: 250288 | M37: 1013778 | N37: 24.7
B38: （株）日産クリエイティブサービス | C38: 27038 | D38: 265835 | E38: 10.2 | F38: 0 | G38: 0 | H38: － | I38: 11235 | J38: 110819 | K38: 10.1 | L38: 38273 | M38: 376654 | N38: 10.2
B39: （株）フジ・トラベル・サービス | C39: 1415 | D39: 185580 | E39: 0.8 | F39: 0 | G39: 12527 | H39: － | I39: 28146 | J39: 737189 | K39: 3.8 | L39: 29561 | M39: 935296 | N39: 3.2
B40: 北海道旅客鉄道（株） | C40: 0 | D40: 50533 | E40: － | F40: 0 | G40: 0 | H40: － | I40: 15336 | J40: 417585 | K40: 3.7 | L40: 15336 | M40: 468118 | N40: 3.3
...

Sheet 6月
B1: 主要旅行業者の旅行取扱状況速報
F2: 43983
B3: 会 社 名 | C3: 海 外 旅 行 | F3: 外 国 人 旅 行 | I3: 国 内 旅 行 | L3: 合 計
C4: 取扱額（千円） | D4: 前年（千円） | E4: 前年比（％） | F4: 取扱額（千円） | G4: 前年（千円） | H4: 前年比（％） | I4: 取扱額（千円） | J4: 前年（千円） | K4: 前年比（％） | L4: 取扱額（千円） | M4: 前年（千円） | N4: 前年比（％）
B5: JTB（10社計 *1） | C5: 482123 | D5: 48909364 | E5: 1 | F5: 182065 | G5: 8712520 | H5: 2.1 | I5: 13449351 | J5: 78768220 | K5: 17.1 | L5: 14113539 | M5: 136390104 | N5: 10.3
B6: エイチ・アイ・エス（6社計 *2) | C6: 289478 | D6: 28778830 | E6: 1 | F6: 3337 | G6: 2712666 | H6: 0.1 | I6: 209509 | J6: 3845575 | K6: 5.4 | L6: 502324 | M6: 35337071 | N6: 1.4
B7: KNT-CTホールディングス（13社計 *3） | C7: 214160 | D7: 14150487 | E7: 1.5 | F7: 0 | G7: 1827284 | H7: － | I7: 1514825 | J7: 26005102 | K7: 5.8 | L7: 1728985 | M7: 41982873 | N7: 4.1
B8: （株）日本旅行 | C8: 18843 | D8: 10408263 | E8: 0.2 | F8: 0 | G8: 3457456 | H8: － | I8: 3190912 | J8: 21645952 | K8: 14.7 | L8: 3209755 | M8: 35511671 | N8: 9
B9: 阪急交通社（3社計 *4） | C9: 77358 | D9: 20423030 | E9: 0.4 | F9: 317 | G9: 242286 | H9: 0.1 | I9: 235981 | J9: 12048738 | K9: 2 | L9: 313656 | M9: 32714054 | N9: 1
B10: （株）ジャルパック | C10: 1031 | D10: 3823188 | E10: 0 | F10: 0 | G10: 1414 | H10: － | I10: 1268789 | J10: 10293452 | K10: 12.3 | L10: 1269820 | M10: 14118054 | N10: 9
B11: ANAセールス（株） | C11: 0 | D11: 1923015 | E11: － | F11: 179 | G11: 118695 | H11: 0.2 | I11: 1516155 | J11: 12420761 | K11: 12.2 | L11: 1516334 | M11: 14462471 | N11: 10.5
B12: 東武トップツアーズ（株） | C12: 76418 | D12: 2845245 | E12: 2.7 | F12: 0 | G12: 644968 | H12: － | I12: 428462 | J12: 8674318 | K12: 4.9 | L12: 504880 | M12: 12164531 | N12: 4.2
B13: （株）ジェイアール東海ツアーズ | C13: 3968 | D13: 145300 | E13: 2.7 | F13: 900 | G13: 171003 | H13: 0.5 | I13: 1263735 | J13: 6236170 | K13: 20.3 | L13: 1268603 | M13: 6552473 | N13: 19.4
B14: 名鉄観光サービス（株） | C14: 8586 | D14: 1234536 | E14: 0.7 | F14: 1065 | G14: 220366 | H14: 0.5 | I14: 756365 | J14: 6572938 | K14: 11.5 | L14: 766016 | M14: 8027840 | N14: 9.5
B15: （株）農協観光 | C15: 2068 | D15: 559281 | E15: 0.4 | F15: 106 | G15: 80831 | H15: 0.1 | I15: 312917 | J15: 4276669 | K15: 7.3 | L15: 315091 | M15: 4916781 | N15: 6.4
B16: ビッグホリデー（株） | C16: 280 | D16: 432710 | E16: 0.1 | F16: 0 | G16: 0 | H16: － | I16: 114720 | J16: 3976480 | K16: 2.9 | L16: 115000 | M16: 4409190 | N16: 2.6
B17: 日新航空サービス（株） | C17: 138390 | D17: 4367747 | E17: 3.2 | H17: － | I17: 31508 | J17: 378322 | K17: 8.3 | L17: 169898 | M17: 4746069 | N17: 3.6
B18: (株）びゅうトラベルサービス | C18: 0 | D18: 50453 | E18: － | F18: 0 | G18: 123434 | H18: － | I18: 115846 | J18: 3366495 | K18: 3.4 | L18: 115846 | M18: 3540382 | N18: 3.3
B19: （株）読売旅行 | C19: 610 | D19: 534667 | E19: 0.1 | F19: 0 | G19: 5498 | H19: － | I19: 65749 | J19: 3017040 | K19: 2.2 | L19: 66359 | M19: 3557205 | N19: 1.9
B20: エムオーツーリスト（株） | C20: 111635 | D20: 3450373 | E20: 3.2 | F20: 0 | G20: 8463 | H20: － | I20: 32881 | J20: 239279 | K20: 13.7 | L20: 144516 | M20: 3698115 | N20: 3.9
B21: 日通旅行（株） | C21: 83436 | D21: 2530146 | E21: 3.3 | F21: 0 | G21: 53810 | H21: － | I21: 52957 | J21: 555000 | K21: 9.5 | L21: 136393 | M21: 3138956 | N21: 4.3
B22: 株式会社HTB-BCDトラベル | C22: 44363 | D22: 1737253 | E22: 2.6 | F22: 0 | G22: 411 | H22: － | I22: 215513 | J22: 1011917 | K22: 21.3 | L22: 259876 | M22: 2749581 | N22: 9.5
B23: 西鉄旅行（株） | C23: 22724 | D23: 1036718 | E23: 2.2 | F23: 1087 | G23: 22373 | H23: 4.9 | I23: 213235 | J23: 1605051 | K23: 13.3 | L23: 237046 | M23: 2664142 | N23: 8.9
B24: （株）エヌオーイー | C24: 67549 | D24: 3009899 | E24: 2.2 | F24: 0 | G24: 9435 | H24: － | I24: 67469 | J24: 345439 | K24: 19.5 | L24: 135018 | M24: 3364773 | N24: 4
B25: 郵船トラベル（株） | C25: 58940 | D25: 2697765 | E25: 2.2 | H25: － | I25: 33624 | J25: 148585 | K25: 22.6 | L25: 92564 | M25: 2846350 | N25: 3.3
B26: （株）旅工房 | C26: 6373 | D26: 2356498 | E26: 0.3 | F26: 0 | G26: 28032 | H26: － | I26: 26036 | J26: 57824 | K26: 45 | L26: 32409 | M26: 2442354 | N26: 1.3
B27: （株）IACEトラベル | C27: 47264 | D27: 1752635 | E27: 2.7 | F27: 0 | G27: 0 | H27: － | I27: 44440 | J27: 324957 | K27: 13.7 | L27: 91704 | M27: 2077592 | N27: 4.4
B28: 沖縄ツーリスト（株） | C28: 0 | D28: 194687 | E28: － | F28: 0 | G28: 30644 | H28: － | I28: 79558 | J28: 2259264 | K28: 3.5 | L28: 79558 | M28: 2484595 | N28: 3.2
B29: T-LIFEホールディングス（株）（4社計 *5） | C29: 3949 | D29: 876107 | E29: 0.5 | F29: 0 | G29: 185791 | H29: － | I29: 30059 | J29: 2430577 | K29: 1.2 | L29: 34008 | M29: 3492475 | N29: 1
B30: WILLER（株） | E30: － | F30: 2553 | G30: 52774 | H30: 4.8 | I30: 51796 | J30: 1035591 | K30: 5 | L30: 54349 | M30: 1088365 | N30: 5
B31: 京王観光（株） | C31: 52715 | D31: 274300 | E31: 19.2 | F31: 0 | G31: 17750 | H31: － | I31: 61196 | J31: 1252317 | K31: 4.9 | L31: 113911 | M31: 1544367 | N31: 7.4
B32: （株）トヨタツーリストインターナショナル | C32: 27375 | D32: 1269021 | E32: 2.2 | H32: － | I32: 12900 | J32: 232110 | K32: 5.6 | L32: 40275 | M32: 1501131 | N32: 2.7
B33: メルコトラベル（株） | C33: 1242 | D33: 609522 | E33: 0.2 | F33: 0 | G33: 0 | H33: － | I33: 128195 | J33: 685335 | K33: 18.7 | L33: 129437 | M33: 1294857 | N33: 10
B34: イオンコンパス（株） | C34: 5283 | D34: 416239 | E34: 1.3 | F34: 0 | G34: 16884 | H34: － | I34: 160085 | J34: 811058 | K34: 19.7 | L34: 165368 | M34: 1244181 | N34: 13.3
B35: （株）南海国際旅行 | C35: 2495 | D35: 310443 | E35: 0.8 | F35: 0 | G35: 29488 | H35: － | I35: 219820 | J35: 942675 | K35: 23.3 | L35: 222315 | M35: 1282606 | N35: 17.3
B36: （株）小田急トラベル | C36: 0 | D36: 206340 | E36: － | F36: 0 | G36: 13772 | H36: － | I36: 80409 | J36: 796040 | K36: 10.1 | L36: 80409 | M36: 1016152 | N36: 7.9
B37: 京成トラベルサービス（株） | C37: 0 | D37: 88602 | E37: － | F37: 0 | G37: 2336 | H37: － | I37: 344032 | J37: 959964 | K37: 35.8 | L37: 344032 | M37: 1050902 | N37: 32.7
B38: （株）日産クリエイティブサービス | C38: 1547 | D38: 261098 | E38: 0.6 | F38: 0 | G38: 0 | H38: － | I38: 40918 | J38: 110568 | K38: 37 | L38: 42465 | M38: 371666 | N38: 11.4
B39: （株）フジ・トラベル・サービス | C39: 165 | D39: 166053 | E39: 0.1 | F39: 0 | G39: 3843 | H39: － | I39: 46215 | J39: 580789 | K39: 8 | L39: 46380 | M39: 750685 | N39: 6.2
B40: 北海道旅客鉄道（株） | C40: 0 | D40: 39839 | E40: － | F40: 0 | G40: 0 | H40: － | I40: 66796 | J40: 439333 | K40: 15.2 | L40: 66796 | M40: 479172 | N40: 13.9
...

Sheet 7月
B1: 主要旅行業者の旅行取扱状況速報
F2: 44013
B3: 会 社 名 | C3: 海 外 旅 行 | F3: 外 国 人 旅 行 | I3: 国 内 旅 行 | L3: 合 計
C4: 取扱額（千円） | D4: 前年（千円） | E4: 前年比（％） | F4: 取扱額（千円） | G4: 前年（千円） | H4: 前年比（％） | I4: 取扱額（千円） | J4: 前年（千円） | K4: 前年比（％） | L4: 取扱額（千円） | M4: 前年（千円） | N4: 前年比（％）
B5: JTB（10社計 *1）
B6: エイチ・アイ・エス（6社計 *2)
B7: KNT-CTホールディングス（13社計 *3）
B8: （株）日本旅行
B9: 阪急交通社（3社計 *4）
B10: （株）ジャルパック
B11: ANAセールス（株）
B12: 東武トップツアーズ（株）
B13: （株）ジェイアール東海ツアーズ
B14: 名鉄観光サービス（株）
B15: （株）農協観光
B16: ビッグホリデー（株）
... B52: （株）JAL JTAセールス
B53: 合計 | C53: =SUM(C5:C52) -> 0 | D53: =SUM(D5:D52) -> 0 | E53: =(C53/D53)*100 -> #DIV/0! | F53: =SUM(F5:F52) -> 0 | G53: =SUM(G5:G52) -> 0 | H53: =(F53/G53)*100 -> #DIV/0! | I53: =SUM(I5:I52) -> 0 | J53: =SUM(J5:J52) -> 0 | K53: =(I53/J53)*100 -> #DIV/0! | L53: =SUM(L5:L52) -> 0 | M53: =SUM(M5:M52) -> 0 | N53: =(L53/M53)*100 -> #DIV/0!
C55: *1 JTBの10社内取引を相殺し合計
C56: JTB10社：
C57: JTB、JTBグローバルマーケティング＆トラベル、JTB沖縄、JTB京阪トラベル、エイ・ビー・アイ、JTBメディアリテーリング、
C58: JTBグランドツアー＆サービス、JTBビジネストラベルソリューションズ、JTBガイアレック、トラベルプラザインターナショナル
C60: *2 HISの6社内取引を相殺し合計
C61: HIS6社：
C62: エイチ・アイ・エス、オリオンツアー、クオリタ、クルーズプラネット、ジャパンホリデートラベル、エイチ・アイ・エス沖縄
C64: *3 KNT-CTホールディングスの13社内取引を相殺し合計
C65: KNT-CTホールディングス13社：
C66: クラブツーリズム、近畿日本ツーリスト北海道、近畿日本ツーリスト東北、近畿日本ツーリスト関東、近畿日本ツーリスト首都圏、
C67: 近畿日本ツーリスト中部、近畿日本ツーリスト関西、 近畿日本ツーリスト中国四国、 近畿日本ツーリスト九州、
C68: 近畿日本ツーリストコーポレートビジネス、KNT-CTグローバルトラベル、KNT-CTウエブトラベル、ユナイテッドツアーズ
... C76: タビックスジャパン、東日観光、トラベルイン、湯旅

Sheet 8月
B1: 主要旅行業者の旅行取扱状況速報
F2: 44044
B3: 会 社 名 | C3: 海 外 旅 行 | F3: 外 国 人 旅 行 | I3: 国 内 旅 行 | L3: 合 計
C4: 取扱額（千円） | D4: 前年（千円） | E4: 前年比（％） | F4: 取扱額（千円） | G4: 前年（千円） | H4: 前年比（％） | I4: 取扱額（千円） | J4: 前年（千円） | K4: 前年比（％） | L4: 取扱額（千円） | M4: 前年（千円） | N4: 前年比（％）
B5: JTB（10社計 *1）
B6: エイチ・アイ・エス（6社計 *2)
B7: KNT-CTホールディングス（13社計 *3）
B8: （株）日本旅行
B9: 阪急交通社（3社計 *4）
B10: （株）ジャルパック
B11: ANAセールス（株）
B12: 東武トップツアーズ（株）
B13: （株）ジェイアール東海ツアーズ
B14: 名鉄観光サービス（株）
B15: （株）農協観光
B16: ビッグホリデー（株）
... B52: （株）JAL JTAセールス
B53: 合計 | C53: =SUM(C5:C52) -> 0 | D53: =SUM(D5:D52) -> 0 | E53: =(C53/D53)*100 -> #DIV/0! | F53: =SUM(F5:F52) -> 0 | G53: =SUM(G5:G52) -> 0 | H53: =(F53/G53)*100 -> #DIV/0! | I53: =SUM(I5:I52) -> 0 | J53: =SUM(J5:J52) -> 0 | K53: =(I53/J53)*100 -> #DIV/0! | L53: =SUM(L5:L52) -> 0 | M53: =SUM(M5:M52) -> 0 | N53: =(L53/M53)*100 -> #DIV/0!
C55: *1 JTBの10社内取引を相殺し合計
C56: JTB10社：
C57: JTB、JTBグローバルマーケティング＆トラベル、JTB沖縄、JTB京阪トラベル、エイ・ビー・アイ、JTBメディアリテーリング、
C58: JTBグランドツアー＆サービス、JTBビジネストラベルソリューションズ、JTBガイアレック、トラベルプラザインターナショナル
C60: *2 HISの6社内取引を相殺し合計
C61: HIS6社：
C62: エイチ・アイ・エス、オリオンツアー、クオリタ、クルーズプラネット、ジャパンホリデートラベル、エイチ・アイ・エス沖縄
C64: *3 KNT-CTホールディングスの13社内取引を相殺し合計
C65: KNT-CTホールディングス13社：
C66: クラブツーリズム、近畿日本ツーリスト北海道、近畿日本ツーリスト東北、近畿日本ツーリスト関東、近畿日本ツーリスト首都圏、
C67: 近畿日本ツーリスト中部、近畿日本ツーリスト関西、 近畿日本ツーリスト中国四国、 近畿日本ツーリスト九州、
C68: 近畿日本ツーリストコーポレートビジネス、KNT-CTグローバルトラベル、KNT-CTウエブトラベル、ユナイテッドツアーズ
... C76: タビックスジャパン、東日観光、トラベルイン、湯旅

Sheet 9月
B1: 主要旅行業者の旅行取扱状況速報
F2: 44075
B3: 会 社 名 | C3: 海 外 旅 行 | F3: 外 国 人 旅 行 | I3: 国 内 旅 行 | L3: 合 計
C4: 取扱額（千円） | D4: 前年（千円） | E4: 前年比（％） | F4: 取扱額（千円） | G4: 前年（千円） | H4: 前年比（％） | I4: 取扱額（千円） | J4: 前年（千円） | K4: 前年比（％） | L4: 取扱額（千円） | M4: 前年（千円） | N4: 前年比（％）
B5: JTB（10社計 *1）
B6: エイチ・アイ・エス（6社計 *2)
B7: KNT-CTホールディングス（13社計 *3）
B8: （株）日本旅行
B9: 阪急交通社（3社計 *4）
B10: （株）ジャルパック
B11: ANAセールス（株）
B12: 東武トップツアーズ（株）
B13: （株）ジェイアール東海ツアーズ
B14: 名鉄観光サービス（株）
B15: （株）農協観光
B16: ビッグホリデー（株）
... B52: （株）JAL JTAセールス
B53: 合計 | C53: =SUM(C5:C52) -> 0 | D53: =SUM(D5:D52) -> 0 | E53: =(C53/D53)*100 -> #DIV/0! | F53: =SUM(F5:F52) -> 0 | G53: =SUM(G5:G52) -> 0 | H53: =(F53/G53)*100 -> #DIV/0! | I53: =SUM(I5:I52) -> 0 | J53: =SUM(J5:J52) -> 0 | K53: =(I53/J53)*100 -> #DIV/0! | L53: =SUM(L5:L52) -> 0 | M53: =SUM(M5:M52) -> 0 | N53: =(L53/M53)*100 -> #DIV/0!
C55: *1 JTBの10社内取引を相殺し合計
C56: JTB10社：
C57: JTB、JTBグローバルマーケティング＆トラベル、JTB沖縄、JTB京阪トラベル、エイ・ビー・アイ、JTBメディアリテーリング、
C58: JTBグランドツアー＆サービス、JTBビジネストラベルソリューションズ、JTBガイアレック、トラベルプラザインターナショナル
C60: *2 HISの6社内取引を相殺し合計
C61: HIS6社：
C62: エイチ・アイ・エス、オリオンツアー、クオリタ、クルーズプラネット、ジャパンホリデートラベル、エイチ・アイ・エス沖縄
C64: *3 KNT-CTホールディングスの13社内取引を相殺し合計
C65: KNT-CTホールディングス13社：
C66: クラブツーリズム、近畿日本ツーリスト北海道、近畿日本ツーリスト東北、近畿日本ツーリスト関東、近畿日本ツーリスト首都圏、
C67: 近畿日本ツーリスト中部、近畿日本ツーリスト関西、 近畿日本ツーリスト中国四国、 近畿日本ツーリスト九州、
C68: 近畿日本ツーリストコーポレートビジネス、KNT-CTグローバルトラベル、KNT-CTウエブトラベル、ユナイテッドツアーズ
... C76: タビックスジャパン、東日観光、トラベルイン、湯旅

Sheet 10月
B1: 主要旅行業者の旅行取扱状況速報
F2: 44105
B3: 会 社 名 | C3: 海 外 旅 行 | F3: 外 国 人 旅 行 | I3: 国 内 旅 行 | L3: 合 計
C4: 取扱額（千円） | D4: 前年（千円） | E4: 前年比（％） | F4: 取扱額（千円） | G4: 前年（千円） | H4: 前年比（％） | I4: 取扱額（千円） | J4: 前年（千円） | K4: 前年比（％） | L4: 取扱額（千円） | M4: 前年（千円） | N4: 前年比（％）
B5: JTB（10社計 *1）
B6: エイチ・アイ・エス（6社計 *2)
B7: KNT-CTホールディングス（13社計 *3）
B8: （株）日本旅行
B9: 阪急交通社（3社計 *4）
B10: （株）ジャルパック
B11: ANAセールス（株）
B12: 東武トップツアーズ（株）
B13: （株）ジェイアール東海ツアーズ
B14: 名鉄観光サービス（株）
B15: （株）農協観光
B16: ビッグホリデー（株）
... B52: （株）JAL JTAセールス
B53: 合 計 | C53: =SUM(C5:C52) -> 0 | D53: =SUM(D5:D52) -> 0 | E53: =(C53/D53)*100 -> #DIV/0! | F53: =SUM(F5:F52) -> 0 | G53: =SUM(G5:G52) -> 0 | H53: =(F53/G53)*100 -> #DIV/0! | I53: =SUM(I5:I52) -> 0 | J53: =SUM(J5:J52) -> 0 | K53: =(I53/J53)*100 -> #DIV/0! | L53: =SUM(L5:L52) -> 0 | M53: =SUM(M5:M52) -> 0 | N53: =(L53/M53)*100 -> #DIV/0!
C55: *1 JTBの10社内取引を相殺し合計
C56: JTB10社：
C57: JTB、JTBグローバルマーケティング＆トラベル、JTB沖縄、JTB京阪トラベル、エイ・ビー・アイ、JTBメディアリテーリング、
C58: JTBグランドツアー＆サービス、JTBビジネストラベルソリューションズ、JTBガイアレック、トラベルプラザインターナショナル
C60: *2 HISの6社内取引を相殺し合計
C61: HIS6社：
C62: エイチ・アイ・エス、オリオンツアー、クオリタ、クルーズプラネット、ジャパンホリデートラベル、エイチ・アイ・エス沖縄
C64: *3 KNT-CTホールディングスの13社内取引を相殺し合計
C65: KNT-CTホールディングス13社：
C66: クラブツーリズム、近畿日本ツーリスト北海道、近畿日本ツーリスト東北、近畿日本ツーリスト関東、近畿日本ツーリスト首都圏、
C67: 近畿日本ツーリスト中部、近畿日本ツーリスト関西、 近畿日本ツーリスト中国四国、 近畿日本ツーリスト九州、
C68: 近畿日本ツーリストコーポレートビジネス、KNT-CTグローバルトラベル、KNT-CTウエブトラベル、ユナイテッドツアーズ
... C76: タビックスジャパン、東日観光、トラベルイン、湯旅

Sheet 11月
B1: 主要旅行業者の旅行取扱状況速報
F2: 44136
B3: 会 社 名 | C3: 海 外 旅 行 | F3: 外 国 人 旅 行 | I3: 国 内 旅 行 | L3: 合 計
C4: 取扱額（千円） | D4: 前年（千円） | E4: 前年比（％） | F4: 取扱額（千円） | G4: 前年（千円） | H4: 前年比（％） | I4: 取扱額（千円） | J4: 前年（千円） | K4: 前年比（％） | L4: 取扱額（千円） | M4: 前年（千円） | N4: 前年比（％）
B5: JTB（10社計 *1）
B6: エイチ・アイ・エス（6社計 *2)
B7: KNT-CTホールディングス（13社計 *3）
B8: （株）日本旅行
B9: 阪急交通社（3社計 *4）
B10: （株）ジャルパック
B11: ANAセールス（株）
B12: 東武トップツアーズ（株）
B13: （株）ジェイアール東海ツアーズ
B14: 名鉄観光サービス（株）
B15: （株）農協観光
B16: ビッグホリデー（株）
... B52: （株）JAL JTAセールス
B53: 合 計 | C53: =SUM(C5:C52) -> 0 | D53: =SUM(D5:D52) -> 0 | E53: =(C53/D53)*100 -> #DIV/0! | F53: =SUM(F5:F52) -> 0 | G53: =SUM(G5:G52) -> 0 | H53: =(F53/G53)*100 -> #DIV/0! | I53: =SUM(I5:I52) -> 0 | J53: =SUM(J5:J52) -> 0 | K53: =(I53/J53)*100 -> #DIV/0! | L53: =SUM(L5:L52) -> 0 | M53: =SUM(M5:M52) -> 0 | N53: =(L53/M53)*100 -> #DIV/0!
C55: *1 JTBの10社内取引を相殺し合計
C56: JTB10社：
C57: JTB、JTBグローバルマーケティング＆トラベル、JTB沖縄、JTB京阪トラベル、エイ・ビー・アイ、JTBメディアリテーリング、
C58: JTBグランドツアー＆サービス、JTBビジネストラベルソリューションズ、JTBガイアレック、トラベルプラザインターナショナル
C60: *2 HISの6社内取引を相殺し合計
C61: HIS6社：
C62: エイチ・アイ・エス、オリオンツアー、クオリタ、クルーズプラネット、ジャパンホリデートラベル、エイチ・アイ・エス沖縄
C64: *3 KNT-CTホールディングスの13社内取引を相殺し合計
C65: KNT-CTホールディングス13社：
C66: クラブツーリズム、近畿日本ツーリスト北海道、近畿日本ツーリスト東北、近畿日本ツーリスト関東、近畿日本ツーリスト首都圏、
C67: 近畿日本ツーリスト中部、近畿日本ツーリスト関西、 近畿日本ツーリスト中国四国、 近畿日本ツーリスト九州、
C68: 近畿日本ツーリストコーポレートビジネス、KNT-CTグローバルトラベル、KNT-CTウエブトラベル、ユナイテッドツアーズ
... C76: タビックスジャパン、東日観光、トラベルイン、湯旅

Sheet 12月
B1: 主要旅行業者の旅行取扱状況速報
F2: 44166
B3: 会 社 名 | C3: 海 外 旅 行 | F3: 外 国 人 旅 行 | I3: 国 内 旅 行 | L3: 合 計
C4: 取扱額（千円） | D4: 前年（千円） | E4: 前年比（％） | F4: 取扱額（千円） | G4: 前年（千円） | H4: 前年比（％） | I4: 取扱額（千円） | J4: 前年（千円） | K4: 前年比（％） | L4: 取扱額（千円） | M4: 前年（千円） | N4: 前年比（％）
B5: JTB（10社計 *1）
B6: エイチ・アイ・エス（6社計 *2)
B7: KNT-CTホールディングス（13社計 *3）
B8: （株）日本旅行
B9: 阪急交通社（3社計 *4）
B10: （株）ジャルパック
B11: ANAセールス（株）
B12: 東武トップツアーズ（株）
B13: （株）ジェイアール東海ツアーズ
B14: 名鉄観光サービス（株）
B15: （株）農協観光
B16: ビッグホリデー（株）
... B52: （株）JAL JTAセールス
B53: 合 計 | C53: =SUM(C5:C52) -> 0 | D53: =SUM(D5:D52) -> 0 | E53: =(C53/D53)*100 -> #DIV/0! | F53: =SUM(F5:F52) -> 0 | G53: =SUM(G5:G52) -> 0 | H53: =(F53/G53)*100 -> #DIV/0! | I53: =SUM(I5:I52) -> 0 | J53: =SUM(J5:J52) -> 0 | K53: =(I53/J53)*100 -> #DIV/0! | L53: =SUM(L5:L52) -> 0 | M53: =SUM(M5:M52) -> 0 | N53: =(L53/M53)*100 -> #DIV/0!
C55: *1 JTBの10社内取引を相殺し合計
C56: JTB10社：
C57: JTB、JTBグローバルマーケティング＆トラベル、JTB沖縄、JTB京阪トラベル、エイ・ビー・アイ、JTBメディアリテーリング、
C58: JTBグランドツアー＆サービス、JTBビジネストラベルソリューションズ、JTBガイアレック、トラベルプラザインターナショナル
C60: *2 HISの6社内取引を相殺し合計
C61: HIS6社：
C62: エイチ・アイ・エス、オリオンツアー、クオリタ、クルーズプラネット、ジャパンホリデートラベル、エイチ・アイ・エス沖縄
C64: *3 KNT-CTホールディングスの13社内取引を相殺し合計
C65: KNT-CTホールディングス13社：
C66: クラブツーリズム、近畿日本ツーリスト北海道、近畿日本ツーリスト東北、近畿日本ツーリスト関東、近畿日本ツーリスト首都圏、
C67: 近畿日本ツーリスト中部、近畿日本ツーリスト関西、 近畿日本ツーリスト中国四国、 近畿日本ツーリスト九州、
C68: 近畿日本ツーリストコーポレートビジネス、KNT-CTグローバルトラベル、KNT-CTウエブトラベル、ユナイテッドツアーズ
... C76: タビックスジャパン、東日観光、トラベルイン、湯旅

Sheet 1Q
B1: 主要旅行業者の旅行取扱状況速報
F2: 2020年度第1四半期
B3: 会 社 名 | C3: 海 外 旅 行 | F3: 外 国 人 旅 行 | I3: 国 内 旅 行 | L3: 合 計
C4: 取扱額（千円） | D4: 前年（千円） | E4: 前年比（％） | F4: 取扱額（千円） | G4: 前年（千円） | H4: 前年比（％） | I4: 取扱額（千円） | J4: 前年（千円） | K4: 前年比（％） | L4: 取扱額（千円） | M4: 前年（千円） | N4: 前年比（％）
B5: JTB（10社計 *1） | C5: ='20年1月'!C5+'2月'!C5+'3月'!C5 -> 79589646 | D5: ='20年1月'!D5+'2月'!D5+'3月'!D5 -> 132731945 | E5: =(C5/D5)*100 -> 59.962691 | F5: ='20年1月'!F5+'2月'!F5+'3月'!F5 -> 12864871 | G5: ='20年1月'!G5+'2月'!G5+'3月'!G5 -> 22192749 | H5: =(F5/G5)*100 -> 57.968803 | I5: ='20年1月'!I5+'2月'!I5+'3月'!I5 -> 163197811 | J5: ='20年1月'!J5+'2月'!J5+'3月'!J5 -> 220909785 | K5: =(I5/J5)*100 -> 73.87532 | L5: ='20年1月'!L5+'2月'!L5+'3月'!L5 -> 255652329 | M5: ='20年1月'!M5+'2月'!M5+'3月'!M5 -> 375834479 | N5: =(L5/M5)*100 -> 68.022585
B6: エイチ・アイ・エス（6社計 *2) | C6: ='20年1月'!C6+'2月'!C6+'3月'!C6 -> 0 | D6: ='20年1月'!D6+'2月'!D6+'3月'!D6 -> 0 | E6: =(C6/D6)*100 -> #DIV/0! | F6: ='20年1月'!F6+'2月'!F6+'3月'!F6 -> 0 | G6: ='20年1月'!G6+'2月'!G6+'3月'!G6 -> 0 | H6: =(F6/G6)*100 -> #DIV/0! | I6: ='20年1月'!I6+'2月'!I6+'3月'!I6 -> 0 | J6: ='20年1月'!J6+'2月'!J6+'3月'!J6 -> 0 | K6: =(I6/J6)*100 -> #DIV/0! | L6: ='20年1月'!L6+'2月'!L6+'3月'!L6 -> 0 | M6: ='20年1月'!M6+'2月'!M6+'3月'!M6 -> 0 | N6: =(L6/M6)*100 -> #DIV/0!
B7: KNT-CTホールディングス（13社計 *3） | C7: ='20年1月'!C7+'2月'!C7+'3月'!C7 -> 25969862 | D7: ='20年1月'!D7+'2月'!D7+'3月'!D7 -> 39663219 | E7: =(C7/D7)*100 -> 65.475931 | F7: ='20年1月'!F7+'2月'!F7+'3月'!F7 -> 3018787 | G7: ='20年1月'!G7+'2月'!G7+'3月'!G7 -> 6502578 | H7: =(F7/G7)*100 -> 46.424464 | I7: ='20年1月'!I7+'2月'!I7+'3月'!I7 -> 42968646 | J7: ='20年1月'!J7+'2月'!J7+'3月'!J7 -> 63677627 | K7: =(I7/J7)*100 -> 67.478403 | L7: ='20年1月'!L7+'2月'!L7+'3月'!L7 -> 71957295 | M7: ='20年1月'!M7+'2月'!M7+'3月'!M7 -> 109843424 | N7: =(L7/M7)*100 -> 65.508969
B8: （株）日本旅行 | C8: ='20年1月'!C8+'2月'!C8+'3月'!C8 -> 14414381 | D8: ='20年1月'!D8+'2月'!D8+'3月'!D8 -> 29935561 | E8: =(C8/D8)*100 -> 48.151364 | F8: ='20年1月'!F8+'2月'!F8+'3月'!F8 -> 6983711 | G8: ='20年1月'!G8+'2月'!G8+'3月'!G8 -> 8506725 | H8: =(F8/G8)*100 -> 82.096353 | I8: ='20年1月'!I8+'2月'!I8+'3月'!I8 -> 42758245 | J8: ='20年1月'!J8+'2月'!J8+'3月'!J8 -> 65490430 | K8: =(I8/J8)*100 -> 65.289303 | L8: ='20年1月'!L8+'2月'!L8+'3月'!L8 -> 64156337 | M8: ='20年1月'!M8+'2月'!M8+'3月'!M8 -> 103932716 | N8: =(L8/M8)*100 -> 61.728722
B9: 阪急交通社（3社計 *4） | C9: ='20年1月'!C9+'2月'!C9+'3月'!C9 -> 26143492 | D9: ='20年1月'!D9+'2月'!D9+'3月'!D9 -> 54248679 | E9: =(C9/D9)*100 -> 48.191942 | F9: ='20年1月'!F9+'2月'!F9+'3月'!F9 -> 170374 | G9: ='20年1月'!G9+'2月'!G9+'3月'!G9 -> 447607 | H9: =(F9/G9)*100 -> 38.063301 | I9: ='20年1月'!I9+'2月'!I9+'3月'!I9 -> 16455816 | J9: ='20年1月'!J9+'2月'!J9+'3月'!J9 -> 29486894 | K9: =(I9/J9)*100 -> 55.807221 | L9: ='20年1月'!L9+'2月'!L9+'3月'!L9 -> 42769682 | M9: ='20年1月'!M9+'2月'!M9+'3月'!M9 -> 84183187 | N9: =(L9/M9)*100 -> 50.805492
B10: （株）ジャルパック | C10: ='20年1月'!C10+'2月'!C10+'3月'!C10 -> 7436921 | D10: ='20年1月'!D10+'2月'!D10+'3月'!D10 -> 11586828 | E10: =(C10/D10)*100 -> 64.18427 | F10: ='20年1月'!F10+'2月'!F10+'3月'!F10 -> 5148 | G10: ='20年1月'!G10+'2月'!G10+'3月'!G10 -> 11145 | H10: =(F10/G10)*100 -> 46.191117 | I10: ='20年1月'!I10+'2月'!I10+'3月'!I10 -> 23077629 | J10: ='20年1月'!J10+'2月'!J10+'3月'!J10 -> 32330724 | K10: =(I10/J10)*100 -> 71.379871 | L10: ='20年1月'!L10+'2月'!L10+'3月'!L10 -> 30519576 | M10: ='20年1月'!M10+'2月'!M10+'3月'!M10 -> 43928697 | N10: =(L10/M10)*100 -> 69.475259
B11: ANAセールス（株） | C11: ='20年1月'!C11+'2月'!C11+'3月'!C11 -> 3556005 | D11: ='20年1月'!D11+'2月'!D11+'3月'!D11 -> 4957293 | E11: =(C11/D11)*100 -> 71.732799 | F11: ='20年1月'!F11+'2月'!F11+'3月'!F11 -> 204407 | G11: ='20年1月'!G11+'2月'!G11+'3月'!G11 -> 419174 | H11: =(F11/G11)*100 -> 48.764236 | I11: ='20年1月'!I11+'2月'!I11+'3月'!I11 -> 25671069 | J11: ='20年1月'!J11+'2月'!J11+'3月'!J11 -> 36848341 | K11: =(I11/J11)*100 -> 69.666824 | L11: ='20年1月'!L11+'2月'!L11+'3月'!L11 -> 29431481 | M11: ='20年1月'!M11+'2月'!M11+'3月'!M11 -> 42224810 | N11: =(L11/M11)*100 -> 69.701867
B12: 東武トップツアーズ（株） | C12: ='20年1月'!C12+'2月'!C12+'3月'!C12 -> 4330458 | D12: ='20年1月'!D12+'2月'!D12+'3月'!D12 -> 6923936 | E12: =(C12/D12)*100 -> 62.543299 | F12: ='20年1月'!F12+'2月'!F12+'3月'!F12 -> 732917 | G12: ='20年1月'!G12+'2月'!G12+'3月'!G12 -> 1247523 | H12: =(F12/G12)*100 -> 58.749779 | I12: ='20年1月'!I12+'2月'!I12+'3月'!I12 -> 11062565 | J12: ='20年1月'!J12+'2月'!J12+'3月'!J12 -> 16156087 | K12: =(I12/J12)*100 -> 68.473047 | L12: ='20年1月'!L12+'2月'!L12+'3月'!L12 -> 16125940 | M12: ='20年1月'!M12+'2月'!M12+'3月'!M12 -> 24327545 | N12: =(L12/M12)*100 -> 66.286754
B13: （株）ジェイアール東海ツアーズ | C13: ='20年1月'!C13+'2月'!C13+'3月'!C13 -> 260415 | D13: ='20年1月'!D13+'2月'!D13+'3月'!D13 -> 385652 | E13: =(C13/D13)*100 -> 67.525904 | F13: ='20年1月'!F13+'2月'!F13+'3月'!F13 -> 299645 | G13: ='20年1月'!G13+'2月'!G13+'3月'!G13 -> 457529 | H13: =(F13/G13)*100 -> 65.492023 | I13: ='20年1月'!I13+'2月'!I13+'3月'!I13 -> 12904845 | J13: ='20年1月'!J13+'2月'!J13+'3月'!J13 -> 22163052 | K13: =(I13/J13)*100 -> 58.226841 | L13: ='20年1月'!L13+'2月'!L13+'3月'!L13 -> 13464905 | M13: ='20年1月'!M13+'2月'!M13+'3月'!M13 -> 23006232 | N13: =(L13/M13)*100 -> 58.527207
B14: 名鉄観光サービス（株） | C14: ='20年1月'!C14+'2月'!C14+'3月'!C14 -> 2130235 | D14: ='20年1月'!D14+'2月'!D14+'3月'!D14 -> 3816121 | E14: =(C14/D14)*100 -> 55.821998 | F14: ='20年1月'!F14+'2月'!F14+'3月'!F14 -> 321492 | G14: ='20年1月'!G14+'2月'!G14+'3月'!G14 -> 518822 | H14: =(F14/G14)*100 -> 61.965761 | I14: ='20年1月'!I14+'2月'!I14+'3月'!I14 -> 9425680 | J14: ='20年1月'!J14+'2月'!J14+'3月'!J14 -> 13338797 | K14: =(I14/J14)*100 -> 70.663644 | L14: ='20年1月'!L14+'2月'!L14+'3月'!L14 -> 11877407 | M14: ='20年1月'!M14+'2月'!M14+'3月'!M14 -> 17673740 | N14: =(L14/M14)*100 -> 67.203699
B15: （株）農協観光 | C15: ='20年1月'!C15+'2月'!C15+'3月'!C15 -> 1594639 | D15: ='20年1月'!D15+'2月'!D15+'3月'!D15 -> 2401590 | E15: =(C15/D15)*100 -> 66.399302 | F15: ='20年1月'!F15+'2月'!F15+'3月'!F15 -> 106334 | G15: ='20年1月'!G15+'2月'!G15+'3月'!G15 -> 200202 | H15: =(F15/G15)*100 -> 53.113356 | I15: ='20年1月'!I15+'2月'!I15+'3月'!I15 -> 9492690 | J15: ='20年1月'!J15+'2月'!J15+'3月'!J15 -> 14856192 | K15: =(I15/J15)*100 -> 63.897195 | L15: ='20年1月'!L15+'2月'!L15+'3月'!L15 -> 11193663 | M15: ='20年1月'!M15+'2月'!M15+'3月'!M15 -> 17457984 | N15: =(L15/M15)*100 -> 64.11773
B16: ビッグホリデー（株） | C16: ='20年1月'!C16+'2月'!C16+'3月'!C16 -> 794800 | D16: ='20年1月'!D16+'2月'!D16+'3月'!D16 -> 1182142 | E16: =(C16/D16)*100 -> 67.233886 | F16: ='20年1月'!F16+'2月'!F16+'3月'!F16 -> 0 | G16: ='20年1月'!G16+'2月'!G16+'3月'!G16 -> 0 | H16: =(F16/G16)*100 -> #DIV/0! | I16: ='20年1月'!I16+'2月'!I16+'3月'!I16 -> 14428640 | J16: ='20年1月'!J16+'2月'!J16+'3月'!J16 -> 21428160 | K16: =(I16/J16)*100 -> 67.334946 | L16: ='20年1月'!L16+'2月'!L16+'3月'!L16 -> 15223440 | M16: ='20年1月'!M16+'2月'!M16+'3月'!M16 -> 22610302 | N16: =(L16/M16)*100 -> 67.329662
... B52: （株）JAL JTAセールス | C52: ='20年1月'!C52+'2月'!C52+'3月'!C52 -> 0 | D52: ='20年1月'!D52+'2月'!D52+'3月'!D52 -> 0 | E52: =(C52/D52)*100 -> #DIV/0! | F52: ='20年1月'!F52+'2月'!F52+'3月'!F52 -> 0 | G52: ='20年1月'!G52+'2月'!G52+'3月'!G52 -> 0 | H52: =(F52/G52)*100 -> #DIV/0! | I52: ='20年1月'!I52+'2月'!I52+'3月'!I52 -> 401595 | J52: ='20年1月'!J52+'2月'!J52+'3月'!J52 -> 695219 | K52: =(I52/J52)*100 -> 57.765251 | L52: ='20年1月'!L52+'2月'!L52+'3月'!L52 -> 401595 | M52: ='20年1月'!M52+'2月'!M52+'3月'!M52 -> 695219 | N52: =(L52/M52)*100 -> 57.765251
B53: 合計 | C53: =SUM(C5:C52) -> 216289718 | D53: =SUM(D5:D52) -> 376018774 | E53: =(C53/D53)*100 -> 57.520989 | F53: =SUM(F5:F52) -> 26361196 | G53: =SUM(G5:G52) -> 43169304 | H53: =(F53/G53)*100 -> 61.064677 | I53: =SUM(I5:I52) -> 419257326 | J53: =SUM(J5:J52) -> 614342769 | K53: =(I53/J53)*100 -> 68.244854 | L53: =SUM(L5:L52) -> 661908121 | M53: =SUM(M5:M52) -> 1033530855 | N53: =(L53/M53)*100 -> 64.043383
C55: *1 JTBの10社内取引を相殺し合計
C56: JTB10社：
C57: JTB、JTBグローバルマーケティング＆トラベル、JTB沖縄、JTB京阪トラベル、エイ・ビー・アイ、JTBメディアリテーリング、
C58: JTBグランドツアー＆サービス、JTBビジネストラベルソリューションズ、JTBガイアレック、トラベルプラザインターナショナル
C60: *2 HISの6社内取引を相殺し合計
C61: HIS6社：
C62: エイチ・アイ・エス、オリオンツアー、クオリタ、クルーズプラネット、ジャパンホリデートラベル、エイチ・アイ・エス沖縄
C64: *3 KNT-CTホールディングスの13社内取引を相殺し合計
C65: KNT-CTホールディングス13社：
C66: クラブツーリズム、近畿日本ツーリスト北海道、近畿日本ツーリスト東北、近畿日本ツーリスト関東、近畿日本ツーリスト首都圏、
C67: 近畿日本ツーリスト中部、近畿日本ツーリスト関西、 近畿日本ツーリスト中国四国、 近畿日本ツーリスト九州、
C68: 近畿日本ツーリストコーポレートビジネス、KNT-CTグローバルトラベル、KNT-CTウエブトラベル、ユナイテッドツアーズ
... C76: タビックスジャパン、東日観光、トラベルイン、湯旅

Sheet 2Q
B1: 主要旅行業者の旅行取扱状況速報
F2: 2020年度第2四半期
B3: 会 社 名 | C3: 海 外 旅 行 | F3: 外 国 人 旅 行 | I3: 国 内 旅 行 | L3: 合 計
C4: 取扱額（千円） | D4: 前年（千円） | E4: 前年比（％） | F4: 取扱額（千円） | G4: 前年（千円） | H4: 前年比（％） | I4: 取扱額（千円） | J4: 前年（千円） | K4: 前年比（％） | L4: 取扱額（千円） | M4: 前年（千円） | N4: 前年比（％）
B5: JTB（10社計 *1） | C5: ='4月'!C5+'5月'!C5+'6月'!C5 -> 1969378 | D5: ='4月'!D5+'5月'!D5+'6月'!D5 -> 146649699 | E5: =(C5/D5)*100 -> 1.3429131 | F5: ='4月'!F5+'5月'!F5+'6月'!F5 -> 630666 | G5: ='4月'!G5+'5月'!G5+'6月'!G5 -> 27893607 | H5: =(F5/G5)*100 -> 2.2609697 | I5: ='4月'!I5+'5月'!I5+'6月'!I5 -> 24673605 | J5: ='4月'!J5+'5月'!J5+'6月'!J5 -> 246973161 | K5: =(I5/J5)*100 -> 9.9903993 | L5: ='4月'!L5+'5月'!L5+'6月'!L5 -> 27273650 | M5: ='4月'!M5+'5月'!M5+'6月'!M5 -> 421516467 | N5: =(L5/M5)*100 -> 6.4703641
B7: KNT-CTホールディングス（13社計 *3） | C7: ='4月'!C7+'5月'!C7+'6月'!C7 -> 572684 | D7: ='4月'!D7+'5月'!D7+'6月'!D7 -> 40846552 | E7: =(C7/D7)*100 -> 1.4020376 | F7: ='4月'!F7+'5月'!F7+'6月'!F7 -> 0 | G7: ='4月'!G7+'5月'!G7+'6月'!G7 -> 6036091 | H7: =(F7/G7)*100 -> 0 | I7: ='4月'!I7+'5月'!I7+'6月'!I7 -> 2887968 | J7: ='4月'!J7+'5月'!J7+'6月'!J7 -> 83100044 | K7: =(I7/J7)*100 -> 3.4752906 | L7: ='4月'!L7+'5月'!L7+'6月'!L7 -> 3460652 | M7: ='4月'!M7+'5月'!M7+'6月'!M7 -> 129982687 | N7: =(L7/M7)*100 -> 2.6623946
B8: （株）日本旅行 | C8: ='4月'!C8+'5月'!C8+'6月'!C8 -> 18843 | D8: ='4月'!D8+'5月'!D8+'6月'!D8 -> 31070123 | E8: =(C8/D8)*100 -> 0.060646686 | F8: ='4月'!F8+'5月'!F8+'6月'!F8 -> 33105 | G8: ='4月'!G8+'5月'!G8+'6月'!G8 -> 14593491 | H8: =(F8/G8)*100 -> 0.22684771 | I8: ='4月'!I8+'5月'!I8+'6月'!I8 -> 5582196 | J8: ='4月'!J8+'5月'!J8+'6月'!J8 -> 75629386 | K8: =(I8/J8)*100 -> 7.3809881 | L8: ='4月'!L8+'5月'!L8+'6月'!L8 -> 5634144 | M8: ='4月'!M8+'5月'!M8+'6月'!M8 -> 121293000 | N8: =(L8/M8)*100 -> 4.6450694
B9: 阪急交通社（3社計 *4） | C9: ='4月'!C9+'5月'!C9+'6月'!C9 -> 77358 | D9: ='4月'!D9+'5月'!D9+'6月'!D9 -> 62170633 | E9: =(C9/D9)*100 -> 0.12442852 | F9: ='4月'!F9+'5月'!F9+'6月'!F9 -> 11560 | G9: ='4月'!G9+'5月'!G9+'6月'!G9 -> 1534934 | H9: =(F9/G9)*100 -> 0.75312684 | I9: ='4月'!I9+'5月'!I9+'6月'!I9 -> 281985 | J9: ='4月'!J9+'5月'!J9+'6月'!J9 -> 40913861 | K9: =(I9/J9)*100 -> 0.6892163 | L9: ='4月'!L9+'5月'!L9+'6月'!L9 -> 370903 | M9: ='4月'!M9+'5月'!M9+'6月'!M9 -> 104619428 | N9: =(L9/M9)*100 -> 0.35452593
B10: （株）ジャルパック | C10: ='4月'!C10+'5月'!C10+'6月'!C10 -> 5080 | D10: ='4月'!D10+'5月'!D10+'6月'!D10 -> 10974162 | E10: =(C10/D10)*100 -> 0.04629055 | F10: ='4月'!F10+'5月'!F10+'6月'!F10 -> 0 | G10: ='4月'!G10+'5月'!G10+'6月'!G10 -> 11651 | H10: =(F10/G10)*100 -> 0 | I10: ='4月'!I10+'5月'!I10+'6月'!I10 -> 2151416 | J10: ='4月'!J10+'5月'!J10+'6月'!J10 -> 33690718 | K10: =(I10/J10)*100 -> 6.3857826 | L10: ='4月'!L10+'5月'!L10+'6月'!L10 -> 2156496 | M10: ='4月'!M10+'5月'!M10+'6月'!M10 -> 44676531 | N10: =(L10/M10)*100 -> 4.8269101
B11: ANAセールス（株） | C11: ='4月'!C11+'5月'!C11+'6月'!C11 -> 50654 | D11: ='4月'!D11+'5月'!D11+'6月'!D11 -> 5913534 | E11: =(C11/D11)*100 -> 0.85657747 | F11: ='4月'!F11+'5月'!F11+'6月'!F11 -> 713 | G11: ='4月'!G11+'5月'!G11+'6月'!G11 -> 423489 | H11: =(F11/G11)*100 -> 0.16836329 | I11: ='4月'!I11+'5月'!I11+'6月'!I11 -> 2633153 | J11: ='4月'!J11+'5月'!J11+'6月'!J11 -> 39438011 | K11: =(I11/J11)*100 -> 6.6766881 | L11: ='4月'!L11+'5月'!L11+'6月'!L11 -> 2684520 | M11: ='4月'!M11+'5月'!M11+'6月'!M11 -> 45775034 | N11: =(L11/M11)*100 -> 5.8645942
B12: 東武トップツアーズ（株） | C12: ='4月'!C12+'5月'!C12+'6月'!C12 -> 386639 | D12: ='4月'!D12+'5月'!D12+'6月'!D12 -> 7017651 | E12: =(C12/D12)*100 -> 5.5095216 | F12: ='4月'!F12+'5月'!F12+'6月'!F12 -> 0 | G12: ='4月'!G12+'5月'!G12+'6月'!G12 -> 2514926 | H12: =(F12/G12)*100 -> 0 | I12: ='4月'!I12+'5月'!I12+'6月'!I12 -> 1075893 | J12: ='4月'!J12+'5月'!J12+'6月'!J12 -> 25043999 | K12: =(I12/J12)*100 -> 4.2960112 | L12: ='4月'!L12+'5月'!L12+'6月'!L12 -> 1462532 | M12: ='4月'!M12+'5月'!M12+'6月'!M12 -> 34576576 | N12: =(L12/M12)*100 -> 4.2298347
B13: （株）ジェイアール東海ツアーズ | C13: ='4月'!C13+'5月'!C13+'6月'!C13 -> 6574 | D13: ='4月'!D13+'5月'!D13+'6月'!D13 -> 398878 | E13: =(C13/D13)*100 -> 1.648123 | F13: ='4月'!F13+'5月'!F13+'6月'!F13 -> 2011 | G13: ='4月'!G13+'5月'!G13+'6月'!G13 -> 730611 | H13: =(F13/G13)*100 -> 0.27524907 | I13: ='4月'!I13+'5月'!I13+'6月'!I13 -> 1561787 | J13: ='4月'!J13+'5月'!J13+'6月'!J13 -> 19830534 | K13: =(I13/J13)*100 -> 7.8756679 | L13: ='4月'!L13+'5月'!L13+'6月'!L13 -> 1570372 | M13: ='4月'!M13+'5月'!M13+'6月'!M13 -> 20960023 | N13: =(L13/M13)*100 -> 7.4922246
B14: 名鉄観光サービス（株） | C14: ='4月'!C14+'5月'!C14+'6月'!C14 -> 40622 | D14: ='4月'!D14+'5月'!D14+'6月'!D14 -> 3315019 | E14: =(C14/D14)*100 -> 1.2253927 | F14: ='4月'!F14+'5月'!F14+'6月'!F14 -> 7752 | G14: ='4月'!G14+'5月'!G14+'6月'!G14 -> 719186 | H14: =(F14/G14)*100 -> 1.0778853 | I14: ='4月'!I14+'5月'!I14+'6月'!I14 -> 2030984 | J14: ='4月'!J14+'5月'!J14+'6月'!J14 -> 18492734 | K14: =(I14/J14)*100 -> 10.982605 | L14: ='4月'!L14+'5月'!L14+'6月'!L14 -> 2079358 | M14: ='4月'!M14+'5月'!M14+'6月'!M14 -> 22526939 | N14: =(L14/M14)*100 -> 9.2305395
B15: （株）農協観光 | C15: ='4月'!C15+'5月'!C15+'6月'!C15 -> 7198 | D15: ='4月'!D15+'5月'!D15+'6月'!D15 -> 1088464 | E15: =(C15/D15)*100 -> 0.66129886 | F15: ='4月'!F15+'5月'!F15+'6月'!F15 -> 1218 | G15: ='4月'!G15+'5月'!G15+'6月'!G15 -> 415624 | H15: =(F15/G15)*100 -> 0.29305334 | I15: ='4月'!I15+'5月'!I15+'6月'!I15 -> 564332 | J15: ='4月'!J15+'5月'!J15+'6月'!J15 -> 9508206 | K15: =(I15/J15)*100 -> 5.9352101 | L15: ='4月'!L15+'5月'!L15+'6月'!L15 -> 572748 | M15: ='4月'!M15+'5月'!M15+'6月'!M15 -> 11012294 | N15: =(L15/M15)*100 -> 5.2009872
B16: ビッグホリデー（株） | C16: ='4月'!C16+'5月'!C16+'6月'!C16 -> 580 | D16: ='4月'!D16+'5月'!D16+'6月'!D16 -> 1003420 | E16: =(C16/D16)*100 -> 0.057802316 | F16: ='4月'!F16+'5月'!F16+'6月'!F16 -> 0 | G16: ='4月'!G16+'5月'!G16+'6月'!G16 -> 0 | H16: =(F16/G16)*100 -> #DIV/0! | I16: ='4月'!I16+'5月'!I16+'6月'!I16 -> 198799 | J16: ='4月'!J16+'5月'!J16+'6月'!J16 -> 9306730 | K16: =(I16/J16)*100 -> 2.1360779 | L16: ='4月'!L16+'5月'!L16+'6月'!L16 -> 199379 | M16: ='4月'!M16+'5月'!M16+'6月'!M16 -> 10310150 | N16: =(L16/M16)*100 -> 1.9338128
B17: 日新航空サービス（株） | C17: ='4月'!C17+'5月'!C17+'6月'!C17 -> 354893 | D17: ='4月'!D17+'5月'!D17+'6月'!D17 -> 11313181 | E17: =(C17/D17)*100 -> 3.1369868 | F17: ='4月'!F17+'5月'!F17+'6月'!F17 -> 0 | G17: ='4月'!G17+'5月'!G17+'6月'!G17 -> 0 | H17: =(F17/G17)*100 -> #DIV/0! | I17: ='4月'!I17+'5月'!I17+'6月'!I17 -> 63757 | J17: ='4月'!J17+'5月'!J17+'6月'!J17 -> 1011834 | K17: =(I17/J17)*100 -> 6.3011324 | L17: ='4月'!L17+'5月'!L17+'6月'!L17 -> 418650 | M17: ='4月'!M17+'5月'!M17+'6月'!M17 -> 12325015 | N17: =(L17/M17)*100 -> 3.3967504
