Workbook

Sheet 20年1月
B1: 主要旅行業者の旅行取扱状況速報
F2: 43831
B3: 会 社 名 | C3: 海 外 旅 行 | F3: 外 国 人 旅 行 | I3: 国 内 旅 行 | L3: 合 計
C4: 取扱額（千円） | D4: 前年（千円） | E4: 前年比（％） | F4: 取扱額（千円） | G4: 前年（千円） | H4: 前年比（％） | I4: 取扱額（千円） | J4: 前年（千円） | K4: 前年比（％） | L4: 取扱額（千円） | M4: 前年（千円） | N4: 前年比（％）
B5: JTB（10社計 *1） | C5: 32676840 | D5: 36947196 | E5: 88.4 | F5: 6619624 | G5: 5278963 | H5: 125.4 | I5: 58609776 | J5: 62145545 | K5: 94.3 | L5: 97906241 | M5: 104371704 | N5: 93.8
B6: エイチ・アイ・エス（6社計 *2)
B7: KNT-CTホールディングス（13社計 *3） | C7: 11554199 | D7: 11849447 | E7: 97.5 | F7: 1447358 | G7: 1460864 | H7: 99.1 | I7: 18479508 | J7: 20082715 | K7: 92 | L7: 31481065 | M7: 33393026 | N7: 94.3
B8: （株）日本旅行 | C8: 8154220 | D8: 8350981 | E8: 97.6 | F8: 2683016 | G8: 2010627 | H8: 133.4 | I8: 18468176 | J8: 19433371 | K8: 95 | L8: 29305412 | M8: 29794979 | N8: 98.4
B9: 阪急交通社（3社計 *4） | C9: 16229000 | D9: 16923416 | E9: 95.9 | F9: 43366 | G9: 49668 | H9: 87.3 | I9: 7664415 | J9: 7967632 | K9: 96.2 | L9: 23936781 | M9: 24940718 | N9: 96
B10: （株）ジャルパック | C10: 2965661 | D10: 3384379 | E10: 87.6 | F10: 3249 | G10: 5424 | H10: 59.9 | I10: 8836540 | J10: 9060937 | K10: 97.5 | L10: 11805450 | M10: 12450740 | N10: 94.8
B11: ANAセールス（株） | C11: 1568361 | D11: 1422387 | E11: 110.3 | F11: 162551 | G11: 110625 | H11: 146.9 | I11: 9919597 | J11: 9814161 | K11: 101.1 | L11: 11650509 | M11: 11347174 | N11: 102.7
B12: 東武トップツアーズ（株） | C12: 2044449 | D12: 1644794 | E12: 124.3 | F12: 182802 | G12: 242148 | H12: 75.5 | I12: 4816920 | J12: 5216007 | K12: 92.3 | L12: 7044171 | M12: 7102949 | N12: 99.2
B13: （株）ジェイアール東海ツアーズ | C13: 92922 | D13: 97105 | E13: 95.7 | F13: 161169 | G13: 103095 | H13: 156.3 | I13: 6062307 | J13: 6520505 | K13: 93 | L13: 6316398 | M13: 6720705 | N13: 94
B14: 名鉄観光サービス（株） | C14: 713744 | D14: 919155 | E14: 77.7 | F14: 192467 | G14: 177182 | H14: 108.6 | I14: 3985901 | J14: 3625400 | K14: 109.9 | L14: 4892112 | M14: 4721737 | N14: 103.6
B15: （株）農協観光 | C15: 576305 | D15: 771904 | E15: 74.7 | F15: 47962 | G15: 51333 | H15: 93.4 | I15: 4074531 | J15: 4333537 | K15: 94 | L15: 4698798 | M15: 5156774 | N15: 91.1
B16: ビッグホリデー（株） | C16: 311770 | D16: 323100 | E16: 96.5 | F16: 0 | G16: 0 | H16: － | I16: 4382650 | J16: 4504300 | K16: 97.3 | L16: 4694420 | M16: 4827400 | N16: 97.2
B17: 日新航空サービス（株） | C17: 2845180 | D17: 3482318 | E17: 81.7 | F17: 0 | G17: 0 | H17: － | I17: 273692 | J17: 227712 | K17: 120.2 | L17: 3118872 | M17: 3710030 | N17: 84.1
B18: (株）びゅうトラベルサービス | C18: 122326 | D18: 121881 | E18: 100.4 | F18: 468577 | G18: 340372 | H18: 137.7 | I18: 3212149 | J18: 3569453 | K18: 90 | L18: 3803053 | M18: 4031706 | N18: 94.3
B19: （株）読売旅行 | C19: 891736 | D19: 516787 | E19: 172.6 | F19: 1536 | G19: 4456 | H19: 34.5 | I19: 1822388 | J19: 2131859 | K19: 85.5 | L19: 2715660 | M19: 2653102 | N19: 102.4
B20: エムオーツーリスト（株） | C20: 2414658 | D20: 2670867 | E20: 90.4 | F20: 0 | G20: 163 | H20: － | I20: 176406 | J20: 164871 | K20: 107 | L20: 2591064 | M20: 2835901 | N20: 91.4
B21: 日通旅行（株） | C21: 1613537 | D21: 2421975 | E21: 66.6 | F21: 30138 | G21: 39894 | H21: 75.5 | I21: 338924 | J21: 417996 | K21: 81.1 | L21: 1982599 | M21: 2879865 | N21: 68.8
B22: 株式会社HTB-BCDトラベル | C22: 1761850 | D22: 1528438 | E22: 115.3 | F22: 10 | G22: 961 | H22: 1 | I22: 1198337 | J22: 1151223 | K22: 104.1 | L22: 2960197 | M22: 2680622 | N22: 110.4
B23: 西鉄旅行（株） | C23: 579785 | D23: 837537 | E23: 69.2 | F23: 20383 | G23: 25559 | H23: 79.7 | I23: 1343081 | J23: 1352648 | K23: 99.3 | L23: 1943249 | M23: 2215744 | N23: 87.7
B24: （株）エヌオーイー | C24: 2207119 | D24: 2553472 | E24: 86.4 | F24: 7236 | G24: 2669 | H24: 271.1 | I24: 175147 | J24: 108129 | K24: 162 | L24: 2389503 | M24: 2664270 | N24: 89.7
B25: 郵船トラベル（株） | C25: 1549118 | D25: 2473014 | E25: 62.6 | F25: 0 | G25: 0 | H25: － | I25: 72754 | J25: 106426 | K25: 68.4 | L25: 1621872 | M25: 2579440 | N25: 62.9
B26: （株）旅工房 | C26: 1958775 | D26: 1702654 | E26: 115 | F26: 34058 | G26: 49564 | H26: 68.7 | I26: 108583 | J26: 83042 | K26: 130.8 | L26: 2101416 | M26: 1835260 | N26: 114.5
B27: （株）IACEトラベル | C27: 1640371 | D27: 1897545 | E27: 86.4 | F27: 0 | G27: 0 | H27: － | I27: 302915 | J27: 271593 | K27: 111.5 | L27: 1943286 | M27: 2169138 | N27: 89.6
B28: 沖縄ツーリスト（株） | C28: 61057 | D28: 102685 | E28: 59.5 | F28: 10904 | G28: 59656 | H28: 18.3 | I28: 1128650 | J28: 1532428 | K28: 73.7 | L28: 1200611 | M28: 1694769 | N28: 70.8
B29: T-LIFEホールディングス（株）（4社計 *5） | C29: 446601 | D29: 526052 | E29: 84.9 | F29: 55535 | G29: 72822 | H29: 76.3 | I29: 1256603 | J29: 1628088 | K29: 77.2 | L29: 1758739 | M29: 2226962 | N29: 79
B30: WILLER（株） | C30: 0 | D30: 0 | E30: － | F30: 80403 | G30: 69888 | H30: 115 | I30: 1322413 | J30: 1223563 | K30: 108.1 | L30: 1402816 | M30: 1293451 | N30: 108.5
B31: 京王観光（株） | C31: 230775 | D31: 196810 | E31: 117.3 | F31: 79740 | G31: 22169 | H31: 359.7 | I31: 908909 | J31: 1235826 | K31: 73.5 | L31: 1219424 | M31: 1454805 | N31: 83.8
B32: （株）トヨタツーリストインターナショナル | C32: 968762 | D32: 1275339 | E32: 76 | F32: 0 | G32: 0 | H32: － | I32: 144833 | J32: 565678 | K32: 25.6 | L32: 1113595 | M32: 1841017 | N32: 60.5
B33: メルコトラベル（株） | C33: 415925 | D33: 516278 | E33: 80.6 | F33: 0 | G33: 0 | H33: － | I33: 544099 | J33: 583426 | K33: 93.3 | L33: 960024 | M33: 1099704 | N33: 87.3
B34: イオンコンパス（株） | C34: 234164 | D34: 261204 | E34: 89.6 | F34: 27231 | G34: 24897 | H34: 109.4 | I34: 727088 | J34: 582758 | K34: 124.8 | L34: 988483 | M34: 868859 | N34: 113.8
B35: （株）南海国際旅行 | C35: 225188 | D35: 246447 | E35: 91.4 | F35: 30691 | G35: 19818 | H35: 154.9 | I35: 650409 | J35: 793891 | K35: 81.9 | L35: 906288 | M35: 1060156 | N35: 85.5
B36: （株）小田急トラベル | C36: 106858 | D36: 158398 | E36: 67.5 | F36: 15199 | G36: 16138 | H36: 94.2 | I36: 695701 | J36: 712397 | K36: 97.7 | L36: 817758 | M36: 886933 | N36: 92.2
B37: 京成トラベルサービス（株） | C37: 47724 | D37: 62747 | E37: 76.1 | F37: 880 | G37: 1556 | H37: 56.6 | I37: 1003922 | J37: 983692 | K37: 102.1 | L37: 1052526 | M37: 1047995 | N37: 100.4
B38: （株）日産クリエイティブサービス | C38: 613369 | D38: 682967 | E38: 89.8 | F38: 0 | G38: 0 | H38: － | I38: 207945 | J38: 212966 | K38: 97.6 | L38: 821314 | M38: 895933 | N38: 91.7
B39: （株）フジ・トラベル・サービス | C39: 104667 | D39: 137688 | E39: 76 | F39: 8757 | G39: 3283 | H39: 266.7 | I39: 484788 | J39: 559823 | K39: 86.6 | L39: 598212 | M39: 700794 | N39: 85.4
B40: 北海道旅客鉄道（株） | C40: 87024 | D40: 51596 | E40: 168.7 | F40: 0 | G40: 0 | H40: － | I40: 497073 | J40: 623661 | K40: 79.7 | L40: 584097 | M40: 675257 | N40: 86.5
B41: 九州旅客鉄道（株） | C41: 13301 | D41: 12987 | E41: 102.4 | F41: 0 | G41: 0 | H41: － | I41: 167432 | J41: 403283 | K41: 41.5 | L41: 180733 | M41: 416270 | N41: 43.4
B42: （株）ヤマハトラベルサービス | C42: 297825 | D42: 375618 | E42: 79.3 | F42: 0 | G42: 1005 | H42: － | I42: 163529 | J42: 169506 | K42: 96.5 | L42: 461354 | M42: 546129 | N42: 84.5
B43: ケイライントラベル（株） | C43: 421215 | D43: 437976 | E43: 96.2 | F43: 0 | G43: 0 | H43: － | I43: 14060 | J43: 13067 | K43: 107.6 | L43: 435275 | M43: 451043 | N43: 96.5
B44: 名鉄観光バス（株） | C44: 4787 | D44: 8577 | E44: 55.8 | F44: 18997 | G44: 12471 | H44: 152.3 | I44: 456237 | J44: 464459 | K44: 98.2 | L44: 480021 | M44: 485507 | N44: 98.9
B45: （株）トラベル日本 | C45: 145295 | D45: 179126 | E45: 81.1 | F45: 79 | G45: 81 | H45: 97.5 | I45: 141720 | J45: 150483 | K45: 94.2 | L45: 287094 | M45: 329690 | N45: 87.1
B46: テック航空サービス（株） | C46: 375284 | D46: 448649 | E46: 83.6 | F46: 0 | G46: 0 | H46: － | I46: 8203 | J46: 6944 | K46: 118.1 | L46: 383487 | M46: 455593 | N46: 84.2
B47: 西武トラベル（株） | C47: 240458 | D47: 143230 | E47: 167.9 | F47: 121310 | G47: 120415 | H47: 100.7 | I47: 218252 | J47: 210781 | K47: 103.5 | L47: 580020 | M47: 474426 | N47: 122.3
B48: （株）エスティーエートラベル | C48: 92943 | D48: 88118 | E48: 105.5 | F48: 0 | G48: 0 | H48: － | I48: 0 | J48: 0 | K48: － | L48: 92943 | M48: 88118 | N48: 105.5
B49: 菱和ダイヤモンド航空サービス（株） | C49: 378097 | D49: 417500 | E49: 90.6 | F49: 0 | G49: 0 | H49: － | I49: 4949 | J49: 4378 | K49: 113 | L49: 383046 | M49: 421878 | N49: 90.8
B50: 富士急トラベル（株） | C50: 10259 | D50: 20751 | E50: 49.4 | F50: 12247 | G50: 7257 | H50: 168.8 | I50: 277725 | J50: 185032 | K50: 150.1 | L50: 300231 | M50: 213040 | N50: 140.9
B51: （株）三越伊勢丹ニッコウトラベル | C51: 83657 | D51: 173427 | E51: 48.2 | F51: 0 | G51: 0 | H51: － | I51: 251604 | J51: 429252 | K51: 58.6 | L51: 335261 | M51: 602679 | N51: 55.6
B52: （株）JAL JTAセールス | C52: 0 | D52: 0 | E52: － | F52: 0 | G52: 0 | H52: － | I52: 178923 | J52: 177343 | K52: 100.9 | L52: 178923 | M52: 177343 | N52: 100.9
B53: 合 計 | C53: =SUM(C5:C52) -> 100077161 | D53: =SUM(D5:D52) -> 109364522 | E53: =(C53/D53)*100 -> 91.507885 | F53: =SUM(F5:F52) -> 12567475 | G53: =SUM(G5:G52) -> 10385023 | H53: =(F53/G53)*100 -> 121.01538 | I53: =SUM(I5:I52) -> 165779764 | J53: =SUM(J5:J52) -> 175741787 | K53: =(I53/J53)*100 -> 94.331443 | L53: =SUM(L5:L52) -> 278424403 | M53: =SUM(M5:M52) -> 295491335 | N53: =(L53/M53)*100 -> 94.224219
C55: *1 JTBの10社内取引を相殺し合計
C56: JTB10社：
C57: JTB、JTBグローバルマーケティング＆トラベル、JTB沖縄、JTB京阪トラベル、エイ・ビー・アイ、JTBメディアリテーリング、
C58: JTBグランドツアー＆サービス、JTBビジネストラベルソリューションズ、JTBガイアレック、トラベルプラザインターナショナル
C60: *2 HISの6社内取引を相殺し合計
C61: HIS6社：
C62: エイチ・アイ・エス、オリオンツアー、クオリタ、クルーズプラネット、ジャパンホリデートラベル、エイチ・アイ・エス沖縄
C64: *3 KNT-CTホールディングスの13社内取引を相殺し合計
C65: KNT-CTホールディングス13社：
C66: クラブツーリズム、近畿日本ツーリスト北海道、近畿日本ツーリスト東北、近畿日本ツーリスト関東、近畿日本ツーリスト首都圏、
C67: 近畿日本ツーリスト中部、近畿日本ツーリスト関西、 近畿日本ツーリスト中国四国、 近畿日本ツーリスト九州、
C68: 近畿日本ツーリストコーポレートビジネス、KNT-CTグローバルトラベル、KNT-CTウエブトラベル、ユナイテッドツアーズ
... C76: タビックスジャパン、東日観光、トラベルイン、湯旅

Sheet 2月
B1: 主要旅行業者の旅行取扱状況速報
F2: 43862
B3: 会 社 名 | C3: 海 外 旅 行 | F3: 外 国 人 旅 行 | I3: 国 内 旅 行 | L3: 合 計
C4: 取扱額（千円） | D4: 前年（千円） | E4: 前年比（％） | F4: 取扱額（千円） | G4: 前年（千円） | H4: 前年比（％） | I4: 取扱額（千円） | J4: 前年（千円） | K4: 前年比（％） | L4: 取扱額（千円） | M4: 前年（千円） | N4: 前年比（％）
B5: JTB（10社計 *1） | C5: 37934111 | D5: 44771108 | E5: 84.7 | F5: 3576940 | G5: 6488036 | H5: 55.1 | I5: 58701094 | J5: 66058204 | K5: 88.9 | L5: 100212144 | M5: 117317348 | N5: 85.4
B6: エイチ・アイ・エス（6社計 *2)
B7: KNT-CTホールディングス（13社計 *3） | C7: 10420808 | D7: 12733574 | E7: 81.8 | F7: 926048 | G7: 1690798 | H7: 54.8 | I7: 15669973 | J7: 19153551 | K7: 81.8 | L7: 27016829 | M7: 33577923 | N7: 80.5
B8: （株）日本旅行 | C8: 6128779 | D8: 9484645 | E8: 64.6 | F8: 2427847 | G8: 2603521 | H8: 93.3 | I8: 16614461 | J8: 21038530 | K8: 79 | L8: 25171087 | M8: 33126696 | N8: 76
B9: 阪急交通社（3社計 *4） | C9: 9700991 | D9: 17993402 | E9: 53.9 | F9: 90244 | G9: 158173 | H9: 57.1 | I9: 6718983 | J9: 8961052 | K9: 75 | L9: 16510218 | M9: 27112629 | N9: 60.9
B10: （株）ジャルパック | C10: 3626863 | D10: 3782703 | E10: 95.9 | F10: 1899 | G10: 1629 | H10: 116.6 | I10: 9993119 | J10: 10350554 | K10: 96.5 | L10: 13621881 | M10: 14134886 | N10: 96.4
B11: ANAセールス（株） | C11: 1741349 | D11: 1723248 | E11: 101.1 | F11: 39415 | G11: 179145 | H11: 22 | I11: 11094721 | J11: 11939481 | K11: 92.9 | L11: 12875485 | M11: 13841875 | N11: 93
B12: 東武トップツアーズ（株） | C12: 1721813 | D12: 2159480 | E12: 79.7 | F12: 203861 | G12: 281914 | H12: 72.3 | I12: 4584895 | J12: 5339046 | K12: 85.9 | L12: 6510569 | M12: 7780440 | N12: 83.7
B13: （株）ジェイアール東海ツアーズ | C13: 141089 | D13: 154695 | E13: 91.2 | F13: 102407 | G13: 112616 | H13: 90.9 | I13: 5137347 | J13: 7458740 | K13: 68.9 | L13: 5380843 | M13: 7726051 | N13: 69.6
B14: 名鉄観光サービス（株） | C14: 1159770 | D14: 1547589 | E14: 74.9 | F14: 105978 | G14: 160972 | H14: 65.8 | I14: 3908035 | J14: 4207063 | K14: 92.9 | L14: 5173783 | M14: 5915624 | N14: 87.5
B15: （株）農協観光 | C15: 893007 | D15: 1044206 | E15: 85.5 | F15: 44845 | G15: 44952 | H15: 99.8 | I15: 4542912 | J15: 5691381 | K15: 79.8 | L15: 5480764 | M15: 6780539 | N15: 80.8
B16: ビッグホリデー（株） | C16: 459580 | D16: 499712 | E16: 92 | F16: 0 | G16: 0 | H16: － | I16: 7592780 | J16: 7904560 | K16: 96.1 | L16: 8052360 | M16: 8404272 | N16: 95.8
B17: 日新航空サービス（株） | C17: 2840570 | D17: 3611380 | E17: 78.7 | F17: 0 | G17: 0 | H17: － | I17: 182953 | J17: 279098 | K17: 65.6 | L17: 3023523 | M17: 3890478 | N17: 77.7
B18: (株）びゅうトラベルサービス | C18: 71967 | D18: 48049 | E18: 149.8 | F18: 69036 | G18: 255625 | H18: 27 | I18: 3870350 | J18: 4539542 | K18: 85.3 | L18: 4011353 | M18: 4843217 | N18: 82.8
B19: （株）読売旅行 | C19: 414050 | D19: 405303 | E19: 102.2 | F19: 2381 | G19: 2816 | H19: 84.6 | I19: 1442766 | J19: 1638944 | K19: 88 | L19: 1859197 | M19: 2047063 | N19: 90.8
B20: エムオーツーリスト（株） | C20: 1968875 | D20: 2853199 | E20: 69 | F20: 1070 | G20: 0 | H20: － | I20: 165951 | J20: 164434 | K20: 100.9 | L20: 2135896 | M20: 3017633 | N20: 70.8
B21: 日通旅行（株） | C21: 1282733 | D21: 2452064 | E21: 52.3 | F21: 43033 | G21: 19233 | H21: 223.7 | I21: 366543 | J21: 408628 | K21: 89.7 | L21: 1692309 | M21: 2879925 | N21: 58.8
B22: 株式会社HTB-BCDトラベル | C22: 1026759 | D22: 1498282 | E22: 68.5 | F22: 3937 | G22: 1617 | H22: 243.5 | I22: 984738 | J22: 1005724 | K22: 97.9 | L22: 2015434 | M22: 2505623 | N22: 80.4
B23: 西鉄旅行（株） | C23: 615070 | D23: 799299 | E23: 77 | F23: 19855 | G23: 16714 | H23: 118.8 | I23: 1389740 | J23: 1675636 | K23: 82.9 | L23: 2024665 | M23: 2491649 | N23: 81.3
B24: （株）エヌオーイー | C24: 1818381 | D24: 2508215 | E24: 72.5 | F24: 9356 | G24: 1747 | H24: 535.5 | I24: 180874 | J24: 125909 | K24: 143.7 | L24: 2008611 | M24: 2635871 | N24: 76.2
B25: 郵船トラベル（株） | C25: 1190775 | D25: 2080888 | E25: 57.2 | F25: 0 | G25: 0 | H25: － | I25: 58431 | J25: 95080 | K25: 61.5 | L25: 1249206 | M25: 2175968 | N25: 57.4
B26: （株）旅工房 | C26: 3052754 | D26: 2713346 | E26: 112.5 | F26: 19165 | G26: 32093 | H26: 59.7 | I26: 66032 | J26: 204624 | K26: 32.3 | L26: 3137951 | M26: 2950063 | N26: 106.4
B27: （株）IACEトラベル | C27: 945482 | D27: 1823008 | E27: 51.9 | F27: 0 | G27: 0 | H27: － | I27: 275425 | J27: 342527 | K27: 80.4 | L27: 1220907 | M27: 2165535 | N27: 56.4
B28: 沖縄ツーリスト（株） | C28: 63830 | D28: 114631 | E28: 55.7 | F28: 3858 | G28: 46881 | H28: 8.2 | I28: 913926 | J28: 1764908 | K28: 51.8 | L28: 981614 | M28: 1926420 | N28: 51
B29: T-LIFEホールディングス（株）（4社計 *5） | C29: 352189 | D29: 643412 | E29: 54.7 | F29: 76268 | G29: 78371 | H29: 97.3 | I29: 1458600 | J29: 1923886 | K29: 75.8 | L29: 1887057 | M29: 2645669 | N29: 71.3
B30: WILLER（株） | C30: 0 | D30: 0 | E30: － | F30: 54566 | G30: 52316 | H30: 104.3 | I30: 1679158 | J30: 1612911 | K30: 104.1 | L30: 1733724 | M30: 1665227 | N30: 104.1
B31: 京王観光（株） | C31: 261335 | D31: 283746 | E31: 92.1 | F31: 23291 | G31: 1802 | H31: 1292.5 | I31: 908749 | J31: 1062468 | K31: 85.5 | L31: 1193375 | M31: 1348016 | N31: 88.5
B32: （株）トヨタツーリストインターナショナル | C32: 722172 | D32: 1139084 | E32: 63.4 | F32: 0 | G32: 0 | H32: － | I32: 111265 | J32: 171016 | K32: 65.1 | L32: 833437 | M32: 1310100 | N32: 63.6
B33: メルコトラベル（株） | C33: 314449 | D33: 595343 | E33: 52.8 | F33: 33 | G33: 43 | H33: 76.7 | I33: 518193 | J33: 665460 | K33: 77.9 | L33: 832675 | M33: 1260846 | N33: 66
B34: イオンコンパス（株） | C34: 261769 | D34: 297933 | E34: 87.9 | F34: 25483 | G34: 34188 | H34: 74.5 | I34: 510930 | J34: 569595 | K34: 89.7 | L34: 798182 | M34: 901716 | N34: 88.5
B35: （株）南海国際旅行 | C35: 194512 | D35: 258806 | E35: 75.2 | F35: 5049 | G35: 19512 | H35: 25.9 | I35: 706326 | J35: 883544 | K35: 79.9 | L35: 905887 | M35: 1161862 | N35: 78
B36: （株）小田急トラベル | C36: 250633 | D36: 271052 | E36: 92.5 | F36: 2639 | G36: 24625 | H36: 10.7 | I36: 621047 | J36: 889872 | K36: 69.8 | L36: 874319 | M36: 1185549 | N36: 73.7
B37: 京成トラベルサービス（株） | C37: 33725 | D37: 59918 | E37: 56.3 | F37: 323 | G37: 555 | H37: 58.2 | I37: 613126 | J37: 782953 | K37: 78.3 | L37: 647174 | M37: 843426 | N37: 76.7
B38: （株）日産クリエイティブサービス | C38: 417291 | D38: 902938 | E38: 46.2 | F38: 0 | G38: 0 | H38: － | I38: 154919 | J38: 217956 | K38: 71.1 | L38: 572210 | M38: 1120894 | N38: 51
B39: （株）フジ・トラベル・サービス | C39: 129764 | D39: 123989 | E39: 104.7 | F39: 1743 | G39: 3844 | H39: 45.3 | I39: 584372 | J39: 704076 | K39: 83 | L39: 715879 | M39: 831909 | N39: 86.1
B40: 北海道旅客鉄道（株） | C40: 8913 | D40: 67372 | E40: 13.2 | F40: 0 | G40: 0 | H40: － | I40: 369861 | J40: 668497 | K40: 55.3 | L40: 378774 | M40: 735869 | N40: 51.5
B41: 九州旅客鉄道（株） | C41: 5087 | D41: 21943 | E41: 23.2 | F41: 0 | G41: 0 | H41: － | I41: 238685 | J41: 444985 | K41: 53.6 | L41: 243772 | M41: 466928 | N41: 52.2
B42: （株）ヤマハトラベルサービス | C42: 152816 | D42: 334203 | E42: 45.7 | F42: 868 | G42: 0 | H42: － | I42: 124297 | J42: 154290 | K42: 80.6 | L42: 277981 | M42: 488493 | N42: 56.9
B43: ケイライントラベル（株） | C43: 339802 | D43: 517146 | E43: 65.7 | F43: 0 | G43: 0 | H43: － | I43: 11502 | J43: 23975 | K43: 48 | L43: 351304 | M43: 541121 | N43: 64.9
B44: 名鉄観光バス（株） | C44: 2831 | D44: 7020 | E44: 40.3 | F44: 10053 | G44: 12723 | H44: 79 | I44: 358594 | J44: 409546 | K44: 87.6 | L44: 371478 | M44: 429289 | N44: 86.5
B45: （株）トラベル日本 | C45: 109219 | D45: 186163 | E45: 58.7 | F45: 78 | G45: 79 | H45: 98.7 | I45: 149666 | J45: 230049 | K45: 65.1 | L45: 258963 | M45: 416291 | N45: 62.2
B46: テック航空サービス（株） | C46: 351817 | D46: 506370 | E46: 69.5 | F46: 0 | G46: 0 | H46: － | I46: 6764 | J46: 8645 | K46: 78.2 | L46: 358581 | M46: 515015 | N46: 69.6
B47: 西武トラベル（株） | C47: 278784 | D47: 185680 | E47: 150.1 | F47: 65760 | G47: 77677 | H47: 84.7 | I47: 239420 | J47: 235301 | K47: 101.8 | L47: 583964 | M47: 498658 | N47: 117.1
B48: （株）エスティーエートラベル | C48: 636231 | D48: 597766 | E48: 106.4 | F48: 0 | G48: 0 | H48: － | I48: 0 | J48: 0 | K48: － | L48: 636231 | M48: 597766 | N48: 106.4
B49: 菱和ダイヤモンド航空サービス（株） | C49: 353519 | D49: 357058 | E49: 99 | F49: 0 | G49: 0 | H49: － | I49: 6665 | J49: 4833 | K49: 137.9 | L49: 360184 | M49: 361891 | N49: 99.5
B50: 富士急トラベル（株） | C50: 30335 | D50: 61040 | E50: 49.7 | F50: 19629 | G50: 8093 | H50: 242.5 | I50: 378176 | J50: 283284 | K50: 133.5 | L50: 428140 | M50: 352417 | N50: 121.5
B51: （株）三越伊勢丹ニッコウトラベル | C51: 248515 | D51: 268438 | E51: 92.6 | F51: 0 | G51: 0 | H51: － | I51: 86828 | J51: 110423 | K51: 78.6 | L51: 335343 | M51: 378861 | N51: 88.5
B52: （株）JAL JTAセールス | C52: 0 | D52: 0 | E52: － | F52: 0 | G52: 0 | H52: － | I52: 153056 | J52: 201440 | K52: 76 | L52: 153056 | M52: 201440 | N52: 76
B53: 合計 | C53: =SUM(C5:C52) -> 94675114 | D53: =SUM(D5:D52) -> 124488446 | E53: =(C53/D53)*100 -> 76.051326 | F53: =SUM(F5:F52) -> 7976958 | G53: =SUM(G5:G52) -> 12412310 | H53: =(F53/G53)*100 -> 64.266506 | I53: =SUM(I5:I52) -> 164446248 | J53: =SUM(J5:J52) -> 192606221 | K53: =(I53/J53)*100 -> 85.37951 | L53: =SUM(L5:L52) -> 267098319 | M53: =SUM(M5:M52) -> 329506981 | N53: =(L53/M53)*100 -> 81.059988
C55: *1 JTBの10社内取引を相殺し合計
C56: JTB10社：
C57: JTB、JTBグローバルマーケティング＆トラベル、JTB沖縄、JTB京阪トラベル、エイ・ビー・アイ、JTBメディアリテーリング、
C58: JTBグランドツアー＆サービス、JTBビジネストラベルソリューションズ、JTBガイアレック、トラベルプラザインターナショナル
C60: *2 HISの6社内取引を相殺し合計
C61: HIS6社：
C62: エイチ・アイ・エス、オリオンツアー、クオリタ、クルーズプラネット、ジャパンホリデートラベル、エイチ・アイ・エス沖縄
C64: *3 KNT-CTホールディングスの13社内取引を相殺し合計
C65: KNT-CTホールディングス13社：
C66: クラブツーリズム、近畿日本ツーリスト北海道、近畿日本ツーリスト東北、近畿日本ツーリスト関東、近畿日本ツーリスト首都圏、
C67: 近畿日本ツーリスト中部、近畿日本ツーリスト関西、 近畿日本ツーリスト中国四国、 近畿日本ツーリスト九州、
C68: 近畿日本ツーリストコーポレートビジネス、KNT-CTグローバルトラベル、KNT-CTウエブトラベル、ユナイテッドツアーズ
... C76: タビックスジャパン、東日観光、トラベルイン、湯旅

Sheet 3月
B1: 主要旅行業者の旅行取扱状況速報
F2: 43891
B3: 会 社 名 | C3: 海 外 旅 行 | F3: 外 国 人 旅 行 | I3: 国 内 旅 行 | L3: 合 計
C4: 取扱額（千円） | D4: 前年（千円） | E4: 前年比（％） | F4: 取扱額（千円） | G4: 前年（千円） | H4: 前年比（％） | I4: 取扱額（千円） | J4: 前年（千円） | K4: 前年比（％） | L4: 取扱額（千円） | M4: 前年（千円） | N4: 前年比（％）
B5: JTB（10社計 *1） | C5: 8978695 | D5: 51013641 | E5: 17.6 | F5: 2668307 | G5: 10425750 | H5: 25.6 | I5: 45886941 | J5: 92706036 | K5: 49.5 | L5: 57533944 | M5: 154145427 | N5: 37.3
B6: エイチ・アイ・エス（6社計 *2)
B7: KNT-CTホールディングス（13社計 *3） | C7: 3994855 | D7: 15080198 | E7: 26.5 | F7: 645381 | G7: 3350916 | H7: 19.3 | I7: 8819165 | J7: 24441361 | K7: 36.1 | L7: 13459401 | M7: 42872475 | N7: 31.4
B8: （株）日本旅行 | C8: 131382 | D8: 12099935 | E8: 1.1 | F8: 1872848 | G8: 3892577 | H8: 48.1 | I8: 7675608 | J8: 25018529 | K8: 30.7 | L8: 9679838 | M8: 41011041 | N8: 23.6
B9: 阪急交通社（3社計 *4） | C9: 213501 | D9: 19331861 | E9: 1.1 | F9: 36764 | G9: 239766 | H9: 15.3 | I9: 2072418 | J9: 12558210 | K9: 16.5 | L9: 2322683 | M9: 32129840 | N9: 7.2
B10: （株）ジャルパック | C10: 844397 | D10: 4419746 | E10: 19.1 | F10: 0 | G10: 4092 | H10: － | I10: 4247970 | J10: 12919233 | K10: 32.9 | L10: 5092245 | M10: 17343071 | N10: 29.4
B11: ANAセールス（株） | C11: 246295 | D11: 1811658 | E11: 13.6 | F11: 2441 | G11: 129404 | H11: 1.9 | I11: 4656751 | J11: 15094699 | K11: 30.9 | L11: 4905487 | M11: 17035761 | N11: 28.8
B12: 東武トップツアーズ（株） | C12: 564196 | D12: 3119662 | E12: 18.1 | F12: 346254 | G12: 723461 | H12: 47.9 | I12: 1660750 | J12: 5601034 | K12: 29.7 | L12: 2571200 | M12: 9444156 | N12: 27.2
B13: （株）ジェイアール東海ツアーズ | C13: 26404 | D13: 133852 | E13: 19.7 | F13: 36069 | G13: 241818 | H13: 14.9 | I13: 1705191 | J13: 8183807 | K13: 20.8 | L13: 1767664 | M13: 8559476 | N13: 20.7
B14: 名鉄観光サービス（株） | C14: 256721 | D14: 1349377 | E14: 19 | F14: 23047 | G14: 180668 | H14: 12.8 | I14: 1531744 | J14: 5506334 | K14: 27.8 | L14: 1811512 | M14: 7036379 | N14: 25.7
B15: （株）農協観光 | C15: 125327 | D15: 585480 | E15: 21.4 | F15: 13527 | G15: 103917 | H15: 13 | I15: 875247 | J15: 4831274 | K15: 18.1 | L15: 1014101 | M15: 5520671 | N15: 18.4
B16: ビッグホリデー（株） | C16: 23450 | D16: 359330 | E16: 6.5 | F16: 0 | G16: 0 | H16: － | I16: 2453210 | J16: 9019300 | K16: 27.2 | L16: 2476660 | M16: 9378630 | N16: 26.4
B17: 日新航空サービス（株） | C17: 760981 | D17: 4061760 | E17: 18.7 | H17: － | I17: 82262 | J17: 347042 | K17: 23.7 | L17: 843243 | M17: 4408802 | N17: 19.1
B18: (株）びゅうトラベルサービス | C18: 17847 | D18: 40668 | E18: 43.9 | F18: 0 | G18: 245551 | H18: － | I18: 1370385 | J18: 4717443 | K18: 29 | L18: 1388232 | M18: 5003662 | N18: 27.7
B19: （株）読売旅行 | C19: 337639 | D19: 622294 | E19: 54.3 | F19: 21806 | G19: 12223 | H19: 178.4 | I19: 228087 | J19: 2500049 | K19: 9.1 | L19: 587532 | M19: 3134566 | N19: 18.7
B20: エムオーツーリスト（株） | C20: 492038 | D20: 3337902 | E20: 14.7 | F20: 363 | G20: 8453 | H20: 4.3 | I20: 65139 | J20: 194543 | K20: 33.5 | L20: 557540 | M20: 3540898 | N20: 15.7
B21: 日通旅行（株） | C21: 267052 | D21: 2777355 | E21: 9.6 | F21: 18143 | G21: 120514 | H21: 15.1 | I21: 160463 | J21: 423736 | K21: 37.9 | L21: 445658 | M21: 3321605 | N21: 13.4
B22: 株式会社HTB-BCDトラベル | C22: 134008 | D22: 2064073 | E22: 6.5 | F22: 0 | G22: 4272 | H22: － | I22: 348959 | J22: 1944655 | K22: 17.9 | L22: 482967 | M22: 4013000 | N22: 12
B23: 西鉄旅行（株） | C23: 168139 | D23: 1058612 | E23: 15.9 | F23: 7295 | G23: 51718 | H23: 14.1 | I23: 501333 | J23: 1866693 | K23: 26.9 | L23: 676767 | M23: 2977023 | N23: 22.7
B24: （株）エヌオーイー | C24: 634547 | D24: 3094124 | E24: 20.5 | F24: 3327 | G24: 24831 | H24: 13.4 | I24: 126841 | J24: 157802 | K24: 80.4 | L24: 764715 | M24: 3276757 | N24: 23.3
B25: 郵船トラベル（株） | C25: 389553 | D25: 2374316 | E25: 16.4 | F25: 0 | G25: 0 | H25: － | I25: 27225 | J25: 255989 | K25: 10.6 | L25: 416778 | M25: 2630305 | N25: 15.8
B26: （株）旅工房 | C26: 831884 | D26: 2655561 | E26: 31.3 | F26: 6299 | G26: 53419 | H26: 11.8 | I26: 69341 | J26: 170214 | K26: 40.7 | L26: 907524 | M26: 2879194 | N26: 31.5
B27: （株）IACEトラベル | C27: 96503 | D27: 1965870 | E27: 4.9 | F27: 0 | G27: 0 | H27: － | I27: 224260 | J27: 455019 | K27: 49.3 | L27: 320763 | M27: 2420889 | N27: 13.2
B28: 沖縄ツーリスト（株） | C28: 0 | D28: 138863 | E28: － | F28: 0 | G28: 35951 | H28: － | I28: 104879 | J28: 1852323 | K28: 5.7 | L28: 104879 | M28: 2027137 | N28: 5.2
B29: T-LIFEホールディングス（株）（4社計 *5） | C29: 84611 | D29: 715295 | E29: 11.8 | F29: 73566 | G29: 207309 | H29: 35.5 | I29: 283738 | J29: 2075524 | K29: 13.7 | L29: 441915 | M29: 2998128 | N29: 14.7
B30: WILLER（株） | C30: 0 | D30: 0 | E30: － | F30: 23403 | G30: 67993 | H30: 34.4 | I30: 564359 | J30: 2529271 | K30: 22.3 | L30: 587762 | M30: 2597264 | N30: 22.6
B31: 京王観光（株） | C31: 192136 | D31: 481124 | E31: 39.9 | F31: 1397 | G31: 1196 | H31: 116.8 | I31: 276643 | J31: 1132443 | K31: 24.4 | L31: 470176 | M31: 1614763 | N31: 29.1
B32: （株）トヨタツーリストインターナショナル | C32: 388670 | D32: 1672347 | E32: 23.2 | F32: 0 | G32: 0 | H32: － | I32: 54042 | J32: 147415 | K32: 36.7 | L32: 442712 | M32: 1819762 | N32: 24.3
B33: メルコトラベル（株） | C33: 0 | D33: 655409 | E33: － | F33: 0 | G33: 1429 | H33: － | I33: 384522 | J33: 762577 | K33: 50.4 | L33: 384522 | M33: 1419415 | N33: 27.1
B34: イオンコンパス（株） | C34: 59617 | D34: 358382 | E34: 16.6 | F34: 0 | G34: 11537 | H34: － | I34: 430656 | J34: 808931 | K34: 53.2 | L34: 490273 | M34: 1178850 | N34: 41.6
B35: （株）南海国際旅行 | C35: 47523 | D35: 385308 | E35: 12.3 | F35: 6797 | G35: 69753 | H35: 9.7 | I35: 343149 | J35: 990999 | K35: 34.6 | L35: 397469 | M35: 1446060 | N35: 27.5
B36: （株）小田急トラベル | C36: 54215 | D36: 233044 | E36: 23.3 | F36: 776 | G36: 17502 | H36: 4.4 | I36: 262863 | J36: 969764 | K36: 27.1 | L36: 317854 | M36: 1220310 | N36: 26
B37: 京成トラベルサービス（株） | C37: 0 | D37: 69076 | E37: － | F37: 1649 | G37: 3137 | H37: 52.6 | I37: 534815 | J37: 1221206 | K37: 43.8 | L37: 536464 | M37: 1293419 | N37: 41.5
B38: （株）日産クリエイティブサービス | C38: 310306 | D38: 824856 | E38: 37.6 | F38: 0 | G38: 0 | H38: － | I38: 95886 | J38: 199218 | K38: 48.1 | L38: 406192 | M38: 1024074 | N38: 39.7
B39: （株）フジ・トラベル・サービス | C39: 33832 | D39: 129858 | E39: 26.1 | F39: 0 | G39: 3317 | H39: － | I39: 153536 | J39: 905773 | K39: 17 | L39: 187368 | M39: 1038948 | N39: 18
B40: 北海道旅客鉄道（株） | C40: 0 | D40: 51552 | E40: － | H40: － | I40: 134135 | J40: 672502 | K40: 19.9 | L40: 134135 | M40: 724054 | N40: 18.5
B41: 九州旅客鉄道（株） | C41: 981 | D41: 8453 | E41: 11.6 | F41: 0 | G41: 0 | H41: － | I41: 94330 | J41: 531250 | K41: 17.8 | L41: 95311 | M41: 539703 | N41: 17.7
B42: （株）ヤマハトラベルサービス | C42: 28460 | D42: 344342 | E42: 8.3 | F42: 111 | G42: 94731 | H42: 0.1 | I42: 23220 | J42: 174470 | K42: 13.3 | L42: 51791 | M42: 613543 | N42: 8.4
B43: ケイライントラベル（株） | C43: 98462 | D43: 556814 | E43: 17.7 | F43: 0 | G43: 0 | H43: － | I43: 26478 | J43: 44571 | K43: 59.4 | L43: 124940 | M43: 601385 | N43: 20.8
B44: 名鉄観光バス（株） | C44: 426 | D44: 3965 | E44: 10.7 | F44: 180 | G44: 12022 | H44: 1.5 | I44: 66329 | J44: 501894 | K44: 13.2 | L44: 66935 | M44: 517881 | N44: 12.9
B45: （株）トラベル日本 | C45: 34114 | D45: 160967 | E45: 21.2 | F45: 73 | G45: 75 | H45: 97.3 | I45: 56929 | J45: 222862 | K45: 25.5 | L45: 91116 | M45: 383904 | N45: 23.7
B46: テック航空サービス（株） | C46: 132781 | D46: 553636 | E46: 24 | F46: 0 | G46: 0 | H46: － | I46: 4002 | J46: 8133 | K46: 49.2 | L46: 136783 | M46: 561769 | N46: 24.3
B47: 西武トラベル（株） | C47: 116894 | D47: 140442 | E47: 83.2 | F47: 3863 | G47: 26549 | H47: 14.6 | I47: 95851 | J47: 285463 | K47: 33.6 | L47: 216608 | M47: 452454 | N47: 47.9
B48: （株）エスティーエートラベル | C48: 159954 | D48: 567314 | E48: 28.2 | H48: － | K48: － | L48: 159954 | M48: 567314 | N48: 28.2
B49: 菱和ダイヤモンド航空サービス（株） | C49: 206152 | D49: 353519 | E49: 58.3 | F49: 0 | G49: 0 | H49: － | I49: 2968 | J49: 6645 | K49: 44.7 | L49: 209120 | M49: 360164 | N49: 58.1
B50: 富士急トラベル（株） | C50: 3930 | D50: 30615 | E50: 12.8 | F50: 3077 | G50: 6120 | H50: 50.3 | I50: 64886 | J50: 255259 | K50: 25.4 | L50: 71893 | M50: 291994 | N50: 24.6
B51: （株）三越伊勢丹ニッコウトラベル | C51: 48965 | D51: 373350 | E51: 13.1 | F51: 0 | G51: 0 | H51: － | I51: 114192 | J51: 466830 | K51: 24.5 | L51: 163157 | M51: 840180 | N51: 19.4
B52: （株）JAL JTAセールス | C52: 0 | D52: 0 | E52: － | F52: 0 | G52: 0 | H52: － | I52: 69616 | J52: 316436 | K52: 22 | L52: 69616 | M52: 316436 | N52: 22
B53: 合計 | C53: =SUM(C5:C52) -> 21537443 | D53: =SUM(D5:D52) -> 142165806 | E53: =(C53/D53)*100 -> 15.149524 | F53: =SUM(F5:F52) -> 5816763 | G53: =SUM(G5:G52) -> 20371971 | H53: =(F53/G53)*100 -> 28.552775 | I53: =SUM(I5:I52) -> 89031314 | J53: =SUM(J5:J52) -> 245994761 | K53: =(I53/J53)*100 -> 36.192362 | L53: =SUM(L5:L52) -> 116385399 | M53: =SUM(M5:M52) -> 408532539 | N53: =(L53/M53)*100 -> 28.488648
C55: *1 JTBの10社内取引を相殺し合計
C56: JTB10社：
C57: JTB、JTBグローバルマーケティング＆トラベル、JTB沖縄、JTB京阪トラベル、エイ・ビー・アイ、JTBメディアリテーリング、
C58: JTBグランドツアー＆サービス、JTBビジネストラベルソリューションズ、JTBガイアレック、トラベルプラザインターナショナル
C60: *2 HISの6社内取引を相殺し合計
C61: HIS6社：
C62: エイチ・アイ・エス、オリオンツアー、クオリタ、クルーズプラネット、ジャパンホリデートラベル、エイチ・アイ・エス沖縄
C64: *3 KNT-CTホールディングスの13社内取引を相殺し合計
C65: KNT-CTホールディングス13社：
C66: クラブツーリズム、近畿日本ツーリスト北海道、近畿日本ツーリスト東北、近畿日本ツーリスト関東、近畿日本ツーリスト首都圏、
C67: 近畿日本ツーリスト中部、近畿日本ツーリスト関西、 近畿日本ツーリスト中国四国、 近畿日本ツーリスト九州、
C68: 近畿日本ツーリストコーポレートビジネス、KNT-CTグローバルトラベル、KNT-CTウエブトラベル、ユナイテッドツアーズ
... C76: タビックスジャパン、東日観光、トラベルイン、湯旅

Sheet 4月
B1: 主要旅行業者の旅行取扱状況速報
F2: 43922
B3: 会 社 名 | C3: 海 外 旅 行 | F3: 外 国 人 旅 行 | I3: 国 内 旅 行 | L3: 合 計
C4: 取扱額（千円） | D4: 前年（千円） | E4: 前年比（％） | F4: 取扱額（千円） | G4: 前年（千円） | H4: 前年比（％） | I4: 取扱額（千円） | J4: 前年（千円） | K4: 前年比（％） | L4: 取扱額（千円） | M4: 前年（千円） | N4: 前年比（％）
B5: JTB（10社計 *1） | C5: 813302 | D5: 54110948 | E5: 1.5 | F5: 415492 | G5: 10221142 | H5: 4.1 | I5: 6828044 | J5: 79987758 | K5: 8.5 | L5: 8056839 | M5: 144319848 | N5: 5.6
B6: エイチ・アイ・エス（6社計 *2)
B7: KNT-CTホールディングス（13社計 *3） | C7: 234035 | D7: 11233046 | E7: 2.1 | F7: 0 | G7: 2078748 | H7: － | I7: 834174 | J7: 24284508 | K7: 3.4 | L7: 1068209 | M7: 37596302 | N7: 2.8
B8: （株）日本旅行 | C8: 0 | D8: 8812686 | E8: － | F8: 33105 | G8: 6732342 | H8: 0.5 | I8: 1591952 | J8: 25267764 | K8: 6.3 | L8: 1625057 | M8: 40812792 | N8: 4
B9: 阪急交通社（3社計 *4） | C9: 0 | D9: 19071765 | E9: － | F9: 8538 | G9: 814010 | H9: 1 | I9: 2591 | J9: 15182187 | K9: 0 | L9: 11129 | M9: 35067962 | N9: －
B10: （株）ジャルパック | C10: 4049 | D10: 3812342 | E10: 0.1 | F10: 0 | G10: 7140 | H10: － | I10: 633868 | J10: 12504578 | K10: 5.1 | L10: 637917 | M10: 16324060 | N10: 3.9
B11: ANAセールス（株） | C11: 0 | D11: 1959475 | E11: － | F11: 377 | G11: 181625 | H11: 0.2 | I11: 763331 | J11: 14198955 | K11: 5.4 | L11: 763708 | M11: 16340055 | N11: 4.7
B12: 東武トップツアーズ（株） | C12: 253920 | D12: 1755975 | E12: 0.1 | F12: 0 | G12: 687695 | H12: － | I12: 430426 | J12: 7017921 | K12: 0.1 | L12: 684346 | M12: 9461591 | N12: 0.1
B13: （株）ジェイアール東海ツアーズ | C13: 2606 | D13: 148795 | E13: 0 | F13: 991 | G13: 332267 | H13: 0 | I13: 212243 | J13: 7444934 | K13: 0 | L13: 215840 | M13: 7925996 | N13: 0
B14: 名鉄観光サービス（株） | C14: 31609 | D14: 1106438 | E14: 2.9 | F14: 6687 | G14: 239363 | H14: 2.8 | I14: 840020 | J14: 5185328 | K14: 16.2 | L14: 878316 | M14: 6531129 | N14: 13.4
B15: （株）農協観光 | C15: 2696 | D15: 245694 | E15: 1.1 | F15: 901 | G15: 181897 | H15: 0.5 | I15: 159319 | J15: 2440853 | K15: 6.5 | L15: 162916 | M15: 2868444 | N15: 5.7
B16: ビッグホリデー（株） | C16: 272 | D16: 331780 | E16: 0.1 | F16: 0 | G16: 0 | H16: － | I16: 62534 | J16: 2032580 | K16: 3.1 | L16: 62806 | M16: 2364360 | N16: 2.7
B17: 日新航空サービス（株） | C17: 161095 | D17: 3513414 | E17: 4.6 | H17: － | I17: 22293 | J17: 320830 | K17: 6.9 | L17: 183388 | M17: 3834244 | N17: 4.8
B18: (株）びゅうトラベルサービス | C18: 61 | D18: 57249 | E18: 0.1 | F18: 0 | G18: 260347 | H18: － | I18: 103207 | J18: 3484224 | K18: 3 | L18: 103268 | M18: 3801820 | N18: 2.7
B19: （株）読売旅行 | C19: 5279 | D19: 547762 | E19: 1 | F19: 0 | G19: 13841 | H19: － | I19: 41776 | J19: 3351491 | K19: 1.2 | L19: 47055 | M19: 3913094 | N19: 1.2
B20: エムオーツーリスト（株） | C20: 83459 | D20: 3007713 | E20: 2.8 | F20: 0 | G20: 1440 | H20: 0 | I20: 23493 | J20: 229946 | K20: 10.2 | L20: 106952 | M20: 3239099 | N20: 3.3
B21: 日通旅行（株） | C21: 1825 | D21: 2119133 | E21: 0.1 | F21: 3480 | G21: 159683 | H21: 2.2 | I21: 46266 | J21: 450850 | K21: 10.3 | L21: 51571 | M21: 2729666 | N21: 1.9
B22: 株式会社HTB-BCDトラベル | C22: 0 | D22: 1534417 | E22: － | F22: 0 | G22: 958 | H22: － | I22: 150657 | J22: 1313791 | K22: 11.5 | L22: 150657 | M22: 2849166 | N22: 5.3
B23: 西鉄旅行（株） | C23: 27873 | D23: 881285 | E23: 3.2 | F23: 22 | G23: 47799 | H23: 0 | I23: 79752 | J23: 1518873 | K23: 5.3 | L23: 107647 | M23: 2447957 | N23: 4.4
B24: （株）エヌオーイー | C24: 130034 | D24: 2401811 | E24: 0.1 | F24: 24 | G24: 5444 | H24: 0 | I24: 74621 | J24: 160936 | K24: 0.5 | L24: 204679 | M24: 2568191 | N24: 0.1
B25: 郵船トラベル（株） | C25: 122323 | D25: 2259849 | E25: 5.4 | H25: － | I25: 10006 | J25: 232742 | K25: 4.3 | L25: 132329 | M25: 2492591 | N25: 5.3
B26: （株）旅工房 | C26: 12604 | D26: 3145157 | E26: 0.4 | F26: 491 | G26: 72401 | H26: 0.7 | I26: 17946 | J26: 94468 | K26: 19 | L26: 31041 | M26: 3312026 | N26: 0.9
B27: （株）IACEトラベル | C27: 60096 | D27: 1713503 | E27: 3.5 | F27: 0 | G27: 0 | H27: － | I27: 49013 | J27: 313880 | K27: 15.6 | L27: 109109 | M27: 2027383 | N27: 5.4
B28: 沖縄ツーリスト（株） | C28: 0 | D28: 156863 | E28: － | F28: 0 | G28: 24464 | H28: － | I28: 13204 | J28: 1826320 | K28: 0.7 | L28: 13204 | M28: 2007647 | N28: 0.7
B29: T-LIFEホールディングス（株）（4社計 *5） | C29: 9569 | D29: 749841 | E29: 1.3 | F29: 27605 | G29: 421052 | H29: 6.6 | I29: 27529 | J29: 2059569 | K29: 1.3 | L29: 64703 | M29: 3230462 | N29: 2
B30: WILLER（株） | C30: 0 | D30: 0 | E30: － | F30: 1622 | G30: 79411 | H30: 2 | I30: 31079 | J30: 1361322 | K30: 2.3 | L30: 32701 | M30: 1440733 | N30: 2.3
B31: 京王観光（株） | C31: 44235 | D31: 203834 | E31: 21.7 | F31: 0 | G31: 35791 | H31: － | I31: 58429 | J31: 1002586 | K31: 5.8 | L31: 102664 | M31: 1242211 | N31: 8.3
B32: （株）トヨタツーリストインターナショナル | C32: 19153 | D32: 1048590 | E32: 1.8 | F32: 0 | G32: 0 | H32: － | I32: 17702 | J32: 118215 | K32: 15 | L32: 36855 | M32: 1166805 | N32: 3.2
B33: メルコトラベル（株） | C33: 14199 | D33: 570005 | E33: 2.5 | F33: 0 | G33: 0 | H33: － | I33: 165413 | J33: 689819 | K33: 24 | L33: 179612 | M33: 1259824 | N33: 14.3
B34: イオンコンパス（株） | C34: 13011 | D34: 321069 | E34: 4.1 | F34: 0 | G34: 23053 | H34: － | I34: 346378 | J34: 1104231 | K34: 31.4 | L34: 359389 | M34: 1448353 | N34: 24.8
B35: （株）南海国際旅行 | C35: 3184 | D35: 283579 | E35: 1.1 | F35: 2199 | G35: 70005 | H35: 3.1 | I35: 70340 | J35: 977824 | K35: 7.2 | L35: 75723 | M35: 1331408 | N35: 5.7
B36: （株）小田急トラベル | C36: 2260 | D36: 240126 | E36: 0.9 | F36: 0 | G36: 19834 | H36: － | I36: 20880 | J36: 814309 | K36: 2.6 | L36: 23140 | M36: 1074269 | N36: 2.2
B37: 京成トラベルサービス（株） | C37: 0 | D37: 44214 | E37: － | F37: 0 | G37: 2298 | H37: － | I37: 301998 | J37: 1469127 | K37: 20.6 | L37: 301998 | M37: 1515639 | N37: 19.9
B38: （株）日産クリエイティブサービス | C38: 108496 | D38: 341972 | E38: 31.7 | F38: 0 | G38: 0 | H38: － | I38: 21340 | J38: 106518 | K38: 20 | L38: 129836 | M38: 448490 | N38: 28.9
B39: （株）フジ・トラベル・サービス | C39: 2999 | D39: 222544 | E39: 1.3 | F39: 0 | G39: 6017 | H39: － | I39: 31066 | J39: 773664 | K39: 4 | L39: 34065 | M39: 1002225 | N39: 3.4
B40: 北海道旅客鉄道（株） | C40: 0 | D40: 49888 | E40: － | H40: － | I40: 15827 | J40: 430524 | K40: 3.7 | L40: 15827 | M40: 480412 | N40: 3.3
B41: 九州旅客鉄道（株） | C41: 33 | D41: 9706 | E41: 0.3 | F41: 0 | G41: 0 | H41: － | I41: 6247 | J41: 298691 | K41: 2.1 | L41: 6280 | M41: 308397 | N41: 2
B42: （株）ヤマハトラベルサービス | C42: 17502 | D42: 275836 | E42: 6.3 | F42: 0 | G42: 8421 | H42: － | I42: 28389 | J42: 176004 | K42: 16.1 | L42: 45891 | M42: 460261 | N42: 10
B43: ケイライントラベル（株） | C43: 17963 | D43: 517884 | E43: 3.5 | F43: 0 | G43: 0 | H43: － | I43: 5432 | J43: 23573 | K43: 23 | L43: 23395 | M43: 541457 | N43: 4.3
B44: 名鉄観光バス（株） | C44: 0 | D44: 11916 | E44: － | F44: 0 | G44: 11424 | H44: － | I44: 4842 | J44: 439837 | K44: 1.1 | L44: 4842 | M44: 463177 | N44: 1
B45: （株）トラベル日本 | C45: 1773 | D45: 176589 | E45: 1 | F45: 48 | G45: 49 | H45: 98 | I45: 9029 | J45: 201639 | K45: 4.5 | L45: 10850 | M45: 378277 | N45: 2.9
B46: テック航空サービス（株） | C46: 5225 | D46: 400649 | E46: 1.3 | F46: 0 | G46: 0 | H46: － | I46: 1258 | J46: 9935 | K46: 12.7 | L46: 6483 | M46: 410584 | N46: 1.6
B47: 西武トラベル（株） | C47: 2397 | D47: 90880 | E47: 2.6 | F47: 0 | G47: 18753 | H47: － | I47: 10556 | J47: 376104 | K47: 2.8 | L47: 12953 | M47: 485737 | N47: 2.7
B48: （株）エスティーエートラベル | C48: 16348 | D48: 278796 | E48: 5.9 | H48: － | K48: － | L48: 16348 | M48: 278796 | N48: 5.9
B49: 菱和ダイヤモンド航空サービス（株） | C49: 19645 | D49: 367276 | E49: 5.3 | F49: 0 | G49: 0 | H49: － | I49: 2787 | J49: 10852 | K49: 25.7 | L49: 22432 | M49: 378128 | N49: 5.9
B50: 富士急トラベル（株） | C50: 39 | D50: 21861 | E50: 0.2 | F50: 193 | G50: 896 | H50: 21.5 | I50: 8397 | J50: 271816 | K50: 3.1 | L50: 8629 | M50: 294573 | N50: 2.9
B51: （株）三越伊勢丹ニッコウトラベル | C51: 0 | D51: 943185 | E51: － | F51: 0 | G51: 0 | H51: － | I51: 11686 | J51: 177730 | K51: 6.6 | L51: 11686 | M51: 1120915 | N51: 1
B52: （株）JAL JTAセールス | C52: 0 | D52: 0 | E52: － | F52: 0 | G52: 0 | H52: － | I52: 7814 | J52: 186935 | K52: 4.2 | L52: 7814 | M52: 186935 | N52: 4.2
B53: 合計 | C53: =SUM(C5:C52) -> 2245169 | D53: =SUM(D5:D52) -> 131097340 | E53: =(C53/D53)*100 -> 1.7125969 | F53: =SUM(F5:F52) -> 501775 | G53: =SUM(G5:G52) -> 22759610 | H53: =(F53/G53)*100 -> 2.2046731 | I53: =SUM(I5:I52) -> 14195154 | J53: =SUM(J5:J52) -> 221926541 | K53: =(I53/J53)*100 -> 6.39633 | L53: =SUM(L5:L52) -> 16942099 | M53: =SUM(M5:M52) -> 375783491 | N53: =(L53/M53)*100 -> 4.5084735
C55: *1 JTBの10社内取引を相殺し合計
C56: JTB10社：
C57: JTB、JTBグローバルマーケティング＆トラベル、JTB沖縄、JTB京阪トラベル、エイ・ビー・アイ、JTBメディアリテーリング、
C58: JTBグランドツアー＆サービス、JTBビジネストラベルソリューションズ、JTBガイアレック、トラベルプラザインターナショナル
C60: *2 HISの6社内取引を相殺し合計
C61: HIS6社：
C62: エイチ・アイ・エス、オリオンツアー、クオリタ、クルーズプラネット、ジャパンホリデートラベル、エイチ・アイ・エス沖縄
C64: *3 KNT-CTホールディングスの13社内取引を相殺し合計
C65: KNT-CTホールディングス13社：
C66: クラブツーリズム、近畿日本ツーリスト北海道、近畿日本ツーリスト東北、近畿日本ツーリスト関東、近畿日本ツーリスト首都圏、
C67: 近畿日本ツーリスト中部、近畿日本ツーリスト関西、 近畿日本ツーリスト中国四国、 近畿日本ツーリスト九州、
C68: 近畿日本ツーリストコーポレートビジネス、KNT-CTグローバルトラベル、KNT-CTウエブトラベル、ユナイテッドツアーズ
... C76: タビックスジャパン、東日観光、トラベルイン、湯旅

Sheet 5月
B1: 主要旅行業者の旅行取扱状況速報
F2: 43952
B3: 会 社 名 | C3: 海 外 旅 行 | F3: 外 国 人 旅 行 | I3: 国 内 旅 行 | L3: 合 計
C4: 取扱額（千円） | D4: 前年（千円） | E4: 前年比（％） | F4: 取扱額（千円） | G4: 前年（千円） | H4: 前年比（％） | I4: 取扱額（千円） | J4: 前年（千円） | K4: 前年比（％） | L4: 取扱額（千円） | M4: 前年（千円） | N4: 前年比（％）
B5: JTB（10社計 *1） | C5: 673953 | D5: 43629387 | E5: 1.5 | F5: 33109 | G5: 8959945 | H5: 0.4 | I5: 4396210 | J5: 88217183 | K5: 5 | L5: 5103272 | M5: 140806515 | N5: 3.6
B6: エイチ・アイ・エス（6社計 *2)
B7: KNT-CTホールディングス（13社計 *3） | C7: 124489 | D7: 15463019 | E7: 0.8 | F7: 0 | G7: 2130059 | H7: － | I7: 538969 | J7: 32810434 | K7: 1.6 | L7: 663458 | M7: 50403512 | N7: 1.3
B8: （株）日本旅行 | C8: 0 | D8: 11849174 | E8: － | F8: 0 | G8: 4403693 | H8: － | I8: 799332 | J8: 28715670 | K8: 2.8 | L8: 799332 | M8: 44968537 | N8: 1.8
B9: 阪急交通社（3社計 *4） | C9: 0 | D9: 22675838 | E9: － | F9: 2705 | G9: 478638 | H9: 0.6 | I9: 43413 | J9: 13682936 | K9: 0.3 | L9: 46118 | M9: 36837412 | N9: 0.1
B10: （株）ジャルパック | C10: 0 | D10: 3338632 | E10: － | F10: 0 | G10: 3097 | H10: － | I10: 248759 | J10: 10892688 | K10: 2.3 | L10: 248759 | M10: 14234417 | N10: 1.7
B11: ANAセールス（株） | C11: 50654 | D11: 2031044 | E11: 2.5 | F11: 157 | G11: 123169 | H11: 0.1 | I11: 353667 | J11: 12818295 | K11: 2.8 | L11: 404478 | M11: 14972508 | N11: 2.7
B12: 東武トップツアーズ（株） | C12: 56301 | D12: 2416431 | E12: 2.3 | F12: 0 | G12: 1182263 | H12: － | I12: 217005 | J12: 9351760 | K12: 2.3 | L12: 273306 | M12: 12950454 | N12: 2.1
B13: （株）ジェイアール東海ツアーズ | C13: 0 | D13: 104783 | E13: － | F13: 120 | G13: 227341 | H13: 0.1 | I13: 85809 | J13: 6149430 | K13: 1.4 | L13: 85929 | M13: 6481554 | N13: 1.3
B14: 名鉄観光サービス（株） | C14: 427 | D14: 974045 | E14: 0 | F14: 0 | G14: 259457 | H14: － | I14: 434599 | J14: 6734468 | K14: 6.5 | L14: 435026 | M14: 7967970 | N14: 5.5
B15: （株）農協観光 | C15: 2434 | D15: 283489 | E15: 0.9 | F15: 211 | G15: 152896 | H15: 0.1 | I15: 92096 | J15: 2790684 | K15: 3.3 | L15: 94741 | M15: 3227069 | N15: 2.9
B16: ビッグホリデー（株） | C16: 28 | D16: 238930 | E16: 0 | F16: 0 | G16: 0 | H16: － | I16: 21545 | J16: 3297670 | K16: 0.7 | L16: 21573 | M16: 3536600 | N16: 0.6
B17: 日新航空サービス（株） | C17: 55408 | D17: 3432020 | E17: 1.6 | F17: 0 | G17: 0 | H17: － | I17: 9956 | J17: 312682 | K17: 3.2 | L17: 65364 | M17: 3744702 | N17: 1.7
B18: (株）びゅうトラベルサービス | C18: 6 | D18: 43613 | E18: 0 | F18: 0 | G18: 185285 | H18: － | I18: 32444 | J18: 3402442 | K18: 1 | L18: 32450 | M18: 3631340 | N18: 0.9
B19: （株）読売旅行 | C19: 1035 | D19: 820571 | E19: 0.1 | F19: 0 | G19: 15071 | H19: － | I19: 20621 | J19: 3280421 | K19: 0.6 | L19: 21656 | M19: 4116063 | N19: 0.5
B20: エムオーツーリスト（株） | C20: 57247 | D20: 3024579 | E20: 1.9 | F20: 0 | G20: 371 | H20: － | I20: 10214 | J20: 226347 | K20: 4.5 | L20: 67461 | M20: 3251297 | N20: 2.1
B21: 日通旅行（株） | C21: 0 | D21: 2139217 | E21: － | F21: 86 | G21: 122031 | H21: 0.1 | I21: 30733 | J21: 697002 | K21: 4.4 | L21: 30819 | M21: 2958250 | N21: 1
B22: 株式会社HTB-BCDトラベル | C22: 37711 | D22: 1543888 | E22: 2.4 | F22: 0 | G22: 151 | H22: － | I22: 125132 | J22: 1113899 | K22: 11.2 | L22: 162843 | M22: 2657938 | N22: 6.1
B23: 西鉄旅行（株） | C23: 10457 | D23: 867354 | E23: 1.2 | F23: 0 | G23: 30947 | H23: － | I23: 38678 | J23: 1705601 | K23: 2.3 | L23: 49135 | M23: 2603902 | N23: 1.9
B24: （株）エヌオーイー | C24: 38468 | D24: 2576878 | E24: 1.5 | F24: 44 | G24: 4697 | H24: 0.9 | I24: 39563 | J24: 134184 | K24: 29.5 | L24: 78075 | M24: 2715759 | N24: 2.9
B25: 郵船トラベル（株） | C25: 35260 | D25: 2172130 | E25: 1.6 | F25: 0 | G25: 0 | H25: － | I25: 3277 | J25: 293036 | K25: 1.1 | L25: 38537 | M25: 2465166 | N25: 1.6
B26: （株）旅工房 | C26: 10555 | D26: 2030289 | E26: 0.5 | F26: 525 | G26: 47342 | H26: 1.1 | I26: 7624 | J26: 91250 | K26: 8.4 | L26: 18704 | M26: 2168881 | N26: 0.9
B27: （株）IACEトラベル | C27: 72362 | D27: 1965932 | E27: 3.7 | F27: 0 | G27: 0 | H27: － | I27: 21240 | J27: 351578 | K27: 6 | L27: 93602 | M27: 2317510 | N27: 4
B28: 沖縄ツーリスト（株） | C28: 0 | D28: 113266 | E28: － | F28: 0 | G28: 23207 | H28: － | I28: 1155 | J28: 1865693 | K28: 0.1 | L28: 1155 | M28: 2002166 | N28: 0.1
B29: T-LIFEホールディングス（株）（4社計 *5） | C29: 3301 | D29: 764517 | E29: 0.4 | F29: 25 | G29: 273572 | H29: 0 | I29: 10253 | J29: 2897446 | K29: 0.4 | L29: 13579 | M29: 3935535 | N29: 0.3
B30: WILLER（株） | E30: － | F30: 2191 | G30: 69193 | H30: 3.2 | I30: 4047 | J30: 1342832 | K30: 0.3 | L30: 6238 | M30: 1412025 | N30: 0.4
B31: 京王観光（株） | C31: 659 | D31: 222372 | E31: 0.3 | F31: 0 | G31: 29969 | H31: － | I31: 13768 | J31: 990048 | K31: 1.4 | L31: 14427 | M31: 1242389 | N31: 1.2
B32: （株）トヨタツーリストインターナショナル | C32: 20489 | D32: 1016996 | E32: 2 | F32: 0 | G32: 0 | H32: － | I32: 0 | J32: 153537 | K32: － | L32: 20489 | M32: 1170533 | N32: 1.8
B33: メルコトラベル（株） | C33: 28674 | D33: 568094 | E33: 5 | F33: 0 | G33: 401 | H33: － | I33: 48362 | J33: 640461 | K33: 7.6 | L33: 77036 | M33: 1208956 | N33: 6.4
B34: イオンコンパス（株） | C34: 22787 | D34: 307047 | E34: 7.4 | F34: 0 | G34: 32309 | H34: － | I34: 139279 | J34: 958329 | K34: 14.5 | L34: 162066 | M34: 1297685 | N34: 12.5
B35: （株）南海国際旅行 | C35: 1886 | D35: 250068 | E35: 0.8 | F35: 19 | G35: 41525 | H35: 0 | I35: 47750 | J35: 877269 | K35: 5.4 | L35: 49655 | M35: 1168862 | N35: 4.2
B36: （株）小田急トラベル | C36: 851 | D36: 168714 | E36: 0.5 | F36: 0 | G36: 13484 | H36: － | I36: 6791 | J36: 879545 | K36: 0.8 | L36: 7642 | M36: 1061743 | N36: 0.7
B37: 京成トラベルサービス（株） | C37: 0 | D37: 28095 | E37: － | F37: 0 | G37: 129 | H37: － | I37: 250288 | J37: 985554 | K37: 25.4 | L37: 250288 | M37: 1013778 | N37: 24.7
B38: （株）日産クリエイティブサービス | C38: 27038 | D38: 265835 | E38: 10.2 | F38: 0 | G38: 0 | H38: － | I38: 11235 | J38: 110819 | K38: 10.1 | L38: 38273 | M38: 376654 | N38: 10.2
B39: （株）フジ・トラベル・サービス | C39: 1415 | D39: 185580 | E39: 0.8 | F39: 0 | G39: 12527 | H39: － | I39: 28146 | J39: 737189 | K39: 3.8 | L39: 29561 | M39: 935296 | N39: 3.2
B40: 北海道旅客鉄道（株） | C40: 0 | D40: 50533 | E40: － | F40: 0 | G40: 0 | H40: － | I40: 15336 | J40: 417585 | K40: 3.7 | L40: 15336 | M40: 468118 | N40: 3.3
B41: 九州旅客鉄道（株） | C41: 0 | D41: 3079 | E41: － | F41: 0 | G41: 0 | H41: － | I41: 617 | J41: 364598 | K41: 0.2 | L41: 617 | M41: 367677 | N41: 0.2
B42: （株）ヤマハトラベルサービス | C42: 6160 | D42: 308481 | E42: 2 | F42: 0 | G42: 14054 | H42: － | I42: 8993 | J42: 159306 | K42: 5.6 | L42: 15153 | M42: 481841 | N42: 3.1
B43: ケイライントラベル（株） | C43: 2915 | D43: 500698 | E43: 0.6 | F43: 0 | G43: 0 | H43: － | I43: 542 | J43: 20555 | K43: 2.6 | L43: 3457 | M43: 521253 | N43: 0.7
B44: 名鉄観光バス（株） | C44: 0 | D44: 22148 | E44: － | F44: 0 | G44: 8995 | H44: － | I44: 3899 | J44: 448379 | K44: 0.9 | L44: 3899 | M44: 479522 | N44: 0.8
B45: （株）トラベル日本 | C45: 364 | D45: 278317 | E45: 0.1 | F45: 48 | G45: 54 | H45: 88.9 | I45: 172 | J45: 215659 | K45: 0.1 | L45: 584 | M45: 494030 | N45: 0.1
B46: テック航空サービス（株） | C46: 2476 | D46: 405878 | E46: 0.6 | F46: 0 | G46: 0 | H46: － | I46: 1894 | J46: 10749 | K46: 17.6 | L46: 4370 | M46: 416627 | N46: 1
B47: 西武トラベル（株） | C47: 2097 | D47: 101945 | E47: 2.1 | F47: 0 | G47: 6830 | H47: － | I47: 3078 | J47: 252951 | K47: 1.2 | L47: 5175 | M47: 361726 | N47: 1.4
B48: （株）エスティーエートラベル | C48: 1827 | D48: 148868 | E48: 1.2 | H48: － | K48: － | L48: 1827 | M48: 148868 | N48: 1.2
B49: 菱和ダイヤモンド航空サービス（株） | C49: 8771 | D49: 360459 | E49: 2.4 | F49: 0 | G49: 0 | H49: － | I49: 1543 | J49: 10998 | K49: 14 | L49: 10314 | M49: 371457 | N49: 2.8
B50: 富士急トラベル（株） | C50: 0 | D50: 13499 | E50: － | F50: 0 | G50: 680 | H50: － | I50: 1820 | J50: 389735 | K50: 0.5 | L50: 1820 | M50: 403914 | N50: 0.5
B51: （株）三越伊勢丹ニッコウトラベル | C51: 0 | D51: 486782 | E51: － | F51: 0 | G51: 0 | H51: － | I51: 0 | J51: 397288 | K51: － | L51: 0 | M51: 884070 | N51: －
B52: （株）JAL JTAセールス | C52: 0 | D52: 0 | E52: － | F52: 0 | G52: 0 | H52: － | I52: 2972 | J52: 220380 | K52: 1.3 | L52: 2972 | M52: 220380 | N52: 1.3
B53: 合計 | C53: =SUM(C5:C52) -> 1358505 | D53: =SUM(D5:D52) -> 130192514 | E53: =(C53/D53)*100 -> 1.0434586 | F53: =SUM(F5:F52) -> 39240 | G53: =SUM(G5:G52) -> 18853382 | H53: =(F53/G53)*100 -> 0.20813242 | I53: =SUM(I5:I52) -> 8172826 | J53: =SUM(J5:J52) -> 242416565 | K53: =(I53/J53)*100 -> 3.3713975 | L53: =SUM(L5:L52) -> 9570571 | M53: =SUM(M5:M52) -> 391462461 | N53: =(L53/M53)*100 -> 2.4448247
C55: *1 JTBの10社内取引を相殺し合計
C56: JTB10社：
C57: JTB、JTBグローバルマーケティング＆トラベル、JTB沖縄、JTB京阪トラベル、エイ・ビー・アイ、JTBメディアリテーリング、
C58: JTBグランドツアー＆サービス、JTBビジネストラベルソリューションズ、JTBガイアレック、トラベルプラザインターナショナル
C60: *2 HISの6社内取引を相殺し合計
C61: HIS6社：
C62: エイチ・アイ・エス、オリオンツアー、クオリタ、クルーズプラネット、ジャパンホリデートラベル、エイチ・アイ・エス沖縄
C64: *3 KNT-CTホールディングスの13社内取引を相殺し合計
C65: KNT-CTホールディングス13社：
C66: クラブツーリズム、近畿日本ツーリスト北海道、近畿日本ツーリスト東北、近畿日本ツーリスト関東、近畿日本ツーリスト首都圏、
C67: 近畿日本ツーリスト中部、近畿日本ツーリスト関西、 近畿日本ツーリスト中国四国、 近畿日本ツーリスト九州、
C68: 近畿日本ツーリストコーポレートビジネス、KNT-CTグローバルトラベル、KNT-CTウエブトラベル、ユナイテッドツアーズ
... C76: タビックスジャパン、東日観光、トラベルイン、湯旅

Sheet 6月
B1: 主要旅行業者の旅行取扱状況速報
F2: 43983
B3: 会 社 名 | C3: 海 外 旅 行 | F3: 外 国 人 旅 行 | I3: 国 内 旅 行 | L3: 合 計
C4: 取扱額（千円） | D4: 前年（千円） | E4: 前年比（％） | F4: 取扱額（千円） | G4: 前年（千円） | H4: 前年比（％） | I4: 取扱額（千円） | J4: 前年（千円） | K4: 前年比（％） | L4: 取扱額（千円） | M4: 前年（千円） | N4: 前年比（％）
B5: JTB（10社計 *1） | C5: 482123 | D5: 48909364 | E5: 1 | F5: 182065 | G5: 8712520 | H5: 2.1 | I5: 13449351 | J5: 78768220 | K5: 17.1 | L5: 14113539 | M5: 136390104 | N5: 10.3
B6: エイチ・アイ・エス（6社計 *2) | C6: 289478 | D6: 28778830 | E6: 1 | F6: 3337 | G6: 2712666 | H6: 0.1 | I6: 209509 | J6: 3845575 | K6: 5.4 | L6: 502324 | M6: 35337071 | N6: 1.4
B7: KNT-CTホールディングス（13社計 *3） | C7: 214160 | D7: 14150487 | E7: 1.5 | F7: 0 | G7: 1827284 | H7: － | I7: 1514825 | J7: 26005102 | K7: 5.8 | L7: 1728985 | M7: 41982873 | N7: 4.1
B8: （株）日本旅行 | C8: 18843 | D8: 10408263 | E8: 0.2 | F8: 0 | G8: 3457456 | H8: － | I8: 3190912 | J8: 21645952 | K8: 14.7 | L8: 3209755 | M8: 35511671 | N8: 9
B9: 阪急交通社（3社計 *4） | C9: 77358 | D9: 20423030 | E9: 0.4 | F9: 317 | G9: 242286 | H9: 0.1 | I9: 235981 | J9: 12048738 | K9: 2 | L9: 313656 | M9: 32714054 | N9: 1
B10: （株）ジャルパック | C10: 1031 | D10: 3823188 | E10: 0 | F10: 0 | G10: 1414 | H10: － | I10: 1268789 | J10: 10293452 | K10: 12.3 | L10: 1269820 | M10: 14118054 | N10: 9
B11: ANAセールス（株） | C11: 0 | D11: 1923015 | E11: － | F11: 179 | G11: 118695 | H11: 0.2 | I11: 1516155 | J11: 12420761 | K11: 12.2 | L11: 1516334 | M11: 14462471 | N11: 10.5
B12: 東武トップツアーズ（株） | C12: 76418 | D12: 2845245 | E12: 2.7 | F12: 0 | G12: 644968 | H12: － | I12: 428462 | J12: 8674318 | K12: 4.9 | L12: 504880 | M12: 12164531 | N12: 4.2
B13: （株）ジェイアール東海ツアーズ | C13: 3968 | D13: 145300 | E13: 2.7 | F13: 900 | G13: 171003 | H13: 0.5 | I13: 1263735 | J13: 6236170 | K13: 20.3 | L13: 1268603 | M13: 6552473 | N13: 19.4
B14: 名鉄観光サービス（株） | C14: 8586 | D14: 1234536 | E14: 0.7 | F14: 1065 | G14: 220366 | H14: 0.5 | I14: 756365 | J14: 6572938 | K14: 11.5 | L14: 766016 | M14: 8027840 | N14: 9.5
B15: （株）農協観光 | C15: 2068 | D15: 559281 | E15: 0.4 | F15: 106 | G15: 80831 | H15: 0.1 | I15: 312917 | J15: 4276669 | K15: 7.3 | L15: 315091 | M15: 4916781 | N15: 6.4
B16: ビッグホリデー（株） | C16: 280 | D16: 432710 | E16: 0.1 | F16: 0 | G16: 0 | H16: － | I16: 114720 | J16: 3976480 | K16: 2.9 | L16: 115000 | M16: 4409190 | N16: 2.6
B17: 日新航空サービス（株） | C17: 138390 | D17: 4367747 | E17: 3.2 | H17: － | I17: 31508 | J17: 378322 | K17: 8.3 | L17: 169898 | M17: 4746069 | N17: 3.6
B18: (株）びゅうトラベルサービス | C18: 0 | D18: 50453 | E18: － | F18: 0 | G18: 123434 | H18: － | I18: 115846 | J18: 3366495 | K18: 3.4 | L18: 115846 | M18: 3540382 | N18: 3.3
B19: （株）読売旅行 | C19: 610 | D19: 534667 | E19: 0.1 | F19: 0 | G19: 5498 | H19: － | I19: 65749 | J19: 3017040 | K19: 2.2 | L19: 66359 | M19: 3557205 | N19: 1.9
B20: エムオーツーリスト（株） | C20: 111635 | D20: 3450373 | E20: 3.2 | F20: 0 | G20: 8463 | H20: － | I20: 32881 | J20: 239279 | K20: 13.7 | L20: 144516 | M20: 3698115 | N20: 3.9
B21: 日通旅行（株） | C21: 83436 | D21: 2530146 | E21: 3.3 | F21: 0 | G21: 53810 | H21: － | I21: 52957 | J21: 555000 | K21: 9.5 | L21: 136393 | M21: 3138956 | N21: 4.3
B22: 株式会社HTB-BCDトラベル | C22: 44363 | D22: 1737253 | E22: 2.6 | F22: 0 | G22: 411 | H22: － | I22: 215513 | J22: 1011917 | K22: 21.3 | L22: 259876 | M22: 2749581 | N22: 9.5
B23: 西鉄旅行（株） | C23: 22724 | D23: 1036718 | E23: 2.2 | F23: 1087 | G23: 22373 | H23: 4.9 | I23: 213235 | J23: 1605051 | K23: 13.3 | L23: 237046 | M23: 2664142 | N23: 8.9
B24: （株）エヌオーイー | C24: 67549 | D24: 3009899 | E24: 2.2 | F24: 0 | G24: 9435 | H24: － | I24: 67469 | J24: 345439 | K24: 19.5 | L24: 135018 | M24: 3364773 | N24: 4
B25: 郵船トラベル（株） | C25: 58940 | D25: 2697765 | E25: 2.2 | H25: － | I25: 33624 | J25: 148585 | K25: 22.6 | L25: 92564 | M25: 2846350 | N25: 3.3
B26: （株）旅工房 | C26: 6373 | D26: 2356498 | E26: 0.3 | F26: 0 | G26: 28032 | H26: － | I26: 26036 | J26: 57824 | K26: 45 | L26: 32409 | M26: 2442354 | N26: 1.3
B27: （株）IACEトラベル | C27: 47264 | D27: 1752635 | E27: 2.7 | F27: 0 | G27: 0 | H27: － | I27: 44440 | J27: 324957 | K27: 13.7 | L27: 91704 | M27: 2077592 | N27: 4.4
B28: 沖縄ツーリスト（株） | C28: 0 | D28: 194687 | E28: － | F28: 0 | G28: 30644 | H28: － | I28: 79558 | J28: 2259264 | K28: 3.5 | L28: 79558 | M28: 2484595 | N28: 3.2
B29: T-LIFEホールディングス（株）（4社計 *5） | C29: 3949 | D29: 876107 | E29: 0.5 | F29: 0 | G29: 185791 | H29: － | I29: 30059 | J29: 2430577 | K29: 1.2 | L29: 34008 | M29: 3492475 | N29: 1
B30: WILLER（株） | E30: － | F30: 2553 | G30: 52774 | H30: 4.8 | I30: 51796 | J30: 1035591 | K30: 5 | L30: 54349 | M30: 1088365 | N30: 5
B31: 京王観光（株） | C31: 52715 | D31: 274300 | E31: 19.2 | F31: 0 | G31: 17750 | H31: － | I31: 61196 | J31: 1252317 | K31: 4.9 | L31: 113911 | M31: 1544367 | N31: 7.4
B32: （株）トヨタツーリストインターナショナル | C32: 27375 | D32: 1269021 | E32: 2.2 | H32: － | I32: 12900 | J32: 232110 | K32: 5.6 | L32: 40275 | M32: 1501131 | N32: 2.7
B33: メルコトラベル（株） | C33: 1242 | D33: 609522 | E33: 0.2 | F33: 0 | G33: 0 | H33: － | I33: 128195 | J33: 685335 | K33: 18.7 | L33: 129437 | M33: 1294857 | N33: 10
B34: イオンコンパス（株） | C34: 5283 | D34: 416239 | E34: 1.3 | F34: 0 | G34: 16884 | H34: － | I34: 160085 | J34: 811058 | K34: 19.7 | L34: 165368 | M34: 1244181 | N34: 13.3
B35: （株）南海国際旅行 | C35: 2495 | D35: 310443 | E35: 0.8 | F35: 0 | G35: 29488 | H35: － | I35: 219820 | J35: 942675 | K35: 23.3 | L35: 222315 | M35: 1282606 | N35: 17.3
B36: （株）小田急トラベル | C36: 0 | D36: 206340 | E36: － | F36: 0 | G36: 13772 | H36: － | I36: 80409 | J36: 796040 | K36: 10.1 | L36: 80409 | M36: 1016152 | N36: 7.9
B37: 京成トラベルサービス（株） | C37: 0 | D37: 88602 | E37: － | F37: 0 | G37: 2336 | H37: － | I37: 344032 | J37: 959964 | K37: 35.8 | L37: 344032 | M37: 1050902 | N37: 32.7
B38: （株）日産クリエイティブサービス | C38: 1547 | D38: 261098 | E38: 0.6 | F38: 0 | G38: 0 | H38: － | I38: 40918 | J38: 110568 | K38: 37 | L38: 42465 | M38: 371666 | N38: 11.4
B39: （株）フジ・トラベル・サービス | C39: 165 | D39: 166053 | E39: 0.1 | F39: 0 | G39: 3843 | H39: － | I39: 46215 | J39: 580789 | K39: 8 | L39: 46380 | M39: 750685 | N39: 6.2
B40: 北海道旅客鉄道（株） | C40: 0 | D40: 39839 | E40: － | F40: 0 | G40: 0 | H40: － | I40: 66796 | J40: 439333 | K40: 15.2 | L40: 66796 | M40: 479172 | N40: 13.9
B41: 九州旅客鉄道（株） | C41: 0 | D41: 6959 | E41: － | H41: － | I41: 11688 | J41: 300890 | K41: 3.9 | L41: 11688 | M41: 307849 | N41: 3.8
B42: （株）ヤマハトラベルサービス | C42: 1220 | D42: 308481 | E42: 0.4 | F42: 0 | G42: 14054 | H42: － | I42: 12760 | J42: 159306 | K42: 8 | L42: 13980 | M42: 481841 | N42: 2.9
B43: ケイライントラベル（株） | C43: 20983 | D43: 482431 | E43: 4.3 | F43: 0 | G43: 0 | H43: － | I43: 5609 | J43: 24897 | K43: 22.5 | L43: 26592 | M43: 507328 | N43: 5.2
B44: 名鉄観光バス（株） | C44: 0 | D44: 16369 | E44: － | F44: 0 | G44: 8631 | H44: － | I44: 17702 | J44: 685658 | K44: 2.6 | L44: 17702 | M44: 710658 | N44: 2.5
B45: （株）トラベル日本 | C45: 0 | D45: 196702 | E45: － | F45: 47 | G45: 56 | H45: 83.9 | I45: 19259 | J45: 270800 | K45: 7.1 | L45: 19306 | M45: 467558 | N45: 4.1
B46: テック航空サービス（株） | C46: 11097 | D46: 395902 | E46: 2.8 | F46: 0 | G46: 0 | H46: － | I46: 3614 | J46: 12443 | K46: 29 | L46: 14711 | M46: 408345 | N46: 3.6
B47: 西武トラベル（株） | C47: 387 | D47: 65091 | E47: 0.6 | F47: 0 | G47: 8116 | H47: － | I47: 27914 | J47: 229769 | K47: 12.1 | L47: 28301 | M47: 302976 | N47: 9.3
B48: （株）エスティーエートラベル | C48: 6691 | D48: 219709 | E48: 3 | H48: － | K48: － | L48: 6691 | M48: 219709 | N48: 3
B49: 菱和ダイヤモンド航空サービス（株） | C49: 10775 | D49: 445184 | E49: 2.4 | F49: 0 | G49: 0 | H49: － | I49: 663 | J49: 4004 | K49: 16.6 | L49: 11438 | M49: 449188 | N49: 2.5
B50: 富士急トラベル（株） | C50: 0 | D50: 12847 | E50: － | F50: 0 | G50: 30 | H50: － | I50: 36638 | J50: 300693 | K50: 12.2 | L50: 36638 | M50: 313570 | N50: 11.7
B51: （株）三越伊勢丹ニッコウトラベル | C51: 0 | D51: 325521 | E51: － | F51: 0 | G51: 0 | H51: － | I51: 0 | J51: 132901 | K51: － | L51: 0 | M51: 458422 | N51: －
B52: （株）JAL JTAセールス | C52: 0 | D52: 0 | E52: － | F52: 0 | G52: 0 | H52: － | I52: 74806 | J52: 204207 | K52: 36.6 | L52: 74806 | M52: 204207 | N52: 36.6
B53: 合計 | C53: =SUM(C5:C52) -> 1901521 | D53: =SUM(D5:D52) -> 164344850 | E53: =(C53/D53)*100 -> 1.1570311 | F53: =SUM(F5:F52) -> 191656 | G53: =SUM(G5:G52) -> 18825114 | H53: =(F53/G53)*100 -> 1.0180868 | I53: =SUM(I5:I52) -> 26693611 | J53: =SUM(J5:J52) -> 220675473 | K53: =(I53/J53)*100 -> 12.09632 | L53: =SUM(L5:L52) -> 28786788 | M53: =SUM(M5:M52) -> 403845437 | N53: =(L53/M53)*100 -> 7.1281697
C55: *1 JTBの10社内取引を相殺し合計
C56: JTB10社：
C57: JTB、JTBグローバルマーケティング＆トラベル、JTB沖縄、JTB京阪トラベル、エイ・ビー・アイ、JTBメディアリテーリング、
C58: JTBグランドツアー＆サービス、JTBビジネストラベルソリューションズ、JTBガイアレック、トラベルプラザインターナショナル
C60: *2 HISの6社内取引を相殺し合計
C61: HIS6社：
C62: エイチ・アイ・エス、オリオンツアー、クオリタ、クルーズプラネット、ジャパンホリデートラベル、エイチ・アイ・エス沖縄
C64: *3 KNT-CTホールディングスの13社内取引を相殺し合計
C65: KNT-CTホールディングス13社：
C66: クラブツーリズム、近畿日本ツーリスト北海道、近畿日本ツーリスト東北、近畿日本ツーリスト関東、近畿日本ツーリスト首都圏、
C67: 近畿日本ツーリスト中部、近畿日本ツーリスト関西、 近畿日本ツーリスト中国四国、 近畿日本ツーリスト九州、
C68: 近畿日本ツーリストコーポレートビジネス、KNT-CTグローバルトラベル、KNT-CTウエブトラベル、ユナイテッドツアーズ
... C76: タビックスジャパン、東日観光、トラベルイン、湯旅

Sheet 7月
B1: 主要旅行業者の旅行取扱状況速報
F2: 44013
B3: 会 社 名 | C3: 海 外 旅 行 | F3: 外 国 人 旅 行 | I3: 国 内 旅 行 | L3: 合 計
C4: 取扱額（千円） | D4: 前年（千円） | E4: 前年比（％） | F4: 取扱額（千円） | G4: 前年（千円） | H4: 前年比（％） | I4: 取扱額（千円） | J4: 前年（千円） | K4: 前年比（％） | L4: 取扱額（千円） | M4: 前年（千円） | N4: 前年比（％）
B5: JTB（10社計 *1）
B6: エイチ・アイ・エス（6社計 *2)
B7: KNT-CTホールディングス（13社計 *3）
B8: （株）日本旅行
B9: 阪急交通社（3社計 *4）
B10: （株）ジャルパック
B11: ANAセールス（株）
B12: 東武トップツアーズ（株）
B13: （株）ジェイアール東海ツアーズ
B14: 名鉄観光サービス（株）
B15: （株）農協観光
B16: ビッグホリデー（株）
... B52: （株）JAL JTAセールス
B53: 合計 | C53: =SUM(C5:C52) -> 0 | D53: =SUM(D5:D52) -> 0 | E53: =(C53/D53)*100 -> #DIV/0! | F53: =SUM(F5:F52) -> 0 | G53: =SUM(G5:G52) -> 0 | H53: =(F53/G53)*100 -> #DIV/0! | I53: =SUM(I5:I52) -> 0 | J53: =SUM(J5:J52) -> 0 | K53: =(I53/J53)*100 -> #DIV/0! | L53: =SUM(L5:L52) -> 0 | M53: =SUM(M5:M52) -> 0 | N53: =(L53/M53)*100 -> #DIV/0!
C55: *1 JTBの10社内取引を相殺し合計
C56: JTB10社：
C57: JTB、JTBグローバルマーケティング＆トラベル、JTB沖縄、JTB京阪トラベル、エイ・ビー・アイ、JTBメディアリテーリング、
C58: JTBグランドツアー＆サービス、JTBビジネストラベルソリューションズ、JTBガイアレック、トラベルプラザインターナショナル
C60: *2 HISの6社内取引を相殺し合計
C61: HIS6社：
C62: エイチ・アイ・エス、オリオンツアー、クオリタ、クルーズプラネット、ジャパンホリデートラベル、エイチ・アイ・エス沖縄
C64: *3 KNT-CTホールディングスの13社内取引を相殺し合計
C65: KNT-CTホールディングス13社：
C66: クラブツーリズム、近畿日本ツーリスト北海道、近畿日本ツーリスト東北、近畿日本ツーリスト関東、近畿日本ツーリスト首都圏、
C67: 近畿日本ツーリスト中部、近畿日本ツーリスト関西、 近畿日本ツーリスト中国四国、 近畿日本ツーリスト九州、
C68: 近畿日本ツーリストコーポレートビジネス、KNT-CTグローバルトラベル、KNT-CTウエブトラベル、ユナイテッドツアーズ
... C76: タビックスジャパン、東日観光、トラベルイン、湯旅

Sheet 8月
B1: 主要旅行業者の旅行取扱状況速報
F2: 44044
B3: 会 社 名 | C3: 海 外 旅 行 | F3: 外 国 人 旅 行 | I3: 国 内 旅 行 | L3: 合 計
C4: 取扱額（千円） | D4: 前年（千円） | E4: 前年比（％） | F4: 取扱額（千円） | G4: 前年（千円） | H4: 前年比（％） | I4: 取扱額（千円） | J4: 前年（千円） | K4: 前年比（％） | L4: 取扱額（千円） | M4: 前年（千円） | N4: 前年比（％）
B5: JTB（10社計 *1）
B6: エイチ・アイ・エス（6社計 *2)
B7: KNT-CTホールディングス（13社計 *3）
B8: （株）日本旅行
B9: 阪急交通社（3社計 *4）
B10: （株）ジャルパック
B11: ANAセールス（株）
B12: 東武トップツアーズ（株）
B13: （株）ジェイアール東海ツアーズ
B14: 名鉄観光サービス（株）
B15: （株）農協観光
B16: ビッグホリデー（株）
... B52: （株）JAL JTAセールス
B53: 合計 | C53: =SUM(C5:C52) -> 0 | D53: =SUM(D5:D52) -> 0 | E53: =(C53/D53)*100 -> #DIV/0! | F53: =SUM(F5:F52) -> 0 | G53: =SUM(G5:G52) -> 0 | H53: =(F53/G53)*100 -> #DIV/0! | I53: =SUM(I5:I52) -> 0 | J53: =SUM(J5:J52) -> 0 | K53: =(I53/J53)*100 -> #DIV/0! | L53: =SUM(L5:L52) -> 0 | M53: =SUM(M5:M52) -> 0 | N53: =(L53/M53)*100 -> #DIV/0!
C55: *1 JTBの10社内取引を相殺し合計
C56: JTB10社：
C57: JTB、JTBグローバルマーケティング＆トラベル、JTB沖縄、JTB京阪トラベル、エイ・ビー・アイ、JTBメディアリテーリング、
C58: JTBグランドツアー＆サービス、JTBビジネストラベルソリューションズ、JTBガイアレック、トラベルプラザインターナショナル
C60: *2 HISの6社内取引を相殺し合計
C61: HIS6社：
C62: エイチ・アイ・エス、オリオンツアー、クオリタ、クルーズプラネット、ジャパンホリデートラベル、エイチ・アイ・エス沖縄
C64: *3 KNT-CTホールディングスの13社内取引を相殺し合計
C65: KNT-CTホールディングス13社：
C66: クラブツーリズム、近畿日本ツーリスト北海道、近畿日本ツーリスト東北、近畿日本ツーリスト関東、近畿日本ツーリスト首都圏、
C67: 近畿日本ツーリスト中部、近畿日本ツーリスト関西、 近畿日本ツーリスト中国四国、 近畿日本ツーリスト九州、
C68: 近畿日本ツーリストコーポレートビジネス、KNT-CTグローバルトラベル、KNT-CTウエブトラベル、ユナイテッドツアーズ
... C76: タビックスジャパン、東日観光、トラベルイン、湯旅

Sheet 9月
B1: 主要旅行業者の旅行取扱状況速報
F2: 44075
B3: 会 社 名 | C3: 海 外 旅 行 | F3: 外 国 人 旅 行 | I3: 国 内 旅 行 | L3: 合 計
C4: 取扱額（千円） | D4: 前年（千円） | E4: 前年比（％） | F4: 取扱額（千円） | G4: 前年（千円） | H4: 前年比（％） | I4: 取扱額（千円） | J4: 前年（千円） | K4: 前年比（％） | L4: 取扱額（千円） | M4: 前年（千円） | N4: 前年比（％）
B5: JTB（10社計 *1）
B6: エイチ・アイ・エス（6社計 *2)
B7: KNT-CTホールディングス（13社計 *3）
B8: （株）日本旅行
B9: 阪急交通社（3社計 *4）
B10: （株）ジャルパック
B11: ANAセールス（株）
B12: 東武トップツアーズ（株）
B13: （株）ジェイアール東海ツアーズ
B14: 名鉄観光サービス（株）
B15: （株）農協観光
B16: ビッグホリデー（株）
... B52: （株）JAL JTAセールス
B53: 合計 | C53: =SUM(C5:C52) -> 0 | D53: =SUM(D5:D52) -> 0 | E53: =(C53/D53)*100 -> #DIV/0! | F53: =SUM(F5:F52) -> 0 | G53: =SUM(G5:G52) -> 0 | H53: =(F53/G53)*100 -> #DIV/0! | I53: =SUM(I5:I52) -> 0 | J53: =SUM(J5:J52) -> 0 | K53: =(I53/J53)*100 -> #DIV/0! | L53: =SUM(L5:L52) -> 0 | M53: =SUM(M5:M52) -> 0 | N53: =(L53/M53)*100 -> #DIV/0!
C55: *1 JTBの10社内取引を相殺し合計
C56: JTB10社：
C57: JTB、JTBグローバルマーケティング＆トラベル、JTB沖縄、JTB京阪トラベル、エイ・ビー・アイ、JTBメディアリテーリング、
C58: JTBグランドツアー＆サービス、JTBビジネストラベルソリューションズ、JTBガイアレック、トラベルプラザインターナショナル
C60: *2 HISの6社内取引を相殺し合計
C61: HIS6社：
C62: エイチ・アイ・エス、オリオンツアー、クオリタ、クルーズプラネット、ジャパンホリデートラベル、エイチ・アイ・エス沖縄
C64: *3 KNT-CTホールディングスの13社内取引を相殺し合計
C65: KNT-CTホールディングス13社：
C66: クラブツーリズム、近畿日本ツーリスト北海道、近畿日本ツーリスト東北、近畿日本ツーリスト関東、近畿日本ツーリスト首都圏、
C67: 近畿日本ツーリスト中部、近畿日本ツーリスト関西、 近畿日本ツーリスト中国四国、 近畿日本ツーリスト九州、
C68: 近畿日本ツーリストコーポレートビジネス、KNT-CTグローバルトラベル、KNT-CTウエブトラベル、ユナイテッドツアーズ
... C76: タビックスジャパン、東日観光、トラベルイン、湯旅

Sheet 10月
B1: 主要旅行業者の旅行取扱状況速報
F2: 44105
B3: 会 社 名 | C3: 海 外 旅 行 | F3: 外 国 人 旅 行 | I3: 国 内 旅 行 | L3: 合 計
C4: 取扱額（千円） | D4: 前年（千円） | E4: 前年比（％） | F4: 取扱額（千円） | G4: 前年（千円） | H4: 前年比（％） | I4: 取扱額（千円） | J4: 前年（千円） | K4: 前年比（％） | L4: 取扱額（千円） | M4: 前年（千円） | N4: 前年比（％）
B5: JTB（10社計 *1）
B6: エイチ・アイ・エス（6社計 *2)
B7: KNT-CTホールディングス（13社計 *3）
B8: （株）日本旅行
B9: 阪急交通社（3社計 *4）
B10: （株）ジャルパック
B11: ANAセールス（株）
B12: 東武トップツアーズ（株）
B13: （株）ジェイアール東海ツアーズ
B14: 名鉄観光サービス（株）
B15: （株）農協観光
B16: ビッグホリデー（株）
... B52: （株）JAL JTAセールス
B53: 合 計 | C53: =SUM(C5:C52) -> 0 | D53: =SUM(D5:D52) -> 0 | E53: =(C53/D53)*100 -> #DIV/0! | F53: =SUM(F5:F52) -> 0 | G53: =SUM(G5:G52) -> 0 | H53: =(F53/G53)*100 -> #DIV/0! | I53: =SUM(I5:I52) -> 0 | J53: =SUM(J5:J52) -> 0 | K53: =(I53/J53)*100 -> #DIV/0! | L53: =SUM(L5:L52) -> 0 | M53: =SUM(M5:M52) -> 0 | N53: =(L53/M53)*100 -> #DIV/0!
C55: *1 JTBの10社内取引を相殺し合計
C56: JTB10社：
C57: JTB、JTBグローバルマーケティング＆トラベル、JTB沖縄、JTB京阪トラベル、エイ・ビー・アイ、JTBメディアリテーリング、
C58: JTBグランドツアー＆サービス、JTBビジネストラベルソリューションズ、JTBガイアレック、トラベルプラザインターナショナル
C60: *2 HISの6社内取引を相殺し合計
C61: HIS6社：
C62: エイチ・アイ・エス、オリオンツアー、クオリタ、クルーズプラネット、ジャパンホリデートラベル、エイチ・アイ・エス沖縄
C64: *3 KNT-CTホールディングスの13社内取引を相殺し合計
C65: KNT-CTホールディングス13社：
C66: クラブツーリズム、近畿日本ツーリスト北海道、近畿日本ツーリスト東北、近畿日本ツーリスト関東、近畿日本ツーリスト首都圏、
C67: 近畿日本ツーリスト中部、近畿日本ツーリスト関西、 近畿日本ツーリスト中国四国、 近畿日本ツーリスト九州、
C68: 近畿日本ツーリストコーポレートビジネス、KNT-CTグローバルトラベル、KNT-CTウエブトラベル、ユナイテッドツアーズ
... C76: タビックスジャパン、東日観光、トラベルイン、湯旅

Sheet 11月
B1: 主要旅行業者の旅行取扱状況速報
F2: 44136
B3: 会 社 名 | C3: 海 外 旅 行 | F3: 外 国 人 旅 行 | I3: 国 内 旅 行 | L3: 合 計
C4: 取扱額（千円） | D4: 前年（千円） | E4: 前年比（％） | F4: 取扱額（千円） | G4: 前年（千円） | H4: 前年比（％） | I4: 取扱額（千円） | J4: 前年（千円） | K4: 前年比（％） | L4: 取扱額（千円） | M4: 前年（千円） | N4: 前年比（％）
B5: JTB（10社計 *1）
B6: エイチ・アイ・エス（6社計 *2)
B7: KNT-CTホールディングス（13社計 *3）
B8: （株）日本旅行
B9: 阪急交通社（3社計 *4）
B10: （株）ジャルパック
B11: ANAセールス（株）
B12: 東武トップツアーズ（株）
B13: （株）ジェイアール東海ツアーズ
B14: 名鉄観光サービス（株）
B15: （株）農協観光
B16: ビッグホリデー（株）
... B52: （株）JAL JTAセールス
B53: 合 計 | C53: =SUM(C5:C52) -> 0 | D53: =SUM(D5:D52) -> 0 | E53: =(C53/D53)*100 -> #DIV/0! | F53: =SUM(F5:F52) -> 0 | G53: =SUM(G5:G52) -> 0 | H53: =(F53/G53)*100 -> #DIV/0! | I53: =SUM(I5:I52) -> 0 | J53: =SUM(J5:J52) -> 0 | K53: =(I53/J53)*100 -> #DIV/0! | L53: =SUM(L5:L52) -> 0 | M53: =SUM(M5:M52) -> 0 | N53: =(L53/M53)*100 -> #DIV/0!
C55: *1 JTBの10社内取引を相殺し合計
C56: JTB10社：
C57: JTB、JTBグローバルマーケティング＆トラベル、JTB沖縄、JTB京阪トラベル、エイ・ビー・アイ、JTBメディアリテーリング、
C58: JTBグランドツアー＆サービス、JTBビジネストラベルソリューションズ、JTBガイアレック、トラベルプラザインターナショナル
C60: *2 HISの6社内取引を相殺し合計
C61: HIS6社：
C62: エイチ・アイ・エス、オリオンツアー、クオリタ、クルーズプラネット、ジャパンホリデートラベル、エイチ・アイ・エス沖縄
C64: *3 KNT-CTホールディングスの13社内取引を相殺し合計
C65: KNT-CTホールディングス13社：
C66: クラブツーリズム、近畿日本ツーリスト北海道、近畿日本ツーリスト東北、近畿日本ツーリスト関東、近畿日本ツーリスト首都圏、
C67: 近畿日本ツーリスト中部、近畿日本ツーリスト関西、 近畿日本ツーリスト中国四国、 近畿日本ツーリスト九州、
C68: 近畿日本ツーリストコーポレートビジネス、KNT-CTグローバルトラベル、KNT-CTウエブトラベル、ユナイテッドツアーズ
... C76: タビックスジャパン、東日観光、トラベルイン、湯旅

Sheet 12月
B1: 主要旅行業者の旅行取扱状況速報
F2: 44166
B3: 会 社 名 | C3: 海 外 旅 行 | F3: 外 国 人 旅 行 | I3: 国 内 旅 行 | L3: 合 計
C4: 取扱額（千円） | D4: 前年（千円） | E4: 前年比（％） | F4: 取扱額（千円） | G4: 前年（千円） | H4: 前年比（％） | I4: 取扱額（千円） | J4: 前年（千円） | K4: 前年比（％） | L4: 取扱額（千円） | M4: 前年（千円） | N4: 前年比（％）
B5: JTB（10社計 *1）
B6: エイチ・アイ・エス（6社計 *2)
B7: KNT-CTホールディングス（13社計 *3）
B8: （株）日本旅行
B9: 阪急交通社（3社計 *4）
B10: （株）ジャルパック
B11: ANAセールス（株）
B12: 東武トップツアーズ（株）
B13: （株）ジェイアール東海ツアーズ
B14: 名鉄観光サービス（株）
B15: （株）農協観光
B16: ビッグホリデー（株）
... B52: （株）JAL JTAセールス
B53: 合 計 | C53: =SUM(C5:C52) -> 0 | D53: =SUM(D5:D52) -> 0 | E53: =(C53/D53)*100 -> #DIV/0! | F53: =SUM(F5:F52) -> 0 | G53: =SUM(G5:G52) -> 0 | H53: =(F53/G53)*100 -> #DIV/0! | I53: =SUM(I5:I52) -> 0 | J53: =SUM(J5:J52) -> 0 | K53: =(I53/J53)*100 -> #DIV/0! | L53: =SUM(L5:L52) -> 0 | M53: =SUM(M5:M52) -> 0 | N53: =(L53/M53)*100 -> #DIV/0!
C55: *1 JTBの10社内取引を相殺し合計
C56: JTB10社：
C57: JTB、JTBグローバルマーケティング＆トラベル、JTB沖縄、JTB京阪トラベル、エイ・ビー・アイ、JTBメディアリテーリング、
C58: JTBグランドツアー＆サービス、JTBビジネストラベルソリューションズ、JTBガイアレック、トラベルプラザインターナショナル
C60: *2 HISの6社内取引を相殺し合計
C61: HIS6社：
C62: エイチ・アイ・エス、オリオンツアー、クオリタ、クルーズプラネット、ジャパンホリデートラベル、エイチ・アイ・エス沖縄
C64: *3 KNT-CTホールディングスの13社内取引を相殺し合計
C65: KNT-CTホールディングス13社：
C66: クラブツーリズム、近畿日本ツーリスト北海道、近畿日本ツーリスト東北、近畿日本ツーリスト関東、近畿日本ツーリスト首都圏、
C67: 近畿日本ツーリスト中部、近畿日本ツーリスト関西、 近畿日本ツーリスト中国四国、 近畿日本ツーリスト九州、
C68: 近畿日本ツーリストコーポレートビジネス、KNT-CTグローバルトラベル、KNT-CTウエブトラベル、ユナイテッドツアーズ
... C76: タビックスジャパン、東日観光、トラベルイン、湯旅

Sheet 1Q
B1: 主要旅行業者の旅行取扱状況速報
F2: 2020年度第1四半期
B3: 会 社 名 | C3: 海 外 旅 行 | F3: 外 国 人 旅 行 | I3: 国 内 旅 行 | L3: 合 計
C4: 取扱額（千円） | D4: 前年（千円） | E4: 前年比（％） | F4: 取扱額（千円） | G4: 前年（千円） | H4: 前年比（％） | I4: 取扱額（千円） | J4: 前年（千円） | K4: 前年比（％） | L4: 取扱額（千円） | M4: 前年（千円） | N4: 前年比（％）
B5: JTB（10社計 *1） | C5: ='20年1月'!C5+'2月'!C5+'3月'!C5 -> 79589646 | D5: ='20年1月'!D5+'2月'!D5+'3月'!D5 -> 132731945 | E5: =(C5/D5)*100 -> 59.962691 | F5: ='20年1月'!F5+'2月'!F5+'3月'!F5 -> 12864871 | G5: ='20年1月'!G5+'2月'!G5+'3月'!G5 -> 22192749 | H5: =(F5/G5)*100 -> 57.968803 | I5: ='20年1月'!I5+'2月'!I5+'3月'!I5 -> 163197811 | J5: ='20年1月'!J5+'2月'!J5+'3月'!J5 -> 220909785 | K5: =(I5/J5)*100 -> 73.87532 | L5: ='20年1月'!L5+'2月'!L5+'3月'!L5 -> 255652329 | M5: ='20年1月'!M5+'2月'!M5+'3月'!M5 -> 375834479 | N5: =(L5/M5)*100 -> 68.022585
B6: エイチ・アイ・エス（6社計 *2) | C6: ='20年1月'!C6+'2月'!C6+'3月'!C6 -> 0 | D6: ='20年1月'!D6+'2月'!D6+'3月'!D6 -> 0 | E6: =(C6/D6)*100 -> #DIV/0! | F6: ='20年1月'!F6+'2月'!F6+'3月'!F6 -> 0 | G6: ='20年1月'!G6+'2月'!G6+'3月'!G6 -> 0 | H6: =(F6/G6)*100 -> #DIV/0! | I6: ='20年1月'!I6+'2月'!I6+'3月'!I6 -> 0 | J6: ='20年1月'!J6+'2月'!J6+'3月'!J6 -> 0 | K6: =(I6/J6)*100 -> #DIV/0! | L6: ='20年1月'!L6+'2月'!L6+'3月'!L6 -> 0 | M6: ='20年1月'!M6+'2月'!M6+'3月'!M6 -> 0 | N6: =(L6/M6)*100 -> #DIV/0!
B7: KNT-CTホールディングス（13社計 *3） | C7: ='20年1月'!C7+'2月'!C7+'3月'!C7 -> 25969862 | D7: ='20年1月'!D7+'2月'!D7+'3月'!D7 -> 39663219 | E7: =(C7/D7)*100 -> 65.475931 | F7: ='20年1月'!F7+'2月'!F7+'3月'!F7 -> 3018787 | G7: ='20年1月'!G7+'2月'!G7+'3月'!G7 -> 6502578 | H7: =(F7/G7)*100 -> 46.424464 | I7: ='20年1月'!I7+'2月'!I7+'3月'!I7 -> 42968646 | J7: ='20年1月'!J7+'2月'!J7+'3月'!J7 -> 63677627 | K7: =(I7/J7)*100 -> 67.478403 | L7: ='20年1月'!L7+'2月'!L7+'3月'!L7 -> 71957295 | M7: ='20年1月'!M7+'2月'!M7+'3月'!M7 -> 109843424 | N7: =(L7/M7)*100 -> 65.508969
B8: （株）日本旅行 | C8: ='20年1月'!C8+'2月'!C8+'3月'!C8 -> 14414381 | D8: ='20年1月'!D8+'2月'!D8+'3月'!D8 -> 29935561 | E8: =(C8/D8)*100 -> 48.151364 | F8: ='20年1月'!F8+'2月'!F8+'3月'!F8 -> 6983711 | G8: ='20年1月'!G8+'2月'!G8+'3月'!G8 -> 8506725 | H8: =(F8/G8)*100 -> 82.096353 | I8: ='20年1月'!I8+'2月'!I8+'3月'!I8 -> 42758245 | J8: ='20年1月'!J8+'2月'!J8+'3月'!J8 -> 65490430 | K8: =(I8/J8)*100 -> 65.289303 | L8: ='20年1月'!L8+'2月'!L8+'3月'!L8 -> 64156337 | M8: ='20年1月'!M8+'2月'!M8+'3月'!M8 -> 103932716 | N8: =(L8/M8)*100 -> 61.728722
B9: 阪急交通社（3社計 *4） | C9: ='20年1月'!C9+'2月'!C9+'3月'!C9 -> 26143492 | D9: ='20年1月'!D9+'2月'!D9+'3月'!D9 -> 54248679 | E9: =(C9/D9)*100 -> 48.191942 | F9: ='20年1月'!F9+'2月'!F9+'3月'!F9 -> 170374 | G9: ='20年1月'!G9+'2月'!G9+'3月'!G9 -> 447607 | H9: =(F9/G9)*100 -> 38.063301 | I9: ='20年1月'!I9+'2月'!I9+'3月'!I9 -> 16455816 | J9: ='20年1月'!J9+'2月'!J9+'3月'!J9 -> 29486894 | K9: =(I9/J9)*100 -> 55.807221 | L9: ='20年1月'!L9+'2月'!L9+'3月'!L9 -> 42769682 | M9: ='20年1月'!M9+'2月'!M9+'3月'!M9 -> 84183187 | N9: =(L9/M9)*100 -> 50.805492
B10: （株）ジャルパック | C10: ='20年1月'!C10+'2月'!C10+'3月'!C10 -> 7436921 | D10: ='20年1月'!D10+'2月'!D10+'3月'!D10 -> 11586828 | E10: =(C10/D10)*100 -> 64.18427 | F10: ='20年1月'!F10+'2月'!F10+'3月'!F10 -> 5148 | G10: ='20年1月'!G10+'2月'!G10+'3月'!G10 -> 11145 | H10: =(F10/G10)*100 -> 46.191117 | I10: ='20年1月'!I10+'2月'!I10+'3月'!I10 -> 23077629 | J10: ='20年1月'!J10+'2月'!J10+'3月'!J10 -> 32330724 | K10: =(I10/J10)*100 -> 71.379871 | L10: ='20年1月'!L10+'2月'!L10+'3月'!L10 -> 30519576 | M10: ='20年1月'!M10+'2月'!M10+'3月'!M10 -> 43928697 | N10: =(L10/M10)*100 -> 69.475259
B11: ANAセールス（株） | C11: ='20年1月'!C11+'2月'!C11+'3月'!C11 -> 3556005 | D11: ='20年1月'!D11+'2月'!D11+'3月'!D11 -> 4957293 | E11: =(C11/D11)*100 -> 71.732799 | F11: ='20年1月'!F11+'2月'!F11+'3月'!F11 -> 204407 | G11: ='20年1月'!G11+'2月'!G11+'3月'!G11 -> 419174 | H11: =(F11/G11)*100 -> 48.764236 | I11: ='20年1月'!I11+'2月'!I11+'3月'!I11 -> 25671069 | J11: ='20年1月'!J11+'2月'!J11+'3月'!J11 -> 36848341 | K11: =(I11/J11)*100 -> 69.666824 | L11: ='20年1月'!L11+'2月'!L11+'3月'!L11 -> 29431481 | M11: ='20年1月'!M11+'2月'!M11+'3月'!M11 -> 42224810 | N11: =(L11/M11)*100 -> 69.701867
B12: 東武トップツアーズ（株） | C12: ='20年1月'!C12+'2月'!C12+'3月'!C12 -> 4330458 | D12: ='20年1月'!D12+'2月'!D12+'3月'!D12 -> 6923936 | E12: =(C12/D12)*100 -> 62.543299 | F12: ='20年1月'!F12+'2月'!F12+'3月'!F12 -> 732917 | G12: ='20年1月'!G12+'2月'!G12+'3月'!G12 -> 1247523 | H12: =(F12/G12)*100 -> 58.749779 | I12: ='20年1月'!I12+'2月'!I12+'3月'!I12 -> 11062565 | J12: ='20年1月'!J12+'2月'!J12+'3月'!J12 -> 16156087 | K12: =(I12/J12)*100 -> 68.473047 | L12: ='20年1月'!L12+'2月'!L12+'3月'!L12 -> 16125940 | M12: ='20年1月'!M12+'2月'!M12+'3月'!M12 -> 24327545 | N12: =(L12/M12)*100 -> 66.286754
B13: （株）ジェイアール東海ツアーズ | C13: ='20年1月'!C13+'2月'!C13+'3月'!C13 -> 260415 | D13: ='20年1月'!D13+'2月'!D13+'3月'!D13 -> 385652 | E13: =(C13/D13)*100 -> 67.525904 | F13: ='20年1月'!F13+'2月'!F13+'3月'!F13 -> 299645 | G13: ='20年1月'!G13+'2月'!G13+'3月'!G13 -> 457529 | H13: =(F13/G13)*100 -> 65.492023 | I13: ='20年1月'!I13+'2月'!I13+'3月'!I13 -> 12904845 | J13: ='20年1月'!J13+'2月'!J13+'3月'!J13 -> 22163052 | K13: =(I13/J13)*100 -> 58.226841 | L13: ='20年1月'!L13+'2月'!L13+'3月'!L13 -> 13464905 | M13: ='20年1月'!M13+'2月'!M13+'3月'!M13 -> 23006232 | N13: =(L13/M13)*100 -> 58.527207
B14: 名鉄観光サービス（株） | C14: ='20年1月'!C14+'2月'!C14+'3月'!C14 -> 2130235 | D14: ='20年1月'!D14+'2月'!D14+'3月'!D14 -> 3816121 | E14: =(C14/D14)*100 -> 55.821998 | F14: ='20年1月'!F14+'2月'!F14+'3月'!F14 -> 321492 | G14: ='20年1月'!G14+'2月'!G14+'3月'!G14 -> 518822 | H14: =(F14/G14)*100 -> 61.965761 | I14: ='20年1月'!I14+'2月'!I14+'3月'!I14 -> 9425680 | J14: ='20年1月'!J14+'2月'!J14+'3月'!J14 -> 13338797 | K14: =(I14/J14)*100 -> 70.663644 | L14: ='20年1月'!L14+'2月'!L14+'3月'!L14 -> 11877407 | M14: ='20年1月'!M14+'2月'!M14+'3月'!M14 -> 17673740 | N14: =(L14/M14)*100 -> 67.203699
B15: （株）農協観光 | C15: ='20年1月'!C15+'2月'!C15+'3月'!C15 -> 1594639 | D15: ='20年1月'!D15+'2月'!D15+'3月'!D15 -> 2401590 | E15: =(C15/D15)*100 -> 66.399302 | F15: ='20年1月'!F15+'2月'!F15+'3月'!F15 -> 106334 | G15: ='20年1月'!G15+'2月'!G15+'3月'!G15 -> 200202 | H15: =(F15/G15)*100 -> 53.113356 | I15: ='20年1月'!I15+'2月'!I15+'3月'!I15 -> 9492690 | J15: ='20年1月'!J15+'2月'!J15+'3月'!J15 -> 14856192 | K15: =(I15/J15)*100 -> 63.897195 | L15: ='20年1月'!L15+'2月'!L15+'3月'!L15 -> 11193663 | M15: ='20年1月'!M15+'2月'!M15+'3月'!M15 -> 17457984 | N15: =(L15/M15)*100 -> 64.11773
B16: ビッグホリデー（株） | C16: ='20年1月'!C16+'2月'!C16+'3月'!C16 -> 794800 | D16: ='20年1月'!D16+'2月'!D16+'3月'!D16 -> 1182142 | E16: =(C16/D16)*100 -> 67.233886 | F16: ='20年1月'!F16+'2月'!F16+'3月'!F16 -> 0 | G16: ='20年1月'!G16+'2月'!G16+'3月'!G16 -> 0 | H16: =(F16/G16)*100 -> #DIV/0! | I16: ='20年1月'!I16+'2月'!I16+'3月'!I16 -> 14428640 | J16: ='20年1月'!J16+'2月'!J16+'3月'!J16 -> 21428160 | K16: =(I16/J16)*100 -> 67.334946 | L16: ='20年1月'!L16+'2月'!L16+'3月'!L16 -> 15223440 | M16: ='20年1月'!M16+'2月'!M16+'3月'!M16 -> 22610302 | N16: =(L16/M16)*100 -> 67.329662
... B52: （株）JAL JTAセールス | C52: ='20年1月'!C52+'2月'!C52+'3月'!C52 -> 0 | D52: ='20年1月'!D52+'2月'!D52+'3月'!D52 -> 0 | E52: =(C52/D52)*100 -> #DIV/0! | F52: ='20年1月'!F52+'2月'!F52+'3月'!F52 -> 0 | G52: ='20年1月'!G52+'2月'!G52+'3月'!G52 -> 0 | H52: =(F52/G52)*100 -> #DIV/0! | I52: ='20年1月'!I52+'2月'!I52+'3月'!I52 -> 401595 | J52: ='20年1月'!J52+'2月'!J52+'3月'!J52 -> 695219 | K52: =(I52/J52)*100 -> 57.765251 | L52: ='20年1月'!L52+'2月'!L52+'3月'!L52 -> 401595 | M52: ='20年1月'!M52+'2月'!M52+'3月'!M52 -> 695219 | N52: =(L52/M52)*100 -> 57.765251
B53: 合計 | C53: =SUM(C5:C52) -> 216289718 | D53: =SUM(D5:D52) -> 376018774 | E53: =(C53/D53)*100 -> 57.520989 | F53: =SUM(F5:F52) -> 26361196 | G53: =SUM(G5:G52) -> 43169304 | H53: =(F53/G53)*100 -> 61.064677 | I53: =SUM(I5:I52) -> 419257326 | J53: =SUM(J5:J52) -> 614342769 | K53: =(I53/J53)*100 -> 68.244854 | L53: =SUM(L5:L52) -> 661908121 | M53: =SUM(M5:M52) -> 1033530855 | N53: =(L53/M53)*100 -> 64.043383
C55: *1 JTBの10社内取引を相殺し合計
C56: JTB10社：
C57: JTB、JTBグローバルマーケティング＆トラベル、JTB沖縄、JTB京阪トラベル、エイ・ビー・アイ、JTBメディアリテーリング、
C58: JTBグランドツアー＆サービス、JTBビジネストラベルソリューションズ、JTBガイアレック、トラベルプラザインターナショナル
C60: *2 HISの6社内取引を相殺し合計
C61: HIS6社：
C62: エイチ・アイ・エス、オリオンツアー、クオリタ、クルーズプラネット、ジャパンホリデートラベル、エイチ・アイ・エス沖縄
C64: *3 KNT-CTホールディングスの13社内取引を相殺し合計
C65: KNT-CTホールディングス13社：
C66: クラブツーリズム、近畿日本ツーリスト北海道、近畿日本ツーリスト東北、近畿日本ツーリスト関東、近畿日本ツーリスト首都圏、
C67: 近畿日本ツーリスト中部、近畿日本ツーリスト関西、 近畿日本ツーリスト中国四国、 近畿日本ツーリスト九州、
C68: 近畿日本ツーリストコーポレートビジネス、KNT-CTグローバルトラベル、KNT-CTウエブトラベル、ユナイテッドツアーズ
... C76: タビックスジャパン、東日観光、トラベルイン、湯旅

Sheet 2Q
B1: 主要旅行業者の旅行取扱状況速報
F2: 2020年度第2四半期
B3: 会 社 名 | C3: 海 外 旅 行 | F3: 外 国 人 旅 行 | I3: 国 内 旅 行 | L3: 合 計
C4: 取扱額（千円） | D4: 前年（千円） | E4: 前年比（％） | F4: 取扱額（千円） | G4: 前年（千円） | H4: 前年比（％） | I4: 取扱額（千円） | J4: 前年（千円） | K4: 前年比（％） | L4: 取扱額（千円） | M4: 前年（千円） | N4: 前年比（％）
B5: JTB（10社計 *1） | C5: ='4月'!C5+'5月'!C5+'6月'!C5 -> 1969378 | D5: ='4月'!D5+'5月'!D5+'6月'!D5 -> 146649699 | E5: =(C5/D5)*100 -> 1.3429131 | F5: ='4月'!F5+'5月'!F5+'6月'!F5 -> 630666 | G5: ='4月'!G5+'5月'!G5+'6月'!G5 -> 27893607 | H5: =(F5/G5)*100 -> 2.2609697 | I5: ='4月'!I5+'5月'!I5+'6月'!I5 -> 24673605 | J5: ='4月'!J5+'5月'!J5+'6月'!J5 -> 246973161 | K5: =(I5/J5)*100 -> 9.9903993 | L5: ='4月'!L5+'5月'!L5+'6月'!L5 -> 27273650 | M5: ='4月'!M5+'5月'!M5+'6月'!M5 -> 421516467 | N5: =(L5/M5)*100 -> 6.4703641
B7: KNT-CTホールディングス（13社計 *3） | C7: ='4月'!C7+'5月'!C7+'6月'!C7 -> 572684 | D7: ='4月'!D7+'5月'!D7+'6月'!D7 -> 40846552 | E7: =(C7/D7)*100 -> 1.4020376 | F7: ='4月'!F7+'5月'!F7+'6月'!F7 -> 0 | G7: ='4月'!G7+'5月'!G7+'6月'!G7 -> 6036091 | H7: =(F7/G7)*100 -> 0 | I7: ='4月'!I7+'5月'!I7+'6月'!I7 -> 2887968 | J7: ='4月'!J7+'5月'!J7+'6月'!J7 -> 83100044 | K7: =(I7/J7)*100 -> 3.4752906 | L7: ='4月'!L7+'5月'!L7+'6月'!L7 -> 3460652 | M7: ='4月'!M7+'5月'!M7+'6月'!M7 -> 129982687 | N7: =(L7/M7)*100 -> 2.6623946
B8: （株）日本旅行 | C8: ='4月'!C8+'5月'!C8+'6月'!C8 -> 18843 | D8: ='4月'!D8+'5月'!D8+'6月'!D8 -> 31070123 | E8: =(C8/D8)*100 -> 0.060646686 | F8: ='4月'!F8+'5月'!F8+'6月'!F8 -> 33105 | G8: ='4月'!G8+'5月'!G8+'6月'!G8 -> 14593491 | H8: =(F8/G8)*100 -> 0.22684771 | I8: ='4月'!I8+'5月'!I8+'6月'!I8 -> 5582196 | J8: ='4月'!J8+'5月'!J8+'6月'!J8 -> 75629386 | K8: =(I8/J8)*100 -> 7.3809881 | L8: ='4月'!L8+'5月'!L8+'6月'!L8 -> 5634144 | M8: ='4月'!M8+'5月'!M8+'6月'!M8 -> 121293000 | N8: =(L8/M8)*100 -> 4.6450694
B9: 阪急交通社（3社計 *4） | C9: ='4月'!C9+'5月'!C9+'6月'!C9 -> 77358 | D9: ='4月'!D9+'5月'!D9+'6月'!D9 -> 62170633 | E9: =(C9/D9)*100 -> 0.12442852 | F9: ='4月'!F9+'5月'!F9+'6月'!F9 -> 11560 | G9: ='4月'!G9+'5月'!G9+'6月'!G9 -> 1534934 | H9: =(F9/G9)*100 -> 0.75312684 | I9: ='4月'!I9+'5月'!I9+'6月'!I9 -> 281985 | J9: ='4月'!J9+'5月'!J9+'6月'!J9 -> 40913861 | K9: =(I9/J9)*100 -> 0.6892163 | L9: ='4月'!L9+'5月'!L9+'6月'!L9 -> 370903 | M9: ='4月'!M9+'5月'!M9+'6月'!M9 -> 104619428 | N9: =(L9/M9)*100 -> 0.35452593
B10: （株）ジャルパック | C10: ='4月'!C10+'5月'!C10+'6月'!C10 -> 5080 | D10: ='4月'!D10+'5月'!D10+'6月'!D10 -> 10974162 | E10: =(C10/D10)*100 -> 0.04629055 | F10: ='4月'!F10+'5月'!F10+'6月'!F10 -> 0 | G10: ='4月'!G10+'5月'!G10+'6月'!G10 -> 11651 | H10: =(F10/G10)*100 -> 0 | I10: ='4月'!I10+'5月'!I10+'6月'!I10 -> 2151416 | J10: ='4月'!J10+'5月'!J10+'6月'!J10 -> 33690718 | K10: =(I10/J10)*100 -> 6.3857826 | L10: ='4月'!L10+'5月'!L10+'6月'!L10 -> 2156496 | M10: ='4月'!M10+'5月'!M10+'6月'!M10 -> 44676531 | N10: =(L10/M10)*100 -> 4.8269101
B11: ANAセールス（株） | C11: ='4月'!C11+'5月'!C11+'6月'!C11 -> 50654 | D11: ='4月'!D11+'5月'!D11+'6月'!D11 -> 5913534 | E11: =(C11/D11)*100 -> 0.85657747 | F11: ='4月'!F11+'5月'!F11+'6月'!F11 -> 713 | G11: ='4月'!G11+'5月'!G11+'6月'!G11 -> 423489 | H11: =(F11/G11)*100 -> 0.16836329 | I11: ='4月'!I11+'5月'!I11+'6月'!I11 -> 2633153 | J11: ='4月'!J11+'5月'!J11+'6月'!J11 -> 39438011 | K11: =(I11/J11)*100 -> 6.6766881 | L11: ='4月'!L11+'5月'!L11+'6月'!L11 -> 2684520 | M11: ='4月'!M11+'5月'!M11+'6月'!M11 -> 45775034 | N11: =(L11/M11)*100 -> 5.8645942
B12: 東武トップツアーズ（株） | C12: ='4月'!C12+'5月'!C12+'6月'!C12 -> 386639 | D12: ='4月'!D12+'5月'!D12+'6月'!D12 -> 7017651 | E12: =(C12/D12)*100 -> 5.5095216 | F12: ='4月'!F12+'5月'!F12+'6月'!F12 -> 0 | G12: ='4月'!G12+'5月'!G12+'6月'!G12 -> 2514926 | H12: =(F12/G12)*100 -> 0 | I12: ='4月'!I12+'5月'!I12+'6月'!I12 -> 1075893 | J12: ='4月'!J12+'5月'!J12+'6月'!J12 -> 25043999 | K12: =(I12/J12)*100 -> 4.2960112 | L12: ='4月'!L12+'5月'!L12+'6月'!L12 -> 1462532 | M12: ='4月'!M12+'5月'!M12+'6月'!M12 -> 34576576 | N12: =(L12/M12)*100 -> 4.2298347
B13: （株）ジェイアール東海ツアーズ | C13: ='4月'!C13+'5月'!C13+'6月'!C13 -> 6574 | D13: ='4月'!D13+'5月'!D13+'6月'!D13 -> 398878 | E13: =(C13/D13)*100 -> 1.648123 | F13: ='4月'!F13+'5月'!F13+'6月'!F13 -> 2011 | G13: ='4月'!G13+'5月'!G13+'6月'!G13 -> 730611 | H13: =(F13/G13)*100 -> 0.27524907 | I13: ='4月'!I13+'5月'!I13+'6月'!I13 -> 1561787 | J13: ='4月'!J13+'5月'!J13+'6月'!J13 -> 19830534 | K13: =(I13/J13)*100 -> 7.8756679 | L13: ='4月'!L13+'5月'!L13+'6月'!L13 -> 1570372 | M13: ='4月'!M13+'5月'!M13+'6月'!M13 -> 20960023 | N13: =(L13/M13)*100 -> 7.4922246
B14: 名鉄観光サービス（株） | C14: ='4月'!C14+'5月'!C14+'6月'!C14 -> 40622 | D14: ='4月'!D14+'5月'!D14+'6月'!D14 -> 3315019 | E14: =(C14/D14)*100 -> 1.2253927 | F14: ='4月'!F14+'5月'!F14+'6月'!F14 -> 7752 | G14: ='4月'!G14+'5月'!G14+'6月'!G14 -> 719186 | H14: =(F14/G14)*100 -> 1.0778853 | I14: ='4月'!I14+'5月'!I14+'6月'!I14 -> 2030984 | J14: ='4月'!J14+'5月'!J14+'6月'!J14 -> 18492734 | K14: =(I14/J14)*100 -> 10.982605 | L14: ='4月'!L14+'5月'!L14+'6月'!L14 -> 2079358 | M14: ='4月'!M14+'5月'!M14+'6月'!M14 -> 22526939 | N14: =(L14/M14)*100 -> 9.2305395
B15: （株）農協観光 | C15: ='4月'!C15+'5月'!C15+'6月'!C15 -> 7198 | D15: ='4月'!D15+'5月'!D15+'6月'!D15 -> 1088464 | E15: =(C15/D15)*100 -> 0.66129886 | F15: ='4月'!F15+'5月'!F15+'6月'!F15 -> 1218 | G15: ='4月'!G15+'5月'!G15+'6月'!G15 -> 415624 | H15: =(F15/G15)*100 -> 0.29305334 | I15: ='4月'!I15+'5月'!I15+'6月'!I15 -> 564332 | J15: ='4月'!J15+'5月'!J15+'6月'!J15 -> 9508206 | K15: =(I15/J15)*100 -> 5.9352101 | L15: ='4月'!L15+'5月'!L15+'6月'!L15 -> 572748 | M15: ='4月'!M15+'5月'!M15+'6月'!M15 -> 11012294 | N15: =(L15/M15)*100 -> 5.2009872
B16: ビッグホリデー（株） | C16: ='4月'!C16+'5月'!C16+'6月'!C16 -> 580 | D16: ='4月'!D16+'5月'!D16+'6月'!D16 -> 1003420 | E16: =(C16/D16)*100 -> 0.057802316 | F16: ='4月'!F16+'5月'!F16+'6月'!F16 -> 0 | G16: ='4月'!G16+'5月'!G16+'6月'!G16 -> 0 | H16: =(F16/G16)*100 -> #DIV/0! | I16: ='4月'!I16+'5月'!I16+'6月'!I16 -> 198799 | J16: ='4月'!J16+'5月'!J16+'6月'!J16 -> 9306730 | K16: =(I16/J16)*100 -> 2.1360779 | L16: ='4月'!L16+'5月'!L16+'6月'!L16 -> 199379 | M16: ='4月'!M16+'5月'!M16+'6月'!M16 -> 10310150 | N16: =(L16/M16)*100 -> 1.9338128
B17: 日新航空サービス（株） | C17: ='4月'!C17+'5月'!C17+'6月'!C17 -> 354893 | D17: ='4月'!D17+'5月'!D17+'6月'!D17 -> 11313181 | E17: =(C17/D17)*100 -> 3.1369868 | F17: ='4月'!F17+'5月'!F17+'6月'!F17 -> 0 | G17: ='4月'!G17+'5月'!G17+'6月'!G17 -> 0 | H17: =(F17/G17)*100 -> #DIV/0! | I17: ='4月'!I17+'5月'!I17+'6月'!I17 -> 63757 | J17: ='4月'!J17+'5月'!J17+'6月'!J17 -> 1011834 | K17: =(I17/J17)*100 -> 6.3011324 | L17: ='4月'!L17+'5月'!L17+'6月'!L17 -> 418650 | M17: ='4月'!M17+'5月'!M17+'6月'!M17 -> 12325015 | N17: =(L17/M17)*100 -> 3.3967504
... B52: （株）JAL JTAセールス | C52: ='4月'!C52+'5月'!C52+'6月'!C52 -> 0 | D52: ='4月'!D52+'5月'!D52+'6月'!D52 -> 0 | E52: =(C52/D52)*100 -> #DIV/0! | F52: ='4月'!F52+'5月'!F52+'6月'!F52 -> 0 | G52: ='4月'!G52+'5月'!G52+'6月'!G52 -> 0 | H52: =(F52/G52)*100 -> #DIV/0! | I52: ='4月'!I52+'5月'!I52+'6月'!I52 -> 85592 | J52: ='4月'!J52+'5月'!J52+'6月'!J52 -> 611522 | K52: =(I52/J52)*100 -> 13.996553 | L52: ='4月'!L52+'5月'!L52+'6月'!L52 -> 85592 | M52: ='4月'!M52+'5月'!M52+'6月'!M52 -> 611522 | N52: =(L52/M52)*100 -> 13.996553
B53: 合計 | C53: =SUM(C5:C52) -> 5215717 | D53: =SUM(D5:D52) -> 396855874 | E53: =(C53/D53)*100 -> 1.3142597 | F53: =SUM(F5:F52) -> 729334 | G53: =SUM(G5:G52) -> 57725440 | H53: =(F53/G53)*100 -> 1.2634533 | I53: =SUM(I5:I52) -> 48852082 | J53: =SUM(J5:J52) -> 681173004 | K53: =(I53/J53)*100 -> 7.1717584 | L53: =SUM(L5:L52) -> 54797134 | M53: =SUM(M5:M52) -> 1135754318 | N53: =(L53/M53)*100 -> 4.8247348
C55: *1 JTBの10社内取引を相殺し合計
C56: JTB10社：
C57: JTB、JTBグローバルマーケティング＆トラベル、JTB沖縄、JTB京阪トラベル、エイ・ビー・アイ、JTBメディアリテーリング、
C58: JTBグランドツアー＆サービス、JTBビジネストラベルソリューションズ、JTBガイアレック、トラベルプラザインターナショナル
C60: *2 HISの6社内取引を相殺し合計
C61: HIS6社：
C62: エイチ・アイ・エス、オリオンツアー、クオリタ、クルーズプラネット、ジャパンホリデートラベル、エイチ・アイ・エス沖縄
C64: *3 KNT-CTホールディングスの13社内取引を相殺し合計
C65: KNT-CTホールディングス13社：
C66: クラブツーリズム、近畿日本ツーリスト北海道、近畿日本ツーリスト東北、近畿日本ツーリスト関東、近畿日本ツーリスト首都圏、
C67: 近畿日本ツーリスト中部、近畿日本ツーリスト関西、 近畿日本ツーリスト中国四国、 近畿日本ツーリスト九州、
C68: 近畿日本ツーリストコーポレートビジネス、KNT-CTグローバルトラベル、KNT-CTウエブトラベル、ユナイテッドツアーズ
... C76: タビックスジャパン、東日観光、トラベルイン、湯旅

Sheet 上期
B1: 主要旅行業者の旅行取扱状況速報
F2: 2020年度上期
B3: 会 社 名 | C3: 海 外 旅 行 | F3: 外 国 人 旅 行 | I3: 国 内 旅 行 | L3: 合 計
C4: 取扱額（千円） | D4: 前年（千円） | E4: 前年比（％） | F4: 取扱額（千円） | G4: 前年（千円） | H4: 前年比（％） | I4: 取扱額（千円） | J4: 前年（千円） | K4: 前年比（％） | L4: 取扱額（千円） | M4: 前年（千円） | N4: 前年比（％）
B5: JTB（10社計 *1） | C5: ='1Q'!C5+'2Q'!C5 -> 81559024 | D5: ='1Q'!D5+'2Q'!D5 -> 279381644 | E5: =(C5/D5)*100 -> 29.192692 | F5: ='1Q'!F5+'2Q'!F5 -> 13495537 | G5: ='1Q'!G5+'2Q'!G5 -> 50086356 | H5: =(F5/G5)*100 -> 26.944538 | I5: ='1Q'!I5+'2Q'!I5 -> 187871416 | J5: ='1Q'!J5+'2Q'!J5 -> 467882946 | K5: =(I5/J5)*100 -> 40.153508 | L5: ='1Q'!L5+'2Q'!L5 -> 282925979 | M5: ='1Q'!M5+'2Q'!M5 -> 797350946 | N5: =(L5/M5)*100 -> 35.483244
B7: KNT-CTホールディングス（13社計 *3） | C7: ='1Q'!C7+'2Q'!C7 -> 26542546 | D7: ='1Q'!D7+'2Q'!D7 -> 80509771 | E7: =(C7/D7)*100 -> 32.968105 | F7: ='1Q'!F7+'2Q'!F7 -> 3018787 | G7: ='1Q'!G7+'2Q'!G7 -> 12538669 | H7: =(F7/G7)*100 -> 24.075817 | I7: ='1Q'!I7+'2Q'!I7 -> 45856614 | J7: ='1Q'!J7+'2Q'!J7 -> 146777671 | K7: =(I7/J7)*100 -> 31.242228 | L7: ='1Q'!L7+'2Q'!L7 -> 75417947 | M7: ='1Q'!M7+'2Q'!M7 -> 239826111 | N7: =(L7/M7)*100 -> 31.446929
B8: （株）日本旅行 | C8: ='1Q'!C8+'2Q'!C8 -> 14433224 | D8: ='1Q'!D8+'2Q'!D8 -> 61005684 | E8: =(C8/D8)*100 -> 23.658818 | F8: ='1Q'!F8+'2Q'!F8 -> 7016816 | G8: ='1Q'!G8+'2Q'!G8 -> 23100216 | H8: =(F8/G8)*100 -> 30.375543 | I8: ='1Q'!I8+'2Q'!I8 -> 48340441 | J8: ='1Q'!J8+'2Q'!J8 -> 141119816 | K8: =(I8/J8)*100 -> 34.254892 | L8: ='1Q'!L8+'2Q'!L8 -> 69790481 | M8: ='1Q'!M8+'2Q'!M8 -> 225225716 | N8: =(L8/M8)*100 -> 30.986906
B9: 阪急交通社（3社計 *4） | C9: ='1Q'!C9+'2Q'!C9 -> 26220850 | D9: ='1Q'!D9+'2Q'!D9 -> 116419312 | E9: =(C9/D9)*100 -> 22.522767 | F9: ='1Q'!F9+'2Q'!F9 -> 181934 | G9: ='1Q'!G9+'2Q'!G9 -> 1982541 | H9: =(F9/G9)*100 -> 9.176809 | I9: ='1Q'!I9+'2Q'!I9 -> 16737801 | J9: ='1Q'!J9+'2Q'!J9 -> 70400755 | K9: =(I9/J9)*100 -> 23.775031 | L9: ='1Q'!L9+'2Q'!L9 -> 43140585 | M9: ='1Q'!M9+'2Q'!M9 -> 188802615 | N9: =(L9/M9)*100 -> 22.84957
B10: （株）ジャルパック | C10: ='1Q'!C10+'2Q'!C10 -> 7442001 | D10: ='1Q'!D10+'2Q'!D10 -> 22560990 | E10: =(C10/D10)*100 -> 32.986146 | F10: ='1Q'!F10+'2Q'!F10 -> 5148 | G10: ='1Q'!G10+'2Q'!G10 -> 22796 | H10: =(F10/G10)*100 -> 22.582909 | I10: ='1Q'!I10+'2Q'!I10 -> 25229045 | J10: ='1Q'!J10+'2Q'!J10 -> 66021442 | K10: =(I10/J10)*100 -> 38.213411 | L10: ='1Q'!L10+'2Q'!L10 -> 32676072 | M10: ='1Q'!M10+'2Q'!M10 -> 88605228 | N10: =(L10/M10)*100 -> 36.878266
B11: ANAセールス（株） | C11: ='1Q'!C11+'2Q'!C11 -> 3606659 | D11: ='1Q'!D11+'2Q'!D11 -> 10870827 | E11: =(C11/D11)*100 -> 33.177411 | F11: ='1Q'!F11+'2Q'!F11 -> 205120 | G11: ='1Q'!G11+'2Q'!G11 -> 842663 | H11: =(F11/G11)*100 -> 24.341878 | I11: ='1Q'!I11+'2Q'!I11 -> 28304222 | J11: ='1Q'!J11+'2Q'!J11 -> 76286352 | K11: =(I11/J11)*100 -> 37.102603 | L11: ='1Q'!L11+'2Q'!L11 -> 32116001 | M11: ='1Q'!M11+'2Q'!M11 -> 87999844 | N11: =(L11/M11)*100 -> 36.49552
B12: 東武トップツアーズ（株） | C12: ='1Q'!C12+'2Q'!C12 -> 4717097 | D12: ='1Q'!D12+'2Q'!D12 -> 13941587 | E12: =(C12/D12)*100 -> 33.834721 | F12: ='1Q'!F12+'2Q'!F12 -> 732917 | G12: ='1Q'!G12+'2Q'!G12 -> 3762449 | H12: =(F12/G12)*100 -> 19.479786 | I12: ='1Q'!I12+'2Q'!I12 -> 12138458 | J12: ='1Q'!J12+'2Q'!J12 -> 41200086 | K12: =(I12/J12)*100 -> 29.462215 | L12: ='1Q'!L12+'2Q'!L12 -> 17588472 | M12: ='1Q'!M12+'2Q'!M12 -> 58904121 | N12: =(L12/M12)*100 -> 29.859493
B13: （株）ジェイアール東海ツアーズ | C13: ='1Q'!C13+'2Q'!C13 -> 266989 | D13: ='1Q'!D13+'2Q'!D13 -> 784530 | E13: =(C13/D13)*100 -> 34.031713 | F13: ='1Q'!F13+'2Q'!F13 -> 301656 | G13: ='1Q'!G13+'2Q'!G13 -> 1188140 | H13: =(F13/G13)*100 -> 25.388927 | I13: ='1Q'!I13+'2Q'!I13 -> 14466632 | J13: ='1Q'!J13+'2Q'!J13 -> 41993586 | K13: =(I13/J13)*100 -> 34.449623 | L13: ='1Q'!L13+'2Q'!L13 -> 15035277 | M13: ='1Q'!M13+'2Q'!M13 -> 43966255 | N13: =(L13/M13)*100 -> 34.197311
B14: 名鉄観光サービス（株） | C14: ='1Q'!C14+'2Q'!C14 -> 2170857 | D14: ='1Q'!D14+'2Q'!D14 -> 7131140 | E14: =(C14/D14)*100 -> 30.441935 | F14: ='1Q'!F14+'2Q'!F14 -> 329244 | G14: ='1Q'!G14+'2Q'!G14 -> 1238008 | H14: =(F14/G14)*100 -> 26.594659 | I14: ='1Q'!I14+'2Q'!I14 -> 11456664 | J14: ='1Q'!J14+'2Q'!J14 -> 31831531 | K14: =(I14/J14)*100 -> 35.991558 | L14: ='1Q'!L14+'2Q'!L14 -> 13956765 | M14: ='1Q'!M14+'2Q'!M14 -> 40200679 | N14: =(L14/M14)*100 -> 34.717734
B15: （株）農協観光 | C15: ='1Q'!C15+'2Q'!C15 -> 1601837 | D15: ='1Q'!D15+'2Q'!D15 -> 3490054 | E15: =(C15/D15)*100 -> 45.897198 | F15: ='1Q'!F15+'2Q'!F15 -> 107552 | G15: ='1Q'!G15+'2Q'!G15 -> 615826 | H15: =(F15/G15)*100 -> 17.464673 | I15: ='1Q'!I15+'2Q'!I15 -> 10057022 | J15: ='1Q'!J15+'2Q'!J15 -> 24364398 | K15: =(I15/J15)*100 -> 41.277531 | L15: ='1Q'!L15+'2Q'!L15 -> 11766411 | M15: ='1Q'!M15+'2Q'!M15 -> 28470278 | N15: =(L15/M15)*100 -> 41.328753
B16: ビッグホリデー（株） | C16: ='1Q'!C16+'2Q'!C16 -> 795380 | D16: ='1Q'!D16+'2Q'!D16 -> 2185562 | E16: =(C16/D16)*100 -> 36.39247 | F16: ='1Q'!F16+'2Q'!F16 -> 0 | G16: ='1Q'!G16+'2Q'!G16 -> 0 | H16: =(F16/G16)*100 -> #DIV/0! | I16: ='1Q'!I16+'2Q'!I16 -> 14627439 | J16: ='1Q'!J16+'2Q'!J16 -> 30734890 | K16: =(I16/J16)*100 -> 47.592293 | L16: ='1Q'!L16+'2Q'!L16 -> 15422819 | M16: ='1Q'!M16+'2Q'!M16 -> 32920452 | N16: =(L16/M16)*100 -> 46.848746
B17: 日新航空サービス（株） | C17: ='1Q'!C17+'2Q'!C17 -> 6801624 | D17: ='1Q'!D17+'2Q'!D17 -> 22468639 | E17: =(C17/D17)*100 -> 30.271633 | F17: ='1Q'!F17+'2Q'!F17 -> 0 | G17: ='1Q'!G17+'2Q'!G17 -> 0 | H17: =(F17/G17)*100 -> #DIV/0! | I17: ='1Q'!I17+'2Q'!I17 -> 602664 | J17: ='1Q'!J17+'2Q'!J17 -> 1865686 | K17: =(I17/J17)*100 -> 32.302542 | L17: ='1Q'!L17+'2Q'!L17 -> 7404288 | M17: ='1Q'!M17+'2Q'!M17 -> 24334325 | N17: =(L17/M17)*100 -> 30.427341
... B52: （株）JAL JTAセールス | C52: ='1Q'!C52+'2Q'!C52 -> 0 | D52: ='1Q'!D52+'2Q'!D52 -> 0 | E52: =(C52/D52)*100 -> #DIV/0! | F52: ='1Q'!F52+'2Q'!F52 -> 0 | G52: ='1Q'!G52+'2Q'!G52 -> 0 | H52: =(F52/G52)*100 -> #DIV/0! | I52: ='1Q'!I52+'2Q'!I52 -> 487187 | J52: ='1Q'!J52+'2Q'!J52 -> 1306741 | K52: =(I52/J52)*100 -> 37.282598 | L52: ='1Q'!L52+'2Q'!L52 -> 487187 | M52: ='1Q'!M52+'2Q'!M52 -> 1306741 | N52: =(L52/M52)*100 -> 37.282598
B53: 合計 | C53: =SUM(C5:C52) -> 221505435 | D53: =SUM(D5:D52) -> 772874648 | E53: =(C53/D53)*100 -> 28.659943 | F53: =SUM(F5:F52) -> 27090530 | G53: =SUM(G5:G52) -> 100894744 | H53: =(F53/G53)*100 -> 26.850289 | I53: =SUM(I5:I52) -> 468109408 | J53: =SUM(J5:J52) -> 1295515773 | K53: =(I53/J53)*100 -> 36.133054 | L53: =SUM(L5:L52) -> 716705255 | M53: =SUM(M5:M52) -> 2169285173 | N53: =(L53/M53)*100 -> 33.038775
C55: *1 JTBの10社内取引を相殺し合計
C56: JTB10社：
C57: JTB、JTBグローバルマーケティング＆トラベル、JTB沖縄、JTB京阪トラベル、エイ・ビー・アイ、JTBメディアリテーリング、
C58: JTBグランドツアー＆サービス、JTBビジネストラベルソリューションズ、JTBガイアレック、トラベルプラザインターナショナル
C60: *2 HISの6社内取引を相殺し合計
C61: HIS6社：
C62: エイチ・アイ・エス、オリオンツアー、クオリタ、クルーズプラネット、ジャパンホリデートラベル、エイチ・アイ・エス沖縄
C64: *3 KNT-CTホールディングスの13社内取引を相殺し合計
C65: KNT-CTホールディングス13社：
C66: クラブツーリズム、近畿日本ツーリスト北海道、近畿日本ツーリスト東北、近畿日本ツーリスト関東、近畿日本ツーリスト首都圏、
C67: 近畿日本ツーリスト中部、近畿日本ツーリスト関西、 近畿日本ツーリスト中国四国、 近畿日本ツーリスト九州、
C68: 近畿日本ツーリストコーポレートビジネス、KNT-CTグローバルトラベル、KNT-CTウエブトラベル、ユナイテッドツアーズ
... C76: タビックスジャパン、東日観光、トラベルイン、湯旅

Sheet 3Q
B1: 主要旅行業者の旅行取扱状況速報
F2: 2020年度第3四半期
B3: 会 社 名 | C3: 海 外 旅 行 | F3: 外 国 人 旅 行 | I3: 国 内 旅 行 | L3: 合 計
C4: 取扱額（千円） | D4: 前年（千円） | E4: 前年比（％） | F4: 取扱額（千円） | G4: 前年（千円） | H4: 前年比（％） | I4: 取扱額（千円） | J4: 前年（千円） | K4: 前年比（％） | L4: 取扱額（千円） | M4: 前年（千円） | N4: 前年比（％）
B5: JTB（10社計 *1）
B6: エイチ・アイ・エス（6社計 *2)
B7: KNT-CTホールディングス（13社計 *3）
B8: （株）日本旅行
B9: 阪急交通社（3社計 *4）
B10: （株）ジャルパック
B11: ANAセールス（株）
B12: 東武トップツアーズ（株）
B13: （株）ジェイアール東海ツアーズ
B14: 名鉄観光サービス（株）
B15: （株）農協観光
B16: ビッグホリデー（株）
... B52: （株）JAL JTAセールス
B53: 合計 | C53: =SUM(C5:C52) -> 0 | D53: =SUM(D5:D52) -> 0 | E53: =(C53/D53)*100 -> #DIV/0! | F53: =SUM(F5:F52) -> 0 | G53: =SUM(G5:G52) -> 0 | H53: =(F53/G53)*100 -> #DIV/0! | I53: =SUM(I5:I52) -> 0 | J53: =SUM(J5:J52) -> 0 | K53: =(I53/J53)*100 -> #DIV/0! | L53: =SUM(L5:L52) -> 0 | M53: =SUM(M5:M52) -> 0 | N53: =(L53/M53)*100 -> #DIV/0!
C55: *1 JTBの10社内取引を相殺し合計
C56: JTB10社：
C57: JTB、JTBグローバルマーケティング＆トラベル、JTB沖縄、JTB京阪トラベル、エイ・ビー・アイ、JTBメディアリテーリング、
C58: JTBグランドツアー＆サービス、JTBビジネストラベルソリューションズ、JTBガイアレック、トラベルプラザインターナショナル
C60: *2 HISの6社内取引を相殺し合計
C61: HIS6社：
C62: エイチ・アイ・エス、オリオンツアー、クオリタ、クルーズプラネット、ジャパンホリデートラベル、エイチ・アイ・エス沖縄
C64: *3 KNT-CTホールディングスの13社内取引を相殺し合計
C65: KNT-CTホールディングス13社：
C66: クラブツーリズム、近畿日本ツーリスト北海道、近畿日本ツーリスト東北、近畿日本ツーリスト関東、近畿日本ツーリスト首都圏、
C67: 近畿日本ツーリスト中部、近畿日本ツーリスト関西、 近畿日本ツーリスト中国四国、 近畿日本ツーリスト九州、
C68: 近畿日本ツーリストコーポレートビジネス、KNT-CTグローバルトラベル、KNT-CTウエブトラベル、ユナイテッドツアーズ
... C76: タビックスジャパン、東日観光、トラベルイン、湯旅

Sheet 3Q累計
B1: 主要旅行業者の旅行取扱状況速報
F2: 2020年度3Q累計
B3: 会 社 名 | C3: 海 外 旅 行 | F3: 外 国 人 旅 行 | I3: 国 内 旅 行 | L3: 合 計
C4: 取扱額（千円） | D4: 前年（千円） | E4: 前年比（％） | F4: 取扱額（千円） | G4: 前年（千円） | H4: 前年比（％） | I4: 取扱額（千円） | J4: 前年（千円） | K4: 前年比（％） | L4: 取扱額（千円） | M4: 前年（千円） | N4: 前年比（％）
B5: JTB（10社計 *1）
B6: エイチ・アイ・エス（6社計 *2)
B7: KNT-CTホールディングス（13社計 *3）
B8: （株）日本旅行
B9: 阪急交通社（3社計 *4）
B10: （株）ジャルパック
B11: ANAセールス（株）
B12: 東武トップツアーズ（株）
B13: （株）ジェイアール東海ツアーズ
B14: 名鉄観光サービス（株）
B15: （株）農協観光
B16: ビッグホリデー（株）
... B52: （株）JAL JTAセールス
B53: 合計 | C53: =SUM(C5:C52) -> 0 | D53: =SUM(D5:D52) -> 0 | E53: =(C53/D53)*100 -> #DIV/0! | F53: =SUM(F5:F52) -> 0 | G53: =SUM(G5:G52) -> 0 | H53: =(F53/G53)*100 -> #DIV/0! | I53: =SUM(I5:I52) -> 0 | J53: =SUM(J5:J52) -> 0 | K53: =(I53/J53)*100 -> #DIV/0! | L53: =SUM(L5:L52) -> 0 | M53: =SUM(M5:M52) -> 0 | N53: =(L53/M53)*100 -> #DIV/0!
C55: *1 JTBの10社内取引を相殺し合計
C56: JTB10社：
C57: JTB、JTBグローバルマーケティング＆トラベル、JTB沖縄、JTB京阪トラベル、エイ・ビー・アイ、JTBメディアリテーリング、
C58: JTBグランドツアー＆サービス、JTBビジネストラベルソリューションズ、JTBガイアレック、トラベルプラザインターナショナル
C60: *2 HISの6社内取引を相殺し合計
C61: HIS6社：
C62: エイチ・アイ・エス、オリオンツアー、クオリタ、クルーズプラネット、ジャパンホリデートラベル、エイチ・アイ・エス沖縄
C64: *3 KNT-CTホールディングスの13社内取引を相殺し合計
C65: KNT-CTホールディングス13社：
C66: クラブツーリズム、近畿日本ツーリスト北海道、近畿日本ツーリスト東北、近畿日本ツーリスト関東、近畿日本ツーリスト首都圏、
C67: 近畿日本ツーリスト中部、近畿日本ツーリスト関西、 近畿日本ツーリスト中国四国、 近畿日本ツーリスト九州、
C68: 近畿日本ツーリストコーポレートビジネス、KNT-CTグローバルトラベル、KNT-CTウエブトラベル、ユナイテッドツアーズ
... C76: タビックスジャパン、東日観光、トラベルイン、湯旅

Sheet 4Q
B1: 主要旅行業者の旅行取扱状況速報
F2: 2020年度第4四半期
B3: 会 社 名 | C3: 海 外 旅 行 | F3: 外 国 人 旅 行 | I3: 国 内 旅 行 | L3: 合 計
C4: 取扱額（千円） | D4: 前年（千円） | E4: 前年比（％） | F4: 取扱額（千円） | G4: 前年（千円） | H4: 前年比（％） | I4: 取扱額（千円） | J4: 前年（千円） | K4: 前年比（％） | L4: 取扱額（千円） | M4: 前年（千円） | N4: 前年比（％）
B5: JTB（10社計 *1）
B6: エイチ・アイ・エス（6社計 *2)
B7: KNT-CTホールディングス（13社計 *3）
B8: （株）日本旅行
B9: 阪急交通社（3社計 *4）
B10: （株）ジャルパック
B11: ANAセールス（株）
B12: 東武トップツアーズ（株）
B13: （株）ジェイアール東海ツアーズ
B14: 名鉄観光サービス（株）
B15: （株）農協観光
B16: ビッグホリデー（株）
... B52: （株）JAL JTAセールス
B53: 合計 | C53: =SUM(C5:C52) -> 0 | D53: =SUM(D5:D52) -> 0 | E53: =(C53/D53)*100 -> #DIV/0! | F53: =SUM(F5:F52) -> 0 | G53: =SUM(G5:G52) -> 0 | H53: =(F53/G53)*100 -> #DIV/0! | I53: =SUM(I5:I52) -> 0 | J53: =SUM(J5:J52) -> 0 | K53: =(I53/J53)*100 -> #DIV/0! | L53: =SUM(L5:L52) -> 0 | M53: =SUM(M5:M52) -> 0 | N53: =(L53/M53)*100 -> #DIV/0!
C55: *1 JTBの10社内取引を相殺し合計
C56: JTB10社：
C57: JTB、JTBグローバルマーケティング＆トラベル、JTB沖縄、JTB京阪トラベル、エイ・ビー・アイ、JTBメディアリテーリング、
C58: JTBグランドツアー＆サービス、JTBビジネストラベルソリューションズ、JTBガイアレック、トラベルプラザインターナショナル
C60: *2 HISの6社内取引を相殺し合計
C61: HIS6社：
C62: エイチ・アイ・エス、オリオンツアー、クオリタ、クルーズプラネット、ジャパンホリデートラベル、エイチ・アイ・エス沖縄
C64: *3 KNT-CTホールディングスの13社内取引を相殺し合計
C65: KNT-CTホールディングス13社：
C66: クラブツーリズム、近畿日本ツーリスト北海道、近畿日本ツーリスト東北、近畿日本ツーリスト関東、近畿日本ツーリスト首都圏、
C67: 近畿日本ツーリスト中部、近畿日本ツーリスト関西、 近畿日本ツーリスト中国四国、 近畿日本ツーリスト九州、
C68: 近畿日本ツーリストコーポレートビジネス、KNT-CTグローバルトラベル、KNT-CTウエブトラベル、ユナイテッドツアーズ
... C76: タビックスジャパン、東日観光、トラベルイン、湯旅

Sheet 下期
B1: 主要旅行業者の旅行取扱状況速報
F2: 2020年度下期
B3: 会 社 名 | C3: 海 外 旅 行 | F3: 外 国 人 旅 行 | I3: 国 内 旅 行 | L3: 合 計
C4: 取扱額（千円） | D4: 前年（千円） | E4: 前年比（％） | F4: 取扱額（千円） | G4: 前年（千円） | H4: 前年比（％） | I4: 取扱額（千円） | J4: 前年（千円） | K4: 前年比（％） | L4: 取扱額（千円） | M4: 前年（千円） | N4: 前年比（％）
B5: JTB（10社計 *1）
B6: エイチ・アイ・エス（6社計 *2)
B7: KNT-CTホールディングス（13社計 *3）
B8: （株）日本旅行
B9: 阪急交通社（3社計 *4）
B10: （株）ジャルパック
B11: ANAセールス（株）
B12: 東武トップツアーズ（株）
B13: （株）ジェイアール東海ツアーズ
B14: 名鉄観光サービス（株）
B15: （株）農協観光
B16: ビッグホリデー（株）
... B52: （株）JAL JTAセールス
B53: 合計 | C53: =SUM(C5:C52) -> 0 | D53: =SUM(D5:D52) -> 0 | E53: =(C53/D53)*100 -> #DIV/0! | F53: =SUM(F5:F52) -> 0 | G53: =SUM(G5:G52) -> 0 | H53: =(F53/G53)*100 -> #DIV/0! | I53: =SUM(I5:I52) -> 0 | J53: =SUM(J5:J52) -> 0 | K53: =(I53/J53)*100 -> #DIV/0! | L53: =SUM(L5:L52) -> 0 | M53: =SUM(M5:M52) -> 0 | N53: =(L53/M53)*100 -> #DIV/0!
C55: *1 JTBの10社内取引を相殺し合計
C56: JTB10社：
C57: JTB、JTBグローバルマーケティング＆トラベル、JTB沖縄、JTB京阪トラベル、エイ・ビー・アイ、JTBメディアリテーリング、
C58: JTBグランドツアー＆サービス、JTBビジネストラベルソリューションズ、JTBガイアレック、トラベルプラザインターナショナル
C60: *2 HISの6社内取引を相殺し合計
C61: HIS6社：
C62: エイチ・アイ・エス、オリオンツアー、クオリタ、クルーズプラネット、ジャパンホリデートラベル、エイチ・アイ・エス沖縄
C64: *3 KNT-CTホールディングスの13社内取引を相殺し合計
C65: KNT-CTホールディングス13社：
C66: クラブツーリズム、近畿日本ツーリスト北海道、近畿日本ツーリスト東北、近畿日本ツーリスト関東、近畿日本ツーリスト首都圏、
C67: 近畿日本ツーリスト中部、近畿日本ツーリスト関西、 近畿日本ツーリスト中国四国、 近畿日本ツーリスト九州、
C68: 近畿日本ツーリストコーポレートビジネス、KNT-CTグローバルトラベル、KNT-CTウエブトラベル、ユナイテッドツアーズ
... C76: タビックスジャパン、東日観光、トラベルイン、湯旅

Sheet 20年度累計
B1: 主要旅行業者の旅行取扱状況速報
F2: 2020年度
B3: 会 社 名 | C3: 海 外 旅 行 | F3: 外 国 人 旅 行 | I3: 国 内 旅 行 | L3: 合 計
C4: 取扱額（千円） | D4: 前年（千円） | E4: 前年比（％） | F4: 取扱額（千円） | G4: 前年（千円） | H4: 前年比（％） | I4: 取扱額（千円） | J4: 前年（千円） | K4: 前年比（％） | L4: 取扱額（千円） | M4: 前年（千円） | N4: 前年比（％）
B5: JTB（10社計 *1）
B6: エイチ・アイ・エス（6社計 *2)
B7: KNT-CTホールディングス（13社計 *3）
B8: （株）日本旅行
B9: 阪急交通社（3社計 *4）
B10: （株）ジャルパック
B11: ANAセールス（株）
B12: 東武トップツアーズ（株）
B13: （株）ジェイアール東海ツアーズ
B14: 名鉄観光サービス（株）
B15: （株）農協観光
B16: ビッグホリデー（株）
... B52: （株）JAL JTAセールス
B53: 合計 | C53: =SUM(C5:C52) -> 0 | D53: =SUM(D5:D52) -> 0 | E53: =(C53/D53)*100 -> #DIV/0! | F53: =SUM(F5:F52) -> 0 | G53: =SUM(G5:G52) -> 0 | H53: =(F53/G53)*100 -> #DIV/0! | I53: =SUM(I5:I52) -> 0 | J53: =SUM(J5:J52) -> 0 | K53: =(I53/J53)*100 -> #DIV/0! | L53: =SUM(L5:L52) -> 0 | M53: =SUM(M5:M52) -> 0 | N53: =(L53/M53)*100 -> #DIV/0!
C55: *1 JTBの10社内取引を相殺し合計
C56: JTB10社：
C57: JTB、JTBグローバルマーケティング＆トラベル、JTB沖縄、JTB京阪トラベル、エイ・ビー・アイ、JTBメディアリテーリング、
C58: JTBグランドツアー＆サービス、JTBビジネストラベルソリューションズ、JTBガイアレック、トラベルプラザインターナショナル
C60: *2 HISの6社内取引を相殺し合計
C61: HIS6社：
C62: エイチ・アイ・エス、オリオンツアー、クオリタ、クルーズプラネット、ジャパンホリデートラベル、エイチ・アイ・エス沖縄
C64: *3 KNT-CTホールディングスの13社内取引を相殺し合計
C65: KNT-CTホールディングス13社：
C66: クラブツーリズム、近畿日本ツーリスト北海道、近畿日本ツーリスト東北、近畿日本ツーリスト関東、近畿日本ツーリスト首都圏、
C67: 近畿日本ツーリスト中部、近畿日本ツーリスト関西、 近畿日本ツーリスト中国四国、 近畿日本ツーリスト九州、
C68: 近畿日本ツーリストコーポレートビジネス、KNT-CTグローバルトラベル、KNT-CTウエブトラベル、ユナイテッドツアーズ
... C76: タビックスジャパン、東日観光、トラベルイン、湯旅

Sheet 時系列（海外）
A1: 主要旅行業者の旅行取扱状況速報
A2: 2020年1月～2020年12月 海外旅行推移
A3: 会 社 名 | B3: 1月 | E3: 2月 | H3: 3月 | K3: 第1四半期 | N3: 4月 | Q3: 5月 | T3: 6月 | W3: 第2四半期 | Z3: 上期 | AC3: 7月 | AF3: 8月 | AI3: 9月 | AL3: 第3四半期 | AO3: 10月 | AR3: 11月 | AU3: 12月 | AX3: 第4四半期 | BA3: 下期 | BD3: 18年度累計
B4: 取扱額（千円） | C4: 前年（千円） | D4: 前年 比（％） | E4: 取扱額（千円） | F4: 前年（千円） | G4: 前年 比（％） | H4: 取扱額（千円） | I4: 前年（千円） | J4: 前年 比（％） | K4: 取扱額（千円） | L4: 前年（千円） | M4: 前年 比（％） | N4: 取扱額（千円） | O4: 前年（千円） | P4: 前年 比（％） | Q4: 取扱額（千円） | R4: 前年（千円） | S4: 前年 比（％） | T4: 取扱額（千円） | U4: 前年（千円） | V4: 前年 比（％） | W4: 取扱額（千円） | X4: 前年（千円） | Y4: 前年 比（％） | Z4: 取扱額（千円） | AA4: 前年（千円） | AB4: 前年 比（％） | AC4: 取扱額（千円） | AD4: 前年（千円） | AE4: 前年 比（％） | AF4: 取扱額（千円） | AG4: 前年（千円） | AH4: 前年 比（％） | AI4: 取扱額（千円） | AJ4: 前年（千円） | AK4: 前年 比（％） | AL4: 取扱額（千円） | AM4: 前年（千円） | AN4: 前年 比（％） | AO4: 取扱額（千円） | AP4: 前年（千円） | AQ4: 前年 比（％） | AR4: 取扱額（千円） | AS4: 前年（千円） | AT4: 前年 比（％） | AU4: 取扱額（千円） | AV4: 前年（千円） | AW4: 前年 比（％） | AX4: 取扱額（千円） | AY4: 前年（千円） | AZ4: 前年 比（％） | BA4: 取扱額（千円） | BB4: 前年（千円） | BC4: 前年 比（％） | BD4: 取扱額（千円） | BE4: 前年（千円） | BF4: 前年 比（％）
A5: ='4月'!B5 -> JTB（10社計 *1） | B5: ='20年1月'!C5 -> 32676840 | C5: ='20年1月'!D5 -> 36947196 | D5: ='20年1月'!E5 -> 88.4 | E5: ='2月'!C5 -> 37934111 | F5: ='2月'!D5 -> 44771108 | G5: ='2月'!E5 -> 84.7 | H5: ='3月'!C5 -> 8978695 | I5: ='3月'!D5 -> 51013641 | J5: ='3月'!E5 -> 17.6 | K5: ='1Q'!C5 -> 79589646 | L5: ='1Q'!D5 -> 132731945 | M5: ='1Q'!E5 -> 59.962691 | N5: ='4月'!C5 -> 813302 | O5: ='4月'!D5 -> 54110948 | P5: ='4月'!E5 -> 1.5 | Q5: ='5月'!C5 -> 673953 | R5: ='5月'!D5 -> 43629387 | S5: ='5月'!E5 -> 1.5 | T5: ='6月'!C5 -> 482123 | U5: ='6月'!D5 -> 48909364 | V5: ='6月'!E5 -> 1 | W5: ='2Q'!C5 -> 1969378 | X5: ='2Q'!D5 -> 146649699 | Y5: ='2Q'!E5 -> 1.3429131 | Z5: =上期!C5 -> 81559024 | AA5: =上期!D5 -> 279381644 | AB5: =上期!E5 -> 29.192692 | AC5: ='7月'!C5 -> 0 | AD5: ='7月'!D5 -> 0 | AE5: ='7月'!E5 -> 0 | AF5: ='8月'!C5 -> 0 | AG5: ='8月'!D5 -> 0 | AH5: ='8月'!E5 -> 0 | AI5: ='9月'!C5 -> 0 | AJ5: ='9月'!D5 -> 0 | AK5: ='9月'!E5 -> 0 | AL5: ='3Q'!C5 -> 0 | AM5: ='3Q'!D5 -> 0 | AN5: ='3Q'!E5 -> 0 | AO5: ='10月'!C5 -> 0 | AP5: ='10月'!D5 -> 0 | AQ5: ='10月'!E5 -> 0 | AR5: ='11月'!C5 -> 0 | AS5: ='11月'!D5 -> 0 | AT5: ='11月'!E5 -> 0 | AU5: ='12月'!C5 -> 0 | AV5: ='12月'!D5 -> 0 | AW5: ='12月'!E5 -> 0 | AX5: ='4Q'!C5 -> 0 | AY5: ='4Q'!D5 -> 0 | AZ5: ='4Q'!E5 -> 0 | BA5: =下期!C5 -> 0 | BB5: =下期!D5 -> 0 | BC5: =下期!E5 -> 0 | BD5: ='20年度累計'!C5 -> 0 | BE5: ='20年度累計'!D5 -> 0 | BF5: ='20年度累計'!E5 -> 0
A6: ='4月'!B6 -> エイチ・アイ・エス（6社計 *2) | B6: ='20年1月'!C6 -> 0 | C6: ='20年1月'!D6 -> 0 | D6: ='20年1月'!E6 -> 0 | E6: ='2月'!C6 -> 0 | F6: ='2月'!D6 -> 0 | G6: ='2月'!E6 -> 0 | H6: ='3月'!C6 -> 0 | I6: ='3月'!D6 -> 0 | J6: ='3月'!E6 -> 0 | K6: ='1Q'!C6 -> 0 | L6: ='1Q'!D6 -> 0 | M6: ='1Q'!E6 -> #DIV/0! | N6: ='4月'!C6 -> 0 | O6: ='4月'!D6 -> 0 | P6: ='4月'!E6 -> 0 | Q6: ='5月'!C6 -> 0 | R6: ='5月'!D6 -> 0 | S6: ='5月'!E6 -> 0 | T6: ='6月'!C6 -> 289478 | U6: ='6月'!D6 -> 28778830 | V6: ='6月'!E6 -> 1 | W6: ='2Q'!C6 -> 0 | X6: ='2Q'!D6 -> 0 | Y6: ='2Q'!E6 -> 0 | Z6: =上期!C6 -> 0 | AA6: =上期!D6 -> 0 | AB6: =上期!E6 -> 0 | AC6: ='7月'!C6 -> 0 | AD6: ='7月'!D6 -> 0 | AE6: ='7月'!E6 -> 0 | AF6: ='8月'!C6 -> 0 | AG6: ='8月'!D6 -> 0 | AH6: ='8月'!E6 -> 0 | AI6: ='9月'!C6 -> 0 | AJ6: ='9月'!D6 -> 0 | AK6: ='9月'!E6 -> 0 | AL6: ='3Q'!C6 -> 0 | AM6: ='3Q'!D6 -> 0 | AN6: ='3Q'!E6 -> 0 | AO6: ='10月'!C6 -> 0 | AP6: ='10月'!D6 -> 0 | AQ6: ='10月'!E6 -> 0 | AR6: ='11月'!C6 -> 0 | AS6: ='11月'!D6 -> 0 | AT6: ='11月'!E6 -> 0 | AU6: ='12月'!C6 -> 0 | AV6: ='12月'!D6 -> 0 | AW6: ='12月'!E6 -> 0 | AX6: ='4Q'!C6 -> 0 | AY6: ='4Q'!D6 -> 0 | AZ6: ='4Q'!E6 -> 0 | BA6: =下期!C6 -> 0 | BB6: =下期!D6 -> 0 | BC6: =下期!E6 -> 0 | BD6: ='20年度累計'!C6 -> 0 | BE6: ='20年度累計'!D6 -> 0 | BF6: ='20年度累計'!E6 -> 0
A7: ='4月'!B7 -> KNT-CTホールディングス（13社計 *3） | B7: ='20年1月'!C7 -> 11554199 | C7: ='20年1月'!D7 -> 11849447 | D7: ='20年1月'!E7 -> 97.5 | E7: ='2月'!C7 -> 10420808 | F7: ='2月'!D7 -> 12733574 | G7: ='2月'!E7 -> 81.8 | H7: ='3月'!C7 -> 3994855 | I7: ='3月'!D7 -> 15080198 | J7: ='3月'!E7 -> 26.5 | K7: ='1Q'!C7 -> 25969862 | L7: ='1Q'!D7 -> 39663219 | M7: ='1Q'!E7 -> 65.475931 | N7: ='4月'!C7 -> 234035 | O7: ='4月'!D7 -> 11233046 | P7: ='4月'!E7 -> 2.1 | Q7: ='5月'!C7 -> 124489 | R7: ='5月'!D7 -> 15463019 | S7: ='5月'!E7 -> 0.8 | T7: ='6月'!C7 -> 214160 | U7: ='6月'!D7 -> 14150487 | V7: ='6月'!E7 -> 1.5 | W7: ='2Q'!C7 -> 572684 | X7: ='2Q'!D7 -> 40846552 | Y7: ='2Q'!E7 -> 1.4020376 | Z7: =上期!C7 -> 26542546 | AA7: =上期!D7 -> 80509771 | AB7: =上期!E7 -> 32.968105 | AC7: ='7月'!C7 -> 0 | AD7: ='7月'!D7 -> 0 | AE7: ='7月'!E7 -> 0 | AF7: ='8月'!C7 -> 0 | AG7: ='8月'!D7 -> 0 | AH7: ='8月'!E7 -> 0 | AI7: ='9月'!C7 -> 0 | AJ7: ='9月'!D7 -> 0 | AK7: ='9月'!E7 -> 0 | AL7: ='3Q'!C7 -> 0 | AM7: ='3Q'!D7 -> 0 | AN7: ='3Q'!E7 -> 0 | AO7: ='10月'!C7 -> 0 | AP7: ='10月'!D7 -> 0 | AQ7: ='10月'!E7 -> 0 | AR7: ='11月'!C7 -> 0 | AS7: ='11月'!D7 -> 0 | AT7: ='11月'!E7 -> 0 | AU7: ='12月'!C7 -> 0 | AV7: ='12月'!D7 -> 0 | AW7: ='12月'!E7 -> 0 | AX7: ='4Q'!C7 -> 0 | AY7: ='4Q'!D7 -> 0 | AZ7: ='4Q'!E7 -> 0 | BA7: =下期!C7 -> 0 | BB7: =下期!D7 -> 0 | BC7: =下期!E7 -> 0 | BD7: ='20年度累計'!C7 -> 0 | BE7: ='20年度累計'!D7 -> 0 | BF7: ='20年度累計'!E7 -> 0
A8: ='4月'!B8 -> （株）日本旅行 | B8: ='20年1月'!C8 -> 8154220 | C8: ='20年1月'!D8 -> 8350981 | D8: ='20年1月'!E8 -> 97.6 | E8: ='2月'!C8 -> 6128779 | F8: ='2月'!D8 -> 9484645 | G8: ='2月'!E8 -> 64.6 | H8: ='3月'!C8 -> 131382 | I8: ='3月'!D8 -> 12099935 | J8: ='3月'!E8 -> 1.1 | K8: ='1Q'!C8 -> 14414381 | L8: ='1Q'!D8 -> 29935561 | M8: ='1Q'!E8 -> 48.151364 | N8: ='4月'!C8 -> 0 | O8: ='4月'!D8 -> 8812686 | P8: ='4月'!E8 -> － | Q8: ='5月'!C8 -> 0 | R8: ='5月'!D8 -> 11849174 | S8: ='5月'!E8 -> － | T8: ='6月'!C8 -> 18843 | U8: ='6月'!D8 -> 10408263 | V8: ='6月'!E8 -> 0.2 | W8: ='2Q'!C8 -> 18843 | X8: ='2Q'!D8 -> 31070123 | Y8: ='2Q'!E8 -> 0.060646686 | Z8: =上期!C8 -> 14433224 | AA8: =上期!D8 -> 61005684 | AB8: =上期!E8 -> 23.658818 | AC8: ='7月'!C8 -> 0 | AD8: ='7月'!D8 -> 0 | AE8: ='7月'!E8 -> 0 | AF8: ='8月'!C8 -> 0 | AG8: ='8月'!D8 -> 0 | AH8: ='8月'!E8 -> 0 | AI8: ='9月'!C8 -> 0 | AJ8: ='9月'!D8 -> 0 | AK8: ='9月'!E8 -> 0 | AL8: ='3Q'!C8 -> 0 | AM8: ='3Q'!D8 -> 0 | AN8: ='3Q'!E8 -> 0 | AO8: ='10月'!C8 -> 0 | AP8: ='10月'!D8 -> 0 | AQ8: ='10月'!E8 -> 0 | AR8: ='11月'!C8 -> 0 | AS8: ='11月'!D8 -> 0 | AT8: ='11月'!E8 -> 0 | AU8: ='12月'!C8 -> 0 | AV8: ='12月'!D8 -> 0 | AW8: ='12月'!E8 -> 0 | AX8: ='4Q'!C8 -> 0 | AY8: ='4Q'!D8 -> 0 | AZ8: ='4Q'!E8 -> 0 | BA8: =下期!C8 -> 0 | BB8: =下期!D8 -> 0 | BC8: =下期!E8 -> 0 | BD8: ='20年度累計'!C8 -> 0 | BE8: ='20年度累計'!D8 -> 0 | BF8: ='20年度累計'!E8 -> 0
A9: ='4月'!B9 -> 阪急交通社（3社計 *4） | B9: ='20年1月'!C9 -> 16229000 | C9: ='20年1月'!D9 -> 16923416 | D9: ='20年1月'!E9 -> 95.9 | E9: ='2月'!C9 -> 9700991 | F9: ='2月'!D9 -> 17993402 | G9: ='2月'!E9 -> 53.9 | H9: ='3月'!C9 -> 213501 | I9: ='3月'!D9 -> 19331861 | J9: ='3月'!E9 -> 1.1 | K9: ='1Q'!C9 -> 26143492 | L9: ='1Q'!D9 -> 54248679 | M9: ='1Q'!E9 -> 48.191942 | N9: ='4月'!C9 -> 0 | O9: ='4月'!D9 -> 19071765 | P9: ='4月'!E9 -> － | Q9: ='5月'!C9 -> 0 | R9: ='5月'!D9 -> 22675838 | S9: ='5月'!E9 -> － | T9: ='6月'!C9 -> 77358 | U9: ='6月'!D9 -> 20423030 | V9: ='6月'!E9 -> 0.4 | W9: ='2Q'!C9 -> 77358 | X9: ='2Q'!D9 -> 62170633 | Y9: ='2Q'!E9 -> 0.12442852 | Z9: =上期!C9 -> 26220850 | AA9: =上期!D9 -> 116419312 | AB9: =上期!E9 -> 22.522767 | AC9: ='7月'!C9 -> 0 | AD9: ='7月'!D9 -> 0 | AE9: ='7月'!E9 -> 0 | AF9: ='8月'!C9 -> 0 | AG9: ='8月'!D9 -> 0 | AH9: ='8月'!E9 -> 0 | AI9: ='9月'!C9 -> 0 | AJ9: ='9月'!D9 -> 0 | AK9: ='9月'!E9 -> 0 | AL9: ='3Q'!C9 -> 0 | AM9: ='3Q'!D9 -> 0 | AN9: ='3Q'!E9 -> 0 | AO9: ='10月'!C9 -> 0 | AP9: ='10月'!D9 -> 0 | AQ9: ='10月'!E9 -> 0 | AR9: ='11月'!C9 -> 0 | AS9: ='11月'!D9 -> 0 | AT9: ='11月'!E9 -> 0 | AU9: ='12月'!C9 -> 0 | AV9: ='12月'!D9 -> 0 | AW9: ='12月'!E9 -> 0 | AX9: ='4Q'!C9 -> 0 | AY9: ='4Q'!D9 -> 0 | AZ9: ='4Q'!E9 -> 0 | BA9: =下期!C9 -> 0 | BB9: =下期!D9 -> 0 | BC9: =下期!E9 -> 0 | BD9: ='20年度累計'!C9 -> 0 | BE9: ='20年度累計'!D9 -> 0 | BF9: ='20年度累計'!E9 -> 0
A10: ='4月'!B10 -> （株）ジャルパック | B10: ='20年1月'!C10 -> 2965661 | C10: ='20年1月'!D10 -> 3384379 | D10: ='20年1月'!E10 -> 87.6 | E10: ='2月'!C10 -> 3626863 | F10: ='2月'!D10 -> 3782703 | G10: ='2月'!E10 -> 95.9 | H10: ='3月'!C10 -> 844397 | I10: ='3月'!D10 -> 4419746 | J10: ='3月'!E10 -> 19.1 | K10: ='1Q'!C10 -> 7436921 | L10: ='1Q'!D10 -> 11586828 | M10: ='1Q'!E10 -> 64.18427 | N10: ='4月'!C10 -> 4049 | O10: ='4月'!D10 -> 3812342 | P10: ='4月'!E10 -> 0.1 | Q10: ='5月'!C10 -> 0 | R10: ='5月'!D10 -> 3338632 | S10: ='5月'!E10 -> － | T10: ='6月'!C10 -> 1031 | U10: ='6月'!D10 -> 3823188 | V10: ='6月'!E10 -> 0 | W10: ='2Q'!C10 -> 5080 | X10: ='2Q'!D10 -> 10974162 | Y10: ='2Q'!E10 -> 0.04629055 | Z10: =上期!C10 -> 7442001 | AA10: =上期!D10 -> 22560990 | AB10: =上期!E10 -> 32.986146 | AC10: ='7月'!C10 -> 0 | AD10: ='7月'!D10 -> 0 | AE10: ='7月'!E10 -> 0 | AF10: ='8月'!C10 -> 0 | AG10: ='8月'!D10 -> 0 | AH10: ='8月'!E10 -> 0 | AI10: ='9月'!C10 -> 0 | AJ10: ='9月'!D10 -> 0 | AK10: ='9月'!E10 -> 0 | AL10: ='3Q'!C10 -> 0 | AM10: ='3Q'!D10 -> 0 | AN10: ='3Q'!E10 -> 0 | AO10: ='10月'!C10 -> 0 | AP10: ='10月'!D10 -> 0 | AQ10: ='10月'!E10 -> 0 | AR10: ='11月'!C10 -> 0 | AS10: ='11月'!D10 -> 0 | AT10: ='11月'!E10 -> 0 | AU10: ='12月'!C10 -> 0 | AV10: ='12月'!D10 -> 0 | AW10: ='12月'!E10 -> 0 | AX10: ='4Q'!C10 -> 0 | AY10: ='4Q'!D10 -> 0 | AZ10: ='4Q'!E10 -> 0 | BA10: =下期!C10 -> 0 | BB10: =下期!D10 -> 0 | BC10: =下期!E10 -> 0 | BD10: ='20年度累計'!C10 -> 0 | BE10: ='20年度累計'!D10 -> 0 | BF10: ='20年度累計'!E10 -> 0
A11: ='4月'!B11 -> ANAセールス（株） | B11: ='20年1月'!C11 -> 1568361 | C11: ='20年1月'!D11 -> 1422387 | D11: ='20年1月'!E11 -> 110.3 | E11: ='2月'!C11 -> 1741349 | F11: ='2月'!D11 -> 1723248 | G11: ='2月'!E11 -> 101.1 | H11: ='3月'!C11 -> 246295 | I11: ='3月'!D11 -> 1811658 | J11: ='3月'!E11 -> 13.6 | K11: ='1Q'!C11 -> 3556005 | L11: ='1Q'!D11 -> 4957293 | M11: ='1Q'!E11 -> 71.732799 | N11: ='4月'!C11 -> 0 | O11: ='4月'!D11 -> 1959475 | P11: ='4月'!E11 -> － | Q11: ='5月'!C11 -> 50654 | R11: ='5月'!D11 -> 2031044 | S11: ='5月'!E11 -> 2.5 | T11: ='6月'!C11 -> 0 | U11: ='6月'!D11 -> 1923015 | V11: ='6月'!E11 -> － | W11: ='2Q'!C11 -> 50654 | X11: ='2Q'!D11 -> 5913534 | Y11: ='2Q'!E11 -> 0.85657747 | Z11: =上期!C11 -> 3606659 | AA11: =上期!D11 -> 10870827 | AB11: =上期!E11 -> 33.177411 | AC11: ='7月'!C11 -> 0 | AD11: ='7月'!D11 -> 0 | AE11: ='7月'!E11 -> 0 | AF11: ='8月'!C11 -> 0 | AG11: ='8月'!D11 -> 0 | AH11: ='8月'!E11 -> 0 | AI11: ='9月'!C11 -> 0 | AJ11: ='9月'!D11 -> 0 | AK11: ='9月'!E11 -> 0 | AL11: ='3Q'!C11 -> 0 | AM11: ='3Q'!D11 -> 0 | AN11: ='3Q'!E11 -> 0 | AO11: ='10月'!C11 -> 0 | AP11: ='10月'!D11 -> 0 | AQ11: ='10月'!E11 -> 0 | AR11: ='11月'!C11 -> 0 | AS11: ='11月'!D11 -> 0 | AT11: ='11月'!E11 -> 0 | AU11: ='12月'!C11 -> 0 | AV11: ='12月'!D11 -> 0 | AW11: ='12月'!E11 -> 0 | AX11: ='4Q'!C11 -> 0 | AY11: ='4Q'!D11 -> 0 | AZ11: ='4Q'!E11 -> 0 | BA11: =下期!C11 -> 0 | BB11: =下期!D11 -> 0 | BC11: =下期!E11 -> 0 | BD11: ='20年度累計'!C11 -> 0 | BE11: ='20年度累計'!D11 -> 0 | BF11: ='20年度累計'!E11 -> 0
A12: ='4月'!B12 -> 東武トップツアーズ（株） | B12: ='20年1月'!C12 -> 2044449 | C12: ='20年1月'!D12 -> 1644794 | D12: ='20年1月'!E12 -> 124.3 | E12: ='2月'!C12 -> 1721813 | F12: ='2月'!D12 -> 2159480 | G12: ='2月'!E12 -> 79.7 | H12: ='3月'!C12 -> 564196 | I12: ='3月'!D12 -> 3119662 | J12: ='3月'!E12 -> 18.1 | K12: ='1Q'!C12 -> 4330458 | L12: ='1Q'!D12 -> 6923936 | M12: ='1Q'!E12 -> 62.543299 | N12: ='4月'!C12 -> 253920 | O12: ='4月'!D12 -> 1755975 | P12: ='4月'!E12 -> 0.1 | Q12: ='5月'!C12 -> 56301 | R12: ='5月'!D12 -> 2416431 | S12: ='5月'!E12 -> 2.3 | T12: ='6月'!C12 -> 76418 | U12: ='6月'!D12 -> 2845245 | V12: ='6月'!E12 -> 2.7 | W12: ='2Q'!C12 -> 386639 | X12: ='2Q'!D12 -> 7017651 | Y12: ='2Q'!E12 -> 5.5095216 | Z12: =上期!C12 -> 4717097 | AA12: =上期!D12 -> 13941587 | AB12: =上期!E12 -> 33.834721 | AC12: ='7月'!C12 -> 0 | AD12: ='7月'!D12 -> 0 | AE12: ='7月'!E12 -> 0 | AF12: ='8月'!C12 -> 0 | AG12: ='8月'!D12 -> 0 | AH12: ='8月'!E12 -> 0 | AI12: ='9月'!C12 -> 0 | AJ12: ='9月'!D12 -> 0 | AK12: ='9月'!E12 -> 0 | AL12: ='3Q'!C12 -> 0 | AM12: ='3Q'!D12 -> 0 | AN12: ='3Q'!E12 -> 0 | AO12: ='10月'!C12 -> 0 | AP12: ='10月'!D12 -> 0 | AQ12: ='10月'!E12 -> 0 | AR12: ='11月'!C12 -> 0 | AS12: ='11月'!D12 -> 0 | AT12: ='11月'!E12 -> 0 | AU12: ='12月'!C12 -> 0 | AV12: ='12月'!D12 -> 0 | AW12: ='12月'!E12 -> 0 | AX12: ='4Q'!C12 -> 0 | AY12: ='4Q'!D12 -> 0 | AZ12: ='4Q'!E12 -> 0 | BA12: =下期!C12 -> 0 | BB12: =下期!D12 -> 0 | BC12: =下期!E12 -> 0 | BD12: ='20年度累計'!C12 -> 0 | BE12: ='20年度累計'!D12 -> 0 | BF12: ='20年度累計'!E12 -> 0
A13: ='4月'!B13 -> （株）ジェイアール東海ツアーズ | B13: ='20年1月'!C13 -> 92922 | C13: ='20年1月'!D13 -> 97105 | D13: ='20年1月'!E13 -> 95.7 | E13: ='2月'!C13 -> 141089 | F13: ='2月'!D13 -> 154695 | G13: ='2月'!E13 -> 91.2 | H13: ='3月'!C13 -> 26404 | I13: ='3月'!D13 -> 133852 | J13: ='3月'!E13 -> 19.7 | K13: ='1Q'!C13 -> 260415 | L13: ='1Q'!D13 -> 385652 | M13: ='1Q'!E13 -> 67.525904 | N13: ='4月'!C13 -> 2606 | O13: ='4月'!D13 -> 148795 | P13: ='4月'!E13 -> 0 | Q13: ='5月'!C13 -> 0 | R13: ='5月'!D13 -> 104783 | S13: ='5月'!E13 -> － | T13: ='6月'!C13 -> 3968 | U13: ='6月'!D13 -> 145300 | V13: ='6月'!E13 -> 2.7 | W13: ='2Q'!C13 -> 6574 | X13: ='2Q'!D13 -> 398878 | Y13: ='2Q'!E13 -> 1.648123 | Z13: =上期!C13 -> 266989 | AA13: =上期!D13 -> 784530 | AB13: =上期!E13 -> 34.031713 | AC13: ='7月'!C13 -> 0 | AD13: ='7月'!D13 -> 0 | AE13: ='7月'!E13 -> 0 | AF13: ='8月'!C13 -> 0 | AG13: ='8月'!D13 -> 0 | AH13: ='8月'!E13 -> 0 | AI13: ='9月'!C13 -> 0 | AJ13: ='9月'!D13 -> 0 | AK13: ='9月'!E13 -> 0 | AL13: ='3Q'!C13 -> 0 | AM13: ='3Q'!D13 -> 0 | AN13: ='3Q'!E13 -> 0 | AO13: ='10月'!C13 -> 0 | AP13: ='10月'!D13 -> 0 | AQ13: ='10月'!E13 -> 0 | AR13: ='11月'!C13 -> 0 | AS13: ='11月'!D13 -> 0 | AT13: ='11月'!E13 -> 0 | AU13: ='12月'!C13 -> 0 | AV13: ='12月'!D13 -> 0 | AW13: ='12月'!E13 -> 0 | AX13: ='4Q'!C13 -> 0 | AY13: ='4Q'!D13 -> 0 | AZ13: ='4Q'!E13 -> 0 | BA13: =下期!C13 -> 0 | BB13: =下期!D13 -> 0 | BC13: =下期!E13 -> 0 | BD13: ='20年度累計'!C13 -> 0 | BE13: ='20年度累計'!D13 -> 0 | BF13: ='20年度累計'!E13 -> 0
A14: ='4月'!B14 -> 名鉄観光サービス（株） | B14: ='20年1月'!C14 -> 713744 | C14: ='20年1月'!D14 -> 919155 | D14: ='20年1月'!E14 -> 77.7 | E14: ='2月'!C14 -> 1159770 | F14: ='2月'!D14 -> 1547589 | G14: ='2月'!E14 -> 74.9 | H14: ='3月'!C14 -> 256721 | I14: ='3月'!D14 -> 1349377 | J14: ='3月'!E14 -> 19 | K14: ='1Q'!C14 -> 2130235 | L14: ='1Q'!D14 -> 3816121 | M14: ='1Q'!E14 -> 55.821998 | N14: ='4月'!C14 -> 31609 | O14: ='4月'!D14 -> 1106438 | P14: ='4月'!E14 -> 2.9 | Q14: ='5月'!C14 -> 427 | R14: ='5月'!D14 -> 974045 | S14: ='5月'!E14 -> 0 | T14: ='6月'!C14 -> 8586 | U14: ='6月'!D14 -> 1234536 | V14: ='6月'!E14 -> 0.7 | W14: ='2Q'!C14 -> 40622 | X14: ='2Q'!D14 -> 3315019 | Y14: ='2Q'!E14 -> 1.2253927 | Z14: =上期!C14 -> 2170857 | AA14: =上期!D14 -> 7131140 | AB14: =上期!E14 -> 30.441935 | AC14: ='7月'!C14 -> 0 | AD14: ='7月'!D14 -> 0 | AE14: ='7月'!E14 -> 0 | AF14: ='8月'!C14 -> 0 | AG14: ='8月'!D14 -> 0 | AH14: ='8月'!E14 -> 0 | AI14: ='9月'!C14 -> 0 | AJ14: ='9月'!D14 -> 0 | AK14: ='9月'!E14 -> 0 | AL14: ='3Q'!C14 -> 0 | AM14: ='3Q'!D14 -> 0 | AN14: ='3Q'!E14 -> 0 | AO14: ='10月'!C14 -> 0 | AP14: ='10月'!D14 -> 0 | AQ14: ='10月'!E14 -> 0 | AR14: ='11月'!C14 -> 0 | AS14: ='11月'!D14 -> 0 | AT14: ='11月'!E14 -> 0 | AU14: ='12月'!C14 -> 0 | AV14: ='12月'!D14 -> 0 | AW14: ='12月'!E14 -> 0 | AX14: ='4Q'!C14 -> 0 | AY14: ='4Q'!D14 -> 0 | AZ14: ='4Q'!E14 -> 0 | BA14: =下期!C14 -> 0 | BB14: =下期!D14 -> 0 | BC14: =下期!E14 -> 0 | BD14: ='20年度累計'!C14 -> 0 | BE14: ='20年度累計'!D14 -> 0 | BF14: ='20年度累計'!E14 -> 0
A15: ='4月'!B15 -> （株）農協観光 | B15: ='20年1月'!C15 -> 576305 | C15: ='20年1月'!D15 -> 771904 | D15: ='20年1月'!E15 -> 74.7 | E15: ='2月'!C15 -> 893007 | F15: ='2月'!D15 -> 1044206 | G15: ='2月'!E15 -> 85.5 | H15: ='3月'!C15 -> 125327 | I15: ='3月'!D15 -> 585480 | J15: ='3月'!E15 -> 21.4 | K15: ='1Q'!C15 -> 1594639 | L15: ='1Q'!D15 -> 2401590 | M15: ='1Q'!E15 -> 66.399302 | N15: ='4月'!C15 -> 2696 | O15: ='4月'!D15 -> 245694 | P15: ='4月'!E15 -> 1.1 | Q15: ='5月'!C15 -> 2434 | R15: ='5月'!D15 -> 283489 | S15: ='5月'!E15 -> 0.9 | T15: ='6月'!C15 -> 2068 | U15: ='6月'!D15 -> 559281 | V15: ='6月'!E15 -> 0.4 | W15: ='2Q'!C15 -> 7198 | X15: ='2Q'!D15 -> 1088464 | Y15: ='2Q'!E15 -> 0.66129886 | Z15: =上期!C15 -> 1601837 | AA15: =上期!D15 -> 3490054 | AB15: =上期!E15 -> 45.897198 | AC15: ='7月'!C15 -> 0 | AD15: ='7月'!D15 -> 0 | AE15: ='7月'!E15 -> 0 | AF15: ='8月'!C15 -> 0 | AG15: ='8月'!D15 -> 0 | AH15: ='8月'!E15 -> 0 | AI15: ='9月'!C15 -> 0 | AJ15: ='9月'!D15 -> 0 | AK15: ='9月'!E15 -> 0 | AL15: ='3Q'!C15 -> 0 | AM15: ='3Q'!D15 -> 0 | AN15: ='3Q'!E15 -> 0 | AO15: ='10月'!C15 -> 0 | AP15: ='10月'!D15 -> 0 | AQ15: ='10月'!E15 -> 0 | AR15: ='11月'!C15 -> 0 | AS15: ='11月'!D15 -> 0 | AT15: ='11月'!E15 -> 0 | AU15: ='12月'!C15 -> 0 | AV15: ='12月'!D15 -> 0 | AW15: ='12月'!E15 -> 0 | AX15: ='4Q'!C15 -> 0 | AY15: ='4Q'!D15 -> 0 | AZ15: ='4Q'!E15 -> 0 | BA15: =下期!C15 -> 0 | BB15: =下期!D15 -> 0 | BC15: =下期!E15 -> 0 | BD15: ='20年度累計'!C15 -> 0 | BE15: ='20年度累計'!D15 -> 0 | BF15: ='20年度累計'!E15 -> 0
A16: ='4月'!B16 -> ビッグホリデー（株） | B16: ='20年1月'!C16 -> 311770 | C16: ='20年1月'!D16 -> 323100 | D16: ='20年1月'!E16 -> 96.5 | E16: ='2月'!C16 -> 459580 | F16: ='2月'!D16 -> 499712 | G16: ='2月'!E16 -> 92 | H16: ='3月'!C16 -> 23450 | I16: ='3月'!D16 -> 359330 | J16: ='3月'!E16 -> 6.5 | K16: ='1Q'!C16 -> 794800 | L16: ='1Q'!D16 -> 1182142 | M16: ='1Q'!E16 -> 67.233886 | N16: ='4月'!C16 -> 272 | O16: ='4月'!D16 -> 331780 | P16: ='4月'!E16 -> 0.1 | Q16: ='5月'!C16 -> 28 | R16: ='5月'!D16 -> 238930 | S16: ='5月'!E16 -> 0 | T16: ='6月'!C16 -> 280 | U16: ='6月'!D16 -> 432710 | V16: ='6月'!E16 -> 0.1 | W16: ='2Q'!C16 -> 580 | X16: ='2Q'!D16 -> 1003420 | Y16: ='2Q'!E16 -> 0.057802316 | Z16: =上期!C16 -> 795380 | AA16: =上期!D16 -> 2185562 | AB16: =上期!E16 -> 36.39247 | AC16: ='7月'!C16 -> 0 | AD16: ='7月'!D16 -> 0 | AE16: ='7月'!E16 -> 0 | AF16: ='8月'!C16 -> 0 | AG16: ='8月'!D16 -> 0 | AH16: ='8月'!E16 -> 0 | AI16: ='9月'!C16 -> 0 | AJ16: ='9月'!D16 -> 0 | AK16: ='9月'!E16 -> 0 | AL16: ='3Q'!C16 -> 0 | AM16: ='3Q'!D16 -> 0 | AN16: ='3Q'!E16 -> 0 | AO16: ='10月'!C16 -> 0 | AP16: ='10月'!D16 -> 0 | AQ16: ='10月'!E16 -> 0 | AR16: ='11月'!C16 -> 0 | AS16: ='11月'!D16 -> 0 | AT16: ='11月'!E16 -> 0 | AU16: ='12月'!C16 -> 0 | AV16: ='12月'!D16 -> 0 | AW16: ='12月'!E16 -> 0 | AX16: ='4Q'!C16 -> 0 | AY16: ='4Q'!D16 -> 0 | AZ16: ='4Q'!E16 -> 0 | BA16: =下期!C16 -> 0 | BB16: =下期!D16 -> 0 | BC16: =下期!E16 -> 0 | BD16: ='20年度累計'!C16 -> 0 | BE16: ='20年度累計'!D16 -> 0 | BF16: ='20年度累計'!E16 -> 0
... A51: ='4月'!B51 -> （株）三越伊勢丹ニッコウトラベル | B51: ='20年1月'!C51 -> 83657 | C51: ='20年1月'!D51 -> 173427 | D51: ='20年1月'!E51 -> 48.2 | E51: ='2月'!C51 -> 248515 | F51: ='2月'!D51 -> 268438 | G51: ='2月'!E51 -> 92.6 | H51: ='3月'!C51 -> 48965 | I51: ='3月'!D51 -> 373350 | J51: ='3月'!E51 -> 13.1 | K51: ='1Q'!C51 -> 381137 | L51: ='1Q'!D51 -> 815215 | M51: ='1Q'!E51 -> 46.752942 | N51: ='4月'!C51 -> 0 | O51: ='4月'!D51 -> 943185 | P51: ='4月'!E51 -> － | Q51: ='5月'!C51 -> 0 | R51: ='5月'!D51 -> 486782 | S51: ='5月'!E51 -> － | T51: ='6月'!C51 -> 0 | U51: ='6月'!D51 -> 325521 | V51: ='6月'!E51 -> － | W51: ='2Q'!C51 -> 0 | X51: ='2Q'!D51 -> 1755488 | Y51: ='2Q'!E51 -> 0 | Z51: =上期!C51 -> 381137 | AA51: =上期!D51 -> 2570703 | AB51: =上期!E51 -> 14.826178 | AC51: ='7月'!C51 -> 0 | AD51: ='7月'!D51 -> 0 | AE51: ='7月'!E51 -> 0 | AF51: ='8月'!C51 -> 0 | AG51: ='8月'!D51 -> 0 | AH51: ='8月'!E51 -> 0 | AI51: ='9月'!C51 -> 0 | AJ51: ='9月'!D51 -> 0 | AK51: ='9月'!E51 -> 0 | AL51: ='3Q'!C51 -> 0 | AM51: ='3Q'!D51 -> 0 | AN51: ='3Q'!E51 -> 0 | AO51: ='10月'!C51 -> 0 | AP51: ='10月'!D51 -> 0 | AQ51: ='10月'!E51 -> 0 | AR51: ='11月'!C51 -> 0 | AS51: ='11月'!D51 -> 0 | AT51: ='11月'!E51 -> 0 | AU51: ='12月'!C51 -> 0 | AV51: ='12月'!D51 -> 0 | AW51: ='12月'!E51 -> 0 | AX51: ='4Q'!C51 -> 0 | AY51: ='4Q'!D51 -> 0 | AZ51: ='4Q'!E51 -> 0 | BA51: =下期!C51 -> 0 | BB51: =下期!D51 -> 0 | BC51: =下期!E51 -> 0 | BD51: ='20年度累計'!C51 -> 0 | BE51: ='20年度累計'!D51 -> 0 | BF51: ='20年度累計'!E51 -> 0
A52: ='4月'!#REF! -> #REF! | B52: ='20年1月'!#REF! -> #REF! | C52: ='20年1月'!#REF! -> #REF! | D52: ='20年1月'!#REF! -> #REF! | E52: ='2月'!#REF! -> #REF! | F52: ='2月'!#REF! -> #REF! | G52: ='2月'!#REF! -> #REF! | H52: ='3月'!#REF! -> #REF! | I52: ='3月'!#REF! -> #REF! | J52: ='3月'!#REF! -> #REF! | K52: ='1Q'!#REF! -> #REF! | L52: ='1Q'!#REF! -> #REF! | M52: ='1Q'!#REF! -> #REF! | N52: ='4月'!#REF! -> #REF! | O52: ='4月'!#REF! -> #REF! | P52: ='4月'!#REF! -> #REF! | Q52: ='5月'!#REF! -> #REF! | R52: ='5月'!#REF! -> #REF! | S52: ='5月'!#REF! -> #REF! | T52: ='6月'!#REF! -> #REF! | U52: ='6月'!#REF! -> #REF! | V52: ='6月'!#REF! -> #REF! | W52: ='2Q'!#REF! -> #REF! | X52: ='2Q'!#REF! -> #REF! | Y52: ='2Q'!#REF! -> #REF! | Z52: =上期!#REF! -> #REF! | AA52: =上期!#REF! -> #REF! | AB52: =上期!#REF! -> #REF! | AC52: ='7月'!#REF! -> #REF! | AD52: ='7月'!#REF! -> #REF! | AE52: ='7月'!#REF! -> #REF! | AF52: ='8月'!#REF! -> #REF! | AG52: ='8月'!#REF! -> #REF! | AH52: ='8月'!#REF! -> #REF! | AI52: ='9月'!#REF! -> #REF! | AJ52: ='9月'!#REF! -> #REF! | AK52: ='9月'!#REF! -> #REF! | AL52: ='3Q'!#REF! -> #REF! | AM52: ='3Q'!#REF! -> #REF! | AN52: ='3Q'!#REF! -> #REF! | AO52: ='10月'!#REF! -> #REF! | AP52: ='10月'!#REF! -> #REF! | AQ52: ='10月'!#REF! -> #REF! | AR52: ='11月'!#REF! -> #REF! | AS52: ='11月'!#REF! -> #REF! | AT52: ='11月'!#REF! -> #REF! | AU52: ='12月'!#REF! -> #REF! | AV52: ='12月'!#REF! -> #REF! | AW52: ='12月'!#REF! -> #REF! | AX52: ='4Q'!#REF! -> #REF! | AY52: ='4Q'!#REF! -> #REF! | AZ52: ='4Q'!#REF! -> #REF! | BA52: =下期!#REF! -> #REF! | BB52: =下期!#REF! -> #REF! | BC52: =下期!#REF! -> #REF! | BD52: ='20年度累計'!#REF! -> #REF! | BE52: ='20年度累計'!#REF! -> #REF! | BF52: ='20年度累計'!#REF! -> #REF!
A53: ='4月'!B52 -> （株）JAL JTAセールス | B53: ='20年1月'!C52 -> 0 | C53: ='20年1月'!D52 -> 0 | D53: ='20年1月'!E52 -> － | E53: ='2月'!C52 -> 0 | F53: ='2月'!D52 -> 0 | G53: ='2月'!E52 -> － | H53: ='3月'!C52 -> 0 | I53: ='3月'!D52 -> 0 | J53: ='3月'!E52 -> － | K53: ='1Q'!C52 -> 0 | L53: ='1Q'!D52 -> 0 | M53: ='1Q'!E52 -> #DIV/0! | N53: ='4月'!C52 -> 0 | O53: ='4月'!D52 -> 0 | P53: ='4月'!E52 -> － | Q53: ='5月'!C52 -> 0 | R53: ='5月'!D52 -> 0 | S53: ='5月'!E52 -> － | T53: ='6月'!C52 -> 0 | U53: ='6月'!D52 -> 0 | V53: ='6月'!E52 -> － | W53: ='2Q'!C52 -> 0 | X53: ='2Q'!D52 -> 0 | Y53: ='2Q'!E52 -> #DIV/0! | Z53: =上期!C52 -> 0 | AA53: =上期!D52 -> 0 | AB53: =上期!E52 -> #DIV/0! | AC53: ='7月'!C52 -> 0 | AD53: ='7月'!D52 -> 0 | AE53: ='7月'!E52 -> 0 | AF53: ='8月'!C52 -> 0 | AG53: ='8月'!D52 -> 0 | AH53: ='8月'!E52 -> 0 | AI53: ='9月'!C52 -> 0 | AJ53: ='9月'!D52 -> 0 | AK53: ='9月'!E52 -> 0 | AL53: ='3Q'!C52 -> 0 | AM53: ='3Q'!D52 -> 0 | AN53: ='3Q'!E52 -> 0 | AO53: ='10月'!C52 -> 0 | AP53: ='10月'!D52 -> 0 | AQ53: ='10月'!E52 -> 0 | AR53: ='11月'!C52 -> 0 | AS53: ='11月'!D52 -> 0 | AT53: ='11月'!E52 -> 0 | AU53: ='12月'!C52 -> 0 | AV53: ='12月'!D52 -> 0 | AW53: ='12月'!E52 -> 0 | AX53: ='4Q'!C52 -> 0 | AY53: ='4Q'!D52 -> 0 | AZ53: ='4Q'!E52 -> 0 | BA53: =下期!C52 -> 0 | BB53: =下期!D52 -> 0 | BC53: =下期!E52 -> 0 | BD53: ='20年度累計'!C52 -> 0 | BE53: ='20年度累計'!D52 -> 0 | BF53: ='20年度累計'!E52 -> 0
A54: 合計 | B54: ='20年1月'!C53 -> 100077161 | C54: ='20年1月'!D53 -> 109364522 | D54: ='20年1月'!E53 -> 91.507885 | E54: ='2月'!C53 -> 94675114 | F54: ='2月'!D53 -> 124488446 | G54: ='2月'!E53 -> 76.051326 | H54: ='3月'!C53 -> 21537443 | I54: ='3月'!D53 -> 142165806 | J54: ='3月'!E53 -> 15.149524 | K54: ='1Q'!C53 -> 216289718 | L54: ='1Q'!D53 -> 376018774 | M54: ='1Q'!E53 -> 57.520989 | N54: ='4月'!C53 -> 2245169 | O54: ='4月'!D53 -> 131097340 | P54: ='4月'!E53 -> 1.7125969 | Q54: ='5月'!C53 -> 1358505 | R54: ='5月'!D53 -> 130192514 | S54: ='5月'!E53 -> 1.0434586 | T54: ='6月'!C53 -> 1901521 | U54: ='6月'!D53 -> 164344850 | V54: ='6月'!E53 -> 1.1570311 | W54: ='2Q'!C53 -> 5215717 | X54: ='2Q'!D53 -> 396855874 | Y54: ='2Q'!E53 -> 1.3142597 | Z54: =上期!C53 -> 221505435 | AA54: =上期!D53 -> 772874648 | AB54: =上期!E53 -> 28.659943 | AC54: ='7月'!C53 -> 0 | AD54: ='7月'!D53 -> 0 | AE54: ='7月'!E53 -> #DIV/0! | AF54: ='8月'!C53 -> 0 | AG54: ='8月'!D53 -> 0 | AH54: ='8月'!E53 -> #DIV/0! | AI54: ='9月'!C53 -> 0 | AJ54: ='9月'!D53 -> 0 | AK54: ='9月'!E53 -> #DIV/0! | AL54: ='3Q'!C53 -> 0 | AM54: ='3Q'!D53 -> 0 | AN54: ='3Q'!E53 -> #DIV/0! | AO54: ='10月'!C53 -> 0 | AP54: ='10月'!D53 -> 0 | AQ54: ='10月'!E53 -> #DIV/0! | AR54: ='11月'!C53 -> 0 | AS54: ='11月'!D53 -> 0 | AT54: ='11月'!E53 -> #DIV/0! | AU54: ='12月'!C53 -> 0 | AV54: ='12月'!D53 -> 0 | AW54: ='12月'!E53 -> #DIV/0! | AX54: ='4Q'!C53 -> 0 | AY54: ='4Q'!D53 -> 0 | AZ54: ='4Q'!E53 -> #DIV/0! | BA54: =下期!C53 -> 0 | BB54: =下期!D53 -> 0 | BC54: =下期!E53 -> #DIV/0! | BD54: ='20年度累計'!C53 -> 0 | BE54: ='20年度累計'!D53 -> 0 | BF54: ='20年度累計'!E53 -> #DIV/0!
O56: *1 JTBの11社内取引を相殺し合計
O57: JTB11社：
O58: JTB、JTBグローバルマーケティング＆トラベル、JTB沖縄、JTB京阪トラベル、エイ・ビー・アイ、JTBメディアリテーリング、
O59: JTBグランドツアー＆サービス、朝日旅行、JTBビジネストラベルソリューションズ、JTBガイアレック、トラベルプラザインターナショナル
O61: *2 KNT-CTホールディングスの13社内取引を相殺し合計
O62: KNT-CTホールディングス13社：
O63: クラブツーリズム、近畿日本ツーリスト北海道、近畿日本ツーリスト東北、近畿日本ツーリスト関東、近畿日本ツーリスト首都圏、
O64: 近畿日本ツーリスト中部、近畿日本ツーリスト関西、 近畿日本ツーリスト中国四国、 近畿日本ツーリスト九州、
O65: 近畿日本ツーリストコーポレートビジネス、KNT-CTグローバルトラベル、KNT-CTウエブトラベル、ユナイテッドツアーズ
O67: *3 エイチ・アイ・エスの6社内取引を相殺し合計
O68: エイチ・アイ・エス6社：
O69: HIS、オリオンツアー、クオリタ、クルーズプラネット、ジャパンホリデートラベル、ミキ・ツーリスト
... O81: タビックスジャパン、東日観光、トラベルイン、湯旅

Sheet 時系列（外国人）
A1: 主要旅行業者の旅行取扱状況速報
A2: 2020年1月～2020年12月 外国人旅行推移
A3: 会 社 名 | B3: 1月 | E3: 2月 | H3: 3月 | K3: 第1四半期 | N3: 4月 | Q3: 5月 | T3: 6月 | W3: 第2四半期 | Z3: 上期 | AC3: 7月 | AF3: 8月 | AI3: 9月 | AL3: 第3四半期 | AO3: 10月 | AR3: 11月 | AU3: 12月 | AX3: 第4四半期 | BA3: 下期 | BD3: 18年度累計
B4: 取扱額（千円） | C4: 前年（千円） | D4: 前年 比（％） | E4: 取扱額（千円） | F4: 前年（千円） | G4: 前年 比（％） | H4: 取扱額（千円） | I4: 前年（千円） | J4: 前年 比（％） | K4: 取扱額（千円） | L4: 前年（千円） | M4: 前年 比（％） | N4: 取扱額（千円） | O4: 前年（千円） | P4: 前年 比（％） | Q4: 取扱額（千円） | R4: 前年（千円） | S4: 前年 比（％） | T4: 取扱額（千円） | U4: 前年（千円） | V4: 前年 比（％） | W4: 取扱額（千円） | X4: 前年（千円） | Y4: 前年 比（％） | Z4: 取扱額（千円） | AA4: 前年（千円） | AB4: 前年 比（％） | AC4: 取扱額（千円） | AD4: 前年（千円） | AE4: 前年 比（％） | AF4: 取扱額（千円） | AG4: 前年（千円） | AH4: 前年 比（％） | AI4: 取扱額（千円） | AJ4: 前年（千円） | AK4: 前年 比（％） | AL4: 取扱額（千円） | AM4: 前年（千円） | AN4: 前年 比（％） | AO4: 取扱額（千円） | AP4: 前年（千円） | AQ4: 前年 比（％） | AR4: 取扱額（千円） | AS4: 前年（千円） | AT4: 前年 比（％） | AU4: 取扱額（千円） | AV4: 前年（千円） | AW4: 前年 比（％） | AX4: 取扱額（千円） | AY4: 前年（千円） | AZ4: 前年 比（％） | BA4: 取扱額（千円） | BB4: 前年（千円） | BC4: 前年 比（％） | BD4: 取扱額（千円） | BE4: 前年（千円） | BF4: 前年 比（％）
A5: ='4月'!B5 -> JTB（10社計 *1） | B5: ='20年1月'!F5 -> 6619624 | C5: ='20年1月'!G5 -> 5278963 | D5: ='20年1月'!H5 -> 125.4 | E5: ='2月'!F5 -> 3576940 | F5: ='2月'!G5 -> 6488036 | G5: ='2月'!H5 -> 55.1 | H5: ='3月'!F5 -> 2668307 | I5: ='3月'!G5 -> 10425750 | J5: ='3月'!H5 -> 25.6 | K5: ='1Q'!F5 -> 12864871 | L5: ='1Q'!G5 -> 22192749 | M5: ='1Q'!H5 -> 57.968803 | N5: ='4月'!F5 -> 415492 | O5: ='4月'!G5 -> 10221142 | P5: ='4月'!H5 -> 4.1 | Q5: ='5月'!F5 -> 33109 | R5: ='5月'!G5 -> 8959945 | S5: ='5月'!H5 -> 0.4 | T5: ='6月'!F5 -> 182065 | U5: ='6月'!G5 -> 8712520 | V5: ='6月'!H5 -> 2.1 | W5: ='2Q'!F5 -> 630666 | X5: ='2Q'!G5 -> 27893607 | Y5: ='2Q'!H5 -> 2.2609697 | Z5: =上期!F5 -> 13495537 | AA5: =上期!G5 -> 50086356 | AB5: =上期!H5 -> 26.944538 | AC5: ='7月'!F5 -> 0 | AD5: ='7月'!G5 -> 0 | AE5: ='7月'!H5 -> 0 | AF5: ='8月'!F5 -> 0 | AG5: ='8月'!G5 -> 0 | AH5: ='8月'!H5 -> 0 | AI5: ='9月'!F5 -> 0 | AJ5: ='9月'!G5 -> 0 | AK5: ='9月'!H5 -> 0 | AL5: ='3Q'!F5 -> 0 | AM5: ='3Q'!G5 -> 0 | AN5: ='3Q'!H5 -> 0 | AO5: ='10月'!F5 -> 0 | AP5: ='10月'!G5 -> 0 | AQ5: ='10月'!H5 -> 0 | AR5: ='11月'!F5 -> 0 | AS5: ='11月'!G5 -> 0 | AT5: ='11月'!H5 -> 0 | AU5: ='12月'!F5 -> 0 | AV5: ='12月'!G5 -> 0 | AW5: ='12月'!H5 -> 0 | AX5: ='4Q'!F5 -> 0 | AY5: ='4Q'!G5 -> 0 | AZ5: ='4Q'!H5 -> 0 | BA5: =下期!F5 -> 0 | BB5: =下期!G5 -> 0 | BC5: =下期!H5 -> 0 | BD5: ='20年度累計'!F5 -> 0 | BE5: ='20年度累計'!G5 -> 0 | BF5: ='20年度累計'!H5 -> 0
A6: ='4月'!B6 -> エイチ・アイ・エス（6社計 *2) | B6: ='20年1月'!F6 -> 0 | C6: ='20年1月'!G6 -> 0 | D6: ='20年1月'!H6 -> 0 | E6: ='2月'!F6 -> 0 | F6: ='2月'!G6 -> 0 | G6: ='2月'!H6 -> 0 | H6: ='3月'!F6 -> 0 | I6: ='3月'!G6 -> 0 | J6: ='3月'!H6 -> 0 | K6: ='1Q'!F6 -> 0 | L6: ='1Q'!G6 -> 0 | M6: ='1Q'!H6 -> #DIV/0! | N6: ='4月'!F6 -> 0 | O6: ='4月'!G6 -> 0 | P6: ='4月'!H6 -> 0 | Q6: ='5月'!F6 -> 0 | R6: ='5月'!G6 -> 0 | S6: ='5月'!H6 -> 0 | T6: ='6月'!F6 -> 3337 | U6: ='6月'!G6 -> 2712666 | V6: ='6月'!H6 -> 0.1 | W6: ='2Q'!F6 -> 0 | X6: ='2Q'!G6 -> 0 | Y6: ='2Q'!H6 -> 0 | Z6: =上期!F6 -> 0 | AA6: =上期!G6 -> 0 | AB6: =上期!H6 -> 0 | AC6: ='7月'!F6 -> 0 | AD6: ='7月'!G6 -> 0 | AE6: ='7月'!H6 -> 0 | AF6: ='8月'!F6 -> 0 | AG6: ='8月'!G6 -> 0 | AH6: ='8月'!H6 -> 0 | AI6: ='9月'!F6 -> 0 | AJ6: ='9月'!G6 -> 0 | AK6: ='9月'!H6 -> 0 | AL6: ='3Q'!F6 -> 0 | AM6: ='3Q'!G6 -> 0 | AN6: ='3Q'!H6 -> 0 | AO6: ='10月'!F6 -> 0 | AP6: ='10月'!G6 -> 0 | AQ6: ='10月'!H6 -> 0 | AR6: ='11月'!F6 -> 0 | AS6: ='11月'!G6 -> 0 | AT6: ='11月'!H6 -> 0 | AU6: ='12月'!F6 -> 0 | AV6: ='12月'!G6 -> 0 | AW6: ='12月'!H6 -> 0 | AX6: ='4Q'!F6 -> 0 | AY6: ='4Q'!G6 -> 0 | AZ6: ='4Q'!H6 -> 0 | BA6: =下期!F6 -> 0 | BB6: =下期!G6 -> 0 | BC6: =下期!H6 -> 0 | BD6: ='20年度累計'!F6 -> 0 | BE6: ='20年度累計'!G6 -> 0 | BF6: ='20年度累計'!H6 -> 0
A7: ='4月'!B7 -> KNT-CTホールディングス（13社計 *3） | B7: ='20年1月'!F7 -> 1447358 | C7: ='20年1月'!G7 -> 1460864 | D7: ='20年1月'!H7 -> 99.1 | E7: ='2月'!F7 -> 926048 | F7: ='2月'!G7 -> 1690798 | G7: ='2月'!H7 -> 54.8 | H7: ='3月'!F7 -> 645381 | I7: ='3月'!G7 -> 3350916 | J7: ='3月'!H7 -> 19.3 | K7: ='1Q'!F7 -> 3018787 | L7: ='1Q'!G7 -> 6502578 | M7: ='1Q'!H7 -> 46.424464 | N7: ='4月'!F7 -> 0 | O7: ='4月'!G7 -> 2078748 | P7: ='4月'!H7 -> － | Q7: ='5月'!F7 -> 0 | R7: ='5月'!G7 -> 2130059 | S7: ='5月'!H7 -> － | T7: ='6月'!F7 -> 0 | U7: ='6月'!G7 -> 1827284 | V7: ='6月'!H7 -> － | W7: ='2Q'!F7 -> 0 | X7: ='2Q'!G7 -> 6036091 | Y7: ='2Q'!H7 -> 0 | Z7: =上期!F7 -> 3018787 | AA7: =上期!G7 -> 12538669 | AB7: =上期!H7 -> 24.075817 | AC7: ='7月'!F7 -> 0 | AD7: ='7月'!G7 -> 0 | AE7: ='7月'!H7 -> 0 | AF7: ='8月'!F7 -> 0 | AG7: ='8月'!G7 -> 0 | AH7: ='8月'!H7 -> 0 | AI7: ='9月'!F7 -> 0 | AJ7: ='9月'!G7 -> 0 | AK7: ='9月'!H7 -> 0 | AL7: ='3Q'!F7 -> 0 | AM7: ='3Q'!G7 -> 0 | AN7: ='3Q'!H7 -> 0 | AO7: ='10月'!F7 -> 0 | AP7: ='10月'!G7 -> 0 | AQ7: ='10月'!H7 -> 0 | AR7: ='11月'!F7 -> 0 | AS7: ='11月'!G7 -> 0 | AT7: ='11月'!H7 -> 0 | AU7: ='12月'!F7 -> 0 | AV7: ='12月'!G7 -> 0 | AW7: ='12月'!H7 -> 0 | AX7: ='4Q'!F7 -> 0 | AY7: ='4Q'!G7 -> 0 | AZ7: ='4Q'!H7 -> 0 | BA7: =下期!F7 -> 0 | BB7: =下期!G7 -> 0 | BC7: =下期!H7 -> 0 | BD7: ='20年度累計'!F7 -> 0 | BE7: ='20年度累計'!G7 -> 0 | BF7: ='20年度累計'!H7 -> 0
A8: ='4月'!B8 -> （株）日本旅行 | B8: ='20年1月'!F8 -> 2683016 | C8: ='20年1月'!G8 -> 2010627 | D8: ='20年1月'!H8 -> 133.4 | E8: ='2月'!F8 -> 2427847 | F8: ='2月'!G8 -> 2603521 | G8: ='2月'!H8 -> 93.3 | H8: ='3月'!F8 -> 1872848 | I8: ='3月'!G8 -> 3892577 | J8: ='3月'!H8 -> 48.1 | K8: ='1Q'!F8 -> 6983711 | L8: ='1Q'!G8 -> 8506725 | M8: ='1Q'!H8 -> 82.096353 | N8: ='4月'!F8 -> 33105 | O8: ='4月'!G8 -> 6732342 | P8: ='4月'!H8 -> 0.5 | Q8: ='5月'!F8 -> 0 | R8: ='5月'!G8 -> 4403693 | S8: ='5月'!H8 -> － | T8: ='6月'!F8 -> 0 | U8: ='6月'!G8 -> 3457456 | V8: ='6月'!H8 -> － | W8: ='2Q'!F8 -> 33105 | X8: ='2Q'!G8 -> 14593491 | Y8: ='2Q'!H8 -> 0.22684771 | Z8: =上期!F8 -> 7016816 | AA8: =上期!G8 -> 23100216 | AB8: =上期!H8 -> 30.375543 | AC8: ='7月'!F8 -> 0 | AD8: ='7月'!G8 -> 0 | AE8: ='7月'!H8 -> 0 | AF8: ='8月'!F8 -> 0 | AG8: ='8月'!G8 -> 0 | AH8: ='8月'!H8 -> 0 | AI8: ='9月'!F8 -> 0 | AJ8: ='9月'!G8 -> 0 | AK8: ='9月'!H8 -> 0 | AL8: ='3Q'!F8 -> 0 | AM8: ='3Q'!G8 -> 0 | AN8: ='3Q'!H8 -> 0 | AO8: ='10月'!F8 -> 0 | AP8: ='10月'!G8 -> 0 | AQ8: ='10月'!H8 -> 0 | AR8: ='11月'!F8 -> 0 | AS8: ='11月'!G8 -> 0 | AT8: ='11月'!H8 -> 0 | AU8: ='12月'!F8 -> 0 | AV8: ='12月'!G8 -> 0 | AW8: ='12月'!H8 -> 0 | AX8: ='4Q'!F8 -> 0 | AY8: ='4Q'!G8 -> 0 | AZ8: ='4Q'!H8 -> 0 | BA8: =下期!F8 -> 0 | BB8: =下期!G8 -> 0 | BC8: =下期!H8 -> 0 | BD8: ='20年度累計'!F8 -> 0 | BE8: ='20年度累計'!G8 -> 0 | BF8: ='20年度累計'!H8 -> 0
A9: ='4月'!B9 -> 阪急交通社（3社計 *4） | B9: ='20年1月'!F9 -> 43366 | C9: ='20年1月'!G9 -> 49668 | D9: ='20年1月'!H9 -> 87.3 | E9: ='2月'!F9 -> 90244 | F9: ='2月'!G9 -> 158173 | G9: ='2月'!H9 -> 57.1 | H9: ='3月'!F9 -> 36764 | I9: ='3月'!G9 -> 239766 | J9: ='3月'!H9 -> 15.3 | K9: ='1Q'!F9 -> 170374 | L9: ='1Q'!G9 -> 447607 | M9: ='1Q'!H9 -> 38.063301 | N9: ='4月'!F9 -> 8538 | O9: ='4月'!G9 -> 814010 | P9: ='4月'!H9 -> 1 | Q9: ='5月'!F9 -> 2705 | R9: ='5月'!G9 -> 478638 | S9: ='5月'!H9 -> 0.6 | T9: ='6月'!F9 -> 317 | U9: ='6月'!G9 -> 242286 | V9: ='6月'!H9 -> 0.1 | W9: ='2Q'!F9 -> 11560 | X9: ='2Q'!G9 -> 1534934 | Y9: ='2Q'!H9 -> 0.75312684 | Z9: =上期!F9 -> 181934 | AA9: =上期!G9 -> 1982541 | AB9: =上期!H9 -> 9.176809 | AC9: ='7月'!F9 -> 0 | AD9: ='7月'!G9 -> 0 | AE9: ='7月'!H9 -> 0 | AF9: ='8月'!F9 -> 0 | AG9: ='8月'!G9 -> 0 | AH9: ='8月'!H9 -> 0 | AI9: ='9月'!F9 -> 0 | AJ9: ='9月'!G9 -> 0 | AK9: ='9月'!H9 -> 0 | AL9: ='3Q'!F9 -> 0 | AM9: ='3Q'!G9 -> 0 | AN9: ='3Q'!H9 -> 0 | AO9: ='10月'!F9 -> 0 | AP9: ='10月'!G9 -> 0 | AQ9: ='10月'!H9 -> 0 | AR9: ='11月'!F9 -> 0 | AS9: ='11月'!G9 -> 0 | AT9: ='11月'!H9 -> 0 | AU9: ='12月'!F9 -> 0 | AV9: ='12月'!G9 -> 0 | AW9: ='12月'!H9 -> 0 | AX9: ='4Q'!F9 -> 0 | AY9: ='4Q'!G9 -> 0 | AZ9: ='4Q'!H9 -> 0 | BA9: =下期!F9 -> 0 | BB9: =下期!G9 -> 0 | BC9: =下期!H9 -> 0 | BD9: ='20年度累計'!F9 -> 0 | BE9: ='20年度累計'!G9 -> 0 | BF9: ='20年度累計'!H9 -> 0
A10: ='4月'!B10 -> （株）ジャルパック | B10: ='20年1月'!F10 -> 3249 | C10: ='20年1月'!G10 -> 5424 | D10: ='20年1月'!H10 -> 59.9 | E10: ='2月'!F10 -> 1899 | F10: ='2月'!G10 -> 1629 | G10: ='2月'!H10 -> 116.6 | H10: ='3月'!F10 -> 0 | I10: ='3月'!G10 -> 4092 | J10: ='3月'!H10 -> － | K10: ='1Q'!F10 -> 5148 | L10: ='1Q'!G10 -> 11145 | M10: ='1Q'!H10 -> 46.191117 | N10: ='4月'!F10 -> 0 | O10: ='4月'!G10 -> 7140 | P10: ='4月'!H10 -> － | Q10: ='5月'!F10 -> 0 | R10: ='5月'!G10 -> 3097 | S10: ='5月'!H10 -> － | T10: ='6月'!F10 -> 0 | U10: ='6月'!G10 -> 1414 | V10: ='6月'!H10 -> － | W10: ='2Q'!F10 -> 0 | X10: ='2Q'!G10 -> 11651 | Y10: ='2Q'!H10 -> 0 | Z10: =上期!F10 -> 5148 | AA10: =上期!G10 -> 22796 | AB10: =上期!H10 -> 22.582909 | AC10: ='7月'!F10 -> 0 | AD10: ='7月'!G10 -> 0 | AE10: ='7月'!H10 -> 0 | AF10: ='8月'!F10 -> 0 | AG10: ='8月'!G10 -> 0 | AH10: ='8月'!H10 -> 0 | AI10: ='9月'!F10 -> 0 | AJ10: ='9月'!G10 -> 0 | AK10: ='9月'!H10 -> 0 | AL10: ='3Q'!F10 -> 0 | AM10: ='3Q'!G10 -> 0 | AN10: ='3Q'!H10 -> 0 | AO10: ='10月'!F10 -> 0 | AP10: ='10月'!G10 -> 0 | AQ10: ='10月'!H10 -> 0 | AR10: ='11月'!F10 -> 0 | AS10: ='11月'!G10 -> 0 | AT10: ='11月'!H10 -> 0 | AU10: ='12月'!F10 -> 0 | AV10: ='12月'!G10 -> 0 | AW10: ='12月'!H10 -> 0 | AX10: ='4Q'!F10 -> 0 | AY10: ='4Q'!G10 -> 0 | AZ10: ='4Q'!H10 -> 0 | BA10: =下期!F10 -> 0 | BB10: =下期!G10 -> 0 | BC10: =下期!H10 -> 0 | BD10: ='20年度累計'!F10 -> 0 | BE10: ='20年度累計'!G10 -> 0 | BF10: ='20年度累計'!H10 -> 0
A11: ='4月'!B11 -> ANAセールス（株） | B11: ='20年1月'!F11 -> 162551 | C11: ='20年1月'!G11 -> 110625 | D11: ='20年1月'!H11 -> 146.9 | E11: ='2月'!F11 -> 39415 | F11: ='2月'!G11 -> 179145 | G11: ='2月'!H11 -> 22 | H11: ='3月'!F11 -> 2441 | I11: ='3月'!G11 -> 129404 | J11: ='3月'!H11 -> 1.9 | K11: ='1Q'!F11 -> 204407 | L11: ='1Q'!G11 -> 419174 | M11: ='1Q'!H11 -> 48.764236 | N11: ='4月'!F11 -> 377 | O11: ='4月'!G11 -> 181625 | P11: ='4月'!H11 -> 0.2 | Q11: ='5月'!F11 -> 157 | R11: ='5月'!G11 -> 123169 | S11: ='5月'!H11 -> 0.1 | T11: ='6月'!F11 -> 179 | U11: ='6月'!G11 -> 118695 | V11: ='6月'!H11 -> 0.2 | W11: ='2Q'!F11 -> 713 | X11: ='2Q'!G11 -> 423489 | Y11: ='2Q'!H11 -> 0.16836329 | Z11: =上期!F11 -> 205120 | AA11: =上期!G11 -> 842663 | AB11: =上期!H11 -> 24.341878 | AC11: ='7月'!F11 -> 0 | AD11: ='7月'!G11 -> 0 | AE11: ='7月'!H11 -> 0 | AF11: ='8月'!F11 -> 0 | AG11: ='8月'!G11 -> 0 | AH11: ='8月'!H11 -> 0 | AI11: ='9月'!F11 -> 0 | AJ11: ='9月'!G11 -> 0 | AK11: ='9月'!H11 -> 0 | AL11: ='3Q'!F11 -> 0 | AM11: ='3Q'!G11 -> 0 | AN11: ='3Q'!H11 -> 0 | AO11: ='10月'!F11 -> 0 | AP11: ='10月'!G11 -> 0 | AQ11: ='10月'!H11 -> 0 | AR11: ='11月'!F11 -> 0 | AS11: ='11月'!G11 -> 0 | AT11: ='11月'!H11 -> 0 | AU11: ='12月'!F11 -> 0 | AV11: ='12月'!G11 -> 0 | AW11: ='12月'!H11 -> 0 | AX11: ='4Q'!F11 -> 0 | AY11: ='4Q'!G11 -> 0 | AZ11: ='4Q'!H11 -> 0 | BA11: =下期!F11 -> 0 | BB11: =下期!G11 -> 0 | BC11: =下期!H11 -> 0 | BD11: ='20年度累計'!F11 -> 0 | BE11: ='20年度累計'!G11 -> 0 | BF11: ='20年度累計'!H11 -> 0
A12: ='4月'!B12 -> 東武トップツアーズ（株） | B12: ='20年1月'!F12 -> 182802 | C12: ='20年1月'!G12 -> 242148 | D12: ='20年1月'!H12 -> 75.5 | E12: ='2月'!F12 -> 203861 | F12: ='2月'!G12 -> 281914 | G12: ='2月'!H12 -> 72.3 | H12: ='3月'!F12 -> 346254 | I12: ='3月'!G12 -> 723461 | J12: ='3月'!H12 -> 47.9 | K12: ='1Q'!F12 -> 732917 | L12: ='1Q'!G12 -> 1247523 | M12: ='1Q'!H12 -> 58.749779 | N12: ='4月'!F12 -> 0 | O12: ='4月'!G12 -> 687695 | P12: ='4月'!H12 -> － | Q12: ='5月'!F12 -> 0 | R12: ='5月'!G12 -> 1182263 | S12: ='5月'!H12 -> － | T12: ='6月'!F12 -> 0 | U12: ='6月'!G12 -> 644968 | V12: ='6月'!H12 -> － | W12: ='2Q'!F12 -> 0 | X12: ='2Q'!G12 -> 2514926 | Y12: ='2Q'!H12 -> 0 | Z12: =上期!F12 -> 732917 | AA12: =上期!G12 -> 3762449 | AB12: =上期!H12 -> 19.479786 | AC12: ='7月'!F12 -> 0 | AD12: ='7月'!G12 -> 0 | AE12: ='7月'!H12 -> 0 | AF12: ='8月'!F12 -> 0 | AG12: ='8月'!G12 -> 0 | AH12: ='8月'!H12 -> 0 | AI12: ='9月'!F12 -> 0 | AJ12: ='9月'!G12 -> 0 | AK12: ='9月'!H12 -> 0 | AL12: ='3Q'!F12 -> 0 | AM12: ='3Q'!G12 -> 0 | AN12: ='3Q'!H12 -> 0 | AO12: ='10月'!F12 -> 0 | AP12: ='10月'!G12 -> 0 | AQ12: ='10月'!H12 -> 0 | AR12: ='11月'!F12 -> 0 | AS12: ='11月'!G12 -> 0 | AT12: ='11月'!H12 -> 0 | AU12: ='12月'!F12 -> 0 | AV12: ='12月'!G12 -> 0 | AW12: ='12月'!H12 -> 0 | AX12: ='4Q'!F12 -> 0 | AY12: ='4Q'!G12 -> 0 | AZ12: ='4Q'!H12 -> 0 | BA12: =下期!F12 -> 0 | BB12: =下期!G12 -> 0 | BC12: =下期!H12 -> 0 | BD12: ='20年度累計'!F12 -> 0 | BE12: ='20年度累計'!G12 -> 0 | BF12: ='20年度累計'!H12 -> 0
A13: ='4月'!B13 -> （株）ジェイアール東海ツアーズ | B13: ='20年1月'!F13 -> 161169 | C13: ='20年1月'!G13 -> 103095 | D13: ='20年1月'!H13 -> 156.3 | E13: ='2月'!F13 -> 102407 | F13: ='2月'!G13 -> 112616 | G13: ='2月'!H13 -> 90.9 | H13: ='3月'!F13 -> 36069 | I13: ='3月'!G13 -> 241818 | J13: ='3月'!H13 -> 14.9 | K13: ='1Q'!F13 -> 299645 | L13: ='1Q'!G13 -> 457529 | M13: ='1Q'!H13 -> 65.492023 | N13: ='4月'!F13 -> 991 | O13: ='4月'!G13 -> 332267 | P13: ='4月'!H13 -> 0 | Q13: ='5月'!F13 -> 120 | R13: ='5月'!G13 -> 227341 | S13: ='5月'!H13 -> 0.1 | T13: ='6月'!F13 -> 900 | U13: ='6月'!G13 -> 171003 | V13: ='6月'!H13 -> 0.5 | W13: ='2Q'!F13 -> 2011 | X13: ='2Q'!G13 -> 730611 | Y13: ='2Q'!H13 -> 0.27524907 | Z13: =上期!F13 -> 301656 | AA13: =上期!G13 -> 1188140 | AB13: =上期!H13 -> 25.388927 | AC13: ='7月'!F13 -> 0 | AD13: ='7月'!G13 -> 0 | AE13: ='7月'!H13 -> 0 | AF13: ='8月'!F13 -> 0 | AG13: ='8月'!G13 -> 0 | AH13: ='8月'!H13 -> 0 | AI13: ='9月'!F13 -> 0 | AJ13: ='9月'!G13 -> 0 | AK13: ='9月'!H13 -> 0 | AL13: ='3Q'!F13 -> 0 | AM13: ='3Q'!G13 -> 0 | AN13: ='3Q'!H13 -> 0 | AO13: ='10月'!F13 -> 0 | AP13: ='10月'!G13 -> 0 | AQ13: ='10月'!H13 -> 0 | AR13: ='11月'!F13 -> 0 | AS13: ='11月'!G13 -> 0 | AT13: ='11月'!H13 -> 0 | AU13: ='12月'!F13 -> 0 | AV13: ='12月'!G13 -> 0 | AW13: ='12月'!H13 -> 0 | AX13: ='4Q'!F13 -> 0 | AY13: ='4Q'!G13 -> 0 | AZ13: ='4Q'!H13 -> 0 | BA13: =下期!F13 -> 0 | BB13: =下期!G13 -> 0 | BC13: =下期!H13 -> 0 | BD13: ='20年度累計'!F13 -> 0 | BE13: ='20年度累計'!G13 -> 0 | BF13: ='20年度累計'!H13 -> 0
A14: ='4月'!B14 -> 名鉄観光サービス（株） | B14: ='20年1月'!F14 -> 192467 | C14: ='20年1月'!G14 -> 177182 | D14: ='20年1月'!H14 -> 108.6 | E14: ='2月'!F14 -> 105978 | F14: ='2月'!G14 -> 160972 | G14: ='2月'!H14 -> 65.8 | H14: ='3月'!F14 -> 23047 | I14: ='3月'!G14 -> 180668 | J14: ='3月'!H14 -> 12.8 | K14: ='1Q'!F14 -> 321492 | L14: ='1Q'!G14 -> 518822 | M14: ='1Q'!H14 -> 61.965761 | N14: ='4月'!F14 -> 6687 | O14: ='4月'!G14 -> 239363 | P14: ='4月'!H14 -> 2.8 | Q14: ='5月'!F14 -> 0 | R14: ='5月'!G14 -> 259457 | S14: ='5月'!H14 -> － | T14: ='6月'!F14 -> 1065 | U14: ='6月'!G14 -> 220366 | V14: ='6月'!H14 -> 0.5 | W14: ='2Q'!F14 -> 7752 | X14: ='2Q'!G14 -> 719186 | Y14: ='2Q'!H14 -> 1.0778853 | Z14: =上期!F14 -> 329244 | AA14: =上期!G14 -> 1238008 | AB14: =上期!H14 -> 26.594659 | AC14: ='7月'!F14 -> 0 | AD14: ='7月'!G14 -> 0 | AE14: ='7月'!H14 -> 0 | AF14: ='8月'!F14 -> 0 | AG14: ='8月'!G14 -> 0 | AH14: ='8月'!H14 -> 0 | AI14: ='9月'!F14 -> 0 | AJ14: ='9月'!G14 -> 0 | AK14: ='9月'!H14 -> 0 | AL14: ='3Q'!F14 -> 0 | AM14: ='3Q'!G14 -> 0 | AN14: ='3Q'!H14 -> 0 | AO14: ='10月'!F14 -> 0 | AP14: ='10月'!G14 -> 0 | AQ14: ='10月'!H14 -> 0 | AR14: ='11月'!F14 -> 0 | AS14: ='11月'!G14 -> 0 | AT14: ='11月'!H14 -> 0 | AU14: ='12月'!F14 -> 0 | AV14: ='12月'!G14 -> 0 | AW14: ='12月'!H14 -> 0 | AX14: ='4Q'!F14 -> 0 | AY14: ='4Q'!G14 -> 0 | AZ14: ='4Q'!H14 -> 0 | BA14: =下期!F14 -> 0 | BB14: =下期!G14 -> 0 | BC14: =下期!H14 -> 0 | BD14: ='20年度累計'!F14 -> 0 | BE14: ='20年度累計'!G14 -> 0 | BF14: ='20年度累計'!H14 -> 0
A15: ='4月'!B15 -> （株）農協観光 | B15: ='20年1月'!F15 -> 47962 | C15: ='20年1月'!G15 -> 51333 | D15: ='20年1月'!H15 -> 93.4 | E15: ='2月'!F15 -> 44845 | F15: ='2月'!G15 -> 44952 | G15: ='2月'!H15 -> 99.8 | H15: ='3月'!F15 -> 13527 | I15: ='3月'!G15 -> 103917 | J15: ='3月'!H15 -> 13 | K15: ='1Q'!F15 -> 106334 | L15: ='1Q'!G15 -> 200202 | M15: ='1Q'!H15 -> 53.113356 | N15: ='4月'!F15 -> 901 | O15: ='4月'!G15 -> 181897 | P15: ='4月'!H15 -> 0.5 | Q15: ='5月'!F15 -> 211 | R15: ='5月'!G15 -> 152896 | S15: ='5月'!H15 -> 0.1 | T15: ='6月'!F15 -> 106 | U15: ='6月'!G15 -> 80831 | V15: ='6月'!H15 -> 0.1 | W15: ='2Q'!F15 -> 1218 | X15: ='2Q'!G15 -> 415624 | Y15: ='2Q'!H15 -> 0.29305334 | Z15: =上期!F15 -> 107552 | AA15: =上期!G15 -> 615826 | AB15: =上期!H15 -> 17.464673 | AC15: ='7月'!F15 -> 0 | AD15: ='7月'!G15 -> 0 | AE15: ='7月'!H15 -> 0 | AF15: ='8月'!F15 -> 0 | AG15: ='8月'!G15 -> 0 | AH15: ='8月'!H15 -> 0 | AI15: ='9月'!F15 -> 0 | AJ15: ='9月'!G15 -> 0 | AK15: ='9月'!H15 -> 0 | AL15: ='3Q'!F15 -> 0 | AM15: ='3Q'!G15 -> 0 | AN15: ='3Q'!H15 -> 0 | AO15: ='10月'!F15 -> 0 | AP15: ='10月'!G15 -> 0 | AQ15: ='10月'!H15 -> 0 | AR15: ='11月'!F15 -> 0 | AS15: ='11月'!G15 -> 0 | AT15: ='11月'!H15 -> 0 | AU15: ='12月'!F15 -> 0 | AV15: ='12月'!G15 -> 0 | AW15: ='12月'!H15 -> 0 | AX15: ='4Q'!F15 -> 0 | AY15: ='4Q'!G15 -> 0 | AZ15: ='4Q'!H15 -> 0 | BA15: =下期!F15 -> 0 | BB15: =下期!G15 -> 0 | BC15: =下期!H15 -> 0 | BD15: ='20年度累計'!F15 -> 0 | BE15: ='20年度累計'!G15 -> 0 | BF15: ='20年度累計'!H15 -> 0
A16: ='4月'!B16 -> ビッグホリデー（株） | B16: ='20年1月'!F16 -> 0 | C16: ='20年1月'!G16 -> 0 | D16: ='20年1月'!H16 -> － | E16: ='2月'!F16 -> 0 | F16: ='2月'!G16 -> 0 | G16: ='2月'!H16 -> － | H16: ='3月'!F16 -> 0 | I16: ='3月'!G16 -> 0 | J16: ='3月'!H16 -> － | K16: ='1Q'!F16 -> 0 | L16: ='1Q'!G16 -> 0 | M16: ='1Q'!H16 -> #DIV/0! | N16: ='4月'!F16 -> 0 | O16: ='4月'!G16 -> 0 | P16: ='4月'!H16 -> － | Q16: ='5月'!F16 -> 0 | R16: ='5月'!G16 -> 0 | S16: ='5月'!H16 -> － | T16: ='6月'!F16 -> 0 | U16: ='6月'!G16 -> 0 | V16: ='6月'!H16 -> － | W16: ='2Q'!F16 -> 0 | X16: ='2Q'!G16 -> 0 | Y16: ='2Q'!H16 -> #DIV/0! | Z16: =上期!F16 -> 0 | AA16: =上期!G16 -> 0 | AB16: =上期!H16 -> #DIV/0! | AC16: ='7月'!F16 -> 0 | AD16: ='7月'!G16 -> 0 | AE16: ='7月'!H16 -> 0 | AF16: ='8月'!F16 -> 0 | AG16: ='8月'!G16 -> 0 | AH16: ='8月'!H16 -> 0 | AI16: ='9月'!F16 -> 0 | AJ16: ='9月'!G16 -> 0 | AK16: ='9月'!H16 -> 0 | AL16: ='3Q'!F16 -> 0 | AM16: ='3Q'!G16 -> 0 | AN16: ='3Q'!H16 -> 0 | AO16: ='10月'!F16 -> 0 | AP16: ='10月'!G16 -> 0 | AQ16: ='10月'!H16 -> 0 | AR16: ='11月'!F16 -> 0 | AS16: ='11月'!G16 -> 0 | AT16: ='11月'!H16 -> 0 | AU16: ='12月'!F16 -> 0 | AV16: ='12月'!G16 -> 0 | AW16: ='12月'!H16 -> 0 | AX16: ='4Q'!F16 -> 0 | AY16: ='4Q'!G16 -> 0 | AZ16: ='4Q'!H16 -> 0 | BA16: =下期!F16 -> 0 | BB16: =下期!G16 -> 0 | BC16: =下期!H16 -> 0 | BD16: ='20年度累計'!F16 -> 0 | BE16: ='20年度累計'!G16 -> 0 | BF16: ='20年度累計'!H16 -> 0
... A51: ='4月'!B51 -> （株）三越伊勢丹ニッコウトラベル | B51: ='20年1月'!F51 -> 0 | C51: ='20年1月'!G51 -> 0 | D51: ='20年1月'!H51 -> － | E51: ='2月'!F51 -> 0 | F51: ='2月'!G51 -> 0 | G51: ='2月'!H51 -> － | H51: ='3月'!F51 -> 0 | I51: ='3月'!G51 -> 0 | J51: ='3月'!H51 -> － | K51: ='1Q'!F51 -> 0 | L51: ='1Q'!G51 -> 0 | M51: ='1Q'!H51 -> #DIV/0! | N51: ='4月'!F51 -> 0 | O51: ='4月'!G51 -> 0 | P51: ='4月'!H51 -> － | Q51: ='5月'!F51 -> 0 | R51: ='5月'!G51 -> 0 | S51: ='5月'!H51 -> － | T51: ='6月'!F51 -> 0 | U51: ='6月'!G51 -> 0 | V51: ='6月'!H51 -> － | W51: ='2Q'!F51 -> 0 | X51: ='2Q'!G51 -> 0 | Y51: ='2Q'!H51 -> #DIV/0! | Z51: =上期!F51 -> 0 | AA51: =上期!G51 -> 0 | AB51: =上期!H51 -> #DIV/0! | AC51: ='7月'!F51 -> 0 | AD51: ='7月'!G51 -> 0 | AE51: ='7月'!H51 -> 0 | AF51: ='8月'!F51 -> 0 | AG51: ='8月'!G51 -> 0 | AH51: ='8月'!H51 -> 0 | AI51: ='9月'!F51 -> 0 | AJ51: ='9月'!G51 -> 0 | AK51: ='9月'!H51 -> 0 | AL51: ='3Q'!F51 -> 0 | AM51: ='3Q'!G51 -> 0 | AN51: ='3Q'!H51 -> 0 | AO51: ='10月'!F51 -> 0 | AP51: ='10月'!G51 -> 0 | AQ51: ='10月'!H51 -> 0 | AR51: ='11月'!F51 -> 0 | AS51: ='11月'!G51 -> 0 | AT51: ='11月'!H51 -> 0 | AU51: ='12月'!F51 -> 0 | AV51: ='12月'!G51 -> 0 | AW51: ='12月'!H51 -> 0 | AX51: ='4Q'!F51 -> 0 | AY51: ='4Q'!G51 -> 0 | AZ51: ='4Q'!H51 -> 0 | BA51: =下期!F51 -> 0 | BB51: =下期!G51 -> 0 | BC51: =下期!H51 -> 0 | BD51: ='20年度累計'!F51 -> 0 | BE51: ='20年度累計'!G51 -> 0 | BF51: ='20年度累計'!H51 -> 0
A52: ='4月'!#REF! -> #REF! | B52: ='20年1月'!#REF! -> #REF! | C52: ='20年1月'!#REF! -> #REF! | D52: ='20年1月'!#REF! -> #REF! | E52: ='2月'!#REF! -> #REF! | F52: ='2月'!#REF! -> #REF! | G52: ='2月'!#REF! -> #REF! | H52: ='3月'!#REF! -> #REF! | I52: ='3月'!#REF! -> #REF! | J52: ='3月'!#REF! -> #REF! | K52: ='1Q'!#REF! -> #REF! | L52: ='1Q'!#REF! -> #REF! | M52: ='1Q'!#REF! -> #REF! | N52: ='4月'!#REF! -> #REF! | O52: ='4月'!#REF! -> #REF! | P52: ='4月'!#REF! -> #REF! | Q52: ='5月'!#REF! -> #REF! | R52: ='5月'!#REF! -> #REF! | S52: ='5月'!#REF! -> #REF! | T52: ='6月'!#REF! -> #REF! | U52: ='6月'!#REF! -> #REF! | V52: ='6月'!#REF! -> #REF! | W52: ='2Q'!#REF! -> #REF! | X52: ='2Q'!#REF! -> #REF! | Y52: ='2Q'!#REF! -> #REF! | Z52: =上期!#REF! -> #REF! | AA52: =上期!#REF! -> #REF! | AB52: =上期!#REF! -> #REF! | AC52: ='7月'!#REF! -> #REF! | AD52: ='7月'!#REF! -> #REF! | AE52: ='7月'!#REF! -> #REF! | AF52: ='8月'!#REF! -> #REF! | AG52: ='8月'!#REF! -> #REF! | AH52: ='8月'!#REF! -> #REF! | AI52: ='9月'!#REF! -> #REF! | AJ52: ='9月'!#REF! -> #REF! | AK52: ='9月'!#REF! -> #REF! | AL52: ='3Q'!#REF! -> #REF! | AM52: ='3Q'!#REF! -> #REF! | AN52: ='3Q'!#REF! -> #REF! | AO52: ='10月'!#REF! -> #REF! | AP52: ='10月'!#REF! -> #REF! | AQ52: ='10月'!#REF! -> #REF! | AR52: ='11月'!#REF! -> #REF! | AS52: ='11月'!#REF! -> #REF! | AT52: ='11月'!#REF! -> #REF! | AU52: ='12月'!#REF! -> #REF! | AV52: ='12月'!#REF! -> #REF! | AW52: ='12月'!#REF! -> #REF! | AX52: ='4Q'!#REF! -> #REF! | AY52: ='4Q'!#REF! -> #REF! | AZ52: ='4Q'!#REF! -> #REF! | BA52: =下期!#REF! -> #REF! | BB52: =下期!#REF! -> #REF! | BC52: =下期!#REF! -> #REF! | BD52: ='20年度累計'!#REF! -> #REF! | BE52: ='20年度累計'!#REF! -> #REF! | BF52: ='20年度累計'!#REF! -> #REF!
A53: ='4月'!B52 -> （株）JAL JTAセールス | B53: ='20年1月'!F52 -> 0 | C53: ='20年1月'!G52 -> 0 | D53: ='20年1月'!H52 -> － | E53: ='2月'!F52 -> 0 | F53: ='2月'!G52 -> 0 | G53: ='2月'!H52 -> － | H53: ='3月'!F52 -> 0 | I53: ='3月'!G52 -> 0 | J53: ='3月'!H52 -> － | K53: ='1Q'!F52 -> 0 | L53: ='1Q'!G52 -> 0 | M53: ='1Q'!H52 -> #DIV/0! | N53: ='4月'!F52 -> 0 | O53: ='4月'!G52 -> 0 | P53: ='4月'!H52 -> － | Q53: ='5月'!F52 -> 0 | R53: ='5月'!G52 -> 0 | S53: ='5月'!H52 -> － | T53: ='6月'!F52 -> 0 | U53: ='6月'!G52 -> 0 | V53: ='6月'!H52 -> － | W53: ='2Q'!F52 -> 0 | X53: ='2Q'!G52 -> 0 | Y53: ='2Q'!H52 -> #DIV/0! | Z53: =上期!F52 -> 0 | AA53: =上期!G52 -> 0 | AB53: =上期!H52 -> #DIV/0! | AC53: ='7月'!F52 -> 0 | AD53: ='7月'!G52 -> 0 | AE53: ='7月'!H52 -> 0 | AF53: ='8月'!F52 -> 0 | AG53: ='8月'!G52 -> 0 | AH53: ='8月'!H52 -> 0 | AI53: ='9月'!F52 -> 0 | AJ53: ='9月'!G52 -> 0 | AK53: ='9月'!H52 -> 0 | AL53: ='3Q'!F52 -> 0 | AM53: ='3Q'!G52 -> 0 | AN53: ='3Q'!H52 -> 0 | AO53: ='10月'!F52 -> 0 | AP53: ='10月'!G52 -> 0 | AQ53: ='10月'!H52 -> 0 | AR53: ='11月'!F52 -> 0 | AS53: ='11月'!G52 -> 0 | AT53: ='11月'!H52 -> 0 | AU53: ='12月'!F52 -> 0 | AV53: ='12月'!G52 -> 0 | AW53: ='12月'!H52 -> 0 | AX53: ='4Q'!F52 -> 0 | AY53: ='4Q'!G52 -> 0 | AZ53: ='4Q'!H52 -> 0 | BA53: =下期!F52 -> 0 | BB53: =下期!G52 -> 0 | BC53: =下期!H52 -> 0 | BD53: ='20年度累計'!F52 -> 0 | BE53: ='20年度累計'!G52 -> 0 | BF53: ='20年度累計'!H52 -> 0
A54: 合計 | B54: ='20年1月'!F53 -> 12567475 | C54: ='20年1月'!G53 -> 10385023 | D54: ='20年1月'!H53 -> 121.01538 | E54: ='2月'!F53 -> 7976958 | F54: ='2月'!G53 -> 12412310 | G54: ='2月'!H53 -> 64.266506 | H54: ='3月'!F53 -> 5816763 | I54: ='3月'!G53 -> 20371971 | J54: ='3月'!H53 -> 28.552775 | K54: ='1Q'!F53 -> 26361196 | L54: ='1Q'!G53 -> 43169304 | M54: ='1Q'!H53 -> 61.064677 | N54: ='4月'!F53 -> 501775 | O54: ='4月'!G53 -> 22759610 | P54: ='4月'!H53 -> 2.2046731 | Q54: ='5月'!F53 -> 39240 | R54: ='5月'!G53 -> 18853382 | S54: ='5月'!H53 -> 0.20813242 | T54: ='6月'!F53 -> 191656 | U54: ='6月'!G53 -> 18825114 | V54: ='6月'!H53 -> 1.0180868 | W54: ='2Q'!F53 -> 729334 | X54: ='2Q'!G53 -> 57725440 | Y54: ='2Q'!H53 -> 1.2634533 | Z54: =上期!F53 -> 27090530 | AA54: =上期!G53 -> 100894744 | AB54: =上期!H53 -> 26.850289 | AC54: ='7月'!F53 -> 0 | AD54: ='7月'!G53 -> 0 | AE54: ='7月'!H53 -> #DIV/0! | AF54: ='8月'!F53 -> 0 | AG54: ='8月'!G53 -> 0 | AH54: ='8月'!H53 -> #DIV/0! | AI54: ='9月'!F53 -> 0 | AJ54: ='9月'!G53 -> 0 | AK54: ='9月'!H53 -> #DIV/0! | AL54: ='3Q'!F53 -> 0 | AM54: ='3Q'!G53 -> 0 | AN54: ='3Q'!H53 -> #DIV/0! | AO54: ='10月'!F53 -> 0 | AP54: ='10月'!G53 -> 0 | AQ54: ='10月'!H53 -> #DIV/0! | AR54: ='11月'!F53 -> 0 | AS54: ='11月'!G53 -> 0 | AT54: ='11月'!H53 -> #DIV/0! | AU54: ='12月'!F53 -> 0 | AV54: ='12月'!G53 -> 0 | AW54: ='12月'!H53 -> #DIV/0! | AX54: ='4Q'!F53 -> 0 | AY54: ='4Q'!G53 -> 0 | AZ54: ='4Q'!H53 -> #DIV/0! | BA54: =下期!F53 -> 0 | BB54: =下期!G53 -> 0 | BC54: =下期!H53 -> #DIV/0! | BD54: ='20年度累計'!F53 -> 0 | BE54: ='20年度累計'!G53 -> 0 | BF54: ='20年度累計'!H53 -> #DIV/0!
O56: *1 JTBの11社内取引を相殺し合計
O57: JTB11社：
O58: JTB、JTBグローバルマーケティング＆トラベル、JTB沖縄、JTB京阪トラベル、エイ・ビー・アイ、JTBメディアリテーリング、
O59: JTBグランドツアー＆サービス、朝日旅行、JTBビジネストラベルソリューションズ、JTBガイアレック、トラベルプラザインターナショナル
O61: *2 KNT-CTホールディングスの13社内取引を相殺し合計
O62: KNT-CTホールディングス13社：
O63: クラブツーリズム、近畿日本ツーリスト北海道、近畿日本ツーリスト東北、近畿日本ツーリスト関東、近畿日本ツーリスト首都圏、
O64: 近畿日本ツーリスト中部、近畿日本ツーリスト関西、 近畿日本ツーリスト中国四国、 近畿日本ツーリスト九州、
O65: 近畿日本ツーリストコーポレートビジネス、KNT-CTグローバルトラベル、KNT-CTウエブトラベル、ユナイテッドツアーズ
O67: *3 エイチ・アイ・エスの6社内取引を相殺し合計
O68: エイチ・アイ・エス6社：
O69: HIS、オリオンツアー、クオリタ、クルーズプラネット、ジャパンホリデートラベル、ミキ・ツーリスト
... O81: タビックスジャパン、東日観光、トラベルイン、湯旅

Sheet 時系列（国内）
A1: 主要旅行業者の旅行取扱状況速報
A2: 2020年1月～2020年12月 国内旅行推移
A3: 会 社 名 | B3: 1月 | E3: 2月 | H3: 3月 | K3: 第1四半期 | N3: 4月 | Q3: 5月 | T3: 6月 | W3: 第2四半期 | Z3: 上期 | AC3: 7月 | AF3: 8月 | AI3: 9月 | AL3: 第3四半期 | AO3: 10月 | AR3: 11月 | AU3: 12月 | AX3: 第4四半期 | BA3: 下期 | BD3: 18年度累計
B4: 取扱額（千円） | C4: 前年（千円） | D4: 前年 比（％） | E4: 取扱額（千円） | F4: 前年（千円） | G4: 前年 比（％） | H4: 取扱額（千円） | I4: 前年（千円） | J4: 前年 比（％） | K4: 取扱額（千円） | L4: 前年（千円） | M4: 前年 比（％） | N4: 取扱額（千円） | O4: 前年（千円） | P4: 前年 比（％） | Q4: 取扱額（千円） | R4: 前年（千円） | S4: 前年 比（％） | T4: 取扱額（千円） | U4: 前年（千円） | V4: 前年 比（％） | W4: 取扱額（千円） | X4: 前年（千円） | Y4: 前年 比（％） | Z4: 取扱額（千円） | AA4: 前年（千円） | AB4: 前年 比（％） | AC4: 取扱額（千円） | AD4: 前年（千円） | AE4: 前年 比（％） | AF4: 取扱額（千円） | AG4: 前年（千円） | AH4: 前年 比（％） | AI4: 取扱額（千円） | AJ4: 前年（千円） | AK4: 前年 比（％） | AL4: 取扱額（千円） | AM4: 前年（千円） | AN4: 前年 比（％） | AO4: 取扱額（千円） | AP4: 前年（千円） | AQ4: 前年 比（％） | AR4: 取扱額（千円） | AS4: 前年（千円） | AT4: 前年 比（％） | AU4: 取扱額（千円） | AV4: 前年（千円） | AW4: 前年 比（％） | AX4: 取扱額（千円） | AY4: 前年（千円） | AZ4: 前年 比（％） | BA4: 取扱額（千円） | BB4: 前年（千円） | BC4: 前年 比（％） | BD4: 取扱額（千円） | BE4: 前年（千円） | BF4: 前年 比（％）
A5: ='4月'!B5 -> JTB（10社計 *1） | B5: ='20年1月'!I5 -> 58609776 | C5: ='20年1月'!J5 -> 62145545 | D5: ='20年1月'!K5 -> 94.3 | E5: ='2月'!I5 -> 58701094 | F5: ='2月'!J5 -> 66058204 | G5: ='2月'!K5 -> 88.9 | H5: ='3月'!I5 -> 45886941 | I5: ='3月'!J5 -> 92706036 | J5: ='3月'!K5 -> 49.5 | K5: ='1Q'!I5 -> 163197811 | L5: ='1Q'!J5 -> 220909785 | M5: ='1Q'!K5 -> 73.87532 | N5: ='4月'!I5 -> 6828044 | O5: ='4月'!J5 -> 79987758 | P5: ='4月'!K5 -> 8.5 | Q5: ='5月'!I5 -> 4396210 | R5: ='5月'!J5 -> 88217183 | S5: ='5月'!K5 -> 5 | T5: ='6月'!I5 -> 13449351 | U5: ='6月'!J5 -> 78768220 | V5: ='6月'!K5 -> 17.1 | W5: ='2Q'!I5 -> 24673605 | X5: ='2Q'!J5 -> 246973161 | Y5: ='2Q'!K5 -> 9.9903993 | Z5: =上期!I5 -> 187871416 | AA5: =上期!J5 -> 467882946 | AB5: =上期!K5 -> 40.153508 | AC5: ='7月'!I5 -> 0 | AD5: ='7月'!J5 -> 0 | AE5: ='7月'!K5 -> 0 | AF5: ='8月'!I5 -> 0 | AG5: ='8月'!J5 -> 0 | AH5: ='8月'!K5 -> 0 | AI5: ='9月'!I5 -> 0 | AJ5: ='9月'!J5 -> 0 | AK5: ='9月'!K5 -> 0 | AL5: ='3Q'!I5 -> 0 | AM5: ='3Q'!J5 -> 0 | AN5: ='3Q'!K5 -> 0 | AO5: ='10月'!I5 -> 0 | AP5: ='10月'!J5 -> 0 | AQ5: ='10月'!K5 -> 0 | AR5: ='11月'!I5 -> 0 | AS5: ='11月'!J5 -> 0 | AT5: ='11月'!K5 -> 0 | AU5: ='12月'!I5 -> 0 | AV5: ='12月'!J5 -> 0 | AW5: ='12月'!K5 -> 0 | AX5: ='4Q'!I5 -> 0 | AY5: ='4Q'!J5 -> 0 | AZ5: ='4Q'!K5 -> 0 | BA5: =下期!I5 -> 0 | BB5: =下期!J5 -> 0 | BC5: =下期!K5 -> 0 | BD5: ='20年度累計'!I5 -> 0 | BE5: ='20年度累計'!J5 -> 0 | BF5: ='20年度累計'!K5 -> 0
A6: ='4月'!B6 -> エイチ・アイ・エス（6社計 *2) | B6: ='20年1月'!I6 -> 0 | C6: ='20年1月'!J6 -> 0 | D6: ='20年1月'!K6 -> 0 | E6: ='2月'!I6 -> 0 | F6: ='2月'!J6 -> 0 | G6: ='2月'!K6 -> 0 | H6: ='3月'!I6 -> 0 | I6: ='3月'!J6 -> 0 | J6: ='3月'!K6 -> 0 | K6: ='1Q'!I6 -> 0 | L6: ='1Q'!J6 -> 0 | M6: ='1Q'!K6 -> #DIV/0! | N6: ='4月'!I6 -> 0 | O6: ='4月'!J6 -> 0 | P6: ='4月'!K6 -> 0 | Q6: ='5月'!I6 -> 0 | R6: ='5月'!J6 -> 0 | S6: ='5月'!K6 -> 0 | T6: ='6月'!I6 -> 209509 | U6: ='6月'!J6 -> 3845575 | V6: ='6月'!K6 -> 5.4 | W6: ='2Q'!I6 -> 0 | X6: ='2Q'!J6 -> 0 | Y6: ='2Q'!K6 -> 0 | Z6: =上期!I6 -> 0 | AA6: =上期!J6 -> 0 | AB6: =上期!K6 -> 0 | AC6: ='7月'!I6 -> 0 | AD6: ='7月'!J6 -> 0 | AE6: ='7月'!K6 -> 0 | AF6: ='8月'!I6 -> 0 | AG6: ='8月'!J6 -> 0 | AH6: ='8月'!K6 -> 0 | AI6: ='9月'!I6 -> 0 | AJ6: ='9月'!J6 -> 0 | AK6: ='9月'!K6 -> 0 | AL6: ='3Q'!I6 -> 0 | AM6: ='3Q'!J6 -> 0 | AN6: ='3Q'!K6 -> 0 | AO6: ='10月'!I6 -> 0 | AP6: ='10月'!J6 -> 0 | AQ6: ='10月'!K6 -> 0 | AR6: ='11月'!I6 -> 0 | AS6: ='11月'!J6 -> 0 | AT6: ='11月'!K6 -> 0 | AU6: ='12月'!I6 -> 0 | AV6: ='12月'!J6 -> 0 | AW6: ='12月'!K6 -> 0 | AX6: ='4Q'!I6 -> 0 | AY6: ='4Q'!J6 -> 0 | AZ6: ='4Q'!K6 -> 0 | BA6: =下期!I6 -> 0 | BB6: =下期!J6 -> 0 | BC6: =下期!K6 -> 0 | BD6: ='20年度累計'!I6 -> 0 | BE6: ='20年度累計'!J6 -> 0 | BF6: ='20年度累計'!K6 -> 0
A7: ='4月'!B7 -> KNT-CTホールディングス（13社計 *3） | B7: ='20年1月'!I7 -> 18479508 | C7: ='20年1月'!J7 -> 20082715 | D7: ='20年1月'!K7 -> 92 | E7: ='2月'!I7 -> 15669973 | F7: ='2月'!J7 -> 19153551 | G7: ='2月'!K7 -> 81.8 | H7: ='3月'!I7 -> 8819165 | I7: ='3月'!J7 -> 24441361 | J7: ='3月'!K7 -> 36.1 | K7: ='1Q'!I7 -> 42968646 | L7: ='1Q'!J7 -> 63677627 | M7: ='1Q'!K7 -> 67.478403 | N7: ='4月'!I7 -> 834174 | O7: ='4月'!J7 -> 24284508 | P7: ='4月'!K7 -> 3.4 | Q7: ='5月'!I7 -> 538969 | R7: ='5月'!J7 -> 32810434 | S7: ='5月'!K7 -> 1.6 | T7: ='6月'!I7 -> 1514825 | U7: ='6月'!J7 -> 26005102 | V7: ='6月'!K7 -> 5.8 | W7: ='2Q'!I7 -> 2887968 | X7: ='2Q'!J7 -> 83100044 | Y7: ='2Q'!K7 -> 3.4752906 | Z7: =上期!I7 -> 45856614 | AA7: =上期!J7 -> 146777671 | AB7: =上期!K7 -> 31.242228 | AC7: ='7月'!I7 -> 0 | AD7: ='7月'!J7 -> 0 | AE7: ='7月'!K7 -> 0 | AF7: ='8月'!I7 -> 0 | AG7: ='8月'!J7 -> 0 | AH7: ='8月'!K7 -> 0 | AI7: ='9月'!I7 -> 0 | AJ7: ='9月'!J7 -> 0 | AK7: ='9月'!K7 -> 0 | AL7: ='3Q'!I7 -> 0 | AM7: ='3Q'!J7 -> 0 | AN7: ='3Q'!K7 -> 0 | AO7: ='10月'!I7 -> 0 | AP7: ='10月'!J7 -> 0 | AQ7: ='10月'!K7 -> 0 | AR7: ='11月'!I7 -> 0 | AS7: ='11月'!J7 -> 0 | AT7: ='11月'!K7 -> 0 | AU7: ='12月'!I7 -> 0 | AV7: ='12月'!J7 -> 0 | AW7: ='12月'!K7 -> 0 | AX7: ='4Q'!I7 -> 0 | AY7: ='4Q'!J7 -> 0 | AZ7: ='4Q'!K7 -> 0 | BA7: =下期!I7 -> 0 | BB7: =下期!J7 -> 0 | BC7: =下期!K7 -> 0 | BD7: ='20年度累計'!I7 -> 0 | BE7: ='20年度累計'!J7 -> 0 | BF7: ='20年度累計'!K7 -> 0
A8: ='4月'!B8 -> （株）日本旅行 | B8: ='20年1月'!I8 -> 18468176 | C8: ='20年1月'!J8 -> 19433371 | D8: ='20年1月'!K8 -> 95 | E8: ='2月'!I8 -> 16614461 | F8: ='2月'!J8 -> 21038530 | G8: ='2月'!K8 -> 79 | H8: ='3月'!I8 -> 7675608 | I8: ='3月'!J8 -> 25018529 | J8: ='3月'!K8 -> 30.7 | K8: ='1Q'!I8 -> 42758245 | L8: ='1Q'!J8 -> 65490430 | M8: ='1Q'!K8 -> 65.289303 | N8: ='4月'!I8 -> 1591952 | O8: ='4月'!J8 -> 25267764 | P8: ='4月'!K8 -> 6.3 | Q8: ='5月'!I8 -> 799332 | R8: ='5月'!J8 -> 28715670 | S8: ='5月'!K8 -> 2.8 | T8: ='6月'!I8 -> 3190912 | U8: ='6月'!J8 -> 21645952 | V8: ='6月'!K8 -> 14.7 | W8: ='2Q'!I8 -> 5582196 | X8: ='2Q'!J8 -> 75629386 | Y8: ='2Q'!K8 -> 7.3809881 | Z8: =上期!I8 -> 48340441 | AA8: =上期!J8 -> 141119816 | AB8: =上期!K8 -> 34.254892 | AC8: ='7月'!I8 -> 0 | AD8: ='7月'!J8 -> 0 | AE8: ='7月'!K8 -> 0 | AF8: ='8月'!I8 -> 0 | AG8: ='8月'!J8 -> 0 | AH8: ='8月'!K8 -> 0 | AI8: ='9月'!I8 -> 0 | AJ8: ='9月'!J8 -> 0 | AK8: ='9月'!K8 -> 0 | AL8: ='3Q'!I8 -> 0 | AM8: ='3Q'!J8 -> 0 | AN8: ='3Q'!K8 -> 0 | AO8: ='10月'!I8 -> 0 | AP8: ='10月'!J8 -> 0 | AQ8: ='10月'!K8 -> 0 | AR8: ='11月'!I8 -> 0 | AS8: ='11月'!J8 -> 0 | AT8: ='11月'!K8 -> 0 | AU8: ='12月'!I8 -> 0 | AV8: ='12月'!J8 -> 0 | AW8: ='12月'!K8 -> 0 | AX8: ='4Q'!I8 -> 0 | AY8: ='4Q'!J8 -> 0 | AZ8: ='4Q'!K8 -> 0 | BA8: =下期!I8 -> 0 | BB8: =下期!J8 -> 0 | BC8: =下期!K8 -> 0 | BD8: ='20年度累計'!I8 -> 0 | BE8: ='20年度累計'!J8 -> 0 | BF8: ='20年度累計'!K8 -> 0
A9: ='4月'!B9 -> 阪急交通社（3社計 *4） | B9: ='20年1月'!I9 -> 7664415 | C9: ='20年1月'!J9 -> 7967632 | D9: ='20年1月'!K9 -> 96.2 | E9: ='2月'!I9 -> 6718983 | F9: ='2月'!J9 -> 8961052 | G9: ='2月'!K9 -> 75 | H9: ='3月'!I9 -> 2072418 | I9: ='3月'!J9 -> 12558210 | J9: ='3月'!K9 -> 16.5 | K9: ='1Q'!I9 -> 16455816 | L9: ='1Q'!J9 -> 29486894 | M9: ='1Q'!K9 -> 55.807221 | N9: ='4月'!I9 -> 2591 | O9: ='4月'!J9 -> 15182187 | P9: ='4月'!K9 -> 0 | Q9: ='5月'!I9 -> 43413 | R9: ='5月'!J9 -> 13682936 | S9: ='5月'!K9 -> 0.3 | T9: ='6月'!I9 -> 235981 | U9: ='6月'!J9 -> 12048738 | V9: ='6月'!K9 -> 2 | W9: ='2Q'!I9 -> 281985 | X9: ='2Q'!J9 -> 40913861 | Y9: ='2Q'!K9 -> 0.6892163 | Z9: =上期!I9 -> 16737801 | AA9: =上期!J9 -> 70400755 | AB9: =上期!K9 -> 23.775031 | AC9: ='7月'!I9 -> 0 | AD9: ='7月'!J9 -> 0 | AE9: ='7月'!K9 -> 0 | AF9: ='8月'!I9 -> 0 | AG9: ='8月'!J9 -> 0 | AH9: ='8月'!K9 -> 0 | AI9: ='9月'!I9 -> 0 | AJ9: ='9月'!J9 -> 0 | AK9: ='9月'!K9 -> 0 | AL9: ='3Q'!I9 -> 0 | AM9: ='3Q'!J9 -> 0 | AN9: ='3Q'!K9 -> 0 | AO9: ='10月'!I9 -> 0 | AP9: ='10月'!J9 -> 0 | AQ9: ='10月'!K9 -> 0 | AR9: ='11月'!I9 -> 0 | AS9: ='11月'!J9 -> 0 | AT9: ='11月'!K9 -> 0 | AU9: ='12月'!I9 -> 0 | AV9: ='12月'!J9 -> 0 | AW9: ='12月'!K9 -> 0 | AX9: ='4Q'!I9 -> 0 | AY9: ='4Q'!J9 -> 0 | AZ9: ='4Q'!K9 -> 0 | BA9: =下期!I9 -> 0 | BB9: =下期!J9 -> 0 | BC9: =下期!K9 -> 0 | BD9: ='20年度累計'!I9 -> 0 | BE9: ='20年度累計'!J9 -> 0 | BF9: ='20年度累計'!K9 -> 0
A10: ='4月'!B10 -> （株）ジャルパック | B10: ='20年1月'!I10 -> 8836540 | C10: ='20年1月'!J10 -> 9060937 | D10: ='20年1月'!K10 -> 97.5 | E10: ='2月'!I10 -> 9993119 | F10: ='2月'!J10 -> 10350554 | G10: ='2月'!K10 -> 96.5 | H10: ='3月'!I10 -> 4247970 | I10: ='3月'!J10 -> 12919233 | J10: ='3月'!K10 -> 32.9 | K10: ='1Q'!I10 -> 23077629 | L10: ='1Q'!J10 -> 32330724 | M10: ='1Q'!K10 -> 71.379871 | N10: ='4月'!I10 -> 633868 | O10: ='4月'!J10 -> 12504578 | P10: ='4月'!K10 -> 5.1 | Q10: ='5月'!I10 -> 248759 | R10: ='5月'!J10 -> 10892688 | S10: ='5月'!K10 -> 2.3 | T10: ='6月'!I10 -> 1268789 | U10: ='6月'!J10 -> 10293452 | V10: ='6月'!K10 -> 12.3 | W10: ='2Q'!I10 -> 2151416 | X10: ='2Q'!J10 -> 33690718 | Y10: ='2Q'!K10 -> 6.3857826 | Z10: =上期!I10 -> 25229045 | AA10: =上期!J10 -> 66021442 | AB10: =上期!K10 -> 38.213411 | AC10: ='7月'!I10 -> 0 | AD10: ='7月'!J10 -> 0 | AE10: ='7月'!K10 -> 0 | AF10: ='8月'!I10 -> 0 | AG10: ='8月'!J10 -> 0 | AH10: ='8月'!K10 -> 0 | AI10: ='9月'!I10 -> 0 | AJ10: ='9月'!J10 -> 0 | AK10: ='9月'!K10 -> 0 | AL10: ='3Q'!I10 -> 0 | AM10: ='3Q'!J10 -> 0 | AN10: ='3Q'!K10 -> 0 | AO10: ='10月'!I10 -> 0 | AP10: ='10月'!J10 -> 0 | AQ10: ='10月'!K10 -> 0 | AR10: ='11月'!I10 -> 0 | AS10: ='11月'!J10 -> 0 | AT10: ='11月'!K10 -> 0 | AU10: ='12月'!I10 -> 0 | AV10: ='12月'!J10 -> 0 | AW10: ='12月'!K10 -> 0 | AX10: ='4Q'!I10 -> 0 | AY10: ='4Q'!J10 -> 0 | AZ10: ='4Q'!K10 -> 0 | BA10: =下期!I10 -> 0 | BB10: =下期!J10 -> 0 | BC10: =下期!K10 -> 0 | BD10: ='20年度累計'!I10 -> 0 | BE10: ='20年度累計'!J10 -> 0 | BF10: ='20年度累計'!K10 -> 0
A11: ='4月'!B11 -> ANAセールス（株） | B11: ='20年1月'!I11 -> 9919597 | C11: ='20年1月'!J11 -> 9814161 | D11: ='20年1月'!K11 -> 101.1 | E11: ='2月'!I11 -> 11094721 | F11: ='2月'!J11 -> 11939481 | G11: ='2月'!K11 -> 92.9 | H11: ='3月'!I11 -> 4656751 | I11: ='3月'!J11 -> 15094699 | J11: ='3月'!K11 -> 30.9 | K11: ='1Q'!I11 -> 25671069 | L11: ='1Q'!J11 -> 36848341 | M11: ='1Q'!K11 -> 69.666824 | N11: ='4月'!I11 -> 763331 | O11: ='4月'!J11 -> 14198955 | P11: ='4月'!K11 -> 5.4 | Q11: ='5月'!I11 -> 353667 | R11: ='5月'!J11 -> 12818295 | S11: ='5月'!K11 -> 2.8 | T11: ='6月'!I11 -> 1516155 | U11: ='6月'!J11 -> 12420761 | V11: ='6月'!K11 -> 12.2 | W11: ='2Q'!I11 -> 2633153 | X11: ='2Q'!J11 -> 39438011 | Y11: ='2Q'!K11 -> 6.6766881 | Z11: =上期!I11 -> 28304222 | AA11: =上期!J11 -> 76286352 | AB11: =上期!K11 -> 37.102603 | AC11: ='7月'!I11 -> 0 | AD11: ='7月'!J11 -> 0 | AE11: ='7月'!K11 -> 0 | AF11: ='8月'!I11 -> 0 | AG11: ='8月'!J11 -> 0 | AH11: ='8月'!K11 -> 0 | AI11: ='9月'!I11 -> 0 | AJ11: ='9月'!J11 -> 0 | AK11: ='9月'!K11 -> 0 | AL11: ='3Q'!I11 -> 0 | AM11: ='3Q'!J11 -> 0 | AN11: ='3Q'!K11 -> 0 | AO11: ='10月'!I11 -> 0 | AP11: ='10月'!J11 -> 0 | AQ11: ='10月'!K11 -> 0 | AR11: ='11月'!I11 -> 0 | AS11: ='11月'!J11 -> 0 | AT11: ='11月'!K11 -> 0 | AU11: ='12月'!I11 -> 0 | AV11: ='12月'!J11 -> 0 | AW11: ='12月'!K11 -> 0 | AX11: ='4Q'!I11 -> 0 | AY11: ='4Q'!J11 -> 0 | AZ11: ='4Q'!K11 -> 0 | BA11: =下期!I11 -> 0 | BB11: =下期!J11 -> 0 | BC11: =下期!K11 -> 0 | BD11: ='20年度累計'!I11 -> 0 | BE11: ='20年度累計'!J11 -> 0 | BF11: ='20年度累計'!K11 -> 0
A12: ='4月'!B12 -> 東武トップツアーズ（株） | B12: ='20年1月'!I12 -> 4816920 | C12: ='20年1月'!J12 -> 5216007 | D12: ='20年1月'!K12 -> 92.3 | E12: ='2月'!I12 -> 4584895 | F12: ='2月'!J12 -> 5339046 | G12: ='2月'!K12 -> 85.9 | H12: ='3月'!I12 -> 1660750 | I12: ='3月'!J12 -> 5601034 | J12: ='3月'!K12 -> 29.7 | K12: ='1Q'!I12 -> 11062565 | L12: ='1Q'!J12 -> 16156087 | M12: ='1Q'!K12 -> 68.473047 | N12: ='4月'!I12 -> 430426 | O12: ='4月'!J12 -> 7017921 | P12: ='4月'!K12 -> 0.1 | Q12: ='5月'!I12 -> 217005 | R12: ='5月'!J12 -> 9351760 | S12: ='5月'!K12 -> 2.3 | T12: ='6月'!I12 -> 428462 | U12: ='6月'!J12 -> 8674318 | V12: ='6月'!K12 -> 4.9 | W12: ='2Q'!I12 -> 1075893 | X12: ='2Q'!J12 -> 25043999 | Y12: ='2Q'!K12 -> 4.2960112 | Z12: =上期!I12 -> 12138458 | AA12: =上期!J12 -> 41200086 | AB12: =上期!K12 -> 29.462215 | AC12: ='7月'!I12 -> 0 | AD12: ='7月'!J12 -> 0 | AE12: ='7月'!K12 -> 0 | AF12: ='8月'!I12 -> 0 | AG12: ='8月'!J12 -> 0 | AH12: ='8月'!K12 -> 0 | AI12: ='9月'!I12 -> 0 | AJ12: ='9月'!J12 -> 0 | AK12: ='9月'!K12 -> 0 | AL12: ='3Q'!I12 -> 0 | AM12: ='3Q'!J12 -> 0 | AN12: ='3Q'!K12 -> 0 | AO12: ='10月'!I12 -> 0 | AP12: ='10月'!J12 -> 0 | AQ12: ='10月'!K12 -> 0 | AR12: ='11月'!I12 -> 0 | AS12: ='11月'!J12 -> 0 | AT12: ='11月'!K12 -> 0 | AU12: ='12月'!I12 -> 0 | AV12: ='12月'!J12 -> 0 | AW12: ='12月'!K12 -> 0 | AX12: ='4Q'!I12 -> 0 | AY12: ='4Q'!J12 -> 0 | AZ12: ='4Q'!K12 -> 0 | BA12: =下期!I12 -> 0 | BB12: =下期!J12 -> 0 | BC12: =下期!K12 -> 0 | BD12: ='20年度累計'!I12 -> 0 | BE12: ='20年度累計'!J12 -> 0 | BF12: ='20年度累計'!K12 -> 0
A13: ='4月'!B13 -> （株）ジェイアール東海ツアーズ | B13: ='20年1月'!I13 -> 6062307 | C13: ='20年1月'!J13 -> 6520505 | D13: ='20年1月'!K13 -> 93 | E13: ='2月'!I13 -> 5137347 | F13: ='2月'!J13 -> 7458740 | G13: ='2月'!K13 -> 68.9 | H13: ='3月'!I13 -> 1705191 | I13: ='3月'!J13 -> 8183807 | J13: ='3月'!K13 -> 20.8 | K13: ='1Q'!I13 -> 12904845 | L13: ='1Q'!J13 -> 22163052 | M13: ='1Q'!K13 -> 58.226841 | N13: ='4月'!I13 -> 212243 | O13: ='4月'!J13 -> 7444934 | P13: ='4月'!K13 -> 0 | Q13: ='5月'!I13 -> 85809 | R13: ='5月'!J13 -> 6149430 | S13: ='5月'!K13 -> 1.4 | T13: ='6月'!I13 -> 1263735 | U13: ='6月'!J13 -> 6236170 | V13: ='6月'!K13 -> 20.3 | W13: ='2Q'!I13 -> 1561787 | X13: ='2Q'!J13 -> 19830534 | Y13: ='2Q'!K13 -> 7.8756679 | Z13: =上期!I13 -> 14466632 | AA13: =上期!J13 -> 41993586 | AB13: =上期!K13 -> 34.449623 | AC13: ='7月'!I13 -> 0 | AD13: ='7月'!J13 -> 0 | AE13: ='7月'!K13 -> 0 | AF13: ='8月'!I13 -> 0 | AG13: ='8月'!J13 -> 0 | AH13: ='8月'!K13 -> 0 | AI13: ='9月'!I13 -> 0 | AJ13: ='9月'!J13 -> 0 | AK13: ='9月'!K13 -> 0 | AL13: ='3Q'!I13 -> 0 | AM13: ='3Q'!J13 -> 0 | AN13: ='3Q'!K13 -> 0 | AO13: ='10月'!I13 -> 0 | AP13: ='10月'!J13 -> 0 | AQ13: ='10月'!K13 -> 0 | AR13: ='11月'!I13 -> 0 | AS13: ='11月'!J13 -> 0 | AT13: ='11月'!K13 -> 0 | AU13: ='12月'!I13 -> 0 | AV13: ='12月'!J13 -> 0 | AW13: ='12月'!K13 -> 0 | AX13: ='4Q'!I13 -> 0 | AY13: ='4Q'!J13 -> 0 | AZ13: ='4Q'!K13 -> 0 | BA13: =下期!I13 -> 0 | BB13: =下期!J13 -> 0 | BC13: =下期!K13 -> 0 | BD13: ='20年度累計'!I13 -> 0 | BE13: ='20年度累計'!J13 -> 0 | BF13: ='20年度累計'!K13 -> 0
A14: ='4月'!B14 -> 名鉄観光サービス（株） | B14: ='20年1月'!I14 -> 3985901 | C14: ='20年1月'!J14 -> 3625400 | D14: ='20年1月'!K14 -> 109.9 | E14: ='2月'!I14 -> 3908035 | F14: ='2月'!J14 -> 4207063 | G14: ='2月'!K14 -> 92.9 | H14: ='3月'!I14 -> 1531744 | I14: ='3月'!J14 -> 5506334 | J14: ='3月'!K14 -> 27.8 | K14: ='1Q'!I14 -> 9425680 | L14: ='1Q'!J14 -> 13338797 | M14: ='1Q'!K14 -> 70.663644 | N14: ='4月'!I14 -> 840020 | O14: ='4月'!J14 -> 5185328 | P14: ='4月'!K14 -> 16.2 | Q14: ='5月'!I14 -> 434599 | R14: ='5月'!J14 -> 6734468 | S14: ='5月'!K14 -> 6.5 | T14: ='6月'!I14 -> 756365 | U14: ='6月'!J14 -> 6572938 | V14: ='6月'!K14 -> 11.5 | W14: ='2Q'!I14 -> 2030984 | X14: ='2Q'!J14 -> 18492734 | Y14: ='2Q'!K14 -> 10.982605 | Z14: =上期!I14 -> 11456664 | AA14: =上期!J14 -> 31831531 | AB14: =上期!K14 -> 35.991558 | AC14: ='7月'!I14 -> 0 | AD14: ='7月'!J14 -> 0 | AE14: ='7月'!K14 -> 0 | AF14: ='8月'!I14 -> 0 | AG14: ='8月'!J14 -> 0 | AH14: ='8月'!K14 -> 0 | AI14: ='9月'!I14 -> 0 | AJ14: ='9月'!J14 -> 0 | AK14: ='9月'!K14 -> 0 | AL14: ='3Q'!I14 -> 0 | AM14: ='3Q'!J14 -> 0 | AN14: ='3Q'!K14 -> 0 | AO14: ='10月'!I14 -> 0 | AP14: ='10月'!J14 -> 0 | AQ14: ='10月'!K14 -> 0 | AR14: ='11月'!I14 -> 0 | AS14: ='11月'!J14 -> 0 | AT14: ='11月'!K14 -> 0 | AU14: ='12月'!I14 -> 0 | AV14: ='12月'!J14 -> 0 | AW14: ='12月'!K14 -> 0 | AX14: ='4Q'!I14 -> 0 | AY14: ='4Q'!J14 -> 0 | AZ14: ='4Q'!K14 -> 0 | BA14: =下期!I14 -> 0 | BB14: =下期!J14 -> 0 | BC14: =下期!K14 -> 0 | BD14: ='20年度累計'!I14 -> 0 | BE14: ='20年度累計'!J14 -> 0 | BF14: ='20年度累計'!K14 -> 0
A15: ='4月'!B15 -> （株）農協観光 | B15: ='20年1月'!I15 -> 4074531 | C15: ='20年1月'!J15 -> 4333537 | D15: ='20年1月'!K15 -> 94 | E15: ='2月'!I15 -> 4542912 | F15: ='2月'!J15 -> 5691381 | G15: ='2月'!K15 -> 79.8 | H15: ='3月'!I15 -> 875247 | I15: ='3月'!J15 -> 4831274 | J15: ='3月'!K15 -> 18.1 | K15: ='1Q'!I15 -> 9492690 | L15: ='1Q'!J15 -> 14856192 | M15: ='1Q'!K15 -> 63.897195 | N15: ='4月'!I15 -> 159319 | O15: ='4月'!J15 -> 2440853 | P15: ='4月'!K15 -> 6.5 | Q15: ='5月'!I15 -> 92096 | R15: ='5月'!J15 -> 2790684 | S15: ='5月'!K15 -> 3.3 | T15: ='6月'!I15 -> 312917 | U15: ='6月'!J15 -> 4276669 | V15: ='6月'!K15 -> 7.3 | W15: ='2Q'!I15 -> 564332 | X15: ='2Q'!J15 -> 9508206 | Y15: ='2Q'!K15 -> 5.9352101 | Z15: =上期!I15 -> 10057022 | AA15: =上期!J15 -> 24364398 | AB15: =上期!K15 -> 41.277531 | AC15: ='7月'!I15 -> 0 | AD15: ='7月'!J15 -> 0 | AE15: ='7月'!K15 -> 0 | AF15: ='8月'!I15 -> 0 | AG15: ='8月'!J15 -> 0 | AH15: ='8月'!K15 -> 0 | AI15: ='9月'!I15 -> 0 | AJ15: ='9月'!J15 -> 0 | AK15: ='9月'!K15 -> 0 | AL15: ='3Q'!I15 -> 0 | AM15: ='3Q'!J15 -> 0 | AN15: ='3Q'!K15 -> 0 | AO15: ='10月'!I15 -> 0 | AP15: ='10月'!J15 -> 0 | AQ15: ='10月'!K15 -> 0 | AR15: ='11月'!I15 -> 0 | AS15: ='11月'!J15 -> 0 | AT15: ='11月'!K15 -> 0 | AU15: ='12月'!I15 -> 0 | AV15: ='12月'!J15 -> 0 | AW15: ='12月'!K15 -> 0 | AX15: ='4Q'!I15 -> 0 | AY15: ='4Q'!J15 -> 0 | AZ15: ='4Q'!K15 -> 0 | BA15: =下期!I15 -> 0 | BB15: =下期!J15 -> 0 | BC15: =下期!K15 -> 0 | BD15: ='20年度累計'!I15 -> 0 | BE15: ='20年度累計'!J15 -> 0 | BF15: ='20年度累計'!K15 -> 0
A16: ='4月'!B16 -> ビッグホリデー（株） | B16: ='20年1月'!I16 -> 4382650 | C16: ='20年1月'!J16 -> 4504300 | D16: ='20年1月'!K16 -> 97.3 | E16: ='2月'!I16 -> 7592780 | F16: ='2月'!J16 -> 7904560 | G16: ='2月'!K16 -> 96.1 | H16: ='3月'!I16 -> 2453210 | I16: ='3月'!J16 -> 9019300 | J16: ='3月'!K16 -> 27.2 | K16: ='1Q'!I16 -> 14428640 | L16: ='1Q'!J16 -> 21428160 | M16: ='1Q'!K16 -> 67.334946 | N16: ='4月'!I16 -> 62534 | O16: ='4月'!J16 -> 2032580 | P16: ='4月'!K16 -> 3.1 | Q16: ='5月'!I16 -> 21545 | R16: ='5月'!J16 -> 3297670 | S16: ='5月'!K16 -> 0.7 | T16: ='6月'!I16 -> 114720 | U16: ='6月'!J16 -> 3976480 | V16: ='6月'!K16 -> 2.9 | W16: ='2Q'!I16 -> 198799 | X16: ='2Q'!J16 -> 9306730 | Y16: ='2Q'!K16 -> 2.1360779 | Z16: =上期!I16 -> 14627439 | AA16: =上期!J16 -> 30734890 | AB16: =上期!K16 -> 47.592293 | AC16: ='7月'!I16 -> 0 | AD16: ='7月'!J16 -> 0 | AE16: ='7月'!K16 -> 0 | AF16: ='8月'!I16 -> 0 | AG16: ='8月'!J16 -> 0 | AH16: ='8月'!K16 -> 0 | AI16: ='9月'!I16 -> 0 | AJ16: ='9月'!J16 -> 0 | AK16: ='9月'!K16 -> 0 | AL16: ='3Q'!I16 -> 0 | AM16: ='3Q'!J16 -> 0 | AN16: ='3Q'!K16 -> 0 | AO16: ='10月'!I16 -> 0 | AP16: ='10月'!J16 -> 0 | AQ16: ='10月'!K16 -> 0 | AR16: ='11月'!I16 -> 0 | AS16: ='11月'!J16 -> 0 | AT16: ='11月'!K16 -> 0 | AU16: ='12月'!I16 -> 0 | AV16: ='12月'!J16 -> 0 | AW16: ='12月'!K16 -> 0 | AX16: ='4Q'!I16 -> 0 | AY16: ='4Q'!J16 -> 0 | AZ16: ='4Q'!K16 -> 0 | BA16: =下期!I16 -> 0 | BB16: =下期!J16 -> 0 | BC16: =下期!K16 -> 0 | BD16: ='20年度累計'!I16 -> 0 | BE16: ='20年度累計'!J16 -> 0 | BF16: ='20年度累計'!K16 -> 0
... A51: ='4月'!B51 -> （株）三越伊勢丹ニッコウトラベル | B51: ='20年1月'!I51 -> 251604 | C51: ='20年1月'!J51 -> 429252 | D51: ='20年1月'!K51 -> 58.6 | E51: ='2月'!I51 -> 86828 | F51: ='2月'!J51 -> 110423 | G51: ='2月'!K51 -> 78.6 | H51: ='3月'!I51 -> 114192 | I51: ='3月'!J51 -> 466830 | J51: ='3月'!K51 -> 24.5 | K51: ='1Q'!I51 -> 452624 | L51: ='1Q'!J51 -> 1006505 | M51: ='1Q'!K51 -> 44.969871 | N51: ='4月'!I51 -> 11686 | O51: ='4月'!J51 -> 177730 | P51: ='4月'!K51 -> 6.6 | Q51: ='5月'!I51 -> 0 | R51: ='5月'!J51 -> 397288 | S51: ='5月'!K51 -> － | T51: ='6月'!I51 -> 0 | U51: ='6月'!J51 -> 132901 | V51: ='6月'!K51 -> － | W51: ='2Q'!I51 -> 11686 | X51: ='2Q'!J51 -> 707919 | Y51: ='2Q'!K51 -> 1.6507538 | Z51: =上期!I51 -> 464310 | AA51: =上期!J51 -> 1714424 | AB51: =上期!K51 -> 27.082565 | AC51: ='7月'!I51 -> 0 | AD51: ='7月'!J51 -> 0 | AE51: ='7月'!K51 -> 0 | AF51: ='8月'!I51 -> 0 | AG51: ='8月'!J51 -> 0 | AH51: ='8月'!K51 -> 0 | AI51: ='9月'!I51 -> 0 | AJ51: ='9月'!J51 -> 0 | AK51: ='9月'!K51 -> 0 | AL51: ='3Q'!I51 -> 0 | AM51: ='3Q'!J51 -> 0 | AN51: ='3Q'!K51 -> 0 | AO51: ='10月'!I51 -> 0 | AP51: ='10月'!J51 -> 0 | AQ51: ='10月'!K51 -> 0 | AR51: ='11月'!I51 -> 0 | AS51: ='11月'!J51 -> 0 | AT51: ='11月'!K51 -> 0 | AU51: ='12月'!I51 -> 0 | AV51: ='12月'!J51 -> 0 | AW51: ='12月'!K51 -> 0 | AX51: ='4Q'!I51 -> 0 | AY51: ='4Q'!J51 -> 0 | AZ51: ='4Q'!K51 -> 0 | BA51: =下期!I51 -> 0 | BB51: =下期!J51 -> 0 | BC51: =下期!K51 -> 0 | BD51: ='20年度累計'!I51 -> 0 | BE51: ='20年度累計'!J51 -> 0 | BF51: ='20年度累計'!K51 -> 0
A52: ='4月'!#REF! -> #REF! | B52: ='20年1月'!#REF! -> #REF! | C52: ='20年1月'!#REF! -> #REF! | D52: ='20年1月'!#REF! -> #REF! | E52: ='2月'!#REF! -> #REF! | F52: ='2月'!#REF! -> #REF! | G52: ='2月'!#REF! -> #REF! | H52: ='3月'!#REF! -> #REF! | I52: ='3月'!#REF! -> #REF! | J52: ='3月'!#REF! -> #REF! | K52: ='1Q'!#REF! -> #REF! | L52: ='1Q'!#REF! -> #REF! | M52: ='1Q'!#REF! -> #REF! | N52: ='4月'!#REF! -> #REF! | O52: ='4月'!#REF! -> #REF! | P52: ='4月'!#REF! -> #REF! | Q52: ='5月'!#REF! -> #REF! | R52: ='5月'!#REF! -> #REF! | S52: ='5月'!#REF! -> #REF! | T52: ='6月'!#REF! -> #REF! | U52: ='6月'!#REF! -> #REF! | V52: ='6月'!#REF! -> #REF! | W52: ='2Q'!#REF! -> #REF! | X52: ='2Q'!#REF! -> #REF! | Y52: ='2Q'!#REF! -> #REF! | Z52: =上期!#REF! -> #REF! | AA52: =上期!#REF! -> #REF! | AB52: =上期!#REF! -> #REF! | AC52: ='7月'!#REF! -> #REF! | AD52: ='7月'!#REF! -> #REF! | AE52: ='7月'!#REF! -> #REF! | AF52: ='8月'!#REF! -> #REF! | AG52: ='8月'!#REF! -> #REF! | AH52: ='8月'!#REF! -> #REF! | AI52: ='9月'!#REF! -> #REF! | AJ52: ='9月'!#REF! -> #REF! | AK52: ='9月'!#REF! -> #REF! | AL52: ='3Q'!#REF! -> #REF! | AM52: ='3Q'!#REF! -> #REF! | AN52: ='3Q'!#REF! -> #REF! | AO52: ='10月'!#REF! -> #REF! | AP52: ='10月'!#REF! -> #REF! | AQ52: ='10月'!#REF! -> #REF! | AR52: ='11月'!#REF! -> #REF! | AS52: ='11月'!#REF! -> #REF! | AT52: ='11月'!#REF! -> #REF! | AU52: ='12月'!#REF! -> #REF! | AV52: ='12月'!#REF! -> #REF! | AW52: ='12月'!#REF! -> #REF! | AX52: ='4Q'!#REF! -> #REF! | AY52: ='4Q'!#REF! -> #REF! | AZ52: ='4Q'!#REF! -> #REF! | BA52: =下期!#REF! -> #REF! | BB52: =下期!#REF! -> #REF! | BC52: =下期!#REF! -> #REF! | BD52: ='20年度累計'!#REF! -> #REF! | BE52: ='20年度累計'!#REF! -> #REF! | BF52: ='20年度累計'!#REF! -> #REF!
A53: ='4月'!B52 -> （株）JAL JTAセールス | B53: ='20年1月'!I52 -> 178923 | C53: ='20年1月'!J52 -> 177343 | D53: ='20年1月'!K52 -> 100.9 | E53: ='2月'!I52 -> 153056 | F53: ='2月'!J52 -> 201440 | G53: ='2月'!K52 -> 76 | H53: ='3月'!I52 -> 69616 | I53: ='3月'!J52 -> 316436 | J53: ='3月'!K52 -> 22 | K53: ='1Q'!I52 -> 401595 | L53: ='1Q'!J52 -> 695219 | M53: ='1Q'!K52 -> 57.765251 | N53: ='4月'!I52 -> 7814 | O53: ='4月'!J52 -> 186935 | P53: ='4月'!K52 -> 4.2 | Q53: ='5月'!I52 -> 2972 | R53: ='5月'!J52 -> 220380 | S53: ='5月'!K52 -> 1.3 | T53: ='6月'!I52 -> 74806 | U53: ='6月'!J52 -> 204207 | V53: ='6月'!K52 -> 36.6 | W53: ='2Q'!I52 -> 85592 | X53: ='2Q'!J52 -> 611522 | Y53: ='2Q'!K52 -> 13.996553 | Z53: =上期!I52 -> 487187 | AA53: =上期!J52 -> 1306741 | AB53: =上期!K52 -> 37.282598 | AC53: ='7月'!I52 -> 0 | AD53: ='7月'!J52 -> 0 | AE53: ='7月'!K52 -> 0 | AF53: ='8月'!I52 -> 0 | AG53: ='8月'!J52 -> 0 | AH53: ='8月'!K52 -> 0 | AI53: ='9月'!I52 -> 0 | AJ53: ='9月'!J52 -> 0 | AK53: ='9月'!K52 -> 0 | AL53: ='3Q'!I52 -> 0 | AM53: ='3Q'!J52 -> 0 | AN53: ='3Q'!K52 -> 0 | AO53: ='10月'!I52 -> 0 | AP53: ='10月'!J52 -> 0 | AQ53: ='10月'!K52 -> 0 | AR53: ='11月'!I52 -> 0 | AS53: ='11月'!J52 -> 0 | AT53: ='11月'!K52 -> 0 | AU53: ='12月'!I52 -> 0 | AV53: ='12月'!J52 -> 0 | AW53: ='12月'!K52 -> 0 | AX53: ='4Q'!I52 -> 0 | AY53: ='4Q'!J52 -> 0 | AZ53: ='4Q'!K52 -> 0 | BA53: =下期!I52 -> 0 | BB53: =下期!J52 -> 0 | BC53: =下期!K52 -> 0 | BD53: ='20年度累計'!I52 -> 0 | BE53: ='20年度累計'!J52 -> 0 | BF53: ='20年度累計'!K52 -> 0
A54: 合計 | B54: ='20年1月'!I53 -> 165779764 | C54: ='20年1月'!J53 -> 175741787 | D54: ='20年1月'!K53 -> 94.331443 | E54: ='2月'!I53 -> 164446248 | F54: ='2月'!J53 -> 192606221 | G54: ='2月'!K53 -> 85.37951 | H54: ='3月'!I53 -> 89031314 | I54: ='3月'!J53 -> 245994761 | J54: ='3月'!K53 -> 36.192362 | K54: ='1Q'!I53 -> 419257326 | L54: ='1Q'!J53 -> 614342769 | M54: ='1Q'!K53 -> 68.244854 | N54: ='4月'!I53 -> 14195154 | O54: ='4月'!J53 -> 221926541 | P54: ='4月'!K53 -> 6.39633 | Q54: ='5月'!I53 -> 8172826 | R54: ='5月'!J53 -> 242416565 | S54: ='5月'!K53 -> 3.3713975 | T54: ='6月'!I53 -> 26693611 | U54: ='6月'!J53 -> 220675473 | V54: ='6月'!K53 -> 12.09632 | W54: ='2Q'!I53 -> 48852082 | X54: ='2Q'!J53 -> 681173004 | Y54: ='2Q'!K53 -> 7.1717584 | Z54: =上期!I53 -> 468109408 | AA54: =上期!J53 -> 1295515773 | AB54: =上期!K53 -> 36.133054 | AC54: ='7月'!I53 -> 0 | AD54: ='7月'!J53 -> 0 | AE54: ='7月'!K53 -> #DIV/0! | AF54: ='8月'!I53 -> 0 | AG54: ='8月'!J53 -> 0 | AH54: ='8月'!K53 -> #DIV/0! | AI54: ='9月'!I53 -> 0 | AJ54: ='9月'!J53 -> 0 | AK54: ='9月'!K53 -> #DIV/0! | AL54: ='3Q'!I53 -> 0 | AM54: ='3Q'!J53 -> 0 | AN54: ='3Q'!K53 -> #DIV/0! | AO54: ='10月'!I53 -> 0 | AP54: ='10月'!J53 -> 0 | AQ54: ='10月'!K53 -> #DIV/0! | AR54: ='11月'!I53 -> 0 | AS54: ='11月'!J53 -> 0 | AT54: ='11月'!K53 -> #DIV/0! | AU54: ='12月'!I53 -> 0 | AV54: ='12月'!J53 -> 0 | AW54: ='12月'!K53 -> #DIV/0! | AX54: ='4Q'!I53 -> 0 | AY54: ='4Q'!J53 -> 0 | AZ54: ='4Q'!K53 -> #DIV/0! | BA54: =下期!I53 -> 0 | BB54: =下期!J53 -> 0 | BC54: =下期!K53 -> #DIV/0! | BD54: ='20年度累計'!I53 -> 0 | BE54: ='20年度累計'!J53 -> 0 | BF54: ='20年度累計'!K53 -> #DIV/0!
O56: *1 JTBの11社内取引を相殺し合計
O57: JTB11社：
O58: JTB、JTBグローバルマーケティング＆トラベル、JTB沖縄、JTB京阪トラベル、エイ・ビー・アイ、JTBメディアリテーリング、
O59: JTBグランドツアー＆サービス、朝日旅行、JTBビジネストラベルソリューションズ、JTBガイアレック、トラベルプラザインターナショナル
O61: *2 KNT-CTホールディングスの13社内取引を相殺し合計
O62: KNT-CTホールディングス13社：
O63: クラブツーリズム、近畿日本ツーリスト北海道、近畿日本ツーリスト東北、近畿日本ツーリスト関東、近畿日本ツーリスト首都圏、
O64: 近畿日本ツーリスト中部、近畿日本ツーリスト関西、 近畿日本ツーリスト中国四国、 近畿日本ツーリスト九州、
O65: 近畿日本ツーリストコーポレートビジネス、KNT-CTグローバルトラベル、KNT-CTウエブトラベル、ユナイテッドツアーズ
O67: *3 エイチ・アイ・エスの6社内取引を相殺し合計
O68: エイチ・アイ・エス6社：
O69: HIS、オリオンツアー、クオリタ、クルーズプラネット、ジャパンホリデートラベル、ミキ・ツーリスト
... O81: タビックスジャパン、東日観光、トラベルイン、湯旅

Sheet 時系列（合計）
A1: 主要旅行業者の旅行取扱状況速報
A2: 2020年1月～2020年12月 合計推移
A3: 会 社 名 | B3: 1月 | E3: 2月 | H3: 3月 | K3: 第1四半期 | N3: 4月 | Q3: 5月 | T3: 6月 | W3: 第2四半期 | Z3: 上期 | AC3: 7月 | AF3: 8月 | AI3: 9月 | AL3: 第3四半期 | AO3: 10月 | AR3: 11月 | AU3: 12月 | AX3: 第4四半期 | BA3: 下期 | BD3: 18年度累計
B4: 取扱額（千円） | C4: 前年（千円） | D4: 前年 比（％） | E4: 取扱額（千円） | F4: 前年（千円） | G4: 前年 比（％） | H4: 取扱額（千円） | I4: 前年（千円） | J4: 前年 比（％） | K4: 取扱額（千円） | L4: 前年（千円） | M4: 前年 比（％） | N4: 取扱額（千円） | O4: 前年（千円） | P4: 前年 比（％） | Q4: 取扱額（千円） | R4: 前年（千円） | S4: 前年 比（％） | T4: 取扱額（千円） | U4: 前年（千円） | V4: 前年 比（％） | W4: 取扱額（千円） | X4: 前年（千円） | Y4: 前年 比（％） | Z4: 取扱額（千円） | AA4: 前年（千円） | AB4: 前年 比（％） | AC4: 取扱額（千円） | AD4: 前年（千円） | AE4: 前年 比（％） | AF4: 取扱額（千円） | AG4: 前年（千円） | AH4: 前年 比（％） | AI4: 取扱額（千円） | AJ4: 前年（千円） | AK4: 前年 比（％） | AL4: 取扱額（千円） | AM4: 前年（千円） | AN4: 前年 比（％） | AO4: 取扱額（千円） | AP4: 前年（千円） | AQ4: 前年 比（％） | AR4: 取扱額（千円） | AS4: 前年（千円） | AT4: 前年 比（％） | AU4: 取扱額（千円） | AV4: 前年（千円） | AW4: 前年 比（％） | AX4: 取扱額（千円） | AY4: 前年（千円） | AZ4: 前年 比（％） | BA4: 取扱額（千円） | BB4: 前年（千円） | BC4: 前年 比（％） | BD4: 取扱額（千円） | BE4: 前年（千円） | BF4: 前年 比（％）
A5: ='4月'!B5 -> JTB（10社計 *1） | B5: ='20年1月'!L5 -> 97906241 | C5: ='20年1月'!M5 -> 104371704 | D5: ='20年1月'!N5 -> 93.8 | E5: ='2月'!L5 -> 100212144 | F5: ='2月'!M5 -> 117317348 | G5: ='2月'!N5 -> 85.4 | H5: ='3月'!L5 -> 57533944 | I5: ='3月'!M5 -> 154145427 | J5: ='3月'!N5 -> 37.3 | K5: ='1Q'!L5 -> 255652329 | L5: ='1Q'!M5 -> 375834479 | M5: ='1Q'!N5 -> 68.022585 | N5: ='4月'!L5 -> 8056839 | O5: ='4月'!M5 -> 144319848 | P5: ='4月'!N5 -> 5.6 | Q5: ='5月'!L5 -> 5103272 | R5: ='5月'!M5 -> 140806515 | S5: ='5月'!N5 -> 3.6 | T5: ='6月'!L5 -> 14113539 | U5: ='6月'!M5 -> 136390104 | V5: ='6月'!N5 -> 10.3 | W5: ='2Q'!L5 -> 27273650 | X5: ='2Q'!M5 -> 421516467 | Y5: ='2Q'!N5 -> 6.4703641 | Z5: =上期!L5 -> 282925979 | AA5: =上期!M5 -> 797350946 | AB5: =上期!N5 -> 35.483244 | AC5: ='7月'!L5 -> 0 | AD5: ='7月'!M5 -> 0 | AE5: ='7月'!N5 -> 0 | AF5: ='8月'!L5 -> 0 | AG5: ='8月'!M5 -> 0 | AH5: ='8月'!N5 -> 0 | AI5: ='9月'!L5 -> 0 | AJ5: ='9月'!M5 -> 0 | AK5: ='9月'!N5 -> 0 | AL5: ='3Q'!L5 -> 0 | AM5: ='3Q'!M5 -> 0 | AN5: ='3Q'!N5 -> 0 | AO5: ='10月'!L5 -> 0 | AP5: ='10月'!M5 -> 0 | AQ5: ='10月'!N5 -> 0 | AR5: ='11月'!L5 -> 0 | AS5: ='11月'!M5 -> 0 | AT5: ='11月'!N5 -> 0 | AU5: ='12月'!L5 -> 0 | AV5: ='12月'!M5 -> 0 | AW5: ='12月'!N5 -> 0 | AX5: ='4Q'!L5 -> 0 | AY5: ='4Q'!M5 -> 0 | AZ5: ='4Q'!N5 -> 0 | BA5: =下期!L5 -> 0 | BB5: =下期!M5 -> 0 | BC5: =下期!N5 -> 0 | BD5: ='20年度累計'!L5 -> 0 | BE5: ='20年度累計'!M5 -> 0 | BF5: ='20年度累計'!N5 -> 0
A6: ='4月'!B6 -> エイチ・アイ・エス（6社計 *2) | B6: ='20年1月'!L6 -> 0 | C6: ='20年1月'!M6 -> 0 | D6: ='20年1月'!N6 -> 0 | E6: ='2月'!L6 -> 0 | F6: ='2月'!M6 -> 0 | G6: ='2月'!N6 -> 0 | H6: ='3月'!L6 -> 0 | I6: ='3月'!M6 -> 0 | J6: ='3月'!N6 -> 0 | K6: ='1Q'!L6 -> 0 | L6: ='1Q'!M6 -> 0 | M6: ='1Q'!N6 -> #DIV/0! | N6: ='4月'!L6 -> 0 | O6: ='4月'!M6 -> 0 | P6: ='4月'!N6 -> 0 | Q6: ='5月'!L6 -> 0 | R6: ='5月'!M6 -> 0 | S6: ='5月'!N6 -> 0 | T6: ='6月'!L6 -> 502324 | U6: ='6月'!M6 -> 35337071 | V6: ='6月'!N6 -> 1.4 | W6: ='2Q'!L6 -> 0 | X6: ='2Q'!M6 -> 0 | Y6: ='2Q'!N6 -> 0 | Z6: =上期!L6 -> 0 | AA6: =上期!M6 -> 0 | AB6: =上期!N6 -> 0 | AC6: ='7月'!L6 -> 0 | AD6: ='7月'!M6 -> 0 | AE6: ='7月'!N6 -> 0 | AF6: ='8月'!L6 -> 0 | AG6: ='8月'!M6 -> 0 | AH6: ='8月'!N6 -> 0 | AI6: ='9月'!L6 -> 0 | AJ6: ='9月'!M6 -> 0 | AK6: ='9月'!N6 -> 0 | AL6: ='3Q'!L6 -> 0 | AM6: ='3Q'!M6 -> 0 | AN6: ='3Q'!N6 -> 0 | AO6: ='10月'!L6 -> 0 | AP6: ='10月'!M6 -> 0 | AQ6: ='10月'!N6 -> 0 | AR6: ='11月'!L6 -> 0 | AS6: ='11月'!M6 -> 0 | AT6: ='11月'!N6 -> 0 | AU6: ='12月'!L6 -> 0 | AV6: ='12月'!M6 -> 0 | AW6: ='12月'!N6 -> 0 | AX6: ='4Q'!L6 -> 0 | AY6: ='4Q'!M6 -> 0 | AZ6: ='4Q'!N6 -> 0 | BA6: =下期!L6 -> 0 | BB6: =下期!M6 -> 0 | BC6: =下期!N6 -> 0 | BD6: ='20年度累計'!L6 -> 0 | BE6: ='20年度累計'!M6 -> 0 | BF6: ='20年度累計'!N6 -> 0
A7: ='4月'!B7 -> KNT-CTホールディングス（13社計 *3） | B7: ='20年1月'!L7 -> 31481065 | C7: ='20年1月'!M7 -> 33393026 | D7: ='20年1月'!N7 -> 94.3 | E7: ='2月'!L7 -> 27016829 | F7: ='2月'!M7 -> 33577923 | G7: ='2月'!N7 -> 80.5 | H7: ='3月'!L7 -> 13459401 | I7: ='3月'!M7 -> 42872475 | J7: ='3月'!N7 -> 31.4 | K7: ='1Q'!L7 -> 71957295 | L7: ='1Q'!M7 -> 109843424 | M7: ='1Q'!N7 -> 65.508969 | N7: ='4月'!L7 -> 1068209 | O7: ='4月'!M7 -> 37596302 | P7: ='4月'!N7 -> 2.8 | Q7: ='5月'!L7 -> 663458 | R7: ='5月'!M7 -> 50403512 | S7: ='5月'!N7 -> 1.3 | T7: ='6月'!L7 -> 1728985 | U7: ='6月'!M7 -> 41982873 | V7: ='6月'!N7 -> 4.1 | W7: ='2Q'!L7 -> 3460652 | X7: ='2Q'!M7 -> 129982687 | Y7: ='2Q'!N7 -> 2.6623946 | Z7: =上期!L7 -> 75417947 | AA7: =上期!M7 -> 239826111 | AB7: =上期!N7 -> 31.446929 | AC7: ='7月'!L7 -> 0 | AD7: ='7月'!M7 -> 0 | AE7: ='7月'!N7 -> 0 | AF7: ='8月'!L7 -> 0 | AG7: ='8月'!M7 -> 0 | AH7: ='8月'!N7 -> 0 | AI7: ='9月'!L7 -> 0 | AJ7: ='9月'!M7 -> 0 | AK7: ='9月'!N7 -> 0 | AL7: ='3Q'!L7 -> 0 | AM7: ='3Q'!M7 -> 0 | AN7: ='3Q'!N7 -> 0 | AO7: ='10月'!L7 -> 0 | AP7: ='10月'!M7 -> 0 | AQ7: ='10月'!N7 -> 0 | AR7: ='11月'!L7 -> 0 | AS7: ='11月'!M7 -> 0 | AT7: ='11月'!N7 -> 0 | AU7: ='12月'!L7 -> 0 | AV7: ='12月'!M7 -> 0 | AW7: ='12月'!N7 -> 0 | AX7: ='4Q'!L7 -> 0 | AY7: ='4Q'!M7 -> 0 | AZ7: ='4Q'!N7 -> 0 | BA7: =下期!L7 -> 0 | BB7: =下期!M7 -> 0 | BC7: =下期!N7 -> 0 | BD7: ='20年度累計'!L7 -> 0 | BE7: ='20年度累計'!M7 -> 0 | BF7: ='20年度累計'!N7 -> 0
A8: ='4月'!B8 -> （株）日本旅行 | B8: ='20年1月'!L8 -> 29305412 | C8: ='20年1月'!M8 -> 29794979 | D8: ='20年1月'!N8 -> 98.4 | E8: ='2月'!L8 -> 25171087 | F8: ='2月'!M8 -> 33126696 | G8: ='2月'!N8 -> 76 | H8: ='3月'!L8 -> 9679838 | I8: ='3月'!M8 -> 41011041 | J8: ='3月'!N8 -> 23.6 | K8: ='1Q'!L8 -> 64156337 | L8: ='1Q'!M8 -> 103932716 | M8: ='1Q'!N8 -> 61.728722 | N8: ='4月'!L8 -> 1625057 | O8: ='4月'!M8 -> 40812792 | P8: ='4月'!N8 -> 4 | Q8: ='5月'!L8 -> 799332 | R8: ='5月'!M8 -> 44968537 | S8: ='5月'!N8 -> 1.8 | T8: ='6月'!L8 -> 3209755 | U8: ='6月'!M8 -> 35511671 | V8: ='6月'!N8 -> 9 | W8: ='2Q'!L8 -> 5634144 | X8: ='2Q'!M8 -> 121293000 | Y8: ='2Q'!N8 -> 4.6450694 | Z8: =上期!L8 -> 69790481 | AA8: =上期!M8 -> 225225716 | AB8: =上期!N8 -> 30.986906 | AC8: ='7月'!L8 -> 0 | AD8: ='7月'!M8 -> 0 | AE8: ='7月'!N8 -> 0 | AF8: ='8月'!L8 -> 0 | AG8: ='8月'!M8 -> 0 | AH8: ='8月'!N8 -> 0 | AI8: ='9月'!L8 -> 0 | AJ8: ='9月'!M8 -> 0 | AK8: ='9月'!N8 -> 0 | AL8: ='3Q'!L8 -> 0 | AM8: ='3Q'!M8 -> 0 | AN8: ='3Q'!N8 -> 0 | AO8: ='10月'!L8 -> 0 | AP8: ='10月'!M8 -> 0 | AQ8: ='10月'!N8 -> 0 | AR8: ='11月'!L8 -> 0 | AS8: ='11月'!M8 -> 0 | AT8: ='11月'!N8 -> 0 | AU8: ='12月'!L8 -> 0 | AV8: ='12月'!M8 -> 0 | AW8: ='12月'!N8 -> 0 | AX8: ='4Q'!L8 -> 0 | AY8: ='4Q'!M8 -> 0 | AZ8: ='4Q'!N8 -> 0 | BA8: =下期!L8 -> 0 | BB8: =下期!M8 -> 0 | BC8: =下期!N8 -> 0 | BD8: ='20年度累計'!L8 -> 0 | BE8: ='20年度累計'!M8 -> 0 | BF8: ='20年度累計'!N8 -> 0
A9: ='4月'!B9 -> 阪急交通社（3社計 *4） | B9: ='20年1月'!L9 -> 23936781 | C9: ='20年1月'!M9 -> 24940718 | D9: ='20年1月'!N9 -> 96 | E9: ='2月'!L9 -> 16510218 | F9: ='2月'!M9 -> 27112629 | G9: ='2月'!N9 -> 60.9 | H9: ='3月'!L9 -> 2322683 | I9: ='3月'!M9 -> 32129840 | J9: ='3月'!N9 -> 7.2 | K9: ='1Q'!L9 -> 42769682 | L9: ='1Q'!M9 -> 84183187 | M9: ='1Q'!N9 -> 50.805492 | N9: ='4月'!L9 -> 11129 | O9: ='4月'!M9 -> 35067962 | P9: ='4月'!N9 -> － | Q9: ='5月'!L9 -> 46118 | R9: ='5月'!M9 -> 36837412 | S9: ='5月'!N9 -> 0.1 | T9: ='6月'!L9 -> 313656 | U9: ='6月'!M9 -> 32714054 | V9: ='6月'!N9 -> 1 | W9: ='2Q'!L9 -> 370903 | X9: ='2Q'!M9 -> 104619428 | Y9: ='2Q'!N9 -> 0.35452593 | Z9: =上期!L9 -> 43140585 | AA9: =上期!M9 -> 188802615 | AB9: =上期!N9 -> 22.84957 | AC9: ='7月'!L9 -> 0 | AD9: ='7月'!M9 -> 0 | AE9: ='7月'!N9 -> 0 | AF9: ='8月'!L9 -> 0 | AG9: ='8月'!M9 -> 0 | AH9: ='8月'!N9 -> 0 | AI9: ='9月'!L9 -> 0 | AJ9: ='9月'!M9 -> 0 | AK9: ='9月'!N9 -> 0 | AL9: ='3Q'!L9 -> 0 | AM9: ='3Q'!M9 -> 0 | AN9: ='3Q'!N9 -> 0 | AO9: ='10月'!L9 -> 0 | AP9: ='10月'!M9 -> 0 | AQ9: ='10月'!N9 -> 0 | AR9: ='11月'!L9 -> 0 | AS9: ='11月'!M9 -> 0 | AT9: ='11月'!N9 -> 0 | AU9: ='12月'!L9 -> 0 | AV9: ='12月'!M9 -> 0 | AW9: ='12月'!N9 -> 0 | AX9: ='4Q'!L9 -> 0 | AY9: ='4Q'!M9 -> 0 | AZ9: ='4Q'!N9 -> 0 | BA9: =下期!L9 -> 0 | BB9: =下期!M9 -> 0 | BC9: =下期!N9 -> 0 | BD9: ='20年度累計'!L9 -> 0 | BE9: ='20年度累計'!M9 -> 0 | BF9: ='20年度累計'!N9 -> 0
A10: ='4月'!B10 -> （株）ジャルパック | B10: ='20年1月'!L10 -> 11805450 | C10: ='20年1月'!M10 -> 12450740 | D10: ='20年1月'!N10 -> 94.8 | E10: ='2月'!L10 -> 13621881 | F10: ='2月'!M10 -> 14134886 | G10: ='2月'!N10 -> 96.4 | H10: ='3月'!L10 -> 5092245 | I10: ='3月'!M10 -> 17343071 | J10: ='3月'!N10 -> 29.4 | K10: ='1Q'!L10 -> 30519576 | L10: ='1Q'!M10 -> 43928697 | M10: ='1Q'!N10 -> 69.475259 | N10: ='4月'!L10 -> 637917 | O10: ='4月'!M10 -> 16324060 | P10: ='4月'!N10 -> 3.9 | Q10: ='5月'!L10 -> 248759 | R10: ='5月'!M10 -> 14234417 | S10: ='5月'!N10 -> 1.7 | T10: ='6月'!L10 -> 1269820 | U10: ='6月'!M10 -> 14118054 | V10: ='6月'!N10 -> 9 | W10: ='2Q'!L10 -> 2156496 | X10: ='2Q'!M10 -> 44676531 | Y10: ='2Q'!N10 -> 4.8269101 | Z10: =上期!L10 -> 32676072 | AA10: =上期!M10 -> 88605228 | AB10: =上期!N10 -> 36.878266 | AC10: ='7月'!L10 -> 0 | AD10: ='7月'!M10 -> 0 | AE10: ='7月'!N10 -> 0 | AF10: ='8月'!L10 -> 0 | AG10: ='8月'!M10 -> 0 | AH10: ='8月'!N10 -> 0 | AI10: ='9月'!L10 -> 0 | AJ10: ='9月'!M10 -> 0 | AK10: ='9月'!N10 -> 0 | AL10: ='3Q'!L10 -> 0 | AM10: ='3Q'!M10 -> 0 | AN10: ='3Q'!N10 -> 0 | AO10: ='10月'!L10 -> 0 | AP10: ='10月'!M10 -> 0 | AQ10: ='10月'!N10 -> 0 | AR10: ='11月'!L10 -> 0 | AS10: ='11月'!M10 -> 0 | AT10: ='11月'!N10 -> 0 | AU10: ='12月'!L10 -> 0 | AV10: ='12月'!M10 -> 0 | AW10: ='12月'!N10 -> 0 | AX10: ='4Q'!L10 -> 0 | AY10: ='4Q'!M10 -> 0 | AZ10: ='4Q'!N10 -> 0 | BA10: =下期!L10 -> 0 | BB10: =下期!M10 -> 0 | BC10: =下期!N10 -> 0 | BD10: ='20年度累計'!L10 -> 0 | BE10: ='20年度累計'!M10 -> 0 | BF10: ='20年度累計'!N10 -> 0
A11: ='4月'!B11 -> ANAセールス（株） | B11: ='20年1月'!L11 -> 11650509 | C11: ='20年1月'!M11 -> 11347174 | D11: ='20年1月'!N11 -> 102.7 | E11: ='2月'!L11 -> 12875485 | F11: ='2月'!M11 -> 13841875 | G11: ='2月'!N11 -> 93 | H11: ='3月'!L11 -> 4905487 | I11: ='3月'!M11 -> 17035761 | J11: ='3月'!N11 -> 28.8 | K11: ='1Q'!L11 -> 29431481 | L11: ='1Q'!M11 -> 42224810 | M11: ='1Q'!N11 -> 69.701867 | N11: ='4月'!L11 -> 763708 | O11: ='4月'!M11 -> 16340055 | P11: ='4月'!N11 -> 4.7 | Q11: ='5月'!L11 -> 404478 | R11: ='5月'!M11 -> 14972508 | S11: ='5月'!N11 -> 2.7 | T11: ='6月'!L11 -> 1516334 | U11: ='6月'!M11 -> 14462471 | V11: ='6月'!N11 -> 10.5 | W11: ='2Q'!L11 -> 2684520 | X11: ='2Q'!M11 -> 45775034 | Y11: ='2Q'!N11 -> 5.8645942 | Z11: =上期!L11 -> 32116001 | AA11: =上期!M11 -> 87999844 | AB11: =上期!N11 -> 36.49552 | AC11: ='7月'!L11 -> 0 | AD11: ='7月'!M11 -> 0 | AE11: ='7月'!N11 -> 0 | AF11: ='8月'!L11 -> 0 | AG11: ='8月'!M11 -> 0 | AH11: ='8月'!N11 -> 0 | AI11: ='9月'!L11 -> 0 | AJ11: ='9月'!M11 -> 0 | AK11: ='9月'!N11 -> 0 | AL11: ='3Q'!L11 -> 0 | AM11: ='3Q'!M11 -> 0 | AN11: ='3Q'!N11 -> 0 | AO11: ='10月'!L11 -> 0 | AP11: ='10月'!M11 -> 0 | AQ11: ='10月'!N11 -> 0 | AR11: ='11月'!L11 -> 0 | AS11: ='11月'!M11 -> 0 | AT11: ='11月'!N11 -> 0 | AU11: ='12月'!L11 -> 0 | AV11: ='12月'!M11 -> 0 | AW11: ='12月'!N11 -> 0 | AX11: ='4Q'!L11 -> 0 | AY11: ='4Q'!M11 -> 0 | AZ11: ='4Q'!N11 -> 0 | BA11: =下期!L11 -> 0 | BB11: =下期!M11 -> 0 | BC11: =下期!N11 -> 0 | BD11: ='20年度累計'!L11 -> 0 | BE11: ='20年度累計'!M11 -> 0 | BF11: ='20年度累計'!N11 -> 0
A12: ='4月'!B12 -> 東武トップツアーズ（株） | B12: ='20年1月'!L12 -> 7044171 | C12: ='20年1月'!M12 -> 7102949 | D12: ='20年1月'!N12 -> 99.2 | E12: ='2月'!L12 -> 6510569 | F12: ='2月'!M12 -> 7780440 | G12: ='2月'!N12 -> 83.7 | H12: ='3月'!L12 -> 2571200 | I12: ='3月'!M12 -> 9444156 | J12: ='3月'!N12 -> 27.2 | K12: ='1Q'!L12 -> 16125940 | L12: ='1Q'!M12 -> 24327545 | M12: ='1Q'!N12 -> 66.286754 | N12: ='4月'!L12 -> 684346 | O12: ='4月'!M12 -> 9461591 | P12: ='4月'!N12 -> 0.1 | Q12: ='5月'!L12 -> 273306 | R12: ='5月'!M12 -> 12950454 | S12: ='5月'!N12 -> 2.1 | T12: ='6月'!L12 -> 504880 | U12: ='6月'!M12 -> 12164531 | V12: ='6月'!N12 -> 4.2 | W12: ='2Q'!L12 -> 1462532 | X12: ='2Q'!M12 -> 34576576 | Y12: ='2Q'!N12 -> 4.2298347 | Z12: =上期!L12 -> 17588472 | AA12: =上期!M12 -> 58904121 | AB12: =上期!N12 -> 29.859493 | AC12: ='7月'!L12 -> 0 | AD12: ='7月'!M12 -> 0 | AE12: ='7月'!N12 -> 0 | AF12: ='8月'!L12 -> 0 | AG12: ='8月'!M12 -> 0 | AH12: ='8月'!N12 -> 0 | AI12: ='9月'!L12 -> 0 | AJ12: ='9月'!M12 -> 0 | AK12: ='9月'!N12 -> 0 | AL12: ='3Q'!L12 -> 0 | AM12: ='3Q'!M12 -> 0 | AN12: ='3Q'!N12 -> 0 | AO12: ='10月'!L12 -> 0 | AP12: ='10月'!M12 -> 0 | AQ12: ='10月'!N12 -> 0 | AR12: ='11月'!L12 -> 0 | AS12: ='11月'!M12 -> 0 | AT12: ='11月'!N12 -> 0 | AU12: ='12月'!L12 -> 0 | AV12: ='12月'!M12 -> 0 | AW12: ='12月'!N12 -> 0 | AX12: ='4Q'!L12 -> 0 | AY12: ='4Q'!M12 -> 0 | AZ12: ='4Q'!N12 -> 0 | BA12: =下期!L12 -> 0 | BB12: =下期!M12 -> 0 | BC12: =下期!N12 -> 0 | BD12: ='20年度累計'!L12 -> 0 | BE12: ='20年度累計'!M12 -> 0 | BF12: ='20年度累計'!N12 -> 0
A13: ='4月'!B13 -> （株）ジェイアール東海ツアーズ | B13: ='20年1月'!L13 -> 6316398 | C13: ='20年1月'!M13 -> 6720705 | D13: ='20年1月'!N13 -> 94 | E13: ='2月'!L13 -> 5380843 | F13: ='2月'!M13 -> 7726051 | G13: ='2月'!N13 -> 69.6 | H13: ='3月'!L13 -> 1767664 | I13: ='3月'!M13 -> 8559476 | J13: ='3月'!N13 -> 20.7 | K13: ='1Q'!L13 -> 13464905 | L13: ='1Q'!M13 -> 23006232 | M13: ='1Q'!N13 -> 58.527207 | N13: ='4月'!L13 -> 215840 | O13: ='4月'!M13 -> 7925996 | P13: ='4月'!N13 -> 0 | Q13: ='5月'!L13 -> 85929 | R13: ='5月'!M13 -> 6481554 | S13: ='5月'!N13 -> 1.3 | T13: ='6月'!L13 -> 1268603 | U13: ='6月'!M13 -> 6552473 | V13: ='6月'!N13 -> 19.4 | W13: ='2Q'!L13 -> 1570372 | X13: ='2Q'!M13 -> 20960023 | Y13: ='2Q'!N13 -> 7.4922246 | Z13: =上期!L13 -> 15035277 | AA13: =上期!M13 -> 43966255 | AB13: =上期!N13 -> 34.197311 | AC13: ='7月'!L13 -> 0 | AD13: ='7月'!M13 -> 0 | AE13: ='7月'!N13 -> 0 | AF13: ='8月'!L13 -> 0 | AG13: ='8月'!M13 -> 0 | AH13: ='8月'!N13 -> 0 | AI13: ='9月'!L13 -> 0 | AJ13: ='9月'!M13 -> 0 | AK13: ='9月'!N13 -> 0 | AL13: ='3Q'!L13 -> 0 | AM13: ='3Q'!M13 -> 0 | AN13: ='3Q'!N13 -> 0 | AO13: ='10月'!L13 -> 0 | AP13: ='10月'!M13 -> 0 | AQ13: ='10月'!N13 -> 0 | AR13: ='11月'!L13 -> 0 | AS13: ='11月'!M13 -> 0 | AT13: ='11月'!N13 -> 0 | AU13: ='12月'!L13 -> 0 | AV13: ='12月'!M13 -> 0 | AW13: ='12月'!N13 -> 0 | AX13: ='4Q'!L13 -> 0 | AY13: ='4Q'!M13 -> 0 | AZ13: ='4Q'!N13 -> 0 | BA13: =下期!L13 -> 0 | BB13: =下期!M13 -> 0 | BC13: =下期!N13 -> 0 | BD13: ='20年度累計'!L13 -> 0 | BE13: ='20年度累計'!M13 -> 0 | BF13: ='20年度累計'!N13 -> 0
A14: ='4月'!B14 -> 名鉄観光サービス（株） | B14: ='20年1月'!L14 -> 4892112 | C14: ='20年1月'!M14 -> 4721737 | D14: ='20年1月'!N14 -> 103.6 | E14: ='2月'!L14 -> 5173783 | F14: ='2月'!M14 -> 5915624 | G14: ='2月'!N14 -> 87.5 | H14: ='3月'!L14 -> 1811512 | I14: ='3月'!M14 -> 7036379 | J14: ='3月'!N14 -> 25.7 | K14: ='1Q'!L14 -> 11877407 | L14: ='1Q'!M14 -> 17673740 | M14: ='1Q'!N14 -> 67.203699 | N14: ='4月'!L14 -> 878316 | O14: ='4月'!M14 -> 6531129 | P14: ='4月'!N14 -> 13.4 | Q14: ='5月'!L14 -> 435026 | R14: ='5月'!M14 -> 7967970 | S14: ='5月'!N14 -> 5.5 | T14: ='6月'!L14 -> 766016 | U14: ='6月'!M14 -> 8027840 | V14: ='6月'!N14 -> 9.5 | W14: ='2Q'!L14 -> 2079358 | X14: ='2Q'!M14 -> 22526939 | Y14: ='2Q'!N14 -> 9.2305395 | Z14: =上期!L14 -> 13956765 | AA14: =上期!M14 -> 40200679 | AB14: =上期!N14 -> 34.717734 | AC14: ='7月'!L14 -> 0 | AD14: ='7月'!M14 -> 0 | AE14: ='7月'!N14 -> 0 | AF14: ='8月'!L14 -> 0 | AG14: ='8月'!M14 -> 0 | AH14: ='8月'!N14 -> 0 | AI14: ='9月'!L14 -> 0 | AJ14: ='9月'!M14 -> 0 | AK14: ='9月'!N14 -> 0 | AL14: ='3Q'!L14 -> 0 | AM14: ='3Q'!M14 -> 0 | AN14: ='3Q'!N14 -> 0 | AO14: ='10月'!L14 -> 0 | AP14: ='10月'!M14 -> 0 | AQ14: ='10月'!N14 -> 0 | AR14: ='11月'!L14 -> 0 | AS14: ='11月'!M14 -> 0 | AT14: ='11月'!N14 -> 0 | AU14: ='12月'!L14 -> 0 | AV14: ='12月'!M14 -> 0 | AW14: ='12月'!N14 -> 0 | AX14: ='4Q'!L14 -> 0 | AY14: ='4Q'!M14 -> 0 | AZ14: ='4Q'!N14 -> 0 | BA14: =下期!L14 -> 0 | BB14: =下期!M14 -> 0 | BC14: =下期!N14 -> 0 | BD14: ='20年度累計'!L14 -> 0 | BE14: ='20年度累計'!M14 -> 0 | BF14: ='20年度累計'!N14 -> 0
A15: ='4月'!B15 -> （株）農協観光 | B15: ='20年1月'!L15 -> 4698798 | C15: ='20年1月'!M15 -> 5156774 | D15: ='20年1月'!N15 -> 91.1 | E15: ='2月'!L15 -> 5480764 | F15: ='2月'!M15 -> 6780539 | G15: ='2月'!N15 -> 80.8 | H15: ='3月'!L15 -> 1014101 | I15: ='3月'!M15 -> 5520671 | J15: ='3月'!N15 -> 18.4 | K15: ='1Q'!L15 -> 11193663 | L15: ='1Q'!M15 -> 17457984 | M15: ='1Q'!N15 -> 64.11773 | N15: ='4月'!L15 -> 162916 | O15: ='4月'!M15 -> 2868444 | P15: ='4月'!N15 -> 5.7 | Q15: ='5月'!L15 -> 94741 | R15: ='5月'!M15 -> 3227069 | S15: ='5月'!N15 -> 2.9 | T15: ='6月'!L15 -> 315091 | U15: ='6月'!M15 -> 4916781 | V15: ='6月'!N15 -> 6.4 | W15: ='2Q'!L15 -> 572748 | X15: ='2Q'!M15 -> 11012294 | Y15: ='2Q'!N15 -> 5.2009872 | Z15: =上期!L15 -> 11766411 | AA15: =上期!M15 -> 28470278 | AB15: =上期!N15 -> 41.328753 | AC15: ='7月'!L15 -> 0 | AD15: ='7月'!M15 -> 0 | AE15: ='7月'!N15 -> 0 | AF15: ='8月'!L15 -> 0 | AG15: ='8月'!M15 -> 0 | AH15: ='8月'!N15 -> 0 | AI15: ='9月'!L15 -> 0 | AJ15: ='9月'!M15 -> 0 | AK15: ='9月'!N15 -> 0 | AL15: ='3Q'!L15 -> 0 | AM15: ='3Q'!M15 -> 0 | AN15: ='3Q'!N15 -> 0 | AO15: ='10月'!L15 -> 0 | AP15: ='10月'!M15 -> 0 | AQ15: ='10月'!N15 -> 0 | AR15: ='11月'!L15 -> 0 | AS15: ='11月'!M15 -> 0 | AT15: ='11月'!N15 -> 0 | AU15: ='12月'!L15 -> 0 | AV15: ='12月'!M15 -> 0 | AW15: ='12月'!N15 -> 0 | AX15: ='4Q'!L15 -> 0 | AY15: ='4Q'!M15 -> 0 | AZ15: ='4Q'!N15 -> 0 | BA15: =下期!L15 -> 0 | BB15: =下期!M15 -> 0 | BC15: =下期!N15 -> 0 | BD15: ='20年度累計'!L15 -> 0 | BE15: ='20年度累計'!M15 -> 0 | BF15: ='20年度累計'!N15 -> 0
A16: ='4月'!B16 -> ビッグホリデー（株） | B16: ='20年1月'!L16 -> 4694420 | C16: ='20年1月'!M16 -> 4827400 | D16: ='20年1月'!N16 -> 97.2 | E16: ='2月'!L16 -> 8052360 | F16: ='2月'!M16 -> 8404272 | G16: ='2月'!N16 -> 95.8 | H16: ='3月'!L16 -> 2476660 | I16: ='3月'!M16 -> 9378630 | J16: ='3月'!N16 -> 26.4 | K16: ='1Q'!L16 -> 15223440 | L16: ='1Q'!M16 -> 22610302 | M16: ='1Q'!N16 -> 67.329662 | N16: ='4月'!L16 -> 62806 | O16: ='4月'!M16 -> 2364360 | P16: ='4月'!N16 -> 2.7 | Q16: ='5月'!L16 -> 21573 | R16: ='5月'!M16 -> 3536600 | S16: ='5月'!N16 -> 0.6 | T16: ='6月'!L16 -> 115000 | U16: ='6月'!M16 -> 4409190 | V16: ='6月'!N16 -> 2.6 | W16: ='2Q'!L16 -> 199379 | X16: ='2Q'!M16 -> 10310150 | Y16: ='2Q'!N16 -> 1.9338128 | Z16: =上期!L16 -> 15422819 | AA16: =上期!M16 -> 32920452 | AB16: =上期!N16 -> 46.848746 | AC16: ='7月'!L16 -> 0 | AD16: ='7月'!M16 -> 0 | AE16: ='7月'!N16 -> 0 | AF16: ='8月'!L16 -> 0 | AG16: ='8月'!M16 -> 0 | AH16: ='8月'!N16 -> 0 | AI16: ='9月'!L16 -> 0 | AJ16: ='9月'!M16 -> 0 | AK16: ='9月'!N16 -> 0 | AL16: ='3Q'!L16 -> 0 | AM16: ='3Q'!M16 -> 0 | AN16: ='3Q'!N16 -> 0 | AO16: ='10月'!L16 -> 0 | AP16: ='10月'!M16 -> 0 | AQ16: ='10月'!N16 -> 0 | AR16: ='11月'!L16 -> 0 | AS16: ='11月'!M16 -> 0 | AT16: ='11月'!N16 -> 0 | AU16: ='12月'!L16 -> 0 | AV16: ='12月'!M16 -> 0 | AW16: ='12月'!N16 -> 0 | AX16: ='4Q'!L16 -> 0 | AY16: ='4Q'!M16 -> 0 | AZ16: ='4Q'!N16 -> 0 | BA16: =下期!L16 -> 0 | BB16: =下期!M16 -> 0 | BC16: =下期!N16 -> 0 | BD16: ='20年度累計'!L16 -> 0 | BE16: ='20年度累計'!M16 -> 0 | BF16: ='20年度累計'!N16 -> 0
... A51: ='4月'!B51 -> （株）三越伊勢丹ニッコウトラベル | B51: ='20年1月'!L51 -> 335261 | C51: ='20年1月'!M51 -> 602679 | D51: ='20年1月'!N51 -> 55.6 | E51: ='2月'!L51 -> 335343 | F51: ='2月'!M51 -> 378861 | G51: ='2月'!N51 -> 88.5 | H51: ='3月'!L51 -> 163157 | I51: ='3月'!M51 -> 840180 | J51: ='3月'!N51 -> 19.4 | K51: ='1Q'!L51 -> 833761 | L51: ='1Q'!M51 -> 1821720 | M51: ='1Q'!N51 -> 45.767791 | N51: ='4月'!L51 -> 11686 | O51: ='4月'!M51 -> 1120915 | P51: ='4月'!N51 -> 1 | Q51: ='5月'!L51 -> 0 | R51: ='5月'!M51 -> 884070 | S51: ='5月'!N51 -> － | T51: ='6月'!L51 -> 0 | U51: ='6月'!M51 -> 458422 | V51: ='6月'!N51 -> － | W51: ='2Q'!L51 -> 11686 | X51: ='2Q'!M51 -> 2463407 | Y51: ='2Q'!N51 -> 0.47438365 | Z51: =上期!L51 -> 845447 | AA51: =上期!M51 -> 4285127 | AB51: =上期!N51 -> 19.7298 | AC51: ='7月'!L51 -> 0 | AD51: ='7月'!M51 -> 0 | AE51: ='7月'!N51 -> 0 | AF51: ='8月'!L51 -> 0 | AG51: ='8月'!M51 -> 0 | AH51: ='8月'!N51 -> 0 | AI51: ='9月'!L51 -> 0 | AJ51: ='9月'!M51 -> 0 | AK51: ='9月'!N51 -> 0 | AL51: ='3Q'!L51 -> 0 | AM51: ='3Q'!M51 -> 0 | AN51: ='3Q'!N51 -> 0 | AO51: ='10月'!L51 -> 0 | AP51: ='10月'!M51 -> 0 | AQ51: ='10月'!N51 -> 0 | AR51: ='11月'!L51 -> 0 | AS51: ='11月'!M51 -> 0 | AT51: ='11月'!N51 -> 0 | AU51: ='12月'!L51 -> 0 | AV51: ='12月'!M51 -> 0 | AW51: ='12月'!N51 -> 0 | AX51: ='4Q'!L51 -> 0 | AY51: ='4Q'!M51 -> 0 | AZ51: ='4Q'!N51 -> 0 | BA51: =下期!L51 -> 0 | BB51: =下期!M51 -> 0 | BC51: =下期!N51 -> 0 | BD51: ='20年度累計'!L51 -> 0 | BE51: ='20年度累計'!M51 -> 0 | BF51: ='20年度累計'!N51 -> 0
A52: ='4月'!#REF! -> #REF! | B52: ='20年1月'!#REF! -> #REF! | C52: ='20年1月'!#REF! -> #REF! | D52: ='20年1月'!#REF! -> #REF! | E52: ='2月'!#REF! -> #REF! | F52: ='2月'!#REF! -> #REF! | G52: ='2月'!#REF! -> #REF! | H52: ='3月'!#REF! -> #REF! | I52: ='3月'!#REF! -> #REF! | J52: ='3月'!#REF! -> #REF! | K52: ='1Q'!#REF! -> #REF! | L52: ='1Q'!#REF! -> #REF! | M52: ='1Q'!#REF! -> #REF! | N52: ='4月'!#REF! -> #REF! | O52: ='4月'!#REF! -> #REF! | P52: ='4月'!#REF! -> #REF! | Q52: ='5月'!#REF! -> #REF! | R52: ='5月'!#REF! -> #REF! | S52: ='5月'!#REF! -> #REF! | T52: ='6月'!#REF! -> #REF! | U52: ='6月'!#REF! -> #REF! | V52: ='6月'!#REF! -> #REF! | W52: ='2Q'!#REF! -> #REF! | X52: ='2Q'!#REF! -> #REF! | Y52: ='2Q'!#REF! -> #REF! | Z52: =上期!#REF! -> #REF! | AA52: =上期!#REF! -> #REF! | AB52: =上期!#REF! -> #REF! | AC52: ='7月'!#REF! -> #REF! | AD52: ='7月'!#REF! -> #REF! | AE52: ='7月'!#REF! -> #REF! | AF52: ='8月'!#REF! -> #REF! | AG52: ='8月'!#REF! -> #REF! | AH52: ='8月'!#REF! -> #REF! | AI52: ='9月'!#REF! -> #REF! | AJ52: ='9月'!#REF! -> #REF! | AK52: ='9月'!#REF! -> #REF! | AL52: ='3Q'!#REF! -> #REF! | AM52: ='3Q'!#REF! -> #REF! | AN52: ='3Q'!#REF! -> #REF! | AO52: ='10月'!#REF! -> #REF! | AP52: ='10月'!#REF! -> #REF! | AQ52: ='10月'!#REF! -> #REF! | AR52: ='11月'!#REF! -> #REF! | AS52: ='11月'!#REF! -> #REF! | AT52: ='11月'!#REF! -> #REF! | AU52: ='12月'!#REF! -> #REF! | AV52: ='12月'!#REF! -> #REF! | AW52: ='12月'!#REF! -> #REF! | AX52: ='4Q'!#REF! -> #REF! | AY52: ='4Q'!#REF! -> #REF! | AZ52: ='4Q'!#REF! -> #REF! | BA52: =下期!#REF! -> #REF! | BB52: =下期!#REF! -> #REF! | BC52: =下期!#REF! -> #REF! | BD52: ='20年度累計'!#REF! -> #REF! | BE52: ='20年度累計'!#REF! -> #REF! | BF52: ='20年度累計'!#REF! -> #REF!
A53: ='4月'!B52 -> （株）JAL JTAセールス | B53: ='20年1月'!L52 -> 178923 | C53: ='20年1月'!M52 -> 177343 | D53: ='20年1月'!N52 -> 100.9 | E53: ='2月'!L52 -> 153056 | F53: ='2月'!M52 -> 201440 | G53: ='2月'!N52 -> 76 | H53: ='3月'!L52 -> 69616 | I53: ='3月'!M52 -> 316436 | J53: ='3月'!N52 -> 22 | K53: ='1Q'!L52 -> 401595 | L53: ='1Q'!M52 -> 695219 | M53: ='1Q'!N52 -> 57.765251 | N53: ='4月'!L52 -> 7814 | O53: ='4月'!M52 -> 186935 | P53: ='4月'!N52 -> 4.2 | Q53: ='5月'!L52 -> 2972 | R53: ='5月'!M52 -> 220380 | S53: ='5月'!N52 -> 1.3 | T53: ='6月'!L52 -> 74806 | U53: ='6月'!M52 -> 204207 | V53: ='6月'!N52 -> 36.6 | W53: ='2Q'!L52 -> 85592 | X53: ='2Q'!M52 -> 611522 | Y53: ='2Q'!N52 -> 13.996553 | Z53: =上期!L52 -> 487187 | AA53: =上期!M52 -> 1306741 | AB53: =上期!N52 -> 37.282598 | AC53: ='7月'!L52 -> 0 | AD53: ='7月'!M52 -> 0 | AE53: ='7月'!N52 -> 0 | AF53: ='8月'!L52 -> 0 | AG53: ='8月'!M52 -> 0 | AH53: ='8月'!N52 -> 0 | AI53: ='9月'!L52 -> 0 | AJ53: ='9月'!M52 -> 0 | AK53: ='9月'!N52 -> 0 | AL53: ='3Q'!L52 -> 0 | AM53: ='3Q'!M52 -> 0 | AN53: ='3Q'!N52 -> 0 | AO53: ='10月'!L52 -> 0 | AP53: ='10月'!M52 -> 0 | AQ53: ='10月'!N52 -> 0 | AR53: ='11月'!L52 -> 0 | AS53: ='11月'!M52 -> 0 | AT53: ='11月'!N52 -> 0 | AU53: ='12月'!L52 -> 0 | AV53: ='12月'!M52 -> 0 | AW53: ='12月'!N52 -> 0 | AX53: ='4Q'!L52 -> 0 | AY53: ='4Q'!M52 -> 0 | AZ53: ='4Q'!N52 -> 0 | BA53: =下期!L52 -> 0 | BB53: =下期!M52 -> 0 | BC53: =下期!N52 -> 0 | BD53: ='20年度累計'!L52 -> 0 | BE53: ='20年度累計'!M52 -> 0 | BF53: ='20年度累計'!N52 -> 0
A54: 合計 | B54: ='20年1月'!L53 -> 278424403 | C54: ='20年1月'!M53 -> 295491335 | D54: ='20年1月'!N53 -> 94.224219 | E54: ='2月'!L53 -> 267098319 | F54: ='2月'!M53 -> 329506981 | G54: ='2月'!N53 -> 81.059988 | H54: ='3月'!L53 -> 116385399 | I54: ='3月'!M53 -> 408532539 | J54: ='3月'!N53 -> 28.488648 | K54: ='1Q'!L53 -> 661908121 | L54: ='1Q'!M53 -> 1033530855 | M54: ='1Q'!N53 -> 64.043383 | N54: ='4月'!L53 -> 16942099 | O54: ='4月'!M53 -> 375783491 | P54: ='4月'!N53 -> 4.5084735 | Q54: ='5月'!L53 -> 9570571 | R54: ='5月'!M53 -> 391462461 | S54: ='5月'!N53 -> 2.4448247 | T54: ='6月'!L53 -> 28786788 | U54: ='6月'!M53 -> 403845437 | V54: ='6月'!N53 -> 7.1281697 | W54: ='2Q'!L53 -> 54797134 | X54: ='2Q'!M53 -> 1135754318 | Y54: ='2Q'!N53 -> 4.8247348 | Z54: =上期!L53 -> 716705255 | AA54: =上期!M53 -> 2169285173 | AB54: =上期!N53 -> 33.038775 | AC54: ='7月'!L53 -> 0 | AD54: ='7月'!M53 -> 0 | AE54: ='7月'!N53 -> #DIV/0! | AF54: ='8月'!L53 -> 0 | AG54: ='8月'!M53 -> 0 | AH54: ='8月'!N53 -> #DIV/0! | AI54: ='9月'!L53 -> 0 | AJ54: ='9月'!M53 -> 0 | AK54: ='9月'!N53 -> #DIV/0! | AL54: ='3Q'!L53 -> 0 | AM54: ='3Q'!M53 -> 0 | AN54: ='3Q'!N53 -> #DIV/0! | AO54: ='10月'!L53 -> 0 | AP54: ='10月'!M53 -> 0 | AQ54: ='10月'!N53 -> #DIV/0! | AR54: ='11月'!L53 -> 0 | AS54: ='11月'!M53 -> 0 | AT54: ='11月'!N53 -> #DIV/0! | AU54: ='12月'!L53 -> 0 | AV54: ='12月'!M53 -> 0 | AW54: ='12月'!N53 -> #DIV/0! | AX54: ='4Q'!L53 -> 0 | AY54: ='4Q'!M53 -> 0 | AZ54: ='4Q'!N53 -> #DIV/0! | BA54: =下期!L53 -> 0 | BB54: =下期!M53 -> 0 | BC54: =下期!N53 -> #DIV/0! | BD54: ='20年度累計'!L53 -> 0 | BE54: ='20年度累計'!M53 -> 0 | BF54: ='20年度累計'!N53 -> #DIV/0!
O56: *1 JTBの11社内取引を相殺し合計
O57: JTB11社：
O58: JTB、JTBグローバルマーケティング＆トラベル、JTB沖縄、JTB京阪トラベル、エイ・ビー・アイ、JTBメディアリテーリング、
O59: JTBグランドツアー＆サービス、朝日旅行、JTBビジネストラベルソリューションズ、JTBガイアレック、トラベルプラザインターナショナル
O61: *2 KNT-CTホールディングスの13社内取引を相殺し合計
O62: KNT-CTホールディングス13社：
O63: クラブツーリズム、近畿日本ツーリスト北海道、近畿日本ツーリスト東北、近畿日本ツーリスト関東、近畿日本ツーリスト首都圏、
O64: 近畿日本ツーリスト中部、近畿日本ツーリスト関西、 近畿日本ツーリスト中国四国、 近畿日本ツーリスト九州、
O65: 近畿日本ツーリストコーポレートビジネス、KNT-CTグローバルトラベル、KNT-CTウエブトラベル、ユナイテッドツアーズ
O67: *3 エイチ・アイ・エスの6社内取引を相殺し合計
O68: エイチ・アイ・エス6社：
O69: HIS、オリオンツアー、クオリタ、クルーズプラネット、ジャパンホリデートラベル、ミキ・ツーリスト
... O81: タビックスジャパン、東日観光、トラベルイン、湯旅

Sheet 募集型企画旅行
A1: 募集型企画旅行の取扱状況 | E1: 2020年累計
A2: 区分 | B2: 取扱額 | E2: 取扱人数
B3: 取扱額 （千円） | C3: 前年 （千円） | D3: 前年比 （％） | E3: 取扱人数 （人） | F3: 前年 （人） | G3: 前年比 （％）
A4: 海外旅行
A5: 外国人旅行
A6: 国内旅行
A7: 合計
A9: 募集型企画旅行の取扱状況 | E9: 2020年上半期
A10: 区分 | B10: 取扱額 | E10: 取扱人数
B11: 取扱額 （千円） | C11: 前年 （千円） | D11: 前年比 （％） | E11: 取扱人数 （人） | F11: 前年 （人） | G11: 前年比 （％）
A12: 海外旅行 | B12: =B30+B38+B46+B54+B62+B70 -> 65426306 | C12: =C30+C38+C46+C54+C62+C70 -> 181459060 | D12: =(B12/C12)*100 -> 36.055684 | E12: =E30+E38+E46+E54+E62+E70 -> 295616 | F12: =F30+F38+F46+F54+F62+F70 -> 895474 | G12: =(E12/F12)*100 -> 33.012237
A13: 外国人旅行 | B13: =B31+B39+B47+B55+B63+B71 -> 577099 | C13: =C31+C39+C47+C55+C63+C71 -> 2812535 | D13: =(B13/C13)*100 -> 20.51882 | E13: =E31+E39+E47+E55+E63+E71 -> 56540 | F13: =F31+F39+F47+F55+F63+F71 -> 274491 | G13: =(E13/F13)*100 -> 20.598125
A14: 国内旅行 | B14: =B32+B40+B48+B56+B64+B72 -> 153807710 | C14: =C32+C40+C48+C56+C64+C72 -> 458182783 | D14: =(B14/C14)*100 -> 33.569072 | E14: =E32+E40+E48+E56+E64+E72 -> 5342342 | F14: =F32+F40+F48+F56+F64+F72 -> 15887922 | G14: =(E14/F14)*100 -> 33.625178
A15: 合計 | B15: =B33+B41+B49+B57+B65+B73 -> 219811134 | C15: =C33+C41+C49+C57+C65+C73 -> 642454378 | D15: =(B15/C15)*100 -> 34.214279 | E15: =E33+E41+E49+E57+E65+E73 -> 5694498 | F15: =F33+F41+F49+F57+F65+F73 -> 17057887 | G15: =(E15/F15)*100 -> 33.383373
A18: 募集型企画旅行の取扱状況 | E18: 2020年下半期
A19: 区分 | B19: 取扱額 | E19: 取扱人数
B20: 取扱額 （千円） | C20: 前年 （千円） | D20: 前年比 （％） | E20: 取扱人数 （人） | F20: 前年 （人） | G20: 前年比 （％）
A21: 海外旅行
A22: 外国人旅行
A23: 国内旅行
A24: 合計
A27: 募集型企画旅行の取扱状況 | E27: 43831
A28: 区分 | B28: 取扱額 | E28: 取扱人数
B29: 取扱額 （千円） | C29: 前年 （千円） | D29: 前年比 （％） | E29: 取扱人数 （人） | F29: 前年 （人） | G29: 前年比 （％）
A30: 海外旅行 | B30: 27668534 | C30: 29213591 | D30: 94.7 | E30: 121623 | F30: 143411 | G30: 84.8
A31: 外国人旅行 | B31: 328827 | C31: 409046 | D31: 80.4 | E31: 33896 | F31: 34523 | G31: 98.2
A32: 国内旅行 | B32: 60912671 | C32: 65290257 | D32: 93.3 | E32: 2127641 | F32: 2337394 | G32: 91
A33: 合計 | B33: 88910032 | C33: 94912894 | D33: 93.7 | E33: 2283160 | F33: 2515328 | G33: 90.8
A35: 募集型企画旅行の取扱状況 | E35: =EDATE(E27,1) -> 43862
A36: 区分 | B36: 取扱額 | E36: 取扱人数
B37: 取扱額 （千円） | C37: 前年 （千円） | D37: 前年比 （％） | E37: 取扱人数 （人） | F37: 前年 （人） | G37: 前年比 （％）
A38: 海外旅行 | B38: 29185801 | C38: 30934929 | D38: 94.3 | E38: 140921 | F38: 164954 | G38: 85.4
A39: 外国人旅行 | B39: 215643 | C39: 416081 | D39: 51.8 | E39: 20313 | F39: 38690 | G39: 52.5
A40: 国内旅行 | B40: 61475644 | C40: 70517870 | D40: 87.2 | E40: 2167044 | F40: 2617342 | G40: 82.8
A41: 合計 | B41: 90877088 | C41: 101868880 | D41: 89.2 | E41: 2328278 | F41: 2820986 | G41: 82.5
A43: 募集型企画旅行の取扱状況 | E43: =EDATE(E35,1) -> 43891
A44: 区分 | B44: 取扱額 | E44: 取扱人数
B45: 取扱額 （千円） | C45: 前年 （千円） | D45: 前年比 （％） | E45: 取扱人数 （人） | F45: 前年 （人） | G45: 前年比 （％）
A46: 海外旅行 | B46: 8509174 | C46: 38838259 | D46: 21.9 | E46: 33016 | F46: 210187 | G46: 15.7
A47: 外国人旅行 | B47: 32586 | C47: 522012 | D47: 6.2 | E47: 2318 | F47: 42533 | G47: 5.4
A48: 国内旅行 | B48: 23401286 | C48: 93583149 | D48: 25 | E48: 807010 | F48: 3456158 | G48: 23.3
A49: 合計 | B49: 31943046 | C49: 132943420 | D49: 24 | E49: 842344 | F49: 3708878 | G49: 22.7
A51: 募集型企画旅行の取扱状況 | E51: =EDATE(E43,1) -> 43922
A52: 区分 | B52: 取扱額 | E52: 取扱人数
B53: 取扱額 （千円） | C53: 前年 （千円） | D53: 前年比 （％） | E53: 取扱人数 （人） | F53: 前年 （人） | G53: 前年比 （％）
A54: 海外旅行 | B54: 48179 | C54: 13782572 | D54: 0.3 | E54: 19 | F54: 125744 | G54: 0
A55: 外国人旅行 | B55: 43 | C55: 425838 | D55: 0 | E55: 13 | F55: 71994 | G55: 0
A56: 国内旅行 | B56: 2874845 | C56: 80433527 | D56: 3.6 | E56: 60868 | F56: 2623262 | G56: 2.3
A57: 合計 | B57: 2923067 | C57: 94641937 | D57: 3.1 | E57: 60900 | F57: 2821000 | G57: 2.2
A59: 募集型企画旅行の取扱状況 | E59: =EDATE(E51,1) -> 43952
A60: 区分 | B60: 取扱額 | E60: 取扱人数
B61: 取扱額 （千円） | C61: 前年 （千円） | D61: 前年比 （％） | E61: 取扱人数 （人） | F61: 前年 （人） | G61: 前年比 （％）
A62: 海外旅行 | B62: 14618 | C62: 36720618 | D62: =(B62/C62)*100 -> 0.039808698 | E62: 37 | F62: 127988 | G62: 0
A63: 外国人旅行 | B63: 0 | C63: 600798 | D63: － | E63: 0 | F63: 48106 | G63: －
A64: 国内旅行 | B64: 847006 | C64: 82357556 | D64: 1 | E64: 28723 | F64: 2581703 | G64: 1.1
A65: 合計 | B65: 861643 | C65: 119678972 | D65: 0.7 | E65: 28760 | F65: 2757797 | G65: 1
A67: 募集型企画旅行の取扱状況 | E67: =EDATE(E59,1) -> 43983
A68: 区分 | B68: 取扱額 | E68: 取扱人数
B69: 取扱額 （千円） | C69: 前年 （千円） | D69: 前年比 （％） | E69: 取扱人数 （人） | F69: 前年 （人） | G69: 前年比 （％）
A70: 海外旅行 | B70: 0 | C70: 31969091 | D70: － | E70: 0 | F70: 123190 | G70: －
A71: 外国人旅行 | B71: 0 | C71: 438760 | D71: － | E71: 0 | F71: 38645 | G71: －
A72: 国内旅行 | B72: 4296258 | C72: 66000424 | D72: 6.5 | E72: 151056 | F72: 2272063 | G72: 6.6
A73: 合計 | B73: 4296258 | C73: 98408275 | D73: 4.4 | E73: 151056 | F73: 2433898 | G73: 6.2
A75: 募集型企画旅行の取扱状況 | E75: =EDATE(E67,1) -> 44013
A76: 区分 | B76: 取扱額 | E76: 取扱人数
B77: 取扱額 （千円） | C77: 前年 （千円） | D77: 前年比 （％） | E77: 取扱人数 （人） | F77: 前年 （人） | G77: 前年比 （％）
A78: 海外旅行
A79: 外国人旅行
A80: 国内旅行
A81: 合計
A83: 募集型企画旅行の取扱状況 | E83: =EDATE(E75,1) -> 44044
A84: 区分 | B84: 取扱額 | E84: 取扱人数
B85: 取扱額 （千円） | C85: 前年 （千円） | D85: 前年比 （％） | E85: 取扱人数 （人） | F85: 前年 （人） | G85: 前年比 （％）
A86: 海外旅行
A87: 外国人旅行
A88: 国内旅行
A89: 合計
A91: 募集型企画旅行の取扱状況 | E91: =EDATE(E83,1) -> 44075
A92: 区分 | B92: 取扱額 | E92: 取扱人数
B93: 取扱額 （千円） | C93: 前年 （千円） | D93: 前年比 （％） | E93: 取扱人数 （人） | F93: 前年 （人） | G93: 前年比 （％）
A94: 海外旅行
A95: 外国人旅行
A96: 国内旅行
A97: 合計
A99: 募集型企画旅行の取扱状況 | E99: =EDATE(E91,1) -> 44105
A100: 区分 | B100: 取扱額 | E100: 取扱人数
B101: 取扱額 （千円） | C101: 前年 （千円） | D101: 前年比 （％） | E101: 取扱人数 （人） | F101: 前年 （人） | G101: 前年比 （％）
A102: 海外旅行
A103: 外国人旅行
A104: 国内旅行
A105: 合計
A107: 募集型企画旅行の取扱状況 | E107: =EDATE(E99,1) -> 44136
A108: 区分 | B108: 取扱額 | E108: 取扱人数
B109: 取扱額 （千円） | C109: 前年 （千円） | D109: 前年比 （％） | E109: 取扱人数 （人） | F109: 前年 （人） | G109: 前年比 （％）
A110: 海外旅行
A111: 外国人旅行
A112: 国内旅行
A113: 合計
A115: 募集型企画旅行の取扱状況 | E115: =EDATE(E107,1) -> 44166
A116: 区分 | B116: 取扱額 | E116: 取扱人数
...
