Workbook

Sheet 4月
B1: 主要旅行業者の旅行取扱状況速報
F2: 42461
B3: 会 社 名 | C3: 海 外 旅 行 | F3: 外 国 人 旅 行 | I3: 国 内 旅 行 | L3: 合 計
C4: 取扱額（千円） | D4: 前年（千円） | E4: 前年比（％） | F4: 取扱額（千円） | G4: 前年（千円） | H4: 前年比（％） | I4: 取扱額（千円） | J4: 前年（千円） | K4: 前年比（％） | L4: 取扱額（千円） | M4: 前年（千円） | N4: 前年比（％）
B5: ジェイティービー（15社計＊） | C5: 26697041 | D5: 27148827 | E5: 98.3 | F5: 8985280 | G5: 7931714 | H5: 113.3 | I5: 70328876 | J5: 65695484 | K5: 107.1 | L5: 106011197 | M5: 100776025 | N5: 105.2
B6: KNT-CTホールディングス（8社計＊） | C6: 8201000 | D6: 8725399 | E6: 94 | F6: 1883990 | G6: 1539133 | H6: 122.4 | I6: 24725499 | J6: 27005880 | K6: 91.6 | L6: 34810489 | M6: 37270412 | N6: 93.4
B7: エイチ・アイ・エス（5社計＊） | C7: 23443621 | D7: 20708604 | E7: 113.2 | F7: 2506735 | G7: 2291099 | H7: 109.4 | I7: 3739042 | J7: 3407592 | K7: 109.7 | L7: 29689399 | M7: 26407295 | N7: 112.4
B8: （株）日本旅行 | C8: 7688161 | D8: 8322564 | E8: 92.4 | F8: 4568980 | G8: 3456915 | H8: 132.2 | I8: 19455942 | J8: 19701285 | K8: 98.8 | L8: 31713083 | M8: 31480764 | N8: 100.7
B9: 阪急交通社（3社計＊） | C9: 13138524 | D9: 15955759 | E9: 82.3 | F9: 602858 | G9: 435508 | H9: 138.4 | I9: 11682735 | J9: 13696194 | K9: 85.3 | L9: 25424117 | M9: 30087461 | N9: 84.5
B10: 楽天(株) | C10: 1015598 | D10: 1026946 | E10: 98.9 | F10: 977144 | G10: 762903 | H10: 128.1 | I10: 35977227 | J10: 30203317 | K10: 119.1 | L10: 37969969 | M10: 31993166 | N10: 118.7
B11: （株）JTBワールドバケーションズ | C11: 13948046 | D11: 13911045 | E11: 100.3 | F11: 0 | G11: 0 | H11: － | I11: 0 | J11: 0 | K11: － | L11: 13948046 | M11: 13911045 | N11: 100.3
B12: ANAセールス（株） | C12: 1504000 | D12: 1535000 | E12: 98 | F12: 143000 | G12: 164000 | H12: 87.2 | I12: 12450000 | J12: 12345000 | K12: 100.9 | L12: 14097000 | M12: 14044000 | N12: 100.4
B13: （株）ジャルパック | C13: 3646481 | D13: 3822902 | E13: 95.4 | F13: 85 | G13: 2880 | H13: 3 | I13: 8501030 | J13: 7845057 | K13: 108.4 | L13: 12147596 | M13: 11670839 | N13: 104.1
B14: 東武トップツアーズ（株） | C14: 1699927 | D14: 2077680 | E14: 81.8 | F14: 399843 | G14: 394620 | H14: 101.3 | I14: 7479795 | J14: 7869139 | K14: 95.1 | L14: 9579565 | M14: 10341439 | N14: 92.6
B15: （株）ジェイアール東海ツアーズ | C15: 89191 | D15: 111632 | E15: 79.9 | F15: 56154 | G15: 37985 | H15: 147.8 | I15: 8069496 | J15: 8376643 | K15: 96.3 | L15: 8214841 | M15: 8526260 | N15: 96.3
B16: （株）JTBビジネストラベルソリューションズ | C16: 5125696 | D16: 4965552 | E16: 103.2 | F16: 18543 | G16: 11747 | H16: 157.9 | I16: 3602647 | J16: 3811495 | K16: 94.5 | L16: 8746886 | M16: 8788794 | N16: 99.5
B17: （株）農協観光 | C17: 169407 | D17: 197193 | E17: 85.9 | F17: 335330 | G17: 339156 | H17: 98.9 | I17: 2897093 | J17: 2889654 | K17: 100.3 | L17: 3401830 | M17: 3426003 | N17: 99.3
B18: 名鉄観光サービス（株） | C18: 774112 | D18: 831047 | E18: 93.1 | F18: 166476 | G18: 181158 | H18: 91.9 | I18: 5263325 | J18: 5343438 | K18: 98.5 | L18: 6203913 | M18: 6355643 | N18: 97.6
B19: （株）読売旅行 | C19: 589269 | D19: 532051 | E19: 110.8 | F19: 4340 | G19: 9159 | H19: 47.4 | I19: 3960441 | J19: 4199943 | K19: 94.3 | L19: 4554050 | M19: 4741153 | N19: 96.1
B20: 日通旅行（株） | C20: 2499510 | D20: 3104232 | E20: 80.5 | F20: 161686 | G20: 100761 | H20: 160.5 | I20: 494731 | J20: 449393 | K20: 110.1 | L20: 3155927 | M20: 3654386 | N20: 86.4
B21: （株）DeNAトラベル | C21: 3828882 | D21: 2983356 | E21: 128.3 | F21: 504963 | G21: 0 | H21: － | I21: 259430 | J21: 130706 | K21: 198.5 | L21: 4593275 | M21: 3114062 | N21: 147.5
B22: 西鉄旅行（株） | C22: 987041 | D22: 1069502 | E22: 92.3 | F22: 24098 | G22: 33368 | H22: 72.2 | I22: 1433731 | J22: 1534588 | K22: 93.4 | L22: 2444870 | M22: 2637458 | N22: 92.7
B23: ビッグホリデー（株） | C23: 385565 | D23: 368729 | E23: 104.6 | F23: 0 | G23: 0 | H23: － | I23: 1932026 | J23: 1811201 | K23: 106.7 | L23: 2317591 | M23: 2179930 | N23: 106.3
B24: 日新航空サービス（株） | C24: 3090218 | D24: 3076525 | E24: 100.4 | F24: 0 | G24: 0 | H24: － | I24: 344252 | J24: 357300 | K24: 96.3 | L24: 3434470 | M24: 3433825 | N24: 100
B25: エムオーツーリスト（株） | C25: 3399033 | D25: 3148726 | E25: 107.9 | F25: 4139 | G25: 2606 | H25: 158.8 | I25: 269743 | J25: 287081 | K25: 94 | L25: 3672915 | M25: 3438413 | N25: 106.8
B26: （株）日立トラベルビューロー | C26: 1666026 | D26: 1698681 | E26: 98.1 | F26: 4589 | G26: 7174 | H26: 64 | I26: 1083693 | J26: 919981 | K26: 117.8 | L26: 2754308 | M26: 2625836 | N26: 104.9
B27: （株）タビックスジャパン | C27: 394176 | D27: 313406 | E27: 125.8 | F27: 8322 | G27: 0 | H27: － | I27: 1904462 | J27: 2048883 | K27: 93 | L27: 2306960 | M27: 2362289 | N27: 97.7
B28: 郵船トラベル（株） | C28: 2232211 | D28: 3179566 | E28: 70.2 | F28: 0 | G28: 0 | H28: － | I28: 141888 | J28: 148690 | K28: 95.4 | L28: 2374099 | M28: 3328256 | N28: 71.3
B29: （株）エヌオーイー | C29: 2013256 | D29: 1992678 | E29: 101 | F29: 12781 | G29: 15180 | H29: 84.2 | I29: 106023 | J29: 100530 | K29: 105.5 | L29: 2132060 | M29: 2108388 | N29: 101.1
B30: 沖縄ツーリスト（株） | C30: 69651 | D30: 80663 | E30: 86.3 | F30: 94349 | G30: 97476 | H30: 96.8 | I30: 2284852 | J30: 2235782 | K30: 102.2 | L30: 2448852 | M30: 2413921 | N30: 101.4
B31: （株）IACEトラベル | C31: 1612290 | D31: 1653274 | E31: 97.5 | F31: 0 | G31: 0 | H31: － | I31: 276603 | J31: 228305 | K31: 121.2 | L31: 1888893 | M31: 1881579 | N31: 100.4
B32: （株）旅工房 | C32: 1315044 | D32: 1211145 | E32: 108.6 | F32: 64294 | G32: 33492 | H32: 192 | I32: 42154 | J32: 74534 | K32: 56.6 | L32: 1421492 | M32: 1319171 | N32: 107.8
B33: （株）トヨタツーリストインターナショナル | C33: 1137811 | D33: 1213397 | E33: 93.8 | F33: 20625 | G33: 232 | H33: 8890.1 | I33: 170615 | J33: 146008 | K33: 116.9 | L33: 1329051 | M33: 1359637 | N33: 97.8
B34: 京王観光（株） | C34: 152066 | D34: 162193 | E34: 93.8 | F34: 66213 | G34: 21586 | H34: 306.7 | I34: 1308687 | J34: 1260131 | K34: 103.9 | L34: 1526966 | M34: 1443910 | N34: 105.8
B35: 東日観光（株） | C35: 342818 | D35: 328031 | E35: 104.5 | F35: 289303 | G35: 303718 | H35: 95.3 | I35: 364920 | J35: 350384 | K35: 104.1 | L35: 997041 | M35: 982133 | N35: 101.5
B36: 九州旅客鉄道（株） | C36: 55631 | D36: 52036 | E36: 106.9 | F36: 0 | G36: 0 | H36: － | I36: 1386860 | J36: 1685343 | K36: 82.3 | L36: 1442491 | M36: 1737379 | N36: 83
B37: メルコトラベル（株） | C37: 582139 | D37: 612995 | E37: 95 | F37: 836 | G37: 850 | H37: 98.4 | I37: 748561 | J37: 777556 | K37: 96.3 | L37: 1331536 | M37: 1391401 | N37: 95.7
B38: （株）フジ・トラベル・サービス | C38: 173580 | D38: 168957 | E38: 102.7 | F38: 7942 | G38: 4760 | H38: 166.8 | I38: 963598 | J38: 1006038 | K38: 95.8 | L38: 1145120 | M38: 1179755 | N38: 97.1
B39: （株）南海国際旅行 | C39: 299983 | D39: 271576 | E39: 110.5 | F39: 29395 | G39: 33657 | H39: 87.3 | I39: 721408 | J39: 933238 | K39: 77.3 | L39: 1050786 | M39: 1238471 | N39: 84.8
B40: WILLER TRAVEL（株） | C40: 0 | D40: － | E40: － | F40: 76026 | G40: － | H40: － | I40: 928220 | J40: － | K40: － | L40: 1004246 | M40: － | N40: －
...

Sheet 5月
B1: 主要旅行業者の旅行取扱状況速報
F2: 42491
B3: 会 社 名 | C3: 海 外 旅 行 | F3: 外 国 人 旅 行 | I3: 国 内 旅 行 | L3: 合 計
C4: 取扱額（千円） | D4: 前年（千円） | E4: 前年比（％） | F4: 取扱額（千円） | G4: 前年（千円） | H4: 前年比（％） | I4: 取扱額（千円） | J4: 前年（千円） | K4: 前年比（％） | L4: 取扱額（千円） | M4: 前年（千円） | N4: 前年比（％）
B5: ジェイティービー（15社計＊） | C5: 28648874 | D5: 32103199 | E5: 89.2 | F5: 8976954 | G5: 7454935 | H5: 120.4 | I5: 83234843 | J5: 92402600 | K5: 90.1 | L5: 120860671 | M5: 131960734 | N5: 91.6
B6: KNT-CTホールディングス（8社計＊） | C6: 9998448 | D6: 11331601 | E6: 88.2 | F6: 1457093 | G6: 1137359 | H6: 128.1 | I6: 28717003 | J6: 33545737 | K6: 85.6 | L6: 40172544 | M6: 46014697 | N6: 87.3
B7: エイチ・アイ・エス（5社計＊） | C7: 22309526 | D7: 24982874 | E7: 89.3 | F7: 1792020 | G7: 2076225 | H7: 86.3 | I7: 3652765 | J7: 4130284 | K7: 88.4 | L7: 27754311 | M7: 31189383 | N7: 89
B8: （株）日本旅行 | C8: 8397498 | D8: 10130330 | E8: 82.9 | F8: 2332322 | G8: 2299372 | H8: 101.4 | I8: 23040575 | J8: 24028054 | K8: 95.9 | L8: 33770395 | M8: 36457756 | N8: 92.6
B9: 阪急交通社（3社計＊） | C9: 15259094 | D9: 17278491 | E9: 88.3 | F9: 335406 | G9: 261473 | H9: 128.3 | I9: 11062742 | J9: 12123269 | K9: 91.3 | L9: 26657242 | M9: 29663233 | N9: 89.9
B10: 楽天(株) | C10: 1170297 | D10: 1214978 | E10: 96.3 | F10: 602396 | G10: 456477 | H10: 132 | I10: 39792229 | J10: 37642954 | K10: 105.7 | L10: 41564922 | M10: 39314409 | N10: 105.7
B11: （株）JTBワールドバケーションズ | C11: 13874040 | D11: 16069820 | E11: 86.3 | F11: 0 | G11: 0 | H11: － | I11: 0 | J11: 0 | K11: － | L11: 13874040 | M11: 16069820 | N11: 86.3
B12: ANAセールス（株） | C12: 1482000 | D12: 1698000 | E12: 87.3 | F12: 110000 | G12: 113000 | H12: 97.3 | I12: 13088000 | J12: 14012000 | K12: 93.4 | L12: 14680000 | M12: 15823000 | N12: 92.8
B13: （株）ジャルパック | C13: 3903573 | D13: 4350373 | E13: 89.7 | F13: 1004 | G13: 4676 | H13: 21.5 | I13: 8392245 | J13: 8787286 | K13: 95.5 | L13: 12296822 | M13: 13142335 | N13: 93.6
B14: 東武トップツアーズ（株） | C14: 1970650 | D14: 2829992 | E14: 69.6 | F14: 651698 | G14: 689847 | H14: 94.5 | I14: 8870106 | J14: 10405053 | K14: 85.2 | L14: 11492454 | M14: 13924892 | N14: 82.5
B15: （株）ジェイアール東海ツアーズ | C15: 114419 | D15: 116202 | E15: 98.5 | F15: 39823 | G15: 39182 | H15: 101.6 | I15: 6454484 | J15: 6677832 | K15: 96.7 | L15: 6608726 | M15: 6833216 | N15: 96.7
B16: （株）JTBビジネストラベルソリューションズ | C16: 4735910 | D16: 4839126 | E16: 97.9 | F16: 9665 | G16: 22459 | H16: 43 | I16: 3288387 | J16: 3431606 | K16: 95.8 | L16: 8033962 | M16: 8293191 | N16: 96.9
B17: （株）農協観光 | C17: 312106 | D17: 315318 | E17: 99 | F17: 267244 | G17: 180843 | H17: 147.8 | I17: 3121709 | J17: 3393135 | K17: 92 | L17: 3701059 | M17: 3889296 | N17: 95.2
B18: 名鉄観光サービス（株） | C18: 919482 | D18: 1058496 | E18: 86.9 | F18: 151338 | G18: 170709 | H18: 88.7 | I18: 6824189 | J18: 7230236 | K18: 94.4 | L18: 7895009 | M18: 8459441 | N18: 93.3
B19: （株）読売旅行 | C19: 820594 | D19: 635600 | E19: 129.1 | F19: 4914 | G19: 500 | H19: 982.8 | I19: 3551755 | J19: 4134957 | K19: 85.9 | L19: 4377263 | M19: 4771057 | N19: 91.7
B20: 日通旅行（株） | C20: 2454934 | D20: 3265120 | E20: 75.2 | F20: 112541 | G20: 95346 | H20: 118 | I20: 699619 | J20: 569694 | K20: 122.8 | L20: 3267094 | M20: 3930160 | N20: 83.1
B21: （株）DeNAトラベル | C21: 3191387 | D21: 3308030 | E21: 96.5 | F21: 485374 | G21: 25907 | H21: 1873.5 | I21: 265440 | J21: 180197 | K21: 147.3 | L21: 3942201 | M21: 3514134 | N21: 112.2
B22: 西鉄旅行（株） | C22: 1017451 | D22: 1242296 | E22: 81.9 | F22: 34947 | G22: 20927 | H22: 167 | I22: 1575384 | J22: 1870088 | K22: 84.2 | L22: 2627782 | M22: 3133311 | N22: 83.9
B23: ビッグホリデー（株） | C23: 269422 | D23: 255017 | E23: 105.6 | F23: 0 | G23: 0 | H23: － | I23: 3042009 | J23: 3029860 | K23: 100.4 | L23: 3311431 | M23: 3284877 | N23: 100.8
B24: 日新航空サービス（株） | C24: 3326154 | D24: 3355359 | E24: 99.1 | F24: 0 | G24: 0 | H24: － | I24: 374784 | J24: 407294 | K24: 92 | L24: 3700938 | M24: 3762653 | N24: 98.4
B25: エムオーツーリスト（株） | C25: 2828780 | D25: 2958667 | E25: 95.6 | F25: 6487 | G25: 6646 | H25: 97.6 | I25: 262669 | J25: 274469 | K25: 95.7 | L25: 3097936 | M25: 3239782 | N25: 95.6
B26: （株）日立トラベルビューロー | C26: 1658633 | D26: 1526414 | E26: 108.7 | F26: 6474 | G26: 1026 | H26: 631 | I26: 924014 | J26: 742302 | K26: 124.5 | L26: 2589121 | M26: 2269742 | N26: 114.1
B27: （株）タビックスジャパン | C27: 357542 | D27: 410760 | E27: 87 | F27: 8833 | G27: 0 | H27: － | I27: 1815026 | J27: 2145776 | K27: 84.6 | L27: 2181401 | M27: 2556536 | N27: 85.3
B28: 郵船トラベル（株） | C28: 2153876 | D28: 2410337 | E28: 89.4 | F28: 0 | G28: 0 | H28: － | I28: 308004 | J28: 94427 | K28: 326.2 | L28: 2461880 | M28: 2504764 | N28: 98.3
B29: （株）エヌオーイー | C29: 2196000 | D29: 2174003 | E29: 101 | F29: 10078 | G29: 4581 | H29: 220 | I29: 88548 | J29: 91601 | K29: 96.7 | L29: 2294626 | M29: 2270185 | N29: 101.1
B30: 沖縄ツーリスト（株） | C30: 107615 | D30: 114258 | E30: 94.2 | F30: 46272 | G30: 92304 | H30: 50.1 | I30: 2249578 | J30: 2385833 | K30: 94.3 | L30: 2403465 | M30: 2592395 | N30: 92.7
B31: （株）IACEトラベル | C31: 1629741 | D31: 1692014 | E31: 96.3 | F31: 0 | G31: 0 | H31: － | I31: 282072 | J31: 239812 | K31: 117.6 | L31: 1911813 | M31: 1931826 | N31: 99
B32: （株）旅工房 | C32: 1272143 | D32: 1450607 | E32: 87.7 | F32: 32738 | G32: 33417 | H32: 98 | I32: 37973 | J32: 45125 | K32: 84.2 | L32: 1342854 | M32: 1529149 | N32: 87.8
B33: （株）トヨタツーリストインターナショナル | C33: 1095169 | D33: 1318688 | E33: 83 | F33: 25376 | G33: 7986 | H33: 317.8 | I33: 110547 | J33: 195798 | K33: 56.5 | L33: 1231092 | M33: 1522472 | N33: 80.9
B34: 京王観光（株） | C34: 219474 | D34: 192749 | E34: 113.9 | F34: 41491 | G34: 2522 | H34: 1645.2 | I34: 1273063 | J34: 1400829 | K34: 90.9 | L34: 1534028 | M34: 1596100 | N34: 96.1
B35: 東日観光（株） | C35: 352425 | D35: 362199 | E35: 97.3 | F35: 292257 | G35: 232529 | H35: 125.7 | I35: 1778640 | J35: 1471117 | K35: 120.9 | L35: 2423322 | M35: 2065845 | N35: 117.3
B36: 九州旅客鉄道（株） | C36: 54696 | D36: 114207 | E36: 47.9 | F36: 0 | G36: 0 | H36: － | I36: 1439200 | J36: 2009714 | K36: 71.6 | L36: 1493896 | M36: 2123921 | N36: 70.3
B37: メルコトラベル（株） | C37: 604544 | D37: 692847 | E37: 87.3 | F37: 0 | G37: 617 | H37: － | I37: 701022 | J37: 645288 | K37: 108.6 | L37: 1305566 | M37: 1338752 | N37: 97.5
B38: （株）フジ・トラベル・サービス | C38: 134457 | D38: 232990 | E38: 57.7 | F38: 14022 | G38: 9157 | H38: 153.1 | I38: 881412 | J38: 1099632 | K38: 80.2 | L38: 1029891 | M38: 1341779 | N38: 76.8
B39: （株）南海国際旅行 | C39: 294582 | D39: 313634 | E39: 93.9 | F39: 23598 | G39: 6252 | H39: 377.4 | I39: 777957 | J39: 849157 | K39: 91.6 | L39: 1096137 | M39: 1169043 | N39: 93.8
B40: WILLER TRAVEL（株） | C40: 0 | D40: － | E40: － | F40: 66400 | G40: － | H40: － | I40: 1009326 | J40: － | K40: － | L40: 1075726 | M40: － | N40: －
...

Sheet 6月
B1: 主要旅行業者の旅行取扱状況速報
F2: 42522
B3: 会 社 名 | C3: 海 外 旅 行 | F3: 外 国 人 旅 行 | I3: 国 内 旅 行 | L3: 合 計
C4: 取扱額（千円） | D4: 前年（千円） | E4: 前年比（％） | F4: 取扱額（千円） | G4: 前年（千円） | H4: 前年比（％） | I4: 取扱額（千円） | J4: 前年（千円） | K4: 前年比（％） | L4: 取扱額（千円） | M4: 前年（千円） | N4: 前年比（％）
B5: ジェイティービー（15社計＊） | C5: 31159416 | D5: 33090922 | E5: 94.2 | F5: 6464971 | G5: 4887597 | H5: 132.3 | I5: 72046131 | J5: 74475982 | K5: 96.7 | L5: 109670518 | M5: 112454501 | N5: 97.5
B6: KNT-CTホールディングス（8社計＊） | C6: 11962477 | D6: 13261888 | E6: 90.2 | F6: 1750687 | G6: 1131176 | H6: 154.8 | I6: 28069320 | J6: 30360890 | K6: 92.5 | L6: 41782484 | M6: 44753954 | N6: 93.4
B7: エイチ・アイ・エス（5社計＊） | C7: 23537940 | D7: 23377196 | E7: 100.7 | F7: 1745421 | G7: 2028827 | H7: 86 | I7: 3592090 | J7: 3323865 | K7: 108.1 | L7: 28875451 | M7: 28729888 | N7: 100.5
B8: （株）日本旅行 | C8: 10246267 | D8: 10366957 | E8: 98.8 | F8: 2994654 | G8: 2042620 | H8: 146.6 | I8: 21661369 | J8: 21990540 | K8: 98.5 | L8: 34902290 | M8: 34400117 | N8: 101.5
B9: 阪急交通社（3社計＊） | C9: 17607596 | D9: 20461461 | E9: 86.1 | F9: 141051 | G9: 117058 | H9: 120.5 | I9: 10734425 | J9: 10878126 | K9: 98.7 | L9: 28483072 | M9: 31456645 | N9: 90.5
B10: 楽天(株) | C10: 2546307 | D10: 2284191 | E10: 111.5 | F10: 656824 | G10: 419495 | H10: 156.6 | I10: 33411448 | J10: 30886394 | K10: 108.2 | L10: 36614579 | M10: 33590080 | N10: 109
B11: （株）JTBワールドバケーションズ | C11: 14578167 | D11: 15160096 | E11: 96.2 | F11: 0 | G11: 0 | H11: － | I11: 0 | J11: 0 | K11: － | L11: 14578167 | M11: 15160096 | N11: 96.2
B12: ANAセールス（株） | C12: 1482000 | D12: 1763000 | E12: 84.1 | F12: 110000 | G12: 147000 | H12: 74.8 | I12: 13087000 | J12: 13486000 | K12: 97 | L12: 14679000 | M12: 15396000 | N12: 95.3
B13: （株）ジャルパック | C13: 4166693 | D13: 4202087 | E13: 99.2 | F13: 8174 | G13: 3633 | H13: 225 | I13: 9199622 | J13: 8496200 | K13: 108.3 | L13: 13374489 | M13: 12701920 | N13: 105.3
B14: 東武トップツアーズ（株） | C14: 2380732 | D14: 2840591 | E14: 83.8 | F14: 354472 | G14: 354715 | H14: 99.9 | I14: 9194123 | J14: 10154349 | K14: 90.5 | L14: 11929327 | M14: 13349655 | N14: 89.4
B15: （株）ジェイアール東海ツアーズ | C15: 123133 | D15: 124693 | E15: 98.7 | F15: 33409 | G15: 31145 | H15: 107.3 | I15: 6625967 | J15: 7101242 | K15: 93.3 | L15: 6782509 | M15: 7257079 | N15: 93.5
B16: （株）JTBビジネストラベルソリューションズ | C16: 5526829 | D16: 5773252 | E16: 95.7 | F16: 69373 | G16: 30547 | H16: 227.1 | I16: 4086686 | J16: 3871531 | K16: 105.6 | L16: 9682888 | M16: 9675330 | N16: 100.1
B17: （株）農協観光 | C17: 466970 | D17: 498406 | E17: 93.7 | F17: 97041 | G17: 106802 | H17: 90.9 | I17: 5280882 | J17: 5230198 | K17: 101 | L17: 5844893 | M17: 5835406 | N17: 100.2
B18: 名鉄観光サービス（株） | C18: 1314931 | D18: 994720 | E18: 132.2 | F18: 105120 | G18: 127621 | H18: 82.4 | I18: 7207522 | J18: 6973389 | K18: 103.4 | L18: 8627573 | M18: 8095730 | N18: 106.6
B19: （株）読売旅行 | C19: 624072 | D19: 760988 | E19: 82 | F19: 4640 | G19: 672 | H19: 690.5 | I19: 3902136 | J19: 4078674 | K19: 95.7 | L19: 4530848 | M19: 4840334 | N19: 93.6
B20: 日通旅行（株） | C20: 2990000 | D20: 3421246 | E20: 87.4 | F20: 112541 | G20: 54928 | H20: 204.9 | I20: 666755 | J20: 703347 | K20: 94.8 | L20: 3769296 | M20: 4179521 | N20: 90.2
B21: （株）DeNAトラベル | C21: 2837405 | D21: 2648380 | E21: 107.1 | F21: 34107 | G21: 1833 | H21: 1860.7 | I21: 272268 | J21: 136250 | K21: 199.8 | L21: 3143780 | M21: 2786463 | N21: 112.8
B22: 西鉄旅行（株） | C22: 1152717 | D22: 1251247 | E22: 92.1 | F22: 15190 | G22: 7726 | H22: 196.6 | I22: 1677092 | J22: 1733160 | K22: 96.8 | L22: 2844999 | M22: 2992133 | N22: 95.1
B23: ビッグホリデー（株） | C23: 448139 | D23: 476070 | E23: 94.1 | F23: 0 | G23: 0 | H23: － | I23: 3495377 | J23: 3716036 | K23: 94.1 | L23: 3943516 | M23: 4192106 | N23: 94.1
B24: 日新航空サービス（株） | C24: 3844572 | D24: 3926140 | E24: 97.9 | F24: 0 | G24: 0 | H24: － | I24: 395877 | J24: 362774 | K24: 109.1 | L24: 4240449 | M24: 4288914 | N24: 98.9
B25: エムオーツーリスト（株） | C25: 3187880 | D25: 3476340 | E25: 91.7 | F25: 4274 | G25: 2540 | H25: 168.3 | I25: 334020 | J25: 346501 | K25: 96.4 | L25: 3526174 | M25: 3825381 | N25: 92.2
B26: （株）日立トラベルビューロー | C26: 1689068 | D26: 1785784 | E26: 94.6 | F26: 3248 | G26: 4830 | H26: 67.2 | I26: 986144 | J26: 825832 | K26: 119.4 | L26: 2678460 | M26: 2616446 | N26: 102.4
B27: （株）タビックスジャパン | C27: 370642 | D27: 392452 | E27: 94.4 | F27: 3579 | G27: 5870 | H27: 61 | I27: 2020111 | J27: 2302311 | K27: 87.7 | L27: 2394332 | M27: 2700633 | N27: 88.7
B28: 郵船トラベル（株） | C28: 2570580 | D28: 2503059 | E28: 102.7 | F28: 0 | G28: 0 | H28: － | I28: 235104 | J28: 259420 | K28: 90.6 | L28: 2805684 | M28: 2762479 | N28: 101.6
B29: （株）エヌオーイー | C29: 2438425 | D29: 2365343 | E29: 103.1 | F29: 5998 | G29: 3126 | H29: 191.9 | I29: 143151 | J29: 112916 | K29: 126.8 | L29: 2587574 | M29: 2481385 | N29: 104.3
B30: 沖縄ツーリスト（株） | C30: 204651 | D30: 190168 | E30: 107.6 | F30: 53352 | G30: 83221 | H30: 64.1 | I30: 3134075 | J30: 3221266 | K30: 97.3 | L30: 3392078 | M30: 3494655 | N30: 97.1
B31: （株）IACEトラベル | C31: 1630758 | D31: 1685530 | E31: 96.8 | F31: 0 | G31: 0 | H31: － | I31: 334731 | J31: 275033 | K31: 121.7 | L31: 1965489 | M31: 1960563 | N31: 100.3
B32: （株）旅工房 | C32: 1422035 | D32: 1520214 | E32: 93.5 | F32: 16638 | G32: 25092 | H32: 66.3 | I32: 56902 | J32: 72602 | K32: 78.4 | L32: 1495575 | M32: 1617908 | N32: 92.4
B33: （株）トヨタツーリストインターナショナル | C33: 1066328 | D33: 1402641 | E33: 76 | F33: 6297 | G33: 13973 | H33: 45.1 | I33: 305110 | J33: 127990 | K33: 238.4 | L33: 1377735 | M33: 1544604 | N33: 89.2
B34: 京王観光（株） | C34: 342783 | D34: 316738 | E34: 108.2 | F34: 14343 | G34: 64535 | H34: 22.2 | I34: 1722749 | J34: 1630854 | K34: 105.6 | L34: 2079875 | M34: 2012127 | N34: 103.4
B35: 東日観光（株） | C35: 483053 | D35: 605036 | E35: 79.8 | F35: 273777 | G35: 193729 | H35: 141.3 | I35: 1077539 | J35: 1592726 | K35: 67.7 | L35: 1834369 | M35: 2391491 | N35: 76.7
B36: 九州旅客鉄道（株） | C36: 77929 | D36: 76703 | E36: 101.6 | F36: 0 | G36: 0 | H36: － | I36: 1511769 | J36: 1651546 | K36: 91.5 | L36: 1589698 | M36: 1728249 | N36: 92
B37: メルコトラベル（株） | C37: 581192 | D37: 593518 | E37: 97.9 | F37: 428 | G37: 1096 | H37: 39.1 | I37: 737469 | J37: 808384 | K37: 91.2 | L37: 1319089 | M37: 1402998 | N37: 94
B38: （株）フジ・トラベル・サービス | C38: 137681 | D38: 159856 | E38: 86.1 | F38: 8407 | G38: 8803 | H38: 95.5 | I38: 907791 | J38: 925461 | K38: 98.1 | L38: 1053879 | M38: 1094120 | N38: 96.3
B39: （株）南海国際旅行 | C39: 334485 | D39: 374071 | E39: 89.4 | F39: 41817 | G39: 18508 | H39: 225.9 | I39: 870436 | J39: 1057450 | K39: 82.3 | L39: 1246738 | M39: 1450029 | N39: 86
B40: WILLER TRAVEL（株） | C40: 0 | D40: － | E40: － | F40: 52248 | G40: － | H40: － | I40: 811473 | J40: － | K40: － | L40: 863721 | M40: － | N40: －
...

Sheet 7月
B1: 主要旅行業者の旅行取扱状況速報
F2: 42552
B3: 会 社 名 | C3: 海 外 旅 行 | F3: 外 国 人 旅 行 | I3: 国 内 旅 行 | L3: 合 計
C4: 取扱額（千円） | D4: 前年（千円） | E4: 前年比（％） | F4: 取扱額（千円） | G4: 前年（千円） | H4: 前年比（％） | I4: 取扱額（千円） | J4: 前年（千円） | K4: 前年比（％） | L4: 取扱額（千円） | M4: 前年（千円） | N4: 前年比（％）
B5: ジェイティービー（15社計＊） | C5: 39200715 | D5: 40006027 | E5: 98 | F5: 6105575 | G5: 7081770 | H5: 86.2 | I5: 85307408 | J5: 90555189 | K5: 94.2 | L5: 130613698 | M5: 137642986 | N5: 94.9
B6: KNT-CTホールディングス（8社計＊） | C6: 11291671 | D6: 12135573 | E6: 93 | F6: 1232994 | G6: 1051939 | H6: 117.2 | I6: 26123469 | J6: 26997422 | K6: 96.8 | L6: 38648134 | M6: 40184934 | N6: 96.2
B7: エイチ・アイ・エス（5社計＊） | C7: 27385821 | D7: 27927631 | E7: 98.1 | F7: 1895945 | G7: 2306443 | H7: 82.2 | I7: 5635393 | J7: 5449062 | K7: 103.4 | L7: 34917159 | M7: 35683136 | N7: 97.9
B8: （株）日本旅行 | C8: 9568202 | D8: 10674997 | E8: 89.6 | F8: 2752528 | G8: 2346894 | H8: 117.3 | I8: 22805074 | J8: 22698256 | K8: 100.5 | L8: 35125804 | M8: 35720147 | N8: 98.3
B9: 阪急交通社（3社計＊） | C9: 16051079 | D9: 19276313 | E9: 83.3 | F9: 175012 | G9: 103623 | H9: 168.9 | I9: 9028276 | J9: 9236329 | K9: 97.7 | L9: 25254367 | M9: 28616265 | N9: 88.3
B10: 楽天(株) | C10: 3060586 | D10: 2548421 | E10: 120.1 | F10: 931496 | G10: 655598 | H10: 142.1 | I10: 46008201 | J10: 40699697 | K10: 113 | L10: 50000283 | M10: 43903716 | N10: 113.9
B11: （株）JTBワールドバケーションズ | C11: 18190614 | D11: 18848956 | E11: 96.5 | F11: 0 | G11: 0 | H11: － | I11: 0 | J11: 0 | K11: － | L11: 18190614 | M11: 18848956 | N11: 96.5
B12: ANAセールス（株） | C12: 1754000 | D12: 2166000 | E12: 81 | F12: 163000 | G12: 313000 | H12: 52.1 | I12: 17228000 | J12: 17905000 | K12: 96.2 | L12: 19145000 | M12: 20384000 | N12: 93.9
B13: （株）ジャルパック | C13: 4625848 | D13: 5154947 | E13: 89.7 | F13: 0 | G13: 2088 | H13: － | I13: 12820454 | J13: 12310593 | K13: 104.1 | L13: 17446302 | M13: 17467628 | N13: 99.9
B14: 東武トップツアーズ（株） | C14: 2043044 | D14: 2812966 | E14: 72.6 | F14: 375631 | G14: 407907 | H14: 92.1 | I14: 8765686 | J14: 8650643 | K14: 101.3 | L14: 11184361 | M14: 11871516 | N14: 94.2
B15: （株）ジェイアール東海ツアーズ | C15: 130995 | D15: 133923 | E15: 97.8 | F15: 51449 | G15: 44685 | H15: 115.1 | I15: 8605320 | J15: 9041290 | K15: 95.2 | L15: 8787763 | M15: 9219898 | N15: 95.3
B16: （株）JTBビジネストラベルソリューションズ | C16: 4794394 | D16: 5190047 | E16: 92.4 | F16: 330 | G16: 2312 | H16: 14.3 | I16: 4535462 | J16: 4382997 | K16: 103.5 | L16: 9330186 | M16: 9575356 | N16: 97.4
B17: （株）農協観光 | C17: 612343 | D17: 931299 | E17: 65.8 | F17: 105913 | G17: 152012 | H17: 69.7 | I17: 6978243 | J17: 7120349 | K17: 98 | L17: 7696499 | M17: 8203660 | N17: 93.8
B18: 名鉄観光サービス（株） | C18: 905688 | D18: 1042218 | E18: 86.9 | F18: 114262 | G18: 116541 | H18: 98 | I18: 6416415 | J18: 6736450 | K18: 95.2 | L18: 7436365 | M18: 7895209 | N18: 94.2
B19: （株）読売旅行 | C19: 609257 | D19: 542575 | E19: 112.3 | F19: 5356 | G19: 0 | H19: － | I19: 3463407 | J19: 3507650 | K19: 98.7 | L19: 4078020 | M19: 4050225 | N19: 100.7
B20: 日通旅行（株） | C20: 2585156 | D20: 3791835 | E20: 68.2 | F20: 104714 | G20: 78706 | H20: 133 | I20: 590876 | J20: 715239 | K20: 82.6 | L20: 3280746 | M20: 4585780 | N20: 71.5
B21: （株）DeNAトラベル | C21: 3685961 | D21: 3215223 | E21: 114.6 | F21: 80437 | G21: 1993 | H21: 4036 | I21: 396279 | J21: 251845 | K21: 157.4 | L21: 4162677 | M21: 3469061 | N21: 120
B22: 西鉄旅行（株） | C22: 1112365 | D22: 1304686 | E22: 85.3 | F22: 22418 | G22: 55632 | H22: 40.3 | I22: 1792618 | J22: 1963230 | K22: 91.3 | L22: 2927401 | M22: 3323548 | N22: 88.1
B23: ビッグホリデー（株） | C23: 422539 | D23: 401200 | E23: 105.3 | F23: 0 | G23: 0 | H23: － | I23: 3540306 | J23: 3888051 | K23: 91.1 | L23: 3962845 | M23: 4289251 | N23: 92.4
B24: 日新航空サービス（株） | C24: 4133316 | D24: 3980885 | E24: 103.8 | F24: 0 | G24: 0 | H24: － | I24: 468792 | J24: 432359 | K24: 108.4 | L24: 4602108 | M24: 4413244 | N24: 104.3
B25: エムオーツーリスト（株） | C25: 3069171 | D25: 3280042 | E25: 93.6 | F25: 3395 | G25: 4640 | H25: 73.2 | I25: 301421 | J25: 318350 | K25: 94.7 | L25: 3373987 | M25: 3603032 | N25: 93.6
B26: （株）日立トラベルビューロー | C26: 1546882 | D26: 1586300 | E26: 97.5 | F26: 4469 | G26: 1781 | H26: 250.9 | I26: 1135051 | J26: 858843 | K26: 132.2 | L26: 2686402 | M26: 2446924 | N26: 109.8
B27: （株）タビックスジャパン | C27: 353191 | D27: 333022 | E27: 106.1 | F27: 1199 | G27: 7406 | H27: 16.2 | I27: 1964201 | J27: 2265639 | K27: 86.7 | L27: 2318591 | M27: 2606067 | N27: 89
B28: 郵船トラベル（株） | C28: 2389211 | D28: 2449107 | E28: 97.6 | F28: 0 | G28: 0 | H28: － | I28: 266272 | J28: 205762 | K28: 129.4 | L28: 2655483 | M28: 2654869 | N28: 100
B29: （株）エヌオーイー | C29: 2501097 | D29: 2267782 | E29: 110.3 | F29: 7291 | G29: 18986 | H29: 38.4 | I29: 99793 | J29: 116867 | K29: 85.4 | L29: 2608181 | M29: 2403635 | N29: 108.5
B30: 沖縄ツーリスト（株） | C30: 91300 | D30: 139746 | E30: 65.3 | F30: 35745 | G30: 92446 | H30: 38.7 | I30: 2923661 | J30: 3381399 | K30: 86.5 | L30: 3050706 | M30: 3613591 | N30: 84.4
B31: （株）IACEトラベル | C31: 1759709 | D31: 1802175 | E31: 97.6 | F31: 0 | G31: 0 | H31: － | I31: 430156 | J31: 342906 | K31: 125.4 | L31: 2189865 | M31: 2145081 | N31: 102.1
B32: （株）旅工房 | C32: 1818918 | D32: 1849669 | E32: 98.3 | F32: 119564 | G32: 23718 | H32: 504.1 | I32: 55377 | J32: 63979 | K32: 86.6 | L32: 1993859 | M32: 1937366 | N32: 102.9
B33: （株）トヨタツーリストインターナショナル | C33: 1185377 | D33: 1333814 | E33: 88.9 | F33: 2207 | G33: 1885 | H33: 117.1 | I33: 358401 | J33: 319135 | K33: 112.3 | L33: 1545985 | M33: 1654834 | N33: 93.4
B34: 京王観光（株） | C34: 374310 | D34: 337472 | E34: 110.9 | F34: 72678 | G34: 41197 | H34: 176.4 | I34: 1785827 | J34: 1921416 | K34: 92.9 | L34: 2232815 | M34: 2300085 | N34: 97.1
B35: 東日観光（株） | C35: 325422 | D35: 471281 | E35: 69.1 | F35: 155289 | G35: 170878 | H35: 90.9 | I35: 625541 | J35: 887851 | K35: 70.5 | L35: 1106252 | M35: 1530010 | N35: 72.3
B36: 九州旅客鉄道（株） | C36: 88519 | D36: 68946 | E36: 128.4 | F36: 0 | G36: 0 | H36: － | I36: 1768914 | J36: 2001813 | K36: 88.4 | L36: 1857433 | M36: 2070759 | N36: 89.7
B37: メルコトラベル（株） | C37: 482095 | D37: 586182 | E37: 82.2 | F37: 677 | G37: 216 | H37: 313.4 | I37: 856181 | J37: 823725 | K37: 103.9 | L37: 1338953 | M37: 1410123 | N37: 95
B38: （株）フジ・トラベル・サービス | C38: 138990 | D38: 203448 | E38: 68.3 | F38: 10254 | G38: 10963 | H38: 93.5 | I38: 1076739 | J38: 1208984 | K38: 89.1 | L38: 1225983 | M38: 1423395 | N38: 86.1
B39: （株）南海国際旅行 | C39: 299710 | D39: 323872 | E39: 92.5 | F39: 15093 | G39: 6521 | H39: 231.5 | I39: 940085 | J39: 1069396 | K39: 87.9 | L39: 1254888 | M39: 1399789 | N39: 89.6
B40: WILLER TRAVEL（株） | C40: 0 | D40: － | E40: － | F40: 91664 | G40: － | H40: － | I40: 1084869 | J40: － | K40: － | L40: 1176533 | M40: － | N40: －
...

Sheet 8月
B1: 主要旅行業者の旅行取扱状況速報
F2: 42583
B3: 会 社 名 | C3: 海 外 旅 行 | F3: 外 国 人 旅 行 | I3: 国 内 旅 行 | L3: 合 計
C4: 取扱額（千円） | D4: 前年（千円） | E4: 前年比（％） | F4: 取扱額（千円） | G4: 前年（千円） | H4: 前年比（％） | I4: 取扱額（千円） | J4: 前年（千円） | K4: 前年比（％） | L4: 取扱額（千円） | M4: 前年（千円） | N4: 前年比（％）
B5: ジェイティービー（15社計＊） | C5: 52343910 | D5: 49286511 | E5: 106.2 | F5: 6745896 | G5: 5687443 | H5: 118.6 | I5: 114079655 | J5: 123260798 | K5: 92.6 | L5: 173169461 | M5: 178234752 | N5: 97.2
B6: KNT-CTホールディングス（8社計＊） | C6: 16220094 | D6: 14883328 | E6: 109 | F6: 1193498 | G6: 1443822 | H6: 82.7 | I6: 31864391 | J6: 35172379 | K6: 90.6 | L6: 49277983 | M6: 51499529 | N6: 95.7
B7: エイチ・アイ・エス（5社計＊） | C7: 42904375 | D7: 41292273 | E7: 103.9 | F7: 1670190 | G7: 1936710 | H7: 86.2 | I7: 8067216 | J7: 7924627 | K7: 101.8 | L7: 52641781 | M7: 51153610 | N7: 102.9
B8: （株）日本旅行 | C8: 12081416 | D8: 12332048 | E8: 98 | F8: 2964773 | G8: 2654644 | H8: 111.7 | I8: 27915701 | J8: 27832764 | K8: 100.3 | L8: 42961890 | M8: 42819456 | N8: 100.3
B9: 阪急交通社（3社計＊） | C9: 15921660 | D9: 18851205 | E9: 84.5 | F9: 163174 | G9: 131283 | H9: 124.3 | I9: 10066018 | J9: 9678274 | K9: 104 | L9: 26150852 | M9: 28660762 | N9: 91.2
B10: 楽天(株) | C10: 4335390 | D10: 1993701 | E10: 217.5 | F10: 781016 | G10: 601306 | H10: 129.9 | I10: 65016205 | J10: 57107726 | K10: 113.8 | L10: 70132611 | M10: 59702733 | N10: 117.5
B11: （株）JTBワールドバケーションズ | C11: 27669433 | D11: 28486584 | E11: 97.1 | F11: 0 | G11: 0 | H11: － | I11: 0 | J11: 0 | K11: － | L11: 27669433 | M11: 28486584 | N11: 97.1
B12: ANAセールス（株） | C12: 2575000 | D12: 2887000 | E12: 89.2 | F12: 111000 | G12: 267000 | H12: 41.6 | I12: 19159000 | J12: 20064000 | K12: 95.5 | L12: 21845000 | M12: 23218000 | N12: 94.1
B13: （株）ジャルパック | C13: 6519152 | D13: 6509645 | E13: 100.1 | F13: 4356 | G13: 142 | H13: 3067.6 | I13: 15464014 | J13: 14058996 | K13: 110 | L13: 21987522 | M13: 20568783 | N13: 106.9
B14: 東武トップツアーズ（株） | C14: 3351308 | D14: 3175474 | E14: 105.5 | F14: 337377 | G14: 291077 | H14: 115.9 | I14: 8373372 | J14: 9039530 | K14: 92.6 | L14: 12062057 | M14: 12506081 | N14: 96.4
B15: （株）ジェイアール東海ツアーズ | C15: 188435 | D15: 145529 | E15: 129.5 | F15: 37628 | G15: 31575 | H15: 119.2 | I15: 7494193 | J15: 8658026 | K15: 86.6 | L15: 7720256 | M15: 8835130 | N15: 87.4
B16: （株）JTBビジネストラベルソリューションズ | C16: 4709796 | D16: 4605198 | E16: 102.3 | F16: 1538 | G16: 10399 | H16: 14.8 | I16: 3707578 | J16: 3888660 | K16: 95.3 | L16: 8418912 | M16: 8504257 | N16: 99
B17: （株）農協観光 | C17: 477989 | D17: 513524 | E17: 93.1 | F17: 64391 | G17: 87418 | H17: 73.7 | I17: 4282118 | J17: 4374146 | K17: 97.9 | L17: 4824498 | M17: 4975088 | N17: 97
B18: 名鉄観光サービス（株） | C18: 1380539 | D18: 1136742 | E18: 121.4 | F18: 158493 | G18: 94437 | H18: 167.8 | I18: 5594905 | J18: 5771039 | K18: 96.9 | L18: 7133937 | M18: 7002218 | N18: 101.9
B19: （株）読売旅行 | C19: 651233 | D19: 582042 | E19: 111.9 | F19: 902 | G19: 2681 | H19: 33.6 | I19: 2796558 | J19: 3025321 | K19: 92.4 | L19: 3448693 | M19: 3610044 | N19: 95.5
B20: 日通旅行（株） | C20: 2954934 | D20: 3325222 | E20: 88.9 | F20: 86429 | G20: 91530 | H20: 94.4 | I20: 611409 | J20: 556661 | K20: 109.8 | L20: 3652772 | M20: 3973413 | N20: 91.9
B21: （株）DeNAトラベル | C21: 6304614 | D21: 5504542 | E21: 114.5 | F21: 52877 | G21: 5142 | H21: 1028.3 | I21: 617750 | J21: 343808 | K21: 179.7 | L21: 6975241 | M21: 5853492 | N21: 119.2
B22: 西鉄旅行（株） | C22: 1221990 | D22: 1234523 | E22: 99 | F22: 50594 | G22: 19422 | H22: 260.5 | I22: 1889723 | J22: 1794904 | K22: 105.3 | L22: 3162307 | M22: 3048849 | N22: 103.7
B23: ビッグホリデー（株） | C23: 396035 | D23: 411043 | E23: 96.3 | F23: 0 | G23: 0 | H23: － | I23: 5636228 | J23: 5801096 | K23: 97.2 | L23: 6032263 | M23: 6212139 | N23: 97.1
B24: 日新航空サービス（株） | C24: 3846692 | D24: 4197539 | E24: 91.6 | F24: 0 | G24: 0 | H24: － | I24: 370742 | J24: 337932 | K24: 109.7 | L24: 4217434 | M24: 4535471 | N24: 93
B25: エムオーツーリスト（株） | C25: 3143208 | D25: 2991818 | E25: 105.1 | F25: 1486 | G25: 3644 | H25: 40.8 | I25: 251661 | J25: 261771 | K25: 96.1 | L25: 3396355 | M25: 3257233 | N25: 104.3
B26: （株）日立トラベルビューロー | C26: 1460864 | D26: 1439661 | E26: 101.5 | F26: 4745 | G26: 3892 | H26: 121.9 | I26: 1119810 | J26: 790661 | K26: 141.6 | L26: 2585419 | M26: 2234214 | N26: 115.7
B27: （株）タビックスジャパン | C27: 388274 | D27: 431599 | E27: 90 | F27: 3684 | G27: 6331 | H27: 58.2 | I27: 1674997 | J27: 2050430 | K27: 81.7 | L27: 2066955 | M27: 2488360 | N27: 83.1
B28: 郵船トラベル（株） | C28: 2005725 | D28: 2399289 | E28: 83.6 | F28: 0 | G28: 0 | H28: － | I28: 320635 | J28: 358362 | K28: 89.5 | L28: 2326360 | M28: 2757651 | N28: 84.4
B29: （株）エヌオーイー | C29: 2289250 | D29: 2239421 | E29: 102.2 | F29: 8338 | G29: 9596 | H29: 86.9 | I29: 111231 | J29: 112582 | K29: 98.8 | L29: 2408819 | M29: 2361599 | N29: 102
B30: 沖縄ツーリスト（株） | C30: 134223 | D30: 105223 | E30: 127.6 | F30: 44919 | G30: 85630 | H30: 52.5 | I30: 2960138 | J30: 3089676 | K30: 95.8 | L30: 3139280 | M30: 3280529 | N30: 95.7
B31: （株）IACEトラベル | C31: 1986872 | D31: 2153482 | E31: 92.3 | F31: 0 | G31: 0 | H31: － | I31: 379512 | J31: 315365 | K31: 120.3 | L31: 2366384 | M31: 2468847 | N31: 95.8
B32: （株）旅工房 | C32: 2603157 | D32: 2574064 | E32: 101.1 | F32: 28862 | G32: 51459 | H32: 56.1 | I32: 29825 | J32: 60071 | K32: 49.6 | L32: 2661844 | M32: 2685594 | N32: 99.1
B33: （株）トヨタツーリストインターナショナル | C33: 895815 | D33: 1183791 | E33: 75.7 | F33: 698 | G33: 451 | H33: 154.8 | I33: 131171 | J33: 158750 | K33: 82.6 | L33: 1027684 | M33: 1342992 | N33: 76.5
B34: 京王観光（株） | C34: 726658 | D34: 662897 | E34: 109.6 | F34: 11457 | G34: 5692 | H34: 201.3 | I34: 3098012 | J34: 3110189 | K34: 99.6 | L34: 3836127 | M34: 3778778 | N34: 101.5
B35: 東日観光（株） | C35: 346076 | D35: 432246 | E35: 80.1 | F35: 182127 | G35: 102524 | H35: 177.6 | I35: 536440 | J35: 556042 | K35: 96.5 | L35: 1064643 | M35: 1090812 | N35: 97.6
B36: 九州旅客鉄道（株） | C36: 81001 | D36: 76064 | E36: 106.5 | F36: 0 | G36: 0 | H36: － | I36: 1930842 | J36: 2125115 | K36: 90.9 | L36: 2011843 | M36: 2201179 | N36: 91.4
B37: メルコトラベル（株） | C37: 468136 | D37: 474310 | E37: 98.7 | F37: 0 | G37: 68 | H37: － | I37: 670153 | J37: 653937 | K37: 102.5 | L37: 1138289 | M37: 1128315 | N37: 100.9
B38: （株）フジ・トラベル・サービス | C38: 199212 | D38: 232613 | E38: 85.6 | F38: 319 | G38: 12429 | H38: 2.6 | I38: 1429718 | J38: 1662395 | K38: 86 | L38: 1629249 | M38: 1907437 | N38: 85.4
B39: （株）南海国際旅行 | C39: 346423 | D39: 316094 | E39: 109.6 | F39: 21010 | G39: 6882 | H39: 305.3 | I39: 887893 | J39: 1042487 | K39: 85.2 | L39: 1255326 | M39: 1365463 | N39: 91.9
B40: WILLER TRAVEL（株） | C40: 0 | D40: － | E40: － | F40: 91147 | G40: － | H40: － | I40: 1807513 | J40: － | K40: － | L40: 1898660 | M40: － | N40: －
...

Sheet 9月
B1: 主要旅行業者の旅行取扱状況速報
F2: 42614
B3: 会 社 名 | C3: 海 外 旅 行 | F3: 外 国 人 旅 行 | I3: 国 内 旅 行 | L3: 合 計
C4: 取扱額（千円） | D4: 前年（千円） | E4: 前年比（％） | F4: 取扱額（千円） | G4: 前年（千円） | H4: 前年比（％） | I4: 取扱額（千円） | J4: 前年（千円） | K4: 前年比（％） | L4: 取扱額（千円） | M4: 前年（千円） | N4: 前年比（％）
B5: ジェイティービー（15社計＊） | C5: 37254410 | D5: 41490608 | E5: 89.8 | F5: 6918501 | G5: 5510537 | H5: 125.6 | I5: 80402597 | J5: 97604876 | K5: 82.4 | L5: 124575508 | M5: 144606021 | N5: 86.1
B6: KNT-CTホールディングス（8社計＊） | C6: 13649537 | D6: 14563031 | E6: 93.7 | F6: 1305373 | G6: 1188133 | H6: 109.9 | I6: 29273258 | J6: 31104812 | K6: 94.1 | L6: 44228168 | M6: 46855976 | N6: 94.4
B7: エイチ・アイ・エス（5社計＊） | C7: 34950791 | D7: 38399013 | E7: 91 | F7: 1569438 | G7: 1578246 | H7: 99.4 | I7: 6370935 | J7: 7076779 | K7: 90 | L7: 42891164 | M7: 47054038 | N7: 91.2
B8: （株）日本旅行 | C8: 9881921 | D8: 11437975 | E8: 86.4 | F8: 3292697 | G8: 2447962 | H8: 134.5 | I8: 25145518 | J8: 26480965 | K8: 95 | L8: 38320136 | M8: 40366902 | N8: 94.9
B9: 阪急交通社（3社計＊） | C9: 17264908 | D9: 18663540 | E9: 92.5 | F9: 155386 | G9: 123500 | H9: 125.8 | I9: 13166866 | J9: 12238522 | K9: 107.6 | L9: 30587160 | M9: 31025562 | N9: 98.6
B10: 楽天(株) | C10: 3431861 | D10: 1641952 | E10: 209 | F10: 600249 | G10: 442924 | H10: 135.5 | I10: 43392748 | J10: 42682068 | K10: 101.7 | L10: 47424858 | M10: 44766944 | N10: 105.9
B11: （株）JTBワールドバケーションズ | C11: 19532066 | D11: 24139432 | E11: 80.9 | F11: 0 | G11: 0 | H11: － | I11: 0 | J11: 0 | K11: － | L11: 19532066 | M11: 24139432 | N11: 80.9
B12: ANAセールス（株） | C12: 1920000 | D12: 2263000 | E12: 84.8 | F12: 93000 | G12: 175000 | H12: 53.1 | I12: 15804000 | J12: 17286000 | K12: 91.4 | L12: 17817000 | M12: 19724000 | N12: 90.3
B13: （株）ジャルパック | C13: 5509962 | D13: 6167460 | E13: 89.3 | F13: 10187 | G13: 196 | H13: 5197.4 | I13: 11368058 | J13: 11476264 | K13: 99.1 | L13: 16888207 | M13: 17643920 | N13: 95.7
B14: 東武トップツアーズ（株） | C14: 3005470 | D14: 3092771 | E14: 97.2 | F14: 372717 | G14: 491835 | H14: 75.8 | I14: 8552558 | J14: 8310036 | K14: 102.9 | L14: 11930745 | M14: 11894642 | N14: 100.3
B15: （株）ジェイアール東海ツアーズ | C15: 168518 | D15: 188787 | E15: 89.3 | F15: 52196 | G15: 41337 | H15: 126.3 | I15: 8214865 | J15: 7968530 | K15: 103.1 | L15: 8435579 | M15: 8198654 | N15: 102.9
B16: （株）JTBビジネストラベルソリューションズ | C16: 5986568 | D16: 5459815 | E16: 109.6 | F16: 10907 | G16: 12012 | H16: 90.8 | I16: 3909534 | J16: 3715793 | K16: 105.2 | L16: 9907009 | M16: 9187620 | N16: 107.8
B17: （株）農協観光 | C17: 900012 | D17: 985416 | E17: 91.3 | F17: 71889 | G17: 107843 | H17: 66.7 | I17: 5586885 | J17: 5844634 | K17: 95.6 | L17: 6558786 | M17: 6937893 | N17: 94.5
B18: 名鉄観光サービス（株） | C18: 1406451 | D18: 1241129 | E18: 113.3 | F18: 66400 | G18: 83606 | H18: 79.4 | I18: 6849915 | J18: 6470056 | K18: 105.9 | L18: 8322766 | M18: 7794791 | N18: 106.8
B19: （株）読売旅行 | C19: 701734 | D19: 819591 | E19: 85.6 | F19: 4083 | G19: 2000 | H19: 204.2 | I19: 3265970 | J19: 3700895 | K19: 88.2 | L19: 3971787 | M19: 4522486 | N19: 87.8
B20: 日通旅行（株） | C20: 2969069 | D20: 3314726 | E20: 89.6 | F20: 158655 | G20: 58317 | H20: 272.1 | I20: 698352 | J20: 680400 | K20: 102.6 | L20: 3826076 | M20: 4053443 | N20: 94.4
B21: （株）DeNAトラベル | C21: 4735517 | D21: 5254292 | E21: 90.1 | F21: 35738 | G21: 7143 | H21: 500.3 | I21: 374148 | J21: 295039 | K21: 126.8 | L21: 5145403 | M21: 5556474 | N21: 92.6
B22: 西鉄旅行（株） | C22: 1128722 | D22: 1525096 | E22: 74 | F22: 61508 | G22: 41069 | H22: 149.8 | I22: 1909046 | J22: 2077060 | K22: 91.9 | L22: 3099276 | M22: 3643225 | N22: 85.1
B23: ビッグホリデー（株） | C23: 361158 | D23: 369277 | E23: 97.8 | F23: 0 | G23: 0 | H23: － | I23: 4068512 | J23: 4076519 | K23: 99.8 | L23: 4429670 | M23: 4445796 | N23: 99.6
B24: 日新航空サービス（株） | C24: 4004200 | D24: 4285851 | E24: 93.4 | F24: 0 | G24: 0 | H24: － | I24: 405729 | J24: 410429 | K24: 98.9 | L24: 4409929 | M24: 4696280 | N24: 93.9
B25: エムオーツーリスト（株） | C25: 3598729 | D25: 3296307 | E25: 109.2 | F25: 7138 | G25: 1818 | H25: 392.6 | I25: 313993 | J25: 261103 | K25: 120.3 | L25: 3919860 | M25: 3559228 | N25: 110.1
B26: （株）日立トラベルビューロー | C26: 1642116 | D26: 1594322 | E26: 103 | F26: 1400 | G26: 4896 | H26: 28.6 | I26: 789565 | J26: 803939 | K26: 98.2 | L26: 2433081 | M26: 2403157 | N26: 101.2
B27: （株）タビックスジャパン | C27: 398107 | D27: 472734 | E27: 84.2 | F27: 4106 | G27: 11891 | H27: 34.5 | I27: 1959478 | J27: 2218680 | K27: 88.3 | L27: 2361691 | M27: 2703305 | N27: 87.4
B28: 郵船トラベル（株） | C28: 2446990 | D28: 2700730 | E28: 90.6 | F28: 0 | G28: 0 | H28: － | I28: 171969 | J28: 254143 | K28: 67.7 | L28: 2618959 | M28: 2954873 | N28: 88.6
B29: （株）エヌオーイー | C29: 2500733 | D29: 2575972 | E29: 97.1 | F29: 8722 | G29: 20479 | H29: 42.6 | I29: 293330 | J29: 113654 | K29: 258.1 | L29: 2802785 | M29: 2710105 | N29: 103.4
B30: 沖縄ツーリスト（株） | C30: 143296 | D30: 168663 | E30: 85 | F30: 74659 | G30: 62829 | H30: 118.8 | I30: 2610477 | J30: 2814240 | K30: 92.8 | L30: 2828432 | M30: 3045732 | N30: 92.9
B31: （株）IACEトラベル | C31: 1990281 | D31: 2099169 | E31: 94.8 | F31: 0 | G31: 0 | H31: － | I31: 384604 | J31: 299933 | K31: 128.2 | L31: 2374885 | M31: 2399102 | N31: 99
B32: （株）旅工房 | C32: 2607700 | D32: 2635477 | E32: 98.9 | F32: 19239 | G32: 21428 | H32: 89.8 | I32: 57261 | J32: 83457 | K32: 68.6 | L32: 2684200 | M32: 2740362 | N32: 98
B33: （株）トヨタツーリストインターナショナル | C33: 1151257 | D33: 1522580 | E33: 75.6 | F33: 3258 | G33: 142 | H33: 2294.4 | I33: 138558 | J33: 160461 | K33: 86.3 | L33: 1293073 | M33: 1683183 | N33: 76.8
B34: 京王観光（株） | C34: 517710 | D34: 658920 | E34: 78.6 | F34: 11899 | G34: 16560 | H34: 71.9 | I34: 2111163 | J34: 2111575 | K34: 100 | L34: 2640772 | M34: 2787055 | N34: 94.8
B35: 東日観光（株） | C35: 390385 | D35: 472410 | E35: 82.6 | F35: 171521 | G35: 195369 | H35: 87.8 | I35: 1083556 | J35: 934419 | K35: 116 | L35: 1645462 | M35: 1602198 | N35: 102.7
B36: 九州旅客鉄道（株） | C36: 86773 | D36: 99642 | E36: 87.1 | F36: 0 | G36: 0 | H36: － | I36: 1795614 | J36: 2173203 | K36: 82.6 | L36: 1882387 | M36: 2272845 | N36: 82.8
B37: メルコトラベル（株） | C37: 579516 | D37: 651567 | E37: 88.9 | F37: 1806 | G37: 2416 | H37: 74.8 | I37: 805532 | J37: 745156 | K37: 108.1 | L37: 1386854 | M37: 1399139 | N37: 99.1
B38: （株）フジ・トラベル・サービス | C38: 204864 | D38: 319696 | E38: 64.1 | F38: 3938 | G38: 7658 | H38: 51.4 | I38: 1002064 | J38: 1338407 | K38: 74.9 | L38: 1210866 | M38: 1665761 | N38: 72.7
B39: （株）南海国際旅行 | C39: 344872 | D39: 363575 | E39: 94.9 | F39: 11887 | G39: 37033 | H39: 32.1 | I39: 882384 | J39: 1027566 | K39: 85.9 | L39: 1239143 | M39: 1428174 | N39: 86.8
B40: WILLER TRAVEL（株） | C40: 0 | D40: － | E40: － | F40: 59483 | G40: － | H40: － | I40: 1384589 | J40: － | K40: － | L40: 1444072 | M40: － | N40: －
...

Sheet 10月
B1: 主要旅行業者の旅行取扱状況速報
F2: 42644
B3: 会 社 名 | C3: 海 外 旅 行 | F3: 外 国 人 旅 行 | I3: 国 内 旅 行 | L3: 合 計
C4: 取扱額（千円） | D4: 前年（千円） | E4: 前年比（％） | F4: 取扱額（千円） | G4: 前年（千円） | H4: 前年比（％） | I4: 取扱額（千円） | J4: 前年（千円） | K4: 前年比（％） | L4: 取扱額（千円） | M4: 前年（千円） | N4: 前年比（％）
B5: ジェイティービー（15社計＊） | C5: 36341511 | D5: 43408580 | E5: 83.7 | F5: 8948737 | G5: 8010017 | H5: 111.7 | I5: 91069047 | J5: 98470310 | K5: 92.5 | L5: 136359295 | M5: 149888907 | N5: 91
B6: KNT-CTホールディングス（8社計＊） | C6: 13240896 | D6: 14985098 | E6: 88.4 | F6: 2089203 | G6: 1375274 | H6: 151.9 | I6: 33069000 | J6: 37162991 | K6: 89 | L6: 48399099 | M6: 53523363 | N6: 90.4
B7: エイチ・アイ・エス（5社計＊） | C7: 28641537 | D7: 28557784 | E7: 100.3 | F7: 2175734 | G7: 1790720 | H7: 121.5 | I7: 4777071 | J7: 4415157 | K7: 108.2 | L7: 35594342 | M7: 34763661 | N7: 102.4
B8: （株）日本旅行 | C8: 10658895 | D8: 12087958 | E8: 88.2 | F8: 3635798 | G8: 3297291 | H8: 110.3 | I8: 27539555 | J8: 26932486 | K8: 102.3 | L8: 41834248 | M8: 42317735 | N8: 98.9
B9: 阪急交通社（3社計＊） | C9: 15809248 | D9: 20048193 | E9: 78.9 | F9: 457982 | G9: 320097 | H9: 143.1 | I9: 12996956 | J9: 13874697 | K9: 93.7 | L9: 29264186 | M9: 34242987 | N9: 85.5
B10: 楽天(株) | C10: 2404184 | D10: 1196831 | E10: 200.9 | F10: 837068 | G10: 688647 | H10: 121.6 | I10: 43738710 | J10: 40008771 | K10: 109.3 | L10: 46979962 | M10: 41894249 | N10: 112.1
B11: （株）JTBワールドバケーションズ | C11: 17395778 | D11: 20602414 | E11: 84.4 | F11: 0 | G11: 0 | H11: － | I11: 0 | J11: 0 | K11: － | L11: 17395778 | M11: 20602414 | N11: 84.4
B12: ANAセールス（株） | C12: 1777000 | D12: 2154000 | E12: 82.5 | F12: 128000 | G12: 212000 | H12: 60.4 | I12: 15910000 | J12: 16719000 | K12: 95.2 | L12: 17815000 | M12: 19085000 | N12: 93.3
B13: （株）ジャルパック | C13: 4237085 | D13: 5408622 | E13: 78.3 | F13: 6682 | G13: 117 | H13: 5711.1 | I13: 10683488 | J13: 10541920 | K13: 101.3 | L13: 14927255 | M13: 15950659 | N13: 93.6
B14: 東武トップツアーズ（株） | C14: 2667988 | D14: 3529330 | E14: 75.6 | F14: 917282 | G14: 800604 | H14: 114.6 | I14: 12412342 | J14: 13582228 | K14: 91.4 | L14: 15997612 | M14: 17912162 | N14: 89.3
B15: （株）ジェイアール東海ツアーズ | C15: 117897 | D15: 132002 | E15: 89.3 | F15: 39645 | G15: 42815 | H15: 92.6 | I15: 8957269 | J15: 9935944 | K15: 90.2 | L15: 9114811 | M15: 10110761 | N15: 90.1
B16: （株）JTBビジネストラベルソリューションズ | C16: 5353976 | D16: 6030668 | E16: 88.8 | F16: 11185 | G16: 11024 | H16: 101.5 | I16: 4133415 | J16: 4284719 | K16: 96.5 | L16: 9498576 | M16: 10326411 | N16: 92
B17: （株）農協観光 | C17: 898469 | D17: 1195386 | E17: 75.2 | F17: 125124 | G17: 126831 | H17: 98.7 | I17: 6404791 | J17: 6902952 | K17: 92.8 | L17: 7428384 | M17: 8225169 | N17: 90.3
B18: 名鉄観光サービス（株） | C18: 1342036 | D18: 1510634 | E18: 88.8 | F18: 211172 | G18: 116953 | H18: 180.6 | I18: 8744309 | J18: 8909270 | K18: 98.1 | L18: 10297517 | M18: 10536857 | N18: 97.7
B19: （株）読売旅行 | C19: 902388 | D19: 811527 | E19: 111.2 | F19: 10352 | G19: 845 | H19: 1225.1 | I19: 3787890 | J19: 4378585 | K19: 86.5 | L19: 4700630 | M19: 5190957 | N19: 90.6
B20: 日通旅行（株） | C20: 2803747 | D20: 3250350 | E20: 86.3 | F20: 137014 | G20: 131216 | H20: 104.4 | I20: 886959 | J20: 728858 | K20: 121.7 | L20: 3827720 | M20: 4110424 | N20: 93.1
B21: （株）DeNAトラベル | C21: 3287949 | D21: 3181572 | E21: 103.3 | F21: 47373 | G21: 9335 | H21: 507.5 | I21: 435841 | J21: 127400 | K21: 342.1 | L21: 3771163 | M21: 3318307 | N21: 113.6
B22: 西鉄旅行（株） | C22: 1313919 | D22: 1453910 | E22: 90.4 | F22: 67197 | G22: 37172 | H22: 180.8 | I22: 2317157 | J22: 2353150 | K22: 98.5 | L22: 3698273 | M22: 3844232 | N22: 96.2
B23: ビッグホリデー（株） | C23: 425713 | D23: 457201 | E23: 93.1 | F23: 0 | G23: 0 | H23: － | I23: 4558312 | J23: 4843858 | K23: 94.1 | L23: 4984025 | M23: 5301059 | N23: 94
B24: 日新航空サービス（株） | C24: 3945168 | D24: 3822240 | E24: 103.2 | F24: 0 | G24: 0 | H24: － | I24: 477123 | J24: 473908 | K24: 100.7 | L24: 4422291 | M24: 4296148 | N24: 102.9
B25: エムオーツーリスト（株） | C25: 3298026 | D25: 3805023 | E25: 86.7 | F25: 5497 | G25: 8846 | H25: 62.1 | I25: 302483 | J25: 321167 | K25: 94.2 | L25: 3606006 | M25: 4135036 | N25: 87.2
B26: （株）日立トラベルビューロー | C26: 1877062 | D26: 1604474 | E26: 117 | F26: 3065 | G26: 14533 | H26: 21.1 | I26: 1082839 | J26: 900945 | K26: 120.2 | L26: 2962966 | M26: 2519952 | N26: 117.6
B27: （株）タビックスジャパン | C27: 440277 | D27: 456119 | E27: 96.5 | F27: 3647 | G27: 15679 | H27: 23.3 | I27: 2547952 | J27: 2949520 | K27: 86.4 | L27: 2991876 | M27: 3421318 | N27: 87.4
B28: 郵船トラベル（株） | C28: 2317536 | D28: 2720743 | E28: 85.2 | F28: 0 | G28: 0 | H28: － | I28: 162307 | J28: 316024 | K28: 51.4 | L28: 2479843 | M28: 3036767 | N28: 81.7
B29: （株）エヌオーイー | C29: 2466846 | D29: 2357747 | E29: 104.6 | F29: 24015 | G29: 7552 | H29: 318 | I29: 131784 | J29: 123608 | K29: 106.6 | L29: 2622645 | M29: 2488907 | N29: 105.4
B30: 沖縄ツーリスト（株） | C30: 123588 | D30: 229965 | E30: 53.7 | F30: 81091 | G30: 95841 | H30: 84.6 | I30: 2467457 | J30: 2851894 | K30: 86.5 | L30: 2672136 | M30: 3177700 | N30: 84.1
B31: （株）IACEトラベル | C31: 1680960 | D31: 1756880 | E31: 95.7 | F31: 0 | G31: 0 | H31: － | I31: 376269 | J31: 310506 | K31: 121.2 | L31: 2057229 | M31: 2067386 | N31: 99.5
B32: （株）旅工房 | C32: 1702966 | D32: 1608798 | E32: 105.9 | F32: 92450 | G32: 79308 | H32: 116.6 | I32: 73141 | J32: 79600 | K32: 91.9 | L32: 1868557 | M32: 1767706 | N32: 105.7
B33: （株）トヨタツーリストインターナショナル | C33: 1252750 | D33: 1625882 | E33: 77.1 | F33: 18299 | G33: 21817 | H33: 83.9 | I33: 284529 | J33: 294247 | K33: 96.7 | L33: 1555578 | M33: 1941946 | N33: 80.1
B34: 京王観光（株） | C34: 238792 | D34: 300631 | E34: 79.4 | F34: 52235 | G34: 43810 | H34: 119.2 | I34: 1567375 | J34: 1573240 | K34: 99.6 | L34: 1858402 | M34: 1917681 | N34: 96.9
B35: 東日観光（株） | C35: 394188 | D35: 461132 | E35: 85.5 | F35: 223281 | G35: 207102 | H35: 107.8 | I35: 1294401 | J35: 1380770 | K35: 93.7 | L35: 1911870 | M35: 2049004 | N35: 93.3
B36: 九州旅客鉄道（株） | C36: 88101 | D36: 99216 | E36: 88.8 | F36: 0 | G36: 0 | H36: － | I36: 1992841 | J36: 2240887 | K36: 88.9 | L36: 2080942 | M36: 2340103 | N36: 88.9
B37: メルコトラベル（株） | C37: 581991 | D37: 726100 | E37: 80.2 | F37: 2866 | G37: 2719 | H37: 105.4 | I37: 820772 | J37: 826476 | K37: 99.3 | L37: 1405629 | M37: 1555295 | N37: 90.4
B38: （株）フジ・トラベル・サービス | C38: 292079 | D38: 312331 | E38: 93.5 | F38: 23369 | G38: 10288 | H38: 227.1 | I38: 1188633 | J38: 1277719 | K38: 93 | L38: 1504081 | M38: 1600338 | N38: 94
B39: （株）南海国際旅行 | C39: 349056 | D39: 358651 | E39: 97.3 | F39: 32273 | G39: 16631 | H39: 194.1 | I39: 970938 | J39: 1063667 | K39: 91.3 | L39: 1352267 | M39: 1438949 | N39: 94
B40: WILLER TRAVEL（株） | C40: 0 | D40: - | E40: － | F40: 55216 | G40: - | H40: － | I40: 1148214 | J40: - | K40: － | L40: 1203430 | M40: - | N40: －
...

Sheet 11月
B1: 主要旅行業者の旅行取扱状況速報
F2: 42675
B3: 会 社 名 | C3: 海 外 旅 行 | F3: 外 国 人 旅 行 | I3: 国 内 旅 行 | L3: 合 計
C4: 取扱額（千円） | D4: 前年（千円） | E4: 前年比（％） | F4: 取扱額（千円） | G4: 前年（千円） | H4: 前年比（％） | I4: 取扱額（千円） | J4: 前年（千円） | K4: 前年比（％） | L4: 取扱額（千円） | M4: 前年（千円） | N4: 前年比（％）
B5: ジェイティービー（15社計＊） | C5: 34273651 | D5: 34857755 | E5: 98.3 | F5: 6661905 | G5: 7542700 | H5: 88.3 | I5: 84330624 | J5: 93368340 | K5: 90.3 | L5: 125266180 | M5: 135768795 | N5: 92.3
B6: KNT-CTホールディングス（8社計＊） | C6: 10947492 | D6: 11940713 | E6: 91.7 | F6: 1645274 | G6: 1412309 | H6: 116.5 | I6: 32478626 | J6: 34398144 | K6: 94.4 | L6: 45071392 | M6: 47751166 | N6: 94.4
B7: エイチ・アイ・エス（5社計＊） | C7: 27577854 | D7: 25682258 | E7: 107.4 | F7: 1931996 | G7: 1659603 | H7: 116.4 | I7: 3303501 | J7: 3388184 | K7: 97.5 | L7: 32813351 | M7: 30730045 | N7: 106.8
B8: （株）日本旅行 | C8: 10998432 | D8: 10292221 | E8: 106.9 | F8: 3370900 | G8: 3475915 | H8: 97 | I8: 25688194 | J8: 26318325 | K8: 97.6 | L8: 40057526 | M8: 40086461 | N8: 99.9
B9: 阪急交通社（3社計＊） | C9: 15314897 | D9: 15614578 | E9: 98.1 | F9: 353226 | G9: 275515 | H9: 128.2 | I9: 13973212 | J9: 13651897 | K9: 102.4 | L9: 29641335 | M9: 29541990 | N9: 100.3
B10: 楽天(株) | C10: 2670688 | D10: 1178005 | E10: 226.7 | F10: 736340 | G10: 673898 | H10: 109.3 | I10: 41115953 | J10: 37749819 | K10: 108.9 | L10: 44522981 | M10: 39601722 | N10: 112.4
B11: （株）JTBワールドバケーションズ | C11: 15901027 | D11: 15738142 | E11: 101 | F11: 0 | G11: 0 | H11: － | I11: 0 | J11: 0 | K11: － | L11: 15901027 | M11: 15738142 | N11: 101
B12: ANAセールス（株） | C12: 1440000 | D12: 1477000 | E12: 97.5 | F12: 83000 | G12: 170000 | H12: 48.8 | I12: 14360000 | J12: 14548000 | K12: 98.7 | L12: 15883000 | M12: 16195000 | N12: 98.1
B13: （株）ジャルパック | C13: 4052416 | D13: 3968747 | E13: 102.1 | F13: 2054 | G13: 1024 | H13: 200.6 | I13: 10416391 | J13: 9422368 | K13: 110.5 | L13: 14470861 | M13: 13392139 | N13: 108.1
B14: 東武トップツアーズ（株） | C14: 3374993 | D14: 3461927 | E14: 97.5 | F14: 936091 | G14: 850374 | H14: 110.1 | I14: 11531992 | J14: 11958188 | K14: 96.4 | L14: 15843076 | M14: 16270489 | N14: 97.4
B15: （株）ジェイアール東海ツアーズ | C15: 102190 | D15: 108507 | E15: 94.2 | F15: 20073 | G15: 23557 | H15: 85.2 | I15: 8737733 | J15: 8527964 | K15: 102.5 | L15: 8859996 | M15: 8660028 | N15: 102.3
B16: （株）JTBビジネストラベルソリューションズ | C16: 5342847 | D16: 5299494 | E16: 100.8 | F16: 15493 | G16: 13119 | H16: 118.1 | I16: 4165653 | J16: 4110958 | K16: 101.3 | L16: 9523993 | M16: 9423571 | N16: 101.1
B17: （株）農協観光 | C17: 1007662 | D17: 1009930 | E17: 99.8 | F17: 109076 | G17: 224626 | H17: 48.6 | I17: 8711703 | J17: 8685458 | K17: 100.3 | L17: 9828441 | M17: 9920014 | N17: 99.1
B18: 名鉄観光サービス（株） | C18: 1738106 | D18: 1319060 | E18: 131.8 | F18: 140979 | G18: 170463 | H18: 82.7 | I18: 7113054 | J18: 7194319 | K18: 98.9 | L18: 8992139 | M18: 8683842 | N18: 103.6
B19: （株）読売旅行 | C19: 721303 | D19: 745469 | E19: 96.8 | F19: 15384 | G19: 0 | H19: － | I19: 4669565 | J19: 5108103 | K19: 91.4 | L19: 5406252 | M19: 5853572 | N19: 92.4
B20: 日通旅行（株） | C20: 2661695 | D20: 3016684 | E20: 88.2 | F20: 178288 | G20: 138909 | H20: 128.3 | I20: 688408 | J20: 921275 | K20: 74.7 | L20: 3528391 | M20: 4076868 | N20: 86.5
B21: （株）DeNAトラベル | C21: 3291339 | D21: 2859895 | E21: 115.1 | F21: 34498 | G21: 8848 | H21: 389.9 | I21: 372091 | J21: 226899 | K21: 164 | L21: 3697928 | M21: 3095642 | N21: 119.5
B22: 西鉄旅行（株） | C22: 1109059 | D22: 1368241 | E22: 81.1 | F22: 56794 | G22: 58585 | H22: 96.9 | I22: 2141908 | J22: 2312721 | K22: 92.6 | L22: 3307761 | M22: 3739547 | N22: 88.5
B23: ビッグホリデー（株） | C23: 256694 | D23: 383653 | E23: 66.9 | F23: 0 | G23: 0 | H23: － | I23: 3313478 | J23: 3966428 | K23: 83.5 | L23: 3570172 | M23: 4350081 | N23: 82.1
B24: 日新航空サービス（株） | C24: 3988427 | D24: 3980398 | E24: 100.2 | F24: 0 | G24: 0 | H24: － | I24: 529406 | J24: 421301 | K24: 125.7 | L24: 4517833 | M24: 4401699 | N24: 102.6
B25: エムオーツーリスト（株） | C25: 3182945 | D25: 3157863 | E25: 100.8 | F25: 14088 | G25: 6548 | H25: 215.1 | I25: 271585 | J25: 281295 | K25: 96.5 | L25: 3468618 | M25: 3445706 | N25: 100.7
B26: （株）日立トラベルビューロー | C26: 1758954 | D26: 1678455 | E26: 104.8 | F26: 17365 | G26: 11594 | H26: 149.8 | I26: 1113286 | J26: 947085 | K26: 117.5 | L26: 2889605 | M26: 2637134 | N26: 109.6
B27: （株）タビックスジャパン | C27: 366898 | D27: 401260 | E27: 91.4 | F27: 31604 | G27: 20661 | H27: 153 | I27: 2557459 | J27: 3015855 | K27: 84.8 | L27: 2955961 | M27: 3437776 | N27: 86
B28: 郵船トラベル（株） | C28: 2448365 | D28: 2752411 | E28: 89 | F28: 0 | G28: 0 | H28: － | I28: 106910 | J28: 168591 | K28: 63.4 | L28: 2555275 | M28: 2921002 | N28: 87.5
B29: （株）エヌオーイー | C29: 2627634 | D29: 2552189 | E29: 103 | F29: 6467 | G29: 16744 | H29: 38.6 | I29: 128965 | J29: 126783 | K29: 101.7 | L29: 2763066 | M29: 2695716 | N29: 102.5
B30: 沖縄ツーリスト（株） | C30: 128839 | D30: 128053 | E30: 100.6 | F30: 76360 | G30: 89317 | H30: 85.5 | I30: 2078854 | J30: 2369446 | K30: 87.7 | L30: 2284053 | M30: 2586816 | N30: 88.3
B31: （株）IACEトラベル | C31: 1700166 | D31: 1805032 | E31: 94.2 | F31: 0 | G31: 0 | H31: － | I31: 346027 | J31: 289011 | K31: 119.7 | L31: 2046193 | M31: 2094043 | N31: 97.7
B32: （株）旅工房 | C32: 1630965 | D32: 1516019 | E32: 107.6 | F32: 41544 | G32: 134165 | H32: 31 | I32: 61199 | J32: 96057 | K32: 63.7 | L32: 1733708 | M32: 1746241 | N32: 99.3
B33: （株）トヨタツーリストインターナショナル | C33: 1161576 | D33: 1374063 | E33: 84.5 | F33: 10300 | G33: 30952 | H33: 33.3 | I33: 289949 | J33: 216960 | K33: 133.6 | L33: 1461825 | M33: 1621975 | N33: 90.1
B34: 京王観光（株） | C34: 281377 | D34: 283856 | E34: 99.1 | F34: 106128 | G34: 98337 | H34: 107.9 | I34: 1517167 | J34: 1537290 | K34: 98.7 | L34: 1904672 | M34: 1919483 | N34: 99.2
B35: 東日観光（株） | C35: 483048 | D35: 489461 | E35: 98.7 | F35: 272952 | G35: 271085 | H35: 100.7 | I35: 919958 | J35: 1028457 | K35: 89.5 | L35: 1675958 | M35: 1789003 | N35: 93.7
B36: 九州旅客鉄道（株） | C36: 179849 | D36: 90405 | E36: 198.9 | F36: 0 | G36: 0 | H36: － | I36: 2050658 | J36: 2334847 | K36: 87.8 | L36: 2230507 | M36: 2425252 | N36: 92
B37: メルコトラベル（株） | C37: 614880 | D37: 597317 | E37: 102.9 | F37: 0 | G37: 9783 | H37: － | I37: 876710 | J37: 875802 | K37: 100.1 | L37: 1491590 | M37: 1482902 | N37: 100.6
B38: （株）フジ・トラベル・サービス | C38: 133973 | D38: 183792 | E38: 72.9 | F38: 7293 | G38: 4558 | H38: 160 | I38: 1147819 | J38: 1302360 | K38: 88.1 | L38: 1289085 | M38: 1490710 | N38: 86.5
B39: （株）南海国際旅行 | C39: 369830 | D39: 363414 | E39: 101.8 | F39: 30892 | G39: 20449 | H39: 151.1 | I39: 999832 | J39: 1157832 | K39: 86.4 | L39: 1400554 | M39: 1541695 | N39: 90.8
B40: WILLER TRAVEL（株） | C40: 0 | D40: － | E40: － | F40: 63092 | G40: － | H40: － | I40: 1077810 | J40: － | K40: － | L40: 1140902 | M40: － | N40: －
...

Sheet 12月
B1: 主要旅行業者の旅行取扱状況速報
F2: 42705
B3: 会 社 名 | C3: 海 外 旅 行 | F3: 外 国 人 旅 行 | I3: 国 内 旅 行 | L3: 合 計
C4: 取扱額（千円） | D4: 前年（千円） | E4: 前年比（％） | F4: 取扱額（千円） | G4: 前年（千円） | H4: 前年比（％） | I4: 取扱額（千円） | J4: 前年（千円） | K4: 前年比（％） | L4: 取扱額（千円） | M4: 前年（千円） | N4: 前年比（％）
B5: ジェイティービー（15社計＊） | C5: 34405461 | D5: 37912481 | E5: 90.7 | F5: 5708275 | G5: 5935715 | H5: 96.2 | I5: 82096169 | J5: 85222123 | K5: 96.3 | L5: 122209905 | M5: 129070319 | N5: 94.7
B6: KNT-CTホールディングス（8社計＊） | C6: 9673217 | D6: 9865850 | E6: 98 | F6: 1787067 | G6: 1453096 | H6: 123 | I6: 23775219 | J6: 28015454 | K6: 84.9 | L6: 35235503 | M6: 39334400 | N6: 89.6
B7: エイチ・アイ・エス（5社計＊） | C7: 30991723 | D7: 30135127 | E7: 102.8 | F7: 2232117 | G7: 1959399 | H7: 113.9 | I7: 3803081 | J7: 3938391 | K7: 96.6 | L7: 37026921 | M7: 36032917 | N7: 102.8
B8: （株）日本旅行 | C8: 8011344 | D8: 7969787 | E8: 100.5 | F8: 2594948 | G8: 2294951 | H8: 113.1 | I8: 20428368 | J8: 19797340 | K8: 103.2 | L8: 31034660 | M8: 30062078 | N8: 103.2
B9: 阪急交通社（3社計＊） | C9: 13531312 | D9: 13082795 | E9: 103.4 | F9: 71337 | G9: 43120 | H9: 165.4 | I9: 8019167 | J9: 8379597 | K9: 95.7 | L9: 21621816 | M9: 21505512 | N9: 100.5
B10: 楽天(株) | C10: 3379692 | D10: 1567440 | E10: 215.6 | F10: 822515 | G10: 730620 | H10: 112.6 | I10: 43827191 | J10: 39247630 | K10: 111.7 | L10: 48029398 | M10: 41545690 | N10: 115.6
B11: （株）JTBワールドバケーションズ | C11: 18463655 | D11: 20483430 | E11: 90.1 | F11: 0 | G11: 0 | H11: － | I11: 0 | J11: 0 | K11: － | L11: 18463655 | M11: 20483430 | N11: 90.1
B12: ANAセールス（株） | C12: 1857000 | D12: 1876000 | E12: 99 | F12: 119000 | G12: 136000 | H12: 87.5 | I12: 12885000 | J12: 13237000 | K12: 97.3 | L12: 14861000 | M12: 15249000 | N12: 97.5
B13: （株）ジャルパック | C13: 4255373 | D13: 4851770 | E13: 87.7 | F13: 5 | G13: 0 | H13: － | I13: 9464083 | J13: 8886428 | K13: 106.5 | L13: 13719461 | M13: 13738198 | N13: 99.9
B14: 東武トップツアーズ（株） | C14: 2330909 | D14: 2610490 | E14: 89.3 | F14: 683920 | G14: 557679 | H14: 122.6 | I14: 8542533 | J14: 9201707 | K14: 92.8 | L14: 11557362 | M14: 12369876 | N14: 93.4
B15: （株）ジェイアール東海ツアーズ | C15: 118618 | D15: 128760 | E15: 92.1 | F15: 11470 | G15: 17630 | H15: 65.1 | I15: 7386352 | J15: 7255776 | K15: 101.8 | L15: 7516440 | M15: 7402166 | N15: 101.5
B16: （株）JTBビジネストラベルソリューションズ | C16: 3949841 | D16: 3538702 | E16: 111.6 | F16: 2402 | G16: 3987 | H16: 60.2 | I16: 3719714 | J16: 3827557 | K16: 97.2 | L16: 7671957 | M16: 7370246 | N16: 104.1
B17: （株）農協観光 | C17: 535509 | D17: 501875 | E17: 106.7 | F17: 90278 | G17: 163506 | H17: 55.2 | I17: 4654497 | J17: 4857642 | K17: 95.8 | L17: 5280284 | M17: 5523023 | N17: 95.6
B18: 名鉄観光サービス（株） | C18: 893291 | D18: 1207331 | E18: 74 | F18: 98269 | G18: 121508 | H18: 80.9 | I18: 7203847 | J18: 6084605 | K18: 118.4 | L18: 8195407 | M18: 7413444 | N18: 110.5
B19: （株）読売旅行 | C19: 510121 | D19: 454428 | E19: 112.3 | F19: 20253 | G19: 4997 | H19: 405.3 | I19: 2772943 | J19: 3114761 | K19: 89 | L19: 3303317 | M19: 3574186 | N19: 92.4
B20: 日通旅行（株） | C20: 2215219 | D20: 2383446 | E20: 92.9 | F20: 33155 | G20: 42203 | H20: 78.6 | I20: 568186 | J20: 446983 | K20: 127.1 | L20: 2816560 | M20: 2872632 | N20: 98
B21: （株）DeNAトラベル | C21: 5385682 | D21: 5048274 | E21: 106.7 | F21: 73521 | G21: 23069 | H21: 318.7 | I21: 463726 | J21: 301252 | K21: 153.9 | L21: 5922929 | M21: 5372595 | N21: 110.2
B22: 西鉄旅行（株） | C22: 1063197 | D22: 1197022 | E22: 88.8 | F22: 35057 | G22: 34522 | H22: 101.5 | I22: 1660394 | J22: 1619894 | K22: 102.5 | L22: 2758648 | M22: 2851438 | N22: 96.7
B23: ビッグホリデー（株） | C23: 342149 | D23: 468056 | E23: 73.1 | F23: 0 | G23: 0 | H23: － | I23: 4034060 | J23: 4573772 | K23: 88.2 | L23: 4376209 | M23: 5041828 | N23: 86.8
B24: 日新航空サービス（株） | C24: 2951370 | D24: 2962207 | E24: 99.6 | F24: 0 | G24: 0 | H24: － | I24: 419389 | J24: 379624 | K24: 110.5 | L24: 3370759 | M24: 3341831 | N24: 100.9
B25: エムオーツーリスト（株） | C25: 2399359 | D25: 2357302 | E25: 101.8 | F25: 7155 | G25: 4077 | H25: 175.5 | I25: 234415 | J25: 251190 | K25: 93.3 | L25: 2640929 | M25: 2612569 | N25: 101.1
B26: （株）日立トラベルビューロー | C26: 1412294 | D26: 1221720 | E26: 115.6 | F26: 14889 | G26: 1651 | H26: 901.8 | I26: 1045446 | J26: 866002 | K26: 120.7 | L26: 2472629 | M26: 2089373 | N26: 118.3
B27: （株）タビックスジャパン | C27: 422099 | D27: 597041 | E27: 70.7 | F27: 27961 | G27: 7136 | H27: 391.8 | I27: 1570584 | J27: 1820339 | K27: 86.3 | L27: 2020644 | M27: 2424516 | N27: 83.3
B28: 郵船トラベル（株） | C28: 1768302 | D28: 2474438 | E28: 71.5 | F28: 0 | G28: 0 | H28: － | I28: 190015 | J28: 123128 | K28: 154.3 | L28: 1958317 | M28: 2597566 | N28: 75.4
B29: （株）エヌオーイー | C29: 1792190 | D29: 1755330 | E29: 102.1 | F29: 11962 | G29: 17483 | H29: 68.4 | I29: 119346 | J29: 95513 | K29: 125 | L29: 1923498 | M29: 1868326 | N29: 103
B30: 沖縄ツーリスト（株） | C30: 128369 | D30: 93121 | E30: 137.9 | F30: 76635 | G30: 110405 | H30: 69.4 | I30: 2159607 | J30: 2552729 | K30: 84.6 | L30: 2364611 | M30: 2756255 | N30: 85.8
B31: （株）IACEトラベル | C31: 1561487 | D31: 1699787 | E31: 91.9 | F31: 0 | G31: 0 | H31: － | I31: 338696 | J31: 284338 | K31: 119.1 | L31: 1900183 | M31: 1984125 | N31: 95.8
B32: （株）旅工房 | C32: 1799806 | D32: 1780443 | E32: 101.1 | F32: 24352 | G32: 41045 | H32: 59.3 | I32: 43279 | J32: 38207 | K32: 113.3 | L32: 1867437 | M32: 1859695 | N32: 100.4
B33: （株）トヨタツーリストインターナショナル | C33: 911405 | D33: 945691 | E33: 96.4 | F33: 18625 | G33: 13765 | H33: 135.3 | I33: 166888 | J33: 306859 | K33: 54.4 | L33: 1096918 | M33: 1266315 | N33: 86.6
B34: 京王観光（株） | C34: 340248 | D34: 389710 | E34: 87.3 | F34: 56391 | G34: 76725 | H34: 73.5 | I34: 1235677 | J34: 1293520 | K34: 95.5 | L34: 1632316 | M34: 1759955 | N34: 92.7
B35: 東日観光（株） | C35: 270178 | D35: 370418 | E35: 72.9 | F35: 261995 | G35: 221374 | H35: 118.3 | I35: 354746 | J35: 357732 | K35: 99.2 | L35: 886919 | M35: 949524 | N35: 93.4
B36: 九州旅客鉄道（株） | C36: 76239 | D36: 119131 | E36: 64 | F36: 0 | G36: 0 | H36: － | I36: 1548003 | J36: 1698571 | K36: 91.1 | L36: 1624242 | M36: 1817702 | N36: 89.4
B37: メルコトラベル（株） | C37: 421924 | D37: 492270 | E37: 85.7 | F37: 0 | G37: 2350 | H37: － | I37: 761378 | J37: 748926 | K37: 101.7 | L37: 1183302 | M37: 1243546 | N37: 95.2
B38: （株）フジ・トラベル・サービス | C38: 196083 | D38: 220903 | E38: 88.8 | F38: 2144 | G38: 2647 | H38: 81 | I38: 1006234 | J38: 1037738 | K38: 97 | L38: 1204461 | M38: 1261288 | N38: 95.5
B39: （株）南海国際旅行 | C39: 288754 | D39: 262565 | E39: 110 | F39: 39500 | G39: 28020 | H39: 141 | I39: 746783 | J39: 850484 | K39: 87.8 | L39: 1075037 | M39: 1141069 | N39: 94.2
B40: WILLER TRAVEL（株） | C40: 0 | D40: － | E40: － | F40: 73101 | G40: － | H40: － | I40: 1492632 | J40: － | K40: － | L40: 1565733 | M40: － | N40: －
...

Sheet 1月
B1: 主要旅行業者の旅行取扱状況速報
F2: 42736
B3: 会 社 名 | C3: 海 外 旅 行 | F3: 外 国 人 旅 行 | I3: 国 内 旅 行 | L3: 合 計
C4: 取扱額（千円） | D4: 前年（千円） | E4: 前年比（％） | F4: 取扱額（千円） | G4: 前年（千円） | H4: 前年比（％） | I4: 取扱額（千円） | J4: 前年（千円） | K4: 前年比（％） | L4: 取扱額（千円） | M4: 前年（千円） | N4: 前年比（％）
