Workbook

Sheet 4月
B1: 主要旅行業者の旅行取扱状況速報
F2: 42461
B3: 会 社 名 | C3: 海 外 旅 行 | F3: 外 国 人 旅 行 | I3: 国 内 旅 行 | L3: 合 計
C4: 取扱額（千円） | D4: 前年（千円） | E4: 前年比（％） | F4: 取扱額（千円） | G4: 前年（千円） | H4: 前年比（％） | I4: 取扱額（千円） | J4: 前年（千円） | K4: 前年比（％） | L4: 取扱額（千円） | M4: 前年（千円） | N4: 前年比（％）
B5: ジェイティービー（15社計＊） | C5: 26697041 | D5: 27148827 | E5: 98.3 | F5: 8985280 | G5: 7931714 | H5: 113.3 | I5: 70328876 | J5: 65695484 | K5: 107.1 | L5: 106011197 | M5: 100776025 | N5: 105.2
B6: KNT-CTホールディングス（8社計＊） | C6: 8201000 | D6: 8725399 | E6: 94 | F6: 1883990 | G6: 1539133 | H6: 122.4 | I6: 24725499 | J6: 27005880 | K6: 91.6 | L6: 34810489 | M6: 37270412 | N6: 93.4
B7: エイチ・アイ・エス（5社計＊） | C7: 23443621 | D7: 20708604 | E7: 113.2 | F7: 2506735 | G7: 2291099 | H7: 109.4 | I7: 3739042 | J7: 3407592 | K7: 109.7 | L7: 29689399 | M7: 26407295 | N7: 112.4
B8: （株）日本旅行 | C8: 7688161 | D8: 8322564 | E8: 92.4 | F8: 4568980 | G8: 3456915 | H8: 132.2 | I8: 19455942 | J8: 19701285 | K8: 98.8 | L8: 31713083 | M8: 31480764 | N8: 100.7
B9: 阪急交通社（3社計＊） | C9: 13138524 | D9: 15955759 | E9: 82.3 | F9: 602858 | G9: 435508 | H9: 138.4 | I9: 11682735 | J9: 13696194 | K9: 85.3 | L9: 25424117 | M9: 30087461 | N9: 84.5
B10: 楽天(株) | C10: 1015598 | D10: 1026946 | E10: 98.9 | F10: 977144 | G10: 762903 | H10: 128.1 | I10: 35977227 | J10: 30203317 | K10: 119.1 | L10: 37969969 | M10: 31993166 | N10: 118.7
B11: （株）JTBワールドバケーションズ | C11: 13948046 | D11: 13911045 | E11: 100.3 | F11: 0 | G11: 0 | H11: － | I11: 0 | J11: 0 | K11: － | L11: 13948046 | M11: 13911045 | N11: 100.3
B12: ANAセールス（株） | C12: 1504000 | D12: 1535000 | E12: 98 | F12: 143000 | G12: 164000 | H12: 87.2 | I12: 12450000 | J12: 12345000 | K12: 100.9 | L12: 14097000 | M12: 14044000 | N12: 100.4
B13: （株）ジャルパック | C13: 3646481 | D13: 3822902 | E13: 95.4 | F13: 85 | G13: 2880 | H13: 3 | I13: 8501030 | J13: 7845057 | K13: 108.4 | L13: 12147596 | M13: 11670839 | N13: 104.1
B14: 東武トップツアーズ（株） | C14: 1699927 | D14: 2077680 | E14: 81.8 | F14: 399843 | G14: 394620 | H14: 101.3 | I14: 7479795 | J14: 7869139 | K14: 95.1 | L14: 9579565 | M14: 10341439 | N14: 92.6
B15: （株）ジェイアール東海ツアーズ | C15: 89191 | D15: 111632 | E15: 79.9 | F15: 56154 | G15: 37985 | H15: 147.8 | I15: 8069496 | J15: 8376643 | K15: 96.3 | L15: 8214841 | M15: 8526260 | N15: 96.3
B16: （株）JTBビジネストラベルソリューションズ | C16: 5125696 | D16: 4965552 | E16: 103.2 | F16: 18543 | G16: 11747 | H16: 157.9 | I16: 3602647 | J16: 3811495 | K16: 94.5 | L16: 8746886 | M16: 8788794 | N16: 99.5
B17: （株）農協観光 | C17: 169407 | D17: 197193 | E17: 85.9 | F17: 335330 | G17: 339156 | H17: 98.9 | I17: 2897093 | J17: 2889654 | K17: 100.3 | L17: 3401830 | M17: 3426003 | N17: 99.3
B18: 名鉄観光サービス（株） | C18: 774112 | D18: 831047 | E18: 93.1 | F18: 166476 | G18: 181158 | H18: 91.9 | I18: 5263325 | J18: 5343438 | K18: 98.5 | L18: 6203913 | M18: 6355643 | N18: 97.6
B19: （株）読売旅行 | C19: 589269 | D19: 532051 | E19: 110.8 | F19: 4340 | G19: 9159 | H19: 47.4 | I19: 3960441 | J19: 4199943 | K19: 94.3 | L19: 4554050 | M19: 4741153 | N19: 96.1
B20: 日通旅行（株） | C20: 2499510 | D20: 3104232 | E20: 80.5 | F20: 161686 | G20: 100761 | H20: 160.5 | I20: 494731 | J20: 449393 | K20: 110.1 | L20: 3155927 | M20: 3654386 | N20: 86.4
B21: （株）DeNAトラベル | C21: 3828882 | D21: 2983356 | E21: 128.3 | F21: 504963 | G21: 0 | H21: － | I21: 259430 | J21: 130706 | K21: 198.5 | L21: 4593275 | M21: 3114062 | N21: 147.5
B22: 西鉄旅行（株） | C22: 987041 | D22: 1069502 | E22: 92.3 | F22: 24098 | G22: 33368 | H22: 72.2 | I22: 1433731 | J22: 1534588 | K22: 93.4 | L22: 2444870 | M22: 2637458 | N22: 92.7
B23: ビッグホリデー（株） | C23: 385565 | D23: 368729 | E23: 104.6 | F23: 0 | G23: 0 | H23: － | I23: 1932026 | J23: 1811201 | K23: 106.7 | L23: 2317591 | M23: 2179930 | N23: 106.3
B24: 日新航空サービス（株） | C24: 3090218 | D24: 3076525 | E24: 100.4 | F24: 0 | G24: 0 | H24: － | I24: 344252 | J24: 357300 | K24: 96.3 | L24: 3434470 | M24: 3433825 | N24: 100
B25: エムオーツーリスト（株） | C25: 3399033 | D25: 3148726 | E25: 107.9 | F25: 4139 | G25: 2606 | H25: 158.8 | I25: 269743 | J25: 287081 | K25: 94 | L25: 3672915 | M25: 3438413 | N25: 106.8
B26: （株）日立トラベルビューロー | C26: 1666026 | D26: 1698681 | E26: 98.1 | F26: 4589 | G26: 7174 | H26: 64 | I26: 1083693 | J26: 919981 | K26: 117.8 | L26: 2754308 | M26: 2625836 | N26: 104.9
B27: （株）タビックスジャパン | C27: 394176 | D27: 313406 | E27: 125.8 | F27: 8322 | G27: 0 | H27: － | I27: 1904462 | J27: 2048883 | K27: 93 | L27: 2306960 | M27: 2362289 | N27: 97.7
B28: 郵船トラベル（株） | C28: 2232211 | D28: 3179566 | E28: 70.2 | F28: 0 | G28: 0 | H28: － | I28: 141888 | J28: 148690 | K28: 95.4 | L28: 2374099 | M28: 3328256 | N28: 71.3
B29: （株）エヌオーイー | C29: 2013256 | D29: 1992678 | E29: 101 | F29: 12781 | G29: 15180 | H29: 84.2 | I29: 106023 | J29: 100530 | K29: 105.5 | L29: 2132060 | M29: 2108388 | N29: 101.1
B30: 沖縄ツーリスト（株） | C30: 69651 | D30: 80663 | E30: 86.3 | F30: 94349 | G30: 97476 | H30: 96.8 | I30: 2284852 | J30: 2235782 | K30: 102.2 | L30: 2448852 | M30: 2413921 | N30: 101.4
B31: （株）IACEトラベル | C31: 1612290 | D31: 1653274 | E31: 97.5 | F31: 0 | G31: 0 | H31: － | I31: 276603 | J31: 228305 | K31: 121.2 | L31: 1888893 | M31: 1881579 | N31: 100.4
B32: （株）旅工房 | C32: 1315044 | D32: 1211145 | E32: 108.6 | F32: 64294 | G32: 33492 | H32: 192 | I32: 42154 | J32: 74534 | K32: 56.6 | L32: 1421492 | M32: 1319171 | N32: 107.8
B33: （株）トヨタツーリストインターナショナル | C33: 1137811 | D33: 1213397 | E33: 93.8 | F33: 20625 | G33: 232 | H33: 8890.1 | I33: 170615 | J33: 146008 | K33: 116.9 | L33: 1329051 | M33: 1359637 | N33: 97.8
B34: 京王観光（株） | C34: 152066 | D34: 162193 | E34: 93.8 | F34: 66213 | G34: 21586 | H34: 306.7 | I34: 1308687 | J34: 1260131 | K34: 103.9 | L34: 1526966 | M34: 1443910 | N34: 105.8
B35: 東日観光（株） | C35: 342818 | D35: 328031 | E35: 104.5 | F35: 289303 | G35: 303718 | H35: 95.3 | I35: 364920 | J35: 350384 | K35: 104.1 | L35: 997041 | M35: 982133 | N35: 101.5
B36: 九州旅客鉄道（株） | C36: 55631 | D36: 52036 | E36: 106.9 | F36: 0 | G36: 0 | H36: － | I36: 1386860 | J36: 1685343 | K36: 82.3 | L36: 1442491 | M36: 1737379 | N36: 83
B37: メルコトラベル（株） | C37: 582139 | D37: 612995 | E37: 95 | F37: 836 | G37: 850 | H37: 98.4 | I37: 748561 | J37: 777556 | K37: 96.3 | L37: 1331536 | M37: 1391401 | N37: 95.7
B38: （株）フジ・トラベル・サービス | C38: 173580 | D38: 168957 | E38: 102.7 | F38: 7942 | G38: 4760 | H38: 166.8 | I38: 963598 | J38: 1006038 | K38: 95.8 | L38: 1145120 | M38: 1179755 | N38: 97.1
B39: （株）南海国際旅行 | C39: 299983 | D39: 271576 | E39: 110.5 | F39: 29395 | G39: 33657 | H39: 87.3 | I39: 721408 | J39: 933238 | K39: 77.3 | L39: 1050786 | M39: 1238471 | N39: 84.8
B40: WILLER TRAVEL（株） | C40: 0 | D40: － | E40: － | F40: 76026 | G40: － | H40: － | I40: 928220 | J40: － | K40: － | L40: 1004246 | M40: － | N40: －
B41: （株）日産クリエイティブサービス | C41: 670819 | D41: 676060 | E41: 99.2 | F41: 0 | G41: 0 | H41: － | I41: 148436 | J41: 127089 | K41: 116.8 | L41: 819255 | M41: 803149 | N41: 102
B42: 北海道旅客鉄道（株） | C42: 44947 | D42: 59044 | E42: 76.1 | F42: 0 | G42: 0 | H42: － | I42: 746606 | J42: 922911 | K42: 80.9 | L42: 791553 | M42: 981955 | N42: 80.6
B43: （株）小田急トラベル | C43: 156595 | D43: 240232 | E43: 65.2 | F43: 14631 | G43: 25942 | H43: 56.4 | I43: 894119 | J43: 1006161 | K43: 88.9 | L43: 1065345 | M43: 1272335 | N43: 83.7
B44: イオンコンパス（株） | C44: 261290 | D44: 295868 | E44: 88.3 | F44: 9637 | G44: 10739 | H44: 89.7 | I44: 1316890 | J44: 1057623 | K44: 124.5 | L44: 1587817 | M44: 1364230 | N44: 116.4
B45: 京成トラベルサービス（株） | C45: 71147 | D45: 76976 | E45: 92.4 | F45: 30 | G45: 410 | H45: 7.3 | I45: 1276073 | J45: 1247926 | K45: 102.3 | L45: 1347250 | M45: 1325312 | N45: 101.7
B46: ケイライントラベル（株） | C46: 616112 | D46: 575009 | E46: 107.1 | F46: 0 | G46: 0 | H46: － | I46: 26695 | J46: 25066 | K46: 106.5 | L46: 642807 | M46: 600075 | N46: 107.1
B47: 名鉄観光バス（株） | C47: 8769 | D47: 9317 | E47: 94.1 | F47: 590 | G47: 0 | H47: － | I47: 509001 | J47: 570282 | K47: 89.3 | L47: 518360 | M47: 579599 | N47: 89.4
B48: （株）ヤマハトラベルサービス | C48: 341038 | D48: 406149 | E48: 84 | F48: 25074 | G48: 20219 | H48: 124 | I48: 188628 | J48: 191988 | K48: 98.2 | L48: 554740 | M48: 618356 | N48: 89.7
B49: （株）PTS | C49: 486795 | D49: 639077 | E49: 76.2 | F49: 0 | G49: 2313 | H49: － | I49: 823265 | J49: 731428 | K49: 112.6 | L49: 1310060 | M49: 1372818 | N49: 95.4
B50: 西武トラベル（株） | C50: 133709 | D50: 204246 | E50: 65.5 | F50: 31654 | G50: 11120 | H50: 284.7 | I50: 308826 | J50: 303191 | K50: 101.9 | L50: 474189 | M50: 518557 | N50: 91.4
B51: （株）JAL JTAセールス | C51: 0 | D51: 0 | E51: － | F51: 0 | G51: 0 | H51: － | I51: 293535 | J51: 336235 | K51: 87.3 | L51: 293535 | M51: 336235 | N51: 87.3
B52: 菱和ダイヤモンド航空サービス（株） | C52: 340763 | D52: 326990 | E52: 104.2 | F52: 0 | G52: 0 | H52: － | I52: 3778 | J52: 4423 | K52: 85.4 | L52: 344541 | M52: 331413 | N52: 104
B53: （株）トラベル日本 | C53: 169685 | D53: 171172 | E53: 99.1 | F53: 24 | G53: 26 | H53: 92.3 | I53: 217046 | J53: 216436 | K53: 100.3 | L53: 386755 | M53: 387634 | N53: 99.8
B54: 合 計（＊） | C54: =SUM(C5:C53) -> 137268674 | D54: =SUM(D5:D53) -> 140242009 | E54: =C54/D54 -> 0.97879854 | F54: =SUM(F5:F53) -> 22099959 | G54: =SUM(G5:G53) -> 18283606 | H54: =F54/G54 -> 1.2087309 | I54: =SUM(I5:I53) -> 242052503 | J54: =SUM(J5:J53) -> 235616552 | K54: =I54/J54 -> 1.0273154 | L54: =SUM(L5:L53) -> 401421137 | M54: =SUM(M5:M53) -> 394142167 | N54: =L54/M54 -> 1.0184679
C56: ※JTBグループは、15社内取引を相殺し合計した数値
C57: JTBグループ15社 ： ジェイティービー、JTB北海道、JTB東北、JTB関東、JTB首都圏、JTB中部、JTB西日本、JTB中国四国、JTB九州、JTB東海、JTB関
C58: 西、JTBコーポレートセールス、i.JTB、JTBグローバル・マーケティング＆トラベル、JTB国内旅行企画
C60: ※KNT-CTホールディングスは、8社内取引を相殺し、合計した数値
C61: KNT-CTホールディングス8社 ： 近畿日本ツーリスト、近畿日本ツーリスト北海道、近畿日本ツーリスト東北、近畿日本ツーリスト中国四国、近畿日本ツーリ
C62: スト九州、ユナイテッドツアーズ、クラブツーリズム、近畿日本ツーリスト個人旅行
C64: ※エイチ・アイ・エスは、5社内取引を相殺し、合計した数値
C65: エイチ・アイ・エス5社 ： エイチ・アイ・エス、オリオンツアー、クオリタ、クルーズプラネット、ジャパンホリデートラベル
C67: ※阪急交通社は、3社内取引を相殺し、合計したもの
C68: 阪急交通社3社 ： 阪急交通社、阪急阪神ビジネストラベル、阪神トラベル・インターナショナル
C70: ※WILLER TRAVELは平成27年度のデータがないため、合計数値は同社分を除いて集計
C72: ※■は新たに追加した会社

Sheet 5月
B1: 主要旅行業者の旅行取扱状況速報
F2: 42491
B3: 会 社 名 | C3: 海 外 旅 行 | F3: 外 国 人 旅 行 | I3: 国 内 旅 行 | L3: 合 計
C4: 取扱額（千円） | D4: 前年（千円） | E4: 前年比（％） | F4: 取扱額（千円） | G4: 前年（千円） | H4: 前年比（％） | I4: 取扱額（千円） | J4: 前年（千円） | K4: 前年比（％） | L4: 取扱額（千円） | M4: 前年（千円） | N4: 前年比（％）
B5: ジェイティービー（15社計＊） | C5: 28648874 | D5: 32103199 | E5: 89.2 | F5: 8976954 | G5: 7454935 | H5: 120.4 | I5: 83234843 | J5: 92402600 | K5: 90.1 | L5: 120860671 | M5: 131960734 | N5: 91.6
B6: KNT-CTホールディングス（8社計＊） | C6: 9998448 | D6: 11331601 | E6: 88.2 | F6: 1457093 | G6: 1137359 | H6: 128.1 | I6: 28717003 | J6: 33545737 | K6: 85.6 | L6: 40172544 | M6: 46014697 | N6: 87.3
B7: エイチ・アイ・エス（5社計＊） | C7: 22309526 | D7: 24982874 | E7: 89.3 | F7: 1792020 | G7: 2076225 | H7: 86.3 | I7: 3652765 | J7: 4130284 | K7: 88.4 | L7: 27754311 | M7: 31189383 | N7: 89
B8: （株）日本旅行 | C8: 8397498 | D8: 10130330 | E8: 82.9 | F8: 2332322 | G8: 2299372 | H8: 101.4 | I8: 23040575 | J8: 24028054 | K8: 95.9 | L8: 33770395 | M8: 36457756 | N8: 92.6
B9: 阪急交通社（3社計＊） | C9: 15259094 | D9: 17278491 | E9: 88.3 | F9: 335406 | G9: 261473 | H9: 128.3 | I9: 11062742 | J9: 12123269 | K9: 91.3 | L9: 26657242 | M9: 29663233 | N9: 89.9
B10: 楽天(株) | C10: 1170297 | D10: 1214978 | E10: 96.3 | F10: 602396 | G10: 456477 | H10: 132 | I10: 39792229 | J10: 37642954 | K10: 105.7 | L10: 41564922 | M10: 39314409 | N10: 105.7
B11: （株）JTBワールドバケーションズ | C11: 13874040 | D11: 16069820 | E11: 86.3 | F11: 0 | G11: 0 | H11: － | I11: 0 | J11: 0 | K11: － | L11: 13874040 | M11: 16069820 | N11: 86.3
B12: ANAセールス（株） | C12: 1482000 | D12: 1698000 | E12: 87.3 | F12: 110000 | G12: 113000 | H12: 97.3 | I12: 13088000 | J12: 14012000 | K12: 93.4 | L12: 14680000 | M12: 15823000 | N12: 92.8
B13: （株）ジャルパック | C13: 3903573 | D13: 4350373 | E13: 89.7 | F13: 1004 | G13: 4676 | H13: 21.5 | I13: 8392245 | J13: 8787286 | K13: 95.5 | L13: 12296822 | M13: 13142335 | N13: 93.6
B14: 東武トップツアーズ（株） | C14: 1970650 | D14: 2829992 | E14: 69.6 | F14: 651698 | G14: 689847 | H14: 94.5 | I14: 8870106 | J14: 10405053 | K14: 85.2 | L14: 11492454 | M14: 13924892 | N14: 82.5
B15: （株）ジェイアール東海ツアーズ | C15: 114419 | D15: 116202 | E15: 98.5 | F15: 39823 | G15: 39182 | H15: 101.6 | I15: 6454484 | J15: 6677832 | K15: 96.7 | L15: 6608726 | M15: 6833216 | N15: 96.7
B16: （株）JTBビジネストラベルソリューションズ | C16: 4735910 | D16: 4839126 | E16: 97.9 | F16: 9665 | G16: 22459 | H16: 43 | I16: 3288387 | J16: 3431606 | K16: 95.8 | L16: 8033962 | M16: 8293191 | N16: 96.9
B17: （株）農協観光 | C17: 312106 | D17: 315318 | E17: 99 | F17: 267244 | G17: 180843 | H17: 147.8 | I17: 3121709 | J17: 3393135 | K17: 92 | L17: 3701059 | M17: 3889296 | N17: 95.2
B18: 名鉄観光サービス（株） | C18: 919482 | D18: 1058496 | E18: 86.9 | F18: 151338 | G18: 170709 | H18: 88.7 | I18: 6824189 | J18: 7230236 | K18: 94.4 | L18: 7895009 | M18: 8459441 | N18: 93.3
B19: （株）読売旅行 | C19: 820594 | D19: 635600 | E19: 129.1 | F19: 4914 | G19: 500 | H19: 982.8 | I19: 3551755 | J19: 4134957 | K19: 85.9 | L19: 4377263 | M19: 4771057 | N19: 91.7
B20: 日通旅行（株） | C20: 2454934 | D20: 3265120 | E20: 75.2 | F20: 112541 | G20: 95346 | H20: 118 | I20: 699619 | J20: 569694 | K20: 122.8 | L20: 3267094 | M20: 3930160 | N20: 83.1
B21: （株）DeNAトラベル | C21: 3191387 | D21: 3308030 | E21: 96.5 | F21: 485374 | G21: 25907 | H21: 1873.5 | I21: 265440 | J21: 180197 | K21: 147.3 | L21: 3942201 | M21: 3514134 | N21: 112.2
B22: 西鉄旅行（株） | C22: 1017451 | D22: 1242296 | E22: 81.9 | F22: 34947 | G22: 20927 | H22: 167 | I22: 1575384 | J22: 1870088 | K22: 84.2 | L22: 2627782 | M22: 3133311 | N22: 83.9
B23: ビッグホリデー（株） | C23: 269422 | D23: 255017 | E23: 105.6 | F23: 0 | G23: 0 | H23: － | I23: 3042009 | J23: 3029860 | K23: 100.4 | L23: 3311431 | M23: 3284877 | N23: 100.8
B24: 日新航空サービス（株） | C24: 3326154 | D24: 3355359 | E24: 99.1 | F24: 0 | G24: 0 | H24: － | I24: 374784 | J24: 407294 | K24: 92 | L24: 3700938 | M24: 3762653 | N24: 98.4
B25: エムオーツーリスト（株） | C25: 2828780 | D25: 2958667 | E25: 95.6 | F25: 6487 | G25: 6646 | H25: 97.6 | I25: 262669 | J25: 274469 | K25: 95.7 | L25: 3097936 | M25: 3239782 | N25: 95.6
B26: （株）日立トラベルビューロー | C26: 1658633 | D26: 1526414 | E26: 108.7 | F26: 6474 | G26: 1026 | H26: 631 | I26: 924014 | J26: 742302 | K26: 124.5 | L26: 2589121 | M26: 2269742 | N26: 114.1
B27: （株）タビックスジャパン | C27: 357542 | D27: 410760 | E27: 87 | F27: 8833 | G27: 0 | H27: － | I27: 1815026 | J27: 2145776 | K27: 84.6 | L27: 2181401 | M27: 2556536 | N27: 85.3
B28: 郵船トラベル（株） | C28: 2153876 | D28: 2410337 | E28: 89.4 | F28: 0 | G28: 0 | H28: － | I28: 308004 | J28: 94427 | K28: 326.2 | L28: 2461880 | M28: 2504764 | N28: 98.3
B29: （株）エヌオーイー | C29: 2196000 | D29: 2174003 | E29: 101 | F29: 10078 | G29: 4581 | H29: 220 | I29: 88548 | J29: 91601 | K29: 96.7 | L29: 2294626 | M29: 2270185 | N29: 101.1
B30: 沖縄ツーリスト（株） | C30: 107615 | D30: 114258 | E30: 94.2 | F30: 46272 | G30: 92304 | H30: 50.1 | I30: 2249578 | J30: 2385833 | K30: 94.3 | L30: 2403465 | M30: 2592395 | N30: 92.7
B31: （株）IACEトラベル | C31: 1629741 | D31: 1692014 | E31: 96.3 | F31: 0 | G31: 0 | H31: － | I31: 282072 | J31: 239812 | K31: 117.6 | L31: 1911813 | M31: 1931826 | N31: 99
B32: （株）旅工房 | C32: 1272143 | D32: 1450607 | E32: 87.7 | F32: 32738 | G32: 33417 | H32: 98 | I32: 37973 | J32: 45125 | K32: 84.2 | L32: 1342854 | M32: 1529149 | N32: 87.8
B33: （株）トヨタツーリストインターナショナル | C33: 1095169 | D33: 1318688 | E33: 83 | F33: 25376 | G33: 7986 | H33: 317.8 | I33: 110547 | J33: 195798 | K33: 56.5 | L33: 1231092 | M33: 1522472 | N33: 80.9
B34: 京王観光（株） | C34: 219474 | D34: 192749 | E34: 113.9 | F34: 41491 | G34: 2522 | H34: 1645.2 | I34: 1273063 | J34: 1400829 | K34: 90.9 | L34: 1534028 | M34: 1596100 | N34: 96.1
B35: 東日観光（株） | C35: 352425 | D35: 362199 | E35: 97.3 | F35: 292257 | G35: 232529 | H35: 125.7 | I35: 1778640 | J35: 1471117 | K35: 120.9 | L35: 2423322 | M35: 2065845 | N35: 117.3
B36: 九州旅客鉄道（株） | C36: 54696 | D36: 114207 | E36: 47.9 | F36: 0 | G36: 0 | H36: － | I36: 1439200 | J36: 2009714 | K36: 71.6 | L36: 1493896 | M36: 2123921 | N36: 70.3
B37: メルコトラベル（株） | C37: 604544 | D37: 692847 | E37: 87.3 | F37: 0 | G37: 617 | H37: － | I37: 701022 | J37: 645288 | K37: 108.6 | L37: 1305566 | M37: 1338752 | N37: 97.5
B38: （株）フジ・トラベル・サービス | C38: 134457 | D38: 232990 | E38: 57.7 | F38: 14022 | G38: 9157 | H38: 153.1 | I38: 881412 | J38: 1099632 | K38: 80.2 | L38: 1029891 | M38: 1341779 | N38: 76.8
B39: （株）南海国際旅行 | C39: 294582 | D39: 313634 | E39: 93.9 | F39: 23598 | G39: 6252 | H39: 377.4 | I39: 777957 | J39: 849157 | K39: 91.6 | L39: 1096137 | M39: 1169043 | N39: 93.8
B40: WILLER TRAVEL（株） | C40: 0 | D40: － | E40: － | F40: 66400 | G40: － | H40: － | I40: 1009326 | J40: － | K40: － | L40: 1075726 | M40: － | N40: －
B41: （株）日産クリエイティブサービス | C41: 574995 | D41: 633272 | E41: 90.8 | F41: 0 | G41: 0 | H41: － | I41: 138263 | J41: 136542 | K41: 101.3 | L41: 713258 | M41: 769814 | N41: 92.7
B42: 北海道旅客鉄道（株） | C42: 51809 | D42: 53903 | E42: 96.1 | F42: 0 | G42: 0 | H42: － | I42: 776481 | J42: 953998 | K42: 81.4 | L42: 828290 | M42: 1007901 | N42: 82.2
B43: （株）小田急トラベル | C43: 193824 | D43: 173006 | E43: 112 | F43: 11762 | G43: 9605 | H43: 122.5 | I43: 797395 | J43: 813775 | K43: 98 | L43: 1002981 | M43: 996386 | N43: 100.7
B44: イオンコンパス（株） | C44: 335960 | D44: 330408 | E44: 101.7 | F44: 14952 | G44: 10300 | H44: 145.2 | I44: 857860 | J44: 893626 | K44: 96 | L44: 1208772 | M44: 1234334 | N44: 97.9
B45: 京成トラベルサービス（株） | C45: 68932 | D45: 76359 | E45: 90.3 | F45: 3947 | G45: 290 | H45: 1361 | I45: 796379 | J45: 755774 | K45: 105.4 | L45: 869258 | M45: 832423 | N45: 104.4
B46: ケイライントラベル（株） | C46: 1183974 | D46: 1232992 | E46: 96 | F46: 0 | G46: 0 | H46: － | I46: 35996 | J46: 35078 | K46: 102.6 | L46: 1219970 | M46: 1268070 | N46: 96.2
B47: 名鉄観光バス（株） | C47: 6917 | D47: 2903 | E47: 238.3 | F47: 0 | G47: 0 | H47: － | I47: 488624 | J47: 558441 | K47: 87.5 | L47: 495541 | M47: 561344 | N47: 88.3
B48: （株）ヤマハトラベルサービス | C48: 259926 | D48: 320221 | E48: 81.2 | F48: 22770 | G48: 43158 | H48: 52.8 | I48: 198245 | J48: 192323 | K48: 103.1 | L48: 480941 | M48: 555702 | N48: 86.5
B49: （株）PTS | C49: 542938 | D49: 724552 | E49: 74.9 | F49: 3181 | G49: 2622 | H49: 121.3 | I49: 870777 | J49: 972420 | K49: 89.5 | L49: 1416896 | M49: 1699594 | N49: 83.4
B50: 西武トラベル（株） | C50: 139648 | D50: 146937 | E50: 95 | F50: 27325 | G50: 12347 | H50: 221.3 | I50: 219586 | J50: 360931 | K50: 60.8 | L50: 386559 | M50: 520215 | N50: 74.3
B51: （株）JAL JTAセールス | C51: 0 | D51: 0 | E51: － | F51: 0 | G51: 0 | H51: － | I51: 347334 | J51: 404873 | K51: 85.8 | L51: 347334 | M51: 404873 | N51: 85.8
B52: 菱和ダイヤモンド航空サービス（株） | C52: 340668 | D52: 346513 | E52: 98.3 | F52: 0 | G52: 0 | H52: － | I52: 13337 | J52: 13803 | K52: 96.6 | L52: 354005 | M52: 360316 | N52: 98.2
B53: （株）トラベル日本 | C53: 203931 | D53: 201172 | E53: 101.4 | F53: 24 | G53: 34 | H53: 70.6 | I53: 211745 | J53: 237196 | K53: 89.3 | L53: 415700 | M53: 438402 | N53: 94.8
B54: 合 計（＊） | C54: =SUM(C5:C53) -> 143039058 | D54: =SUM(D5:D53) -> 160586834 | E54: =C54/D54 -> 0.89072718 | F54: =SUM(F5:F53) -> 18022726 | G54: =SUM(G5:G53) -> 15524630 | H54: =F54/G54 -> 1.1609118 | I54: =SUM(I5:I53) -> 268739341 | J54: =SUM(J5:J53) -> 288021796 | K54: =I54/J54 -> 0.9330521 | L54: =SUM(L5:L53) -> 429801125 | M54: =SUM(M5:M53) -> 464133260 | N54: =L54/M54 -> 0.92602957
C56: ※JTBグループは、15社内取引を相殺し合計した数値
C57: JTBグループ15社 ： ジェイティービー、JTB北海道、JTB東北、JTB関東、JTB首都圏、JTB中部、JTB西日本、JTB中国四国、JTB九州、JTB東海、JTB関
C58: 西、JTBコーポレートセールス、i.JTB、JTBグローバル・マーケティング＆トラベル、JTB国内旅行企画
C60: ※KNT-CTホールディングスは、8社内取引を相殺し、合計した数値
C61: KNT-CTホールディングス8社 ： 近畿日本ツーリスト、近畿日本ツーリスト北海道、近畿日本ツーリスト東北、近畿日本ツーリスト中国四国、近畿日本ツーリ
C62: スト九州、ユナイテッドツアーズ、クラブツーリズム、近畿日本ツーリスト個人旅行
C64: ※エイチ・アイ・エスは、5社内取引を相殺し、合計した数値
C65: エイチ・アイ・エス5社 ： エイチ・アイ・エス、オリオンツアー、クオリタ、クルーズプラネット、ジャパンホリデートラベル
C67: ※阪急交通社は、3社内取引を相殺し、合計したもの
C68: 阪急交通社3社 ： 阪急交通社、阪急阪神ビジネストラベル、阪神トラベル・インターナショナル
C70: ※WILLER TRAVELは平成27年度のデータがないため、合計数値は同社分を除いて集計
C72: ※■は新たに追加した会社

Sheet 6月
B1: 主要旅行業者の旅行取扱状況速報
F2: 42522
B3: 会 社 名 | C3: 海 外 旅 行 | F3: 外 国 人 旅 行 | I3: 国 内 旅 行 | L3: 合 計
C4: 取扱額（千円） | D4: 前年（千円） | E4: 前年比（％） | F4: 取扱額（千円） | G4: 前年（千円） | H4: 前年比（％） | I4: 取扱額（千円） | J4: 前年（千円） | K4: 前年比（％） | L4: 取扱額（千円） | M4: 前年（千円） | N4: 前年比（％）
B5: ジェイティービー（15社計＊） | C5: 31159416 | D5: 33090922 | E5: 94.2 | F5: 6464971 | G5: 4887597 | H5: 132.3 | I5: 72046131 | J5: 74475982 | K5: 96.7 | L5: 109670518 | M5: 112454501 | N5: 97.5
B6: KNT-CTホールディングス（8社計＊） | C6: 11962477 | D6: 13261888 | E6: 90.2 | F6: 1750687 | G6: 1131176 | H6: 154.8 | I6: 28069320 | J6: 30360890 | K6: 92.5 | L6: 41782484 | M6: 44753954 | N6: 93.4
B7: エイチ・アイ・エス（5社計＊） | C7: 23537940 | D7: 23377196 | E7: 100.7 | F7: 1745421 | G7: 2028827 | H7: 86 | I7: 3592090 | J7: 3323865 | K7: 108.1 | L7: 28875451 | M7: 28729888 | N7: 100.5
B8: （株）日本旅行 | C8: 10246267 | D8: 10366957 | E8: 98.8 | F8: 2994654 | G8: 2042620 | H8: 146.6 | I8: 21661369 | J8: 21990540 | K8: 98.5 | L8: 34902290 | M8: 34400117 | N8: 101.5
B9: 阪急交通社（3社計＊） | C9: 17607596 | D9: 20461461 | E9: 86.1 | F9: 141051 | G9: 117058 | H9: 120.5 | I9: 10734425 | J9: 10878126 | K9: 98.7 | L9: 28483072 | M9: 31456645 | N9: 90.5
B10: 楽天(株) | C10: 2546307 | D10: 2284191 | E10: 111.5 | F10: 656824 | G10: 419495 | H10: 156.6 | I10: 33411448 | J10: 30886394 | K10: 108.2 | L10: 36614579 | M10: 33590080 | N10: 109
B11: （株）JTBワールドバケーションズ | C11: 14578167 | D11: 15160096 | E11: 96.2 | F11: 0 | G11: 0 | H11: － | I11: 0 | J11: 0 | K11: － | L11: 14578167 | M11: 15160096 | N11: 96.2
B12: ANAセールス（株） | C12: 1482000 | D12: 1763000 | E12: 84.1 | F12: 110000 | G12: 147000 | H12: 74.8 | I12: 13087000 | J12: 13486000 | K12: 97 | L12: 14679000 | M12: 15396000 | N12: 95.3
B13: （株）ジャルパック | C13: 4166693 | D13: 4202087 | E13: 99.2 | F13: 8174 | G13: 3633 | H13: 225 | I13: 9199622 | J13: 8496200 | K13: 108.3 | L13: 13374489 | M13: 12701920 | N13: 105.3
B14: 東武トップツアーズ（株） | C14: 2380732 | D14: 2840591 | E14: 83.8 | F14: 354472 | G14: 354715 | H14: 99.9 | I14: 9194123 | J14: 10154349 | K14: 90.5 | L14: 11929327 | M14: 13349655 | N14: 89.4
B15: （株）ジェイアール東海ツアーズ | C15: 123133 | D15: 124693 | E15: 98.7 | F15: 33409 | G15: 31145 | H15: 107.3 | I15: 6625967 | J15: 7101242 | K15: 93.3 | L15: 6782509 | M15: 7257079 | N15: 93.5
B16: （株）JTBビジネストラベルソリューションズ | C16: 5526829 | D16: 5773252 | E16: 95.7 | F16: 69373 | G16: 30547 | H16: 227.1 | I16: 4086686 | J16: 3871531 | K16: 105.6 | L16: 9682888 | M16: 9675330 | N16: 100.1
B17: （株）農協観光 | C17: 466970 | D17: 498406 | E17: 93.7 | F17: 97041 | G17: 106802 | H17: 90.9 | I17: 5280882 | J17: 5230198 | K17: 101 | L17: 5844893 | M17: 5835406 | N17: 100.2
B18: 名鉄観光サービス（株） | C18: 1314931 | D18: 994720 | E18: 132.2 | F18: 105120 | G18: 127621 | H18: 82.4 | I18: 7207522 | J18: 6973389 | K18: 103.4 | L18: 8627573 | M18: 8095730 | N18: 106.6
B19: （株）読売旅行 | C19: 624072 | D19: 760988 | E19: 82 | F19: 4640 | G19: 672 | H19: 690.5 | I19: 3902136 | J19: 4078674 | K19: 95.7 | L19: 4530848 | M19: 4840334 | N19: 93.6
B20: 日通旅行（株） | C20: 2990000 | D20: 3421246 | E20: 87.4 | F20: 112541 | G20: 54928 | H20: 204.9 | I20: 666755 | J20: 703347 | K20: 94.8 | L20: 3769296 | M20: 4179521 | N20: 90.2
B21: （株）DeNAトラベル | C21: 2837405 | D21: 2648380 | E21: 107.1 | F21: 34107 | G21: 1833 | H21: 1860.7 | I21: 272268 | J21: 136250 | K21: 199.8 | L21: 3143780 | M21: 2786463 | N21: 112.8
B22: 西鉄旅行（株） | C22: 1152717 | D22: 1251247 | E22: 92.1 | F22: 15190 | G22: 7726 | H22: 196.6 | I22: 1677092 | J22: 1733160 | K22: 96.8 | L22: 2844999 | M22: 2992133 | N22: 95.1
B23: ビッグホリデー（株） | C23: 448139 | D23: 476070 | E23: 94.1 | F23: 0 | G23: 0 | H23: － | I23: 3495377 | J23: 3716036 | K23: 94.1 | L23: 3943516 | M23: 4192106 | N23: 94.1
B24: 日新航空サービス（株） | C24: 3844572 | D24: 3926140 | E24: 97.9 | F24: 0 | G24: 0 | H24: － | I24: 395877 | J24: 362774 | K24: 109.1 | L24: 4240449 | M24: 4288914 | N24: 98.9
B25: エムオーツーリスト（株） | C25: 3187880 | D25: 3476340 | E25: 91.7 | F25: 4274 | G25: 2540 | H25: 168.3 | I25: 334020 | J25: 346501 | K25: 96.4 | L25: 3526174 | M25: 3825381 | N25: 92.2
B26: （株）日立トラベルビューロー | C26: 1689068 | D26: 1785784 | E26: 94.6 | F26: 3248 | G26: 4830 | H26: 67.2 | I26: 986144 | J26: 825832 | K26: 119.4 | L26: 2678460 | M26: 2616446 | N26: 102.4
B27: （株）タビックスジャパン | C27: 370642 | D27: 392452 | E27: 94.4 | F27: 3579 | G27: 5870 | H27: 61 | I27: 2020111 | J27: 2302311 | K27: 87.7 | L27: 2394332 | M27: 2700633 | N27: 88.7
B28: 郵船トラベル（株） | C28: 2570580 | D28: 2503059 | E28: 102.7 | F28: 0 | G28: 0 | H28: － | I28: 235104 | J28: 259420 | K28: 90.6 | L28: 2805684 | M28: 2762479 | N28: 101.6
B29: （株）エヌオーイー | C29: 2438425 | D29: 2365343 | E29: 103.1 | F29: 5998 | G29: 3126 | H29: 191.9 | I29: 143151 | J29: 112916 | K29: 126.8 | L29: 2587574 | M29: 2481385 | N29: 104.3
B30: 沖縄ツーリスト（株） | C30: 204651 | D30: 190168 | E30: 107.6 | F30: 53352 | G30: 83221 | H30: 64.1 | I30: 3134075 | J30: 3221266 | K30: 97.3 | L30: 3392078 | M30: 3494655 | N30: 97.1
B31: （株）IACEトラベル | C31: 1630758 | D31: 1685530 | E31: 96.8 | F31: 0 | G31: 0 | H31: － | I31: 334731 | J31: 275033 | K31: 121.7 | L31: 1965489 | M31: 1960563 | N31: 100.3
B32: （株）旅工房 | C32: 1422035 | D32: 1520214 | E32: 93.5 | F32: 16638 | G32: 25092 | H32: 66.3 | I32: 56902 | J32: 72602 | K32: 78.4 | L32: 1495575 | M32: 1617908 | N32: 92.4
B33: （株）トヨタツーリストインターナショナル | C33: 1066328 | D33: 1402641 | E33: 76 | F33: 6297 | G33: 13973 | H33: 45.1 | I33: 305110 | J33: 127990 | K33: 238.4 | L33: 1377735 | M33: 1544604 | N33: 89.2
B34: 京王観光（株） | C34: 342783 | D34: 316738 | E34: 108.2 | F34: 14343 | G34: 64535 | H34: 22.2 | I34: 1722749 | J34: 1630854 | K34: 105.6 | L34: 2079875 | M34: 2012127 | N34: 103.4
B35: 東日観光（株） | C35: 483053 | D35: 605036 | E35: 79.8 | F35: 273777 | G35: 193729 | H35: 141.3 | I35: 1077539 | J35: 1592726 | K35: 67.7 | L35: 1834369 | M35: 2391491 | N35: 76.7
B36: 九州旅客鉄道（株） | C36: 77929 | D36: 76703 | E36: 101.6 | F36: 0 | G36: 0 | H36: － | I36: 1511769 | J36: 1651546 | K36: 91.5 | L36: 1589698 | M36: 1728249 | N36: 92
B37: メルコトラベル（株） | C37: 581192 | D37: 593518 | E37: 97.9 | F37: 428 | G37: 1096 | H37: 39.1 | I37: 737469 | J37: 808384 | K37: 91.2 | L37: 1319089 | M37: 1402998 | N37: 94
B38: （株）フジ・トラベル・サービス | C38: 137681 | D38: 159856 | E38: 86.1 | F38: 8407 | G38: 8803 | H38: 95.5 | I38: 907791 | J38: 925461 | K38: 98.1 | L38: 1053879 | M38: 1094120 | N38: 96.3
B39: （株）南海国際旅行 | C39: 334485 | D39: 374071 | E39: 89.4 | F39: 41817 | G39: 18508 | H39: 225.9 | I39: 870436 | J39: 1057450 | K39: 82.3 | L39: 1246738 | M39: 1450029 | N39: 86
B40: WILLER TRAVEL（株） | C40: 0 | D40: － | E40: － | F40: 52248 | G40: － | H40: － | I40: 811473 | J40: － | K40: － | L40: 863721 | M40: － | N40: －
B41: （株）日産クリエイティブサービス | C41: 916591 | D41: 943953 | E41: 97.1 | F41: 0 | G41: 0 | H41: － | I41: 182480 | J41: 166657 | K41: 109.5 | L41: 1099071 | M41: 1110610 | N41: 99
B42: 北海道旅客鉄道（株） | C42: 48008 | D42: 82101 | E42: 58.5 | F42: 0 | G42: 0 | H42: － | I42: 1225142 | J42: 1470928 | K42: 83.3 | L42: 1273150 | M42: 1553029 | N42: 82
B43: （株）小田急トラベル | C43: 242124 | D43: 278181 | E43: 87 | F43: 14541 | G43: 10851 | H43: 134 | I43: 934241 | J43: 895729 | K43: 104.3 | L43: 1190906 | M43: 1184761 | N43: 100.5
B44: イオンコンパス（株） | C44: 571361 | D44: 647797 | E44: 88.2 | F44: 20149 | G44: 16916 | H44: 119.1 | I44: 880595 | J44: 791092 | K44: 111.3 | L44: 1472105 | M44: 1455805 | N44: 101.1
B45: 京成トラベルサービス（株） | C45: 71982 | D45: 90061 | E45: 79.9 | F45: 70 | G45: 2752 | H45: 2.5 | I45: 810565 | J45: 790768 | K45: 102.5 | L45: 882617 | M45: 883581 | N45: 99.9
B46: ケイライントラベル（株） | C46: 1898913 | D46: 1938680 | E46: 97.9 | F46: 0 | G46: 0 | H46: － | I46: 35439 | J46: 45051 | K46: 78.7 | L46: 1934352 | M46: 1983731 | N46: 97.5
B47: 名鉄観光バス（株） | C47: 10926 | D47: 4073 | E47: 268.3 | F47: 0 | G47: 0 | H47: － | I47: 752445 | J47: 799189 | K47: 94.2 | L47: 763371 | M47: 803262 | N47: 95
B48: （株）ヤマハトラベルサービス | C48: 383451 | D48: 373157 | E48: 102.8 | F48: 27524 | G48: 42216 | H48: 65.2 | I48: 207422 | J48: 211385 | K48: 98.1 | L48: 618397 | M48: 626758 | N48: 98.7
B49: （株）PTS | C49: 717672 | D49: 633883 | E49: 113.2 | F49: 8294 | G49: 10515 | H49: 78.9 | I49: 666834 | J49: 693182 | K49: 96.2 | L49: 1392800 | M49: 1337580 | N49: 104.1
B50: 西武トラベル（株） | C50: 154340 | D50: 155512 | E50: 99.2 | F50: 40015 | G50: 8814 | H50: 454 | I50: 243486 | J50: 270512 | K50: 90 | L50: 437841 | M50: 434838 | N50: 100.7
B51: （株）JAL JTAセールス | C51: 0 | D51: 0 | E51: － | F51: 0 | G51: 0 | H51: － | I51: 326962 | J51: 416990 | K51: 78.4 | L51: 326962 | M51: 416990 | N51: 78.4
B52: 菱和ダイヤモンド航空サービス（株） | C52: 339404 | D52: 355861 | E52: 95.4 | F52: 0 | G52: 0 | H52: － | I52: 13676 | J52: 11821 | K52: 115.7 | L52: 353080 | M52: 367682 | N52: 96
B53: （株）トラベル日本 | C53: 212083 | D53: 208427 | E53: 101.8 | F53: 24 | G53: 30 | H53: 80 | I53: 265634 | J53: 274652 | K53: 96.7 | L53: 477741 | M53: 483109 | N53: 98.9
B54: 合 計（＊） | C54: =SUM(C5:C53) -> 161100708 | D54: =SUM(D5:D53) -> 169842670 | E54: =C54/D54 -> 0.94852906 | F54: =SUM(F5:F53) -> 15292698 | G54: =SUM(G5:G53) -> 12010812 | H54: =F54/G54 -> 1.2732443 | I54: =SUM(I5:I53) -> 256339585 | J54: =SUM(J5:J53) -> 260007195 | K54: =I54/J54 -> 0.9858942 | L54: =SUM(L5:L53) -> 432732991 | M54: =SUM(M5:M53) -> 441860676 | N54: =L54/M54 -> 0.97934262
C56: ※JTBグループは、15社内取引を相殺し合計した数値
C57: JTBグループ15社 ： ジェイティービー、JTB北海道、JTB東北、JTB関東、JTB首都圏、JTB中部、JTB西日本、JTB中国四国、JTB九州、JTB東海、JTB関
C58: 西、JTBコーポレートセールス、i.JTB、JTBグローバル・マーケティング＆トラベル、JTB国内旅行企画
C60: ※KNT-CTホールディングスは、8社内取引を相殺し、合計した数値
C61: KNT-CTホールディングス8社 ： 近畿日本ツーリスト、近畿日本ツーリスト北海道、近畿日本ツーリスト東北、近畿日本ツーリスト中国四国、近畿日本ツーリ
C62: スト九州、ユナイテッドツアーズ、クラブツーリズム、近畿日本ツーリスト個人旅行
C64: ※エイチ・アイ・エスは、5社内取引を相殺し、合計した数値
C65: エイチ・アイ・エス5社 ： エイチ・アイ・エス、オリオンツアー、クオリタ、クルーズプラネット、ジャパンホリデートラベル
C67: ※阪急交通社は、3社内取引を相殺し、合計したもの
C68: 阪急交通社3社 ： 阪急交通社、阪急阪神ビジネストラベル、阪神トラベル・インターナショナル
C70: ※WILLER TRAVELは平成27年度のデータがないため、合計数値は同社分を除いて集計
C72: ※■は新たに追加した会社

Sheet 7月
B1: 主要旅行業者の旅行取扱状況速報
F2: 42552
B3: 会 社 名 | C3: 海 外 旅 行 | F3: 外 国 人 旅 行 | I3: 国 内 旅 行 | L3: 合 計
C4: 取扱額（千円） | D4: 前年（千円） | E4: 前年比（％） | F4: 取扱額（千円） | G4: 前年（千円） | H4: 前年比（％） | I4: 取扱額（千円） | J4: 前年（千円） | K4: 前年比（％） | L4: 取扱額（千円） | M4: 前年（千円） | N4: 前年比（％）
B5: ジェイティービー（15社計＊） | C5: 39200715 | D5: 40006027 | E5: 98 | F5: 6105575 | G5: 7081770 | H5: 86.2 | I5: 85307408 | J5: 90555189 | K5: 94.2 | L5: 130613698 | M5: 137642986 | N5: 94.9
B6: KNT-CTホールディングス（8社計＊） | C6: 11291671 | D6: 12135573 | E6: 93 | F6: 1232994 | G6: 1051939 | H6: 117.2 | I6: 26123469 | J6: 26997422 | K6: 96.8 | L6: 38648134 | M6: 40184934 | N6: 96.2
B7: エイチ・アイ・エス（5社計＊） | C7: 27385821 | D7: 27927631 | E7: 98.1 | F7: 1895945 | G7: 2306443 | H7: 82.2 | I7: 5635393 | J7: 5449062 | K7: 103.4 | L7: 34917159 | M7: 35683136 | N7: 97.9
B8: （株）日本旅行 | C8: 9568202 | D8: 10674997 | E8: 89.6 | F8: 2752528 | G8: 2346894 | H8: 117.3 | I8: 22805074 | J8: 22698256 | K8: 100.5 | L8: 35125804 | M8: 35720147 | N8: 98.3
B9: 阪急交通社（3社計＊） | C9: 16051079 | D9: 19276313 | E9: 83.3 | F9: 175012 | G9: 103623 | H9: 168.9 | I9: 9028276 | J9: 9236329 | K9: 97.7 | L9: 25254367 | M9: 28616265 | N9: 88.3
B10: 楽天(株) | C10: 3060586 | D10: 2548421 | E10: 120.1 | F10: 931496 | G10: 655598 | H10: 142.1 | I10: 46008201 | J10: 40699697 | K10: 113 | L10: 50000283 | M10: 43903716 | N10: 113.9
B11: （株）JTBワールドバケーションズ | C11: 18190614 | D11: 18848956 | E11: 96.5 | F11: 0 | G11: 0 | H11: － | I11: 0 | J11: 0 | K11: － | L11: 18190614 | M11: 18848956 | N11: 96.5
B12: ANAセールス（株） | C12: 1754000 | D12: 2166000 | E12: 81 | F12: 163000 | G12: 313000 | H12: 52.1 | I12: 17228000 | J12: 17905000 | K12: 96.2 | L12: 19145000 | M12: 20384000 | N12: 93.9
B13: （株）ジャルパック | C13: 4625848 | D13: 5154947 | E13: 89.7 | F13: 0 | G13: 2088 | H13: － | I13: 12820454 | J13: 12310593 | K13: 104.1 | L13: 17446302 | M13: 17467628 | N13: 99.9
B14: 東武トップツアーズ（株） | C14: 2043044 | D14: 2812966 | E14: 72.6 | F14: 375631 | G14: 407907 | H14: 92.1 | I14: 8765686 | J14: 8650643 | K14: 101.3 | L14: 11184361 | M14: 11871516 | N14: 94.2
B15: （株）ジェイアール東海ツアーズ | C15: 130995 | D15: 133923 | E15: 97.8 | F15: 51449 | G15: 44685 | H15: 115.1 | I15: 8605320 | J15: 9041290 | K15: 95.2 | L15: 8787763 | M15: 9219898 | N15: 95.3
B16: （株）JTBビジネストラベルソリューションズ | C16: 4794394 | D16: 5190047 | E16: 92.4 | F16: 330 | G16: 2312 | H16: 14.3 | I16: 4535462 | J16: 4382997 | K16: 103.5 | L16: 9330186 | M16: 9575356 | N16: 97.4
B17: （株）農協観光 | C17: 612343 | D17: 931299 | E17: 65.8 | F17: 105913 | G17: 152012 | H17: 69.7 | I17: 6978243 | J17: 7120349 | K17: 98 | L17: 7696499 | M17: 8203660 | N17: 93.8
B18: 名鉄観光サービス（株） | C18: 905688 | D18: 1042218 | E18: 86.9 | F18: 114262 | G18: 116541 | H18: 98 | I18: 6416415 | J18: 6736450 | K18: 95.2 | L18: 7436365 | M18: 7895209 | N18: 94.2
B19: （株）読売旅行 | C19: 609257 | D19: 542575 | E19: 112.3 | F19: 5356 | G19: 0 | H19: － | I19: 3463407 | J19: 3507650 | K19: 98.7 | L19: 4078020 | M19: 4050225 | N19: 100.7
B20: 日通旅行（株） | C20: 2585156 | D20: 3791835 | E20: 68.2 | F20: 104714 | G20: 78706 | H20: 133 | I20: 590876 | J20: 715239 | K20: 82.6 | L20: 3280746 | M20: 4585780 | N20: 71.5
B21: （株）DeNAトラベル | C21: 3685961 | D21: 3215223 | E21: 114.6 | F21: 80437 | G21: 1993 | H21: 4036 | I21: 396279 | J21: 251845 | K21: 157.4 | L21: 4162677 | M21: 3469061 | N21: 120
B22: 西鉄旅行（株） | C22: 1112365 | D22: 1304686 | E22: 85.3 | F22: 22418 | G22: 55632 | H22: 40.3 | I22: 1792618 | J22: 1963230 | K22: 91.3 | L22: 2927401 | M22: 3323548 | N22: 88.1
B23: ビッグホリデー（株） | C23: 422539 | D23: 401200 | E23: 105.3 | F23: 0 | G23: 0 | H23: － | I23: 3540306 | J23: 3888051 | K23: 91.1 | L23: 3962845 | M23: 4289251 | N23: 92.4
B24: 日新航空サービス（株） | C24: 4133316 | D24: 3980885 | E24: 103.8 | F24: 0 | G24: 0 | H24: － | I24: 468792 | J24: 432359 | K24: 108.4 | L24: 4602108 | M24: 4413244 | N24: 104.3
B25: エムオーツーリスト（株） | C25: 3069171 | D25: 3280042 | E25: 93.6 | F25: 3395 | G25: 4640 | H25: 73.2 | I25: 301421 | J25: 318350 | K25: 94.7 | L25: 3373987 | M25: 3603032 | N25: 93.6
B26: （株）日立トラベルビューロー | C26: 1546882 | D26: 1586300 | E26: 97.5 | F26: 4469 | G26: 1781 | H26: 250.9 | I26: 1135051 | J26: 858843 | K26: 132.2 | L26: 2686402 | M26: 2446924 | N26: 109.8
B27: （株）タビックスジャパン | C27: 353191 | D27: 333022 | E27: 106.1 | F27: 1199 | G27: 7406 | H27: 16.2 | I27: 1964201 | J27: 2265639 | K27: 86.7 | L27: 2318591 | M27: 2606067 | N27: 89
B28: 郵船トラベル（株） | C28: 2389211 | D28: 2449107 | E28: 97.6 | F28: 0 | G28: 0 | H28: － | I28: 266272 | J28: 205762 | K28: 129.4 | L28: 2655483 | M28: 2654869 | N28: 100
B29: （株）エヌオーイー | C29: 2501097 | D29: 2267782 | E29: 110.3 | F29: 7291 | G29: 18986 | H29: 38.4 | I29: 99793 | J29: 116867 | K29: 85.4 | L29: 2608181 | M29: 2403635 | N29: 108.5
B30: 沖縄ツーリスト（株） | C30: 91300 | D30: 139746 | E30: 65.3 | F30: 35745 | G30: 92446 | H30: 38.7 | I30: 2923661 | J30: 3381399 | K30: 86.5 | L30: 3050706 | M30: 3613591 | N30: 84.4
B31: （株）IACEトラベル | C31: 1759709 | D31: 1802175 | E31: 97.6 | F31: 0 | G31: 0 | H31: － | I31: 430156 | J31: 342906 | K31: 125.4 | L31: 2189865 | M31: 2145081 | N31: 102.1
B32: （株）旅工房 | C32: 1818918 | D32: 1849669 | E32: 98.3 | F32: 119564 | G32: 23718 | H32: 504.1 | I32: 55377 | J32: 63979 | K32: 86.6 | L32: 1993859 | M32: 1937366 | N32: 102.9
B33: （株）トヨタツーリストインターナショナル | C33: 1185377 | D33: 1333814 | E33: 88.9 | F33: 2207 | G33: 1885 | H33: 117.1 | I33: 358401 | J33: 319135 | K33: 112.3 | L33: 1545985 | M33: 1654834 | N33: 93.4
B34: 京王観光（株） | C34: 374310 | D34: 337472 | E34: 110.9 | F34: 72678 | G34: 41197 | H34: 176.4 | I34: 1785827 | J34: 1921416 | K34: 92.9 | L34: 2232815 | M34: 2300085 | N34: 97.1
B35: 東日観光（株） | C35: 325422 | D35: 471281 | E35: 69.1 | F35: 155289 | G35: 170878 | H35: 90.9 | I35: 625541 | J35: 887851 | K35: 70.5 | L35: 1106252 | M35: 1530010 | N35: 72.3
B36: 九州旅客鉄道（株） | C36: 88519 | D36: 68946 | E36: 128.4 | F36: 0 | G36: 0 | H36: － | I36: 1768914 | J36: 2001813 | K36: 88.4 | L36: 1857433 | M36: 2070759 | N36: 89.7
B37: メルコトラベル（株） | C37: 482095 | D37: 586182 | E37: 82.2 | F37: 677 | G37: 216 | H37: 313.4 | I37: 856181 | J37: 823725 | K37: 103.9 | L37: 1338953 | M37: 1410123 | N37: 95
B38: （株）フジ・トラベル・サービス | C38: 138990 | D38: 203448 | E38: 68.3 | F38: 10254 | G38: 10963 | H38: 93.5 | I38: 1076739 | J38: 1208984 | K38: 89.1 | L38: 1225983 | M38: 1423395 | N38: 86.1
B39: （株）南海国際旅行 | C39: 299710 | D39: 323872 | E39: 92.5 | F39: 15093 | G39: 6521 | H39: 231.5 | I39: 940085 | J39: 1069396 | K39: 87.9 | L39: 1254888 | M39: 1399789 | N39: 89.6
B40: WILLER TRAVEL（株） | C40: 0 | D40: － | E40: － | F40: 91664 | G40: － | H40: － | I40: 1084869 | J40: － | K40: － | L40: 1176533 | M40: － | N40: －
B41: （株）日産クリエイティブサービス | C41: 888614 | D41: 947737 | E41: 93.8 | F41: 0 | G41: 0 | H41: － | I41: 238947 | J41: 213663 | K41: 111.8 | L41: 1127561 | M41: 1161400 | N41: 97.1
B42: 北海道旅客鉄道（株） | C42: 59813 | D42: 64373 | E42: 92.9 | F42: 0 | G42: 0 | H42: － | I42: 1275721 | J42: 1725024 | K42: 74 | L42: 1335534 | M42: 1789397 | N42: 74.6
B43: （株）小田急トラベル | C43: 350059 | D43: 399463 | E43: 87.6 | F43: 15307 | G43: 12468 | H43: 122.8 | I43: 1245963 | J43: 1174003 | K43: 106.1 | L43: 1611329 | M43: 1585934 | N43: 101.6
B44: イオンコンパス（株） | C44: 648100 | D44: 470517 | E44: 137.7 | F44: 33734 | G44: 12605 | H44: 267.6 | I44: 1029293 | J44: 1019037 | K44: 101 | L44: 1711127 | M44: 1502159 | N44: 113.9
B45: 京成トラベルサービス（株） | C45: 82083 | D45: 94857 | E45: 86.5 | F45: 152 | G45: 292 | H45: 52.1 | I45: 957544 | J45: 949287 | K45: 100.9 | L45: 1039779 | M45: 1044436 | N45: 99.6
B46: ケイライントラベル（株） | C46: 610584 | D46: 667533 | E46: 91.5 | F46: 0 | G46: 0 | H46: － | I46: 29555 | J46: 40679 | K46: 72.7 | L46: 640139 | M46: 708212 | N46: 90.4
B47: 名鉄観光バス（株） | C47: 6772 | D47: 20816 | E47: 32.5 | F47: 491 | G47: 0 | H47: － | I47: 613812 | J47: 616809 | K47: 99.5 | L47: 621075 | M47: 637625 | N47: 97.4
B48: （株）ヤマハトラベルサービス | C48: 377519 | D48: 515737 | E48: 73.2 | F48: 113080 | G48: -186 | H48: -60795.7 | I48: 229176 | J48: 253955 | K48: 90.2 | L48: 719775 | M48: 769506 | N48: 93.5
B49: （株）PTS | C49: 720985 | D49: 1219617 | E49: 59.1 | F49: 15002 | G49: 10597 | H49: 141.6 | I49: 1216646 | J49: 1237816 | K49: 98.3 | L49: 1952633 | M49: 2468030 | N49: 79.1
B50: 西武トラベル（株） | C50: 121836 | D50: 143798 | E50: 84.7 | F50: 29511 | G50: 6103 | H50: 483.5 | I50: 254095 | J50: 311148 | K50: 81.7 | L50: 405442 | M50: 461049 | N50: 87.9
B51: （株）JAL JTAセールス | C51: 0 | D51: 0 | E51: － | F51: 0 | G51: 0 | H51: － | I51: 358862 | J51: 436324 | K51: 82.2 | L51: 358862 | M51: 436324 | N51: 82.2
B52: 菱和ダイヤモンド航空サービス（株） | C52: 459805 | D52: 353228 | E52: 130.2 | F52: 0 | G52: 0 | H52: － | I52: 10216 | J52: 13909 | K52: 73.4 | L52: 470021 | M52: 367137 | N52: 128
B53: （株）トラベル日本 | C53: 212071 | D53: 234279 | E53: 90.5 | F53: 24 | G53: 30 | H53: 80 | I53: 285665 | J53: 284686 | K53: 100.3 | L53: 497760 | M53: 518995 | N53: 95.9
B54: 合 計（＊） | C54: =SUM(C5:C53) -> 173125737 | D54: =SUM(D5:D53) -> 184250535 | E54: =C54/D54 -> 0.93962135 | F54: =SUM(F5:F53) -> 14843886 | G54: =SUM(G5:G53) -> 15143689 | H54: =F54/G54 -> 0.98020278 | I54: =SUM(I5:I53) -> 293927663 | J54: =SUM(J5:J53) -> 296604056 | K54: =I54/J54 -> 0.99097655 | L54: =SUM(L5:L53) -> 481897285 | M54: =SUM(M5:M53) -> 495998280 | N54: =L54/M54 -> 0.97157048
C56: ※JTBグループは、15社内取引を相殺し合計した数値
C57: JTBグループ15社 ： ジェイティービー、JTB北海道、JTB東北、JTB関東、JTB首都圏、JTB中部、JTB西日本、JTB中国四国、JTB九州、JTB東海、JTB関
C58: 西、JTBコーポレートセールス、i.JTB、JTBグローバル・マーケティング＆トラベル、JTB国内旅行企画
C60: ※KNT-CTホールディングスは、8社内取引を相殺し、合計した数値
C61: KNT-CTホールディングス8社 ： 近畿日本ツーリスト、近畿日本ツーリスト北海道、近畿日本ツーリスト東北、近畿日本ツーリスト中国四国、近畿日本ツーリ
C62: スト九州、ユナイテッドツアーズ、クラブツーリズム、近畿日本ツーリスト個人旅行
C64: ※エイチ・アイ・エスは、5社内取引を相殺し、合計した数値
C65: エイチ・アイ・エス5社 ： エイチ・アイ・エス、オリオンツアー、クオリタ、クルーズプラネット、ジャパンホリデートラベル
C67: ※阪急交通社は、3社内取引を相殺し、合計したもの
C68: 阪急交通社3社 ： 阪急交通社、阪急阪神ビジネストラベル、阪神トラベル・インターナショナル
C70: ※WILLER TRAVELは平成27年度のデータがないため、合計数値は同社分を除いて集計
C72: ※■は新たに追加した会社

Sheet 8月
B1: 主要旅行業者の旅行取扱状況速報
F2: 42583
B3: 会 社 名 | C3: 海 外 旅 行 | F3: 外 国 人 旅 行 | I3: 国 内 旅 行 | L3: 合 計
C4: 取扱額（千円） | D4: 前年（千円） | E4: 前年比（％） | F4: 取扱額（千円） | G4: 前年（千円） | H4: 前年比（％） | I4: 取扱額（千円） | J4: 前年（千円） | K4: 前年比（％） | L4: 取扱額（千円） | M4: 前年（千円） | N4: 前年比（％）
B5: ジェイティービー（15社計＊） | C5: 52343910 | D5: 49286511 | E5: 106.2 | F5: 6745896 | G5: 5687443 | H5: 118.6 | I5: 114079655 | J5: 123260798 | K5: 92.6 | L5: 173169461 | M5: 178234752 | N5: 97.2
B6: KNT-CTホールディングス（8社計＊） | C6: 16220094 | D6: 14883328 | E6: 109 | F6: 1193498 | G6: 1443822 | H6: 82.7 | I6: 31864391 | J6: 35172379 | K6: 90.6 | L6: 49277983 | M6: 51499529 | N6: 95.7
B7: エイチ・アイ・エス（5社計＊） | C7: 42904375 | D7: 41292273 | E7: 103.9 | F7: 1670190 | G7: 1936710 | H7: 86.2 | I7: 8067216 | J7: 7924627 | K7: 101.8 | L7: 52641781 | M7: 51153610 | N7: 102.9
B8: （株）日本旅行 | C8: 12081416 | D8: 12332048 | E8: 98 | F8: 2964773 | G8: 2654644 | H8: 111.7 | I8: 27915701 | J8: 27832764 | K8: 100.3 | L8: 42961890 | M8: 42819456 | N8: 100.3
B9: 阪急交通社（3社計＊） | C9: 15921660 | D9: 18851205 | E9: 84.5 | F9: 163174 | G9: 131283 | H9: 124.3 | I9: 10066018 | J9: 9678274 | K9: 104 | L9: 26150852 | M9: 28660762 | N9: 91.2
B10: 楽天(株) | C10: 4335390 | D10: 1993701 | E10: 217.5 | F10: 781016 | G10: 601306 | H10: 129.9 | I10: 65016205 | J10: 57107726 | K10: 113.8 | L10: 70132611 | M10: 59702733 | N10: 117.5
B11: （株）JTBワールドバケーションズ | C11: 27669433 | D11: 28486584 | E11: 97.1 | F11: 0 | G11: 0 | H11: － | I11: 0 | J11: 0 | K11: － | L11: 27669433 | M11: 28486584 | N11: 97.1
B12: ANAセールス（株） | C12: 2575000 | D12: 2887000 | E12: 89.2 | F12: 111000 | G12: 267000 | H12: 41.6 | I12: 19159000 | J12: 20064000 | K12: 95.5 | L12: 21845000 | M12: 23218000 | N12: 94.1
B13: （株）ジャルパック | C13: 6519152 | D13: 6509645 | E13: 100.1 | F13: 4356 | G13: 142 | H13: 3067.6 | I13: 15464014 | J13: 14058996 | K13: 110 | L13: 21987522 | M13: 20568783 | N13: 106.9
B14: 東武トップツアーズ（株） | C14: 3351308 | D14: 3175474 | E14: 105.5 | F14: 337377 | G14: 291077 | H14: 115.9 | I14: 8373372 | J14: 9039530 | K14: 92.6 | L14: 12062057 | M14: 12506081 | N14: 96.4
B15: （株）ジェイアール東海ツアーズ | C15: 188435 | D15: 145529 | E15: 129.5 | F15: 37628 | G15: 31575 | H15: 119.2 | I15: 7494193 | J15: 8658026 | K15: 86.6 | L15: 7720256 | M15: 8835130 | N15: 87.4
B16: （株）JTBビジネストラベルソリューションズ | C16: 4709796 | D16: 4605198 | E16: 102.3 | F16: 1538 | G16: 10399 | H16: 14.8 | I16: 3707578 | J16: 3888660 | K16: 95.3 | L16: 8418912 | M16: 8504257 | N16: 99
B17: （株）農協観光 | C17: 477989 | D17: 513524 | E17: 93.1 | F17: 64391 | G17: 87418 | H17: 73.7 | I17: 4282118 | J17: 4374146 | K17: 97.9 | L17: 4824498 | M17: 4975088 | N17: 97
B18: 名鉄観光サービス（株） | C18: 1380539 | D18: 1136742 | E18: 121.4 | F18: 158493 | G18: 94437 | H18: 167.8 | I18: 5594905 | J18: 5771039 | K18: 96.9 | L18: 7133937 | M18: 7002218 | N18: 101.9
B19: （株）読売旅行 | C19: 651233 | D19: 582042 | E19: 111.9 | F19: 902 | G19: 2681 | H19: 33.6 | I19: 2796558 | J19: 3025321 | K19: 92.4 | L19: 3448693 | M19: 3610044 | N19: 95.5
B20: 日通旅行（株） | C20: 2954934 | D20: 3325222 | E20: 88.9 | F20: 86429 | G20: 91530 | H20: 94.4 | I20: 611409 | J20: 556661 | K20: 109.8 | L20: 3652772 | M20: 3973413 | N20: 91.9
B21: （株）DeNAトラベル | C21: 6304614 | D21: 5504542 | E21: 114.5 | F21: 52877 | G21: 5142 | H21: 1028.3 | I21: 617750 | J21: 343808 | K21: 179.7 | L21: 6975241 | M21: 5853492 | N21: 119.2
B22: 西鉄旅行（株） | C22: 1221990 | D22: 1234523 | E22: 99 | F22: 50594 | G22: 19422 | H22: 260.5 | I22: 1889723 | J22: 1794904 | K22: 105.3 | L22: 3162307 | M22: 3048849 | N22: 103.7
B23: ビッグホリデー（株） | C23: 396035 | D23: 411043 | E23: 96.3 | F23: 0 | G23: 0 | H23: － | I23: 5636228 | J23: 5801096 | K23: 97.2 | L23: 6032263 | M23: 6212139 | N23: 97.1
B24: 日新航空サービス（株） | C24: 3846692 | D24: 4197539 | E24: 91.6 | F24: 0 | G24: 0 | H24: － | I24: 370742 | J24: 337932 | K24: 109.7 | L24: 4217434 | M24: 4535471 | N24: 93
B25: エムオーツーリスト（株） | C25: 3143208 | D25: 2991818 | E25: 105.1 | F25: 1486 | G25: 3644 | H25: 40.8 | I25: 251661 | J25: 261771 | K25: 96.1 | L25: 3396355 | M25: 3257233 | N25: 104.3
B26: （株）日立トラベルビューロー | C26: 1460864 | D26: 1439661 | E26: 101.5 | F26: 4745 | G26: 3892 | H26: 121.9 | I26: 1119810 | J26: 790661 | K26: 141.6 | L26: 2585419 | M26: 2234214 | N26: 115.7
B27: （株）タビックスジャパン | C27: 388274 | D27: 431599 | E27: 90 | F27: 3684 | G27: 6331 | H27: 58.2 | I27: 1674997 | J27: 2050430 | K27: 81.7 | L27: 2066955 | M27: 2488360 | N27: 83.1
B28: 郵船トラベル（株） | C28: 2005725 | D28: 2399289 | E28: 83.6 | F28: 0 | G28: 0 | H28: － | I28: 320635 | J28: 358362 | K28: 89.5 | L28: 2326360 | M28: 2757651 | N28: 84.4
B29: （株）エヌオーイー | C29: 2289250 | D29: 2239421 | E29: 102.2 | F29: 8338 | G29: 9596 | H29: 86.9 | I29: 111231 | J29: 112582 | K29: 98.8 | L29: 2408819 | M29: 2361599 | N29: 102
B30: 沖縄ツーリスト（株） | C30: 134223 | D30: 105223 | E30: 127.6 | F30: 44919 | G30: 85630 | H30: 52.5 | I30: 2960138 | J30: 3089676 | K30: 95.8 | L30: 3139280 | M30: 3280529 | N30: 95.7
B31: （株）IACEトラベル | C31: 1986872 | D31: 2153482 | E31: 92.3 | F31: 0 | G31: 0 | H31: － | I31: 379512 | J31: 315365 | K31: 120.3 | L31: 2366384 | M31: 2468847 | N31: 95.8
B32: （株）旅工房 | C32: 2603157 | D32: 2574064 | E32: 101.1 | F32: 28862 | G32: 51459 | H32: 56.1 | I32: 29825 | J32: 60071 | K32: 49.6 | L32: 2661844 | M32: 2685594 | N32: 99.1
B33: （株）トヨタツーリストインターナショナル | C33: 895815 | D33: 1183791 | E33: 75.7 | F33: 698 | G33: 451 | H33: 154.8 | I33: 131171 | J33: 158750 | K33: 82.6 | L33: 1027684 | M33: 1342992 | N33: 76.5
B34: 京王観光（株） | C34: 726658 | D34: 662897 | E34: 109.6 | F34: 11457 | G34: 5692 | H34: 201.3 | I34: 3098012 | J34: 3110189 | K34: 99.6 | L34: 3836127 | M34: 3778778 | N34: 101.5
B35: 東日観光（株） | C35: 346076 | D35: 432246 | E35: 80.1 | F35: 182127 | G35: 102524 | H35: 177.6 | I35: 536440 | J35: 556042 | K35: 96.5 | L35: 1064643 | M35: 1090812 | N35: 97.6
B36: 九州旅客鉄道（株） | C36: 81001 | D36: 76064 | E36: 106.5 | F36: 0 | G36: 0 | H36: － | I36: 1930842 | J36: 2125115 | K36: 90.9 | L36: 2011843 | M36: 2201179 | N36: 91.4
B37: メルコトラベル（株） | C37: 468136 | D37: 474310 | E37: 98.7 | F37: 0 | G37: 68 | H37: － | I37: 670153 | J37: 653937 | K37: 102.5 | L37: 1138289 | M37: 1128315 | N37: 100.9
B38: （株）フジ・トラベル・サービス | C38: 199212 | D38: 232613 | E38: 85.6 | F38: 319 | G38: 12429 | H38: 2.6 | I38: 1429718 | J38: 1662395 | K38: 86 | L38: 1629249 | M38: 1907437 | N38: 85.4
B39: （株）南海国際旅行 | C39: 346423 | D39: 316094 | E39: 109.6 | F39: 21010 | G39: 6882 | H39: 305.3 | I39: 887893 | J39: 1042487 | K39: 85.2 | L39: 1255326 | M39: 1365463 | N39: 91.9
B40: WILLER TRAVEL（株） | C40: 0 | D40: － | E40: － | F40: 91147 | G40: － | H40: － | I40: 1807513 | J40: － | K40: － | L40: 1898660 | M40: － | N40: －
B41: （株）日産クリエイティブサービス | C41: 615057 | D41: 599496 | E41: 102.6 | F41: 0 | G41: 0 | H41: － | I41: 183349 | J41: 141687 | K41: 129.4 | L41: 798406 | M41: 741183 | N41: 107.7
B42: 北海道旅客鉄道（株） | C42: 65390 | D42: 86435 | E42: 75.7 | F42: 0 | G42: 0 | H42: － | I42: 1100274 | J42: 1483679 | K42: 74.2 | L42: 1165664 | M42: 1570114 | N42: 74.2
B43: （株）小田急トラベル | C43: 335219 | D43: 359529 | E43: 93.2 | F43: 14903 | G43: 18075 | H43: 82.5 | I43: 1111950 | J43: 1099540 | K43: 101.1 | L43: 1462072 | M43: 1477144 | N43: 99
B44: イオンコンパス（株） | C44: 520658 | D44: 470517 | E44: 110.7 | F44: 6548 | G44: 5301 | H44: 123.5 | I44: 1026788 | J44: 1026341 | K44: 100 | L44: 1553994 | M44: 1502159 | N44: 103.5
B45: 京成トラベルサービス（株） | C45: 97062 | D45: 82836 | E45: 117.2 | F45: 149 | G45: 262 | H45: 56.9 | I45: 849805 | J45: 836199 | K45: 101.6 | L45: 947016 | M45: 919297 | N45: 103
B46: ケイライントラベル（株） | C46: 494088 | D46: 563680 | E46: 87.7 | F46: 0 | G46: 0 | H46: － | I46: 27067 | J46: 25029 | K46: 108.1 | L46: 521155 | M46: 588709 | N46: 88.5
B47: 名鉄観光バス（株） | C47: 9547 | D47: 2461 | E47: 387.9 | F47: 385 | G47: 0 | H47: － | I47: 469805 | J47: 491498 | K47: 95.6 | L47: 479737 | M47: 493959 | N47: 97.1
B48: （株）ヤマハトラベルサービス | C48: 283033 | D48: 296831 | E48: 95.4 | F48: 10022 | G48: 2802 | H48: 357.7 | I48: 197786 | J48: 178487 | K48: 110.8 | L48: 490841 | M48: 478120 | N48: 102.7
B49: （株）PTS | C49: 1360453 | D49: 1307335 | E49: 104.1 | F49: 785 | G49: 1970 | H49: 39.8 | I49: 2110060 | J49: 2282009 | K49: 92.5 | L49: 3471298 | M49: 3591314 | N49: 96.7
B50: 西武トラベル（株） | C50: 146137 | D50: 255341 | E50: 57.2 | F50: 29028 | G50: 48791 | H50: 59.5 | I50: 234868 | J50: 276895 | K50: 84.8 | L50: 410033 | M50: 581027 | N50: 70.6
B51: （株）JAL JTAセールス | C51: 0 | D51: 0 | E51: － | F51: 0 | G51: 0 | H51: － | I51: 322728 | J51: 389414 | K51: 82.9 | L51: 322728 | M51: 389414 | N51: 82.9
B52: 菱和ダイヤモンド航空サービス（株） | C52: 385645 | D52: 359554 | E52: 107.3 | F52: 0 | G52: 0 | H52: － | I52: 11155 | J52: 11948 | K52: 93.4 | L52: 396800 | M52: 371502 | N52: 106.8
B53: （株）トラベル日本 | C53: 194327 | D53: 192319 | E53: 101 | F53: 24 | G53: 32 | H53: 75 | I53: 234946 | J53: 268943 | K53: 87.4 | L53: 429297 | M53: 461294 | N53: 93.1
B54: 合 計（＊） | C54: =SUM(C5:C53) -> 227635505 | D54: =SUM(D5:D53) -> 223642579 | E54: =C54/D54 -> 1.0178541 | F54: =SUM(F5:F53) -> 14884768 | G54: =SUM(G5:G53) -> 13721862 | H54: =F54/G54 -> 1.0847484 | I54: =SUM(I5:I53) -> 358226908 | J54: =SUM(J5:J53) -> 363550189 | K54: =I54/J54 -> 0.98535751 | L54: =SUM(L5:L53) -> 600747181 | M54: =SUM(M5:M53) -> 600914630 | N54: =L54/M54 -> 0.99972134
C56: ※JTBグループは、15社内取引を相殺し合計した数値
C57: JTBグループ15社 ： ジェイティービー、JTB北海道、JTB東北、JTB関東、JTB首都圏、JTB中部、JTB西日本、JTB中国四国、JTB九州、JTB東海、JTB関
C58: 西、JTBコーポレートセールス、i.JTB、JTBグローバル・マーケティング＆トラベル、JTB国内旅行企画
C60: ※KNT-CTホールディングスは、8社内取引を相殺し、合計した数値
C61: KNT-CTホールディングス8社 ： 近畿日本ツーリスト、近畿日本ツーリスト北海道、近畿日本ツーリスト東北、近畿日本ツーリスト中国四国、近畿日本ツーリ
C62: スト九州、ユナイテッドツアーズ、クラブツーリズム、近畿日本ツーリスト個人旅行
C64: ※エイチ・アイ・エスは、5社内取引を相殺し、合計した数値
C65: エイチ・アイ・エス5社 ： エイチ・アイ・エス、オリオンツアー、クオリタ、クルーズプラネット、ジャパンホリデートラベル
C67: ※阪急交通社は、3社内取引を相殺し、合計したもの
C68: 阪急交通社3社 ： 阪急交通社、阪急阪神ビジネストラベル、阪神トラベル・インターナショナル
C70: ※WILLER TRAVELは平成27年度のデータがないため、合計数値は同社分を除いて集計
C72: ※■は新たに追加した会社

Sheet 9月
B1: 主要旅行業者の旅行取扱状況速報
F2: 42614
B3: 会 社 名 | C3: 海 外 旅 行 | F3: 外 国 人 旅 行 | I3: 国 内 旅 行 | L3: 合 計
C4: 取扱額（千円） | D4: 前年（千円） | E4: 前年比（％） | F4: 取扱額（千円） | G4: 前年（千円） | H4: 前年比（％） | I4: 取扱額（千円） | J4: 前年（千円） | K4: 前年比（％） | L4: 取扱額（千円） | M4: 前年（千円） | N4: 前年比（％）
B5: ジェイティービー（15社計＊） | C5: 37254410 | D5: 41490608 | E5: 89.8 | F5: 6918501 | G5: 5510537 | H5: 125.6 | I5: 80402597 | J5: 97604876 | K5: 82.4 | L5: 124575508 | M5: 144606021 | N5: 86.1
B6: KNT-CTホールディングス（8社計＊） | C6: 13649537 | D6: 14563031 | E6: 93.7 | F6: 1305373 | G6: 1188133 | H6: 109.9 | I6: 29273258 | J6: 31104812 | K6: 94.1 | L6: 44228168 | M6: 46855976 | N6: 94.4
B7: エイチ・アイ・エス（5社計＊） | C7: 34950791 | D7: 38399013 | E7: 91 | F7: 1569438 | G7: 1578246 | H7: 99.4 | I7: 6370935 | J7: 7076779 | K7: 90 | L7: 42891164 | M7: 47054038 | N7: 91.2
B8: （株）日本旅行 | C8: 9881921 | D8: 11437975 | E8: 86.4 | F8: 3292697 | G8: 2447962 | H8: 134.5 | I8: 25145518 | J8: 26480965 | K8: 95 | L8: 38320136 | M8: 40366902 | N8: 94.9
B9: 阪急交通社（3社計＊） | C9: 17264908 | D9: 18663540 | E9: 92.5 | F9: 155386 | G9: 123500 | H9: 125.8 | I9: 13166866 | J9: 12238522 | K9: 107.6 | L9: 30587160 | M9: 31025562 | N9: 98.6
B10: 楽天(株) | C10: 3431861 | D10: 1641952 | E10: 209 | F10: 600249 | G10: 442924 | H10: 135.5 | I10: 43392748 | J10: 42682068 | K10: 101.7 | L10: 47424858 | M10: 44766944 | N10: 105.9
B11: （株）JTBワールドバケーションズ | C11: 19532066 | D11: 24139432 | E11: 80.9 | F11: 0 | G11: 0 | H11: － | I11: 0 | J11: 0 | K11: － | L11: 19532066 | M11: 24139432 | N11: 80.9
B12: ANAセールス（株） | C12: 1920000 | D12: 2263000 | E12: 84.8 | F12: 93000 | G12: 175000 | H12: 53.1 | I12: 15804000 | J12: 17286000 | K12: 91.4 | L12: 17817000 | M12: 19724000 | N12: 90.3
B13: （株）ジャルパック | C13: 5509962 | D13: 6167460 | E13: 89.3 | F13: 10187 | G13: 196 | H13: 5197.4 | I13: 11368058 | J13: 11476264 | K13: 99.1 | L13: 16888207 | M13: 17643920 | N13: 95.7
B14: 東武トップツアーズ（株） | C14: 3005470 | D14: 3092771 | E14: 97.2 | F14: 372717 | G14: 491835 | H14: 75.8 | I14: 8552558 | J14: 8310036 | K14: 102.9 | L14: 11930745 | M14: 11894642 | N14: 100.3
B15: （株）ジェイアール東海ツアーズ | C15: 168518 | D15: 188787 | E15: 89.3 | F15: 52196 | G15: 41337 | H15: 126.3 | I15: 8214865 | J15: 7968530 | K15: 103.1 | L15: 8435579 | M15: 8198654 | N15: 102.9
B16: （株）JTBビジネストラベルソリューションズ | C16: 5986568 | D16: 5459815 | E16: 109.6 | F16: 10907 | G16: 12012 | H16: 90.8 | I16: 3909534 | J16: 3715793 | K16: 105.2 | L16: 9907009 | M16: 9187620 | N16: 107.8
B17: （株）農協観光 | C17: 900012 | D17: 985416 | E17: 91.3 | F17: 71889 | G17: 107843 | H17: 66.7 | I17: 5586885 | J17: 5844634 | K17: 95.6 | L17: 6558786 | M17: 6937893 | N17: 94.5
B18: 名鉄観光サービス（株） | C18: 1406451 | D18: 1241129 | E18: 113.3 | F18: 66400 | G18: 83606 | H18: 79.4 | I18: 6849915 | J18: 6470056 | K18: 105.9 | L18: 8322766 | M18: 7794791 | N18: 106.8
B19: （株）読売旅行 | C19: 701734 | D19: 819591 | E19: 85.6 | F19: 4083 | G19: 2000 | H19: 204.2 | I19: 3265970 | J19: 3700895 | K19: 88.2 | L19: 3971787 | M19: 4522486 | N19: 87.8
B20: 日通旅行（株） | C20: 2969069 | D20: 3314726 | E20: 89.6 | F20: 158655 | G20: 58317 | H20: 272.1 | I20: 698352 | J20: 680400 | K20: 102.6 | L20: 3826076 | M20: 4053443 | N20: 94.4
B21: （株）DeNAトラベル | C21: 4735517 | D21: 5254292 | E21: 90.1 | F21: 35738 | G21: 7143 | H21: 500.3 | I21: 374148 | J21: 295039 | K21: 126.8 | L21: 5145403 | M21: 5556474 | N21: 92.6
B22: 西鉄旅行（株） | C22: 1128722 | D22: 1525096 | E22: 74 | F22: 61508 | G22: 41069 | H22: 149.8 | I22: 1909046 | J22: 2077060 | K22: 91.9 | L22: 3099276 | M22: 3643225 | N22: 85.1
B23: ビッグホリデー（株） | C23: 361158 | D23: 369277 | E23: 97.8 | F23: 0 | G23: 0 | H23: － | I23: 4068512 | J23: 4076519 | K23: 99.8 | L23: 4429670 | M23: 4445796 | N23: 99.6
B24: 日新航空サービス（株） | C24: 4004200 | D24: 4285851 | E24: 93.4 | F24: 0 | G24: 0 | H24: － | I24: 405729 | J24: 410429 | K24: 98.9 | L24: 4409929 | M24: 4696280 | N24: 93.9
B25: エムオーツーリスト（株） | C25: 3598729 | D25: 3296307 | E25: 109.2 | F25: 7138 | G25: 1818 | H25: 392.6 | I25: 313993 | J25: 261103 | K25: 120.3 | L25: 3919860 | M25: 3559228 | N25: 110.1
B26: （株）日立トラベルビューロー | C26: 1642116 | D26: 1594322 | E26: 103 | F26: 1400 | G26: 4896 | H26: 28.6 | I26: 789565 | J26: 803939 | K26: 98.2 | L26: 2433081 | M26: 2403157 | N26: 101.2
B27: （株）タビックスジャパン | C27: 398107 | D27: 472734 | E27: 84.2 | F27: 4106 | G27: 11891 | H27: 34.5 | I27: 1959478 | J27: 2218680 | K27: 88.3 | L27: 2361691 | M27: 2703305 | N27: 87.4
B28: 郵船トラベル（株） | C28: 2446990 | D28: 2700730 | E28: 90.6 | F28: 0 | G28: 0 | H28: － | I28: 171969 | J28: 254143 | K28: 67.7 | L28: 2618959 | M28: 2954873 | N28: 88.6
B29: （株）エヌオーイー | C29: 2500733 | D29: 2575972 | E29: 97.1 | F29: 8722 | G29: 20479 | H29: 42.6 | I29: 293330 | J29: 113654 | K29: 258.1 | L29: 2802785 | M29: 2710105 | N29: 103.4
B30: 沖縄ツーリスト（株） | C30: 143296 | D30: 168663 | E30: 85 | F30: 74659 | G30: 62829 | H30: 118.8 | I30: 2610477 | J30: 2814240 | K30: 92.8 | L30: 2828432 | M30: 3045732 | N30: 92.9
B31: （株）IACEトラベル | C31: 1990281 | D31: 2099169 | E31: 94.8 | F31: 0 | G31: 0 | H31: － | I31: 384604 | J31: 299933 | K31: 128.2 | L31: 2374885 | M31: 2399102 | N31: 99
B32: （株）旅工房 | C32: 2607700 | D32: 2635477 | E32: 98.9 | F32: 19239 | G32: 21428 | H32: 89.8 | I32: 57261 | J32: 83457 | K32: 68.6 | L32: 2684200 | M32: 2740362 | N32: 98
B33: （株）トヨタツーリストインターナショナル | C33: 1151257 | D33: 1522580 | E33: 75.6 | F33: 3258 | G33: 142 | H33: 2294.4 | I33: 138558 | J33: 160461 | K33: 86.3 | L33: 1293073 | M33: 1683183 | N33: 76.8
B34: 京王観光（株） | C34: 517710 | D34: 658920 | E34: 78.6 | F34: 11899 | G34: 16560 | H34: 71.9 | I34: 2111163 | J34: 2111575 | K34: 100 | L34: 2640772 | M34: 2787055 | N34: 94.8
B35: 東日観光（株） | C35: 390385 | D35: 472410 | E35: 82.6 | F35: 171521 | G35: 195369 | H35: 87.8 | I35: 1083556 | J35: 934419 | K35: 116 | L35: 1645462 | M35: 1602198 | N35: 102.7
B36: 九州旅客鉄道（株） | C36: 86773 | D36: 99642 | E36: 87.1 | F36: 0 | G36: 0 | H36: － | I36: 1795614 | J36: 2173203 | K36: 82.6 | L36: 1882387 | M36: 2272845 | N36: 82.8
B37: メルコトラベル（株） | C37: 579516 | D37: 651567 | E37: 88.9 | F37: 1806 | G37: 2416 | H37: 74.8 | I37: 805532 | J37: 745156 | K37: 108.1 | L37: 1386854 | M37: 1399139 | N37: 99.1
B38: （株）フジ・トラベル・サービス | C38: 204864 | D38: 319696 | E38: 64.1 | F38: 3938 | G38: 7658 | H38: 51.4 | I38: 1002064 | J38: 1338407 | K38: 74.9 | L38: 1210866 | M38: 1665761 | N38: 72.7
B39: （株）南海国際旅行 | C39: 344872 | D39: 363575 | E39: 94.9 | F39: 11887 | G39: 37033 | H39: 32.1 | I39: 882384 | J39: 1027566 | K39: 85.9 | L39: 1239143 | M39: 1428174 | N39: 86.8
B40: WILLER TRAVEL（株） | C40: 0 | D40: － | E40: － | F40: 59483 | G40: － | H40: － | I40: 1384589 | J40: － | K40: － | L40: 1444072 | M40: － | N40: －
B41: （株）日産クリエイティブサービス | C41: 758253 | D41: 867240 | E41: 87.4 | F41: 0 | G41: 0 | H41: － | I41: 203627 | J41: 175510 | K41: 116 | L41: 961880 | M41: 1042750 | N41: 92.2
B42: 北海道旅客鉄道（株） | C42: 118635 | D42: 111237 | E42: 106.7 | F42: 0 | G42: 0 | H42: － | I42: 1074755 | J42: 1454108 | K42: 73.9 | L42: 1193390 | M42: 1565345 | N42: 76.2
B43: （株）小田急トラベル | C43: 279348 | D43: 297879 | E43: 93.8 | F43: 12857 | G43: 26475 | H43: 48.6 | I43: 1013478 | J43: 998043 | K43: 101.5 | L43: 1305683 | M43: 1322397 | N43: 98.7
B44: イオンコンパス（株） | C44: 444251 | D44: 489059 | E44: 90.8 | F44: 14465 | G44: 4578 | H44: 316 | I44: 860231 | J44: 1006300 | K44: 85.5 | L44: 1318947 | M44: 1499937 | N44: 87.9
B45: 京成トラベルサービス（株） | C45: 102097 | D45: 88313 | E45: 115.6 | F45: 844 | G45: 282 | H45: 299.3 | I45: 1069641 | J45: 982757 | K45: 108.8 | L45: 1172582 | M45: 1071352 | N45: 109.4
B46: ケイライントラベル（株） | C46: 642349 | D46: 711654 | E46: 90.3 | F46: 0 | G46: 0 | H46: － | I46: 35254 | J46: 33836 | K46: 104.2 | L46: 677603 | M46: 745490 | N46: 90.9
B47: 名鉄観光バス（株） | C47: 19449 | D47: 13507 | E47: 144 | F47: 495 | G47: 0 | H47: － | I47: 476986 | J47: 525651 | K47: 90.7 | L47: 496930 | M47: 539158 | N47: 92.2
B48: （株）ヤマハトラベルサービス | C48: 344365 | D48: 351244 | E48: 98 | F48: 14945 | G48: 6642 | H48: 225 | I48: 184375 | J48: 208166 | K48: 88.6 | L48: 543685 | M48: 566052 | N48: 96
B49: （株）PTS | C49: 764947 | D49: 952686 | E49: 80.3 | F49: 46212 | G49: 23115 | H49: 199.9 | I49: 1003703 | J49: 1185123 | K49: 84.7 | L49: 1814862 | M49: 2160924 | N49: 84
B50: 西武トラベル（株） | C50: 153948 | D50: 155962 | E50: 98.7 | F50: 6659 | G50: 161153 | H50: 4.1 | I50: 254597 | J50: 196491 | K50: 129.6 | L50: 415204 | M50: 513606 | N50: 80.8
B51: （株）JAL JTAセールス | C51: 0 | D51: 0 | E51: － | F51: 0 | G51: 0 | H51: － | I51: 370186 | J51: 436229 | K51: 84.9 | L51: 370186 | M51: 436229 | N51: 84.9
B52: 菱和ダイヤモンド航空サービス（株） | C52: 400208 | D52: 370184 | E52: 108.1 | F52: 0 | G52: 0 | H52: － | I52: 7580 | J52: 11226 | K52: 67.5 | L52: 407788 | M52: 381410 | N52: 106.9
B53: （株）トラベル日本 | C53: 171374 | D53: 211152 | E53: 81.2 | F53: 57 | G53: 24 | H53: 237.5 | I53: 209792 | J53: 213224 | K53: 98.4 | L53: 381223 | M53: 424400 | N53: 89.8
B54: 合 計（＊） | C54: =SUM(C5:C53) -> 191565428 | D54: =SUM(D5:D53) -> 209554643 | E54: =C54/D54 -> 0.91415502 | F54: =SUM(F5:F53) -> 15254514 | G54: =SUM(G5:G53) -> 12916448 | H54: =F54/G54 -> 1.1810146 | I54: =SUM(I5:I53) -> 291307836 | J54: =SUM(J5:J53) -> 312266277 | K54: =I54/J54 -> 0.93288279 | L54: =SUM(L5:L53) -> 498127778 | M54: =SUM(M5:M53) -> 534737368 | N54: =L54/M54 -> 0.93153725
C56: ※JTBグループは、15社内取引を相殺し合計した数値
C57: JTBグループ15社 ： ジェイティービー、JTB北海道、JTB東北、JTB関東、JTB首都圏、JTB中部、JTB西日本、JTB中国四国、JTB九州、JTB東海、JTB関
C58: 西、JTBコーポレートセールス、i.JTB、JTBグローバル・マーケティング＆トラベル、JTB国内旅行企画
C60: ※KNT-CTホールディングスは、8社内取引を相殺し、合計した数値
C61: KNT-CTホールディングス8社 ： 近畿日本ツーリスト、近畿日本ツーリスト北海道、近畿日本ツーリスト東北、近畿日本ツーリスト中国四国、近畿日本ツーリ
C62: スト九州、ユナイテッドツアーズ、クラブツーリズム、近畿日本ツーリスト個人旅行
C64: ※エイチ・アイ・エスは、5社内取引を相殺し、合計した数値
C65: エイチ・アイ・エス5社 ： エイチ・アイ・エス、オリオンツアー、クオリタ、クルーズプラネット、ジャパンホリデートラベル
C67: ※阪急交通社は、3社内取引を相殺し、合計したもの
C68: 阪急交通社3社 ： 阪急交通社、阪急阪神ビジネストラベル、阪神トラベル・インターナショナル
C70: ※WILLER TRAVELは平成27年度のデータがないため、合計数値は同社分を除いて集計
C72: ※■は新たに追加した会社

Sheet 10月
B1: 主要旅行業者の旅行取扱状況速報
F2: 42644
B3: 会 社 名 | C3: 海 外 旅 行 | F3: 外 国 人 旅 行 | I3: 国 内 旅 行 | L3: 合 計
C4: 取扱額（千円） | D4: 前年（千円） | E4: 前年比（％） | F4: 取扱額（千円） | G4: 前年（千円） | H4: 前年比（％） | I4: 取扱額（千円） | J4: 前年（千円） | K4: 前年比（％） | L4: 取扱額（千円） | M4: 前年（千円） | N4: 前年比（％）
B5: ジェイティービー（15社計＊） | C5: 36341511 | D5: 43408580 | E5: 83.7 | F5: 8948737 | G5: 8010017 | H5: 111.7 | I5: 91069047 | J5: 98470310 | K5: 92.5 | L5: 136359295 | M5: 149888907 | N5: 91
B6: KNT-CTホールディングス（8社計＊） | C6: 13240896 | D6: 14985098 | E6: 88.4 | F6: 2089203 | G6: 1375274 | H6: 151.9 | I6: 33069000 | J6: 37162991 | K6: 89 | L6: 48399099 | M6: 53523363 | N6: 90.4
B7: エイチ・アイ・エス（5社計＊） | C7: 28641537 | D7: 28557784 | E7: 100.3 | F7: 2175734 | G7: 1790720 | H7: 121.5 | I7: 4777071 | J7: 4415157 | K7: 108.2 | L7: 35594342 | M7: 34763661 | N7: 102.4
B8: （株）日本旅行 | C8: 10658895 | D8: 12087958 | E8: 88.2 | F8: 3635798 | G8: 3297291 | H8: 110.3 | I8: 27539555 | J8: 26932486 | K8: 102.3 | L8: 41834248 | M8: 42317735 | N8: 98.9
B9: 阪急交通社（3社計＊） | C9: 15809248 | D9: 20048193 | E9: 78.9 | F9: 457982 | G9: 320097 | H9: 143.1 | I9: 12996956 | J9: 13874697 | K9: 93.7 | L9: 29264186 | M9: 34242987 | N9: 85.5
B10: 楽天(株) | C10: 2404184 | D10: 1196831 | E10: 200.9 | F10: 837068 | G10: 688647 | H10: 121.6 | I10: 43738710 | J10: 40008771 | K10: 109.3 | L10: 46979962 | M10: 41894249 | N10: 112.1
B11: （株）JTBワールドバケーションズ | C11: 17395778 | D11: 20602414 | E11: 84.4 | F11: 0 | G11: 0 | H11: － | I11: 0 | J11: 0 | K11: － | L11: 17395778 | M11: 20602414 | N11: 84.4
B12: ANAセールス（株） | C12: 1777000 | D12: 2154000 | E12: 82.5 | F12: 128000 | G12: 212000 | H12: 60.4 | I12: 15910000 | J12: 16719000 | K12: 95.2 | L12: 17815000 | M12: 19085000 | N12: 93.3
B13: （株）ジャルパック | C13: 4237085 | D13: 5408622 | E13: 78.3 | F13: 6682 | G13: 117 | H13: 5711.1 | I13: 10683488 | J13: 10541920 | K13: 101.3 | L13: 14927255 | M13: 15950659 | N13: 93.6
B14: 東武トップツアーズ（株） | C14: 2667988 | D14: 3529330 | E14: 75.6 | F14: 917282 | G14: 800604 | H14: 114.6 | I14: 12412342 | J14: 13582228 | K14: 91.4 | L14: 15997612 | M14: 17912162 | N14: 89.3
B15: （株）ジェイアール東海ツアーズ | C15: 117897 | D15: 132002 | E15: 89.3 | F15: 39645 | G15: 42815 | H15: 92.6 | I15: 8957269 | J15: 9935944 | K15: 90.2 | L15: 9114811 | M15: 10110761 | N15: 90.1
B16: （株）JTBビジネストラベルソリューションズ | C16: 5353976 | D16: 6030668 | E16: 88.8 | F16: 11185 | G16: 11024 | H16: 101.5 | I16: 4133415 | J16: 4284719 | K16: 96.5 | L16: 9498576 | M16: 10326411 | N16: 92
B17: （株）農協観光 | C17: 898469 | D17: 1195386 | E17: 75.2 | F17: 125124 | G17: 126831 | H17: 98.7 | I17: 6404791 | J17: 6902952 | K17: 92.8 | L17: 7428384 | M17: 8225169 | N17: 90.3
B18: 名鉄観光サービス（株） | C18: 1342036 | D18: 1510634 | E18: 88.8 | F18: 211172 | G18: 116953 | H18: 180.6 | I18: 8744309 | J18: 8909270 | K18: 98.1 | L18: 10297517 | M18: 10536857 | N18: 97.7
B19: （株）読売旅行 | C19: 902388 | D19: 811527 | E19: 111.2 | F19: 10352 | G19: 845 | H19: 1225.1 | I19: 3787890 | J19: 4378585 | K19: 86.5 | L19: 4700630 | M19: 5190957 | N19: 90.6
B20: 日通旅行（株） | C20: 2803747 | D20: 3250350 | E20: 86.3 | F20: 137014 | G20: 131216 | H20: 104.4 | I20: 886959 | J20: 728858 | K20: 121.7 | L20: 3827720 | M20: 4110424 | N20: 93.1
B21: （株）DeNAトラベル | C21: 3287949 | D21: 3181572 | E21: 103.3 | F21: 47373 | G21: 9335 | H21: 507.5 | I21: 435841 | J21: 127400 | K21: 342.1 | L21: 3771163 | M21: 3318307 | N21: 113.6
B22: 西鉄旅行（株） | C22: 1313919 | D22: 1453910 | E22: 90.4 | F22: 67197 | G22: 37172 | H22: 180.8 | I22: 2317157 | J22: 2353150 | K22: 98.5 | L22: 3698273 | M22: 3844232 | N22: 96.2
B23: ビッグホリデー（株） | C23: 425713 | D23: 457201 | E23: 93.1 | F23: 0 | G23: 0 | H23: － | I23: 4558312 | J23: 4843858 | K23: 94.1 | L23: 4984025 | M23: 5301059 | N23: 94
B24: 日新航空サービス（株） | C24: 3945168 | D24: 3822240 | E24: 103.2 | F24: 0 | G24: 0 | H24: － | I24: 477123 | J24: 473908 | K24: 100.7 | L24: 4422291 | M24: 4296148 | N24: 102.9
B25: エムオーツーリスト（株） | C25: 3298026 | D25: 3805023 | E25: 86.7 | F25: 5497 | G25: 8846 | H25: 62.1 | I25: 302483 | J25: 321167 | K25: 94.2 | L25: 3606006 | M25: 4135036 | N25: 87.2
B26: （株）日立トラベルビューロー | C26: 1877062 | D26: 1604474 | E26: 117 | F26: 3065 | G26: 14533 | H26: 21.1 | I26: 1082839 | J26: 900945 | K26: 120.2 | L26: 2962966 | M26: 2519952 | N26: 117.6
B27: （株）タビックスジャパン | C27: 440277 | D27: 456119 | E27: 96.5 | F27: 3647 | G27: 15679 | H27: 23.3 | I27: 2547952 | J27: 2949520 | K27: 86.4 | L27: 2991876 | M27: 3421318 | N27: 87.4
B28: 郵船トラベル（株） | C28: 2317536 | D28: 2720743 | E28: 85.2 | F28: 0 | G28: 0 | H28: － | I28: 162307 | J28: 316024 | K28: 51.4 | L28: 2479843 | M28: 3036767 | N28: 81.7
B29: （株）エヌオーイー | C29: 2466846 | D29: 2357747 | E29: 104.6 | F29: 24015 | G29: 7552 | H29: 318 | I29: 131784 | J29: 123608 | K29: 106.6 | L29: 2622645 | M29: 2488907 | N29: 105.4
B30: 沖縄ツーリスト（株） | C30: 123588 | D30: 229965 | E30: 53.7 | F30: 81091 | G30: 95841 | H30: 84.6 | I30: 2467457 | J30: 2851894 | K30: 86.5 | L30: 2672136 | M30: 3177700 | N30: 84.1
B31: （株）IACEトラベル | C31: 1680960 | D31: 1756880 | E31: 95.7 | F31: 0 | G31: 0 | H31: － | I31: 376269 | J31: 310506 | K31: 121.2 | L31: 2057229 | M31: 2067386 | N31: 99.5
B32: （株）旅工房 | C32: 1702966 | D32: 1608798 | E32: 105.9 | F32: 92450 | G32: 79308 | H32: 116.6 | I32: 73141 | J32: 79600 | K32: 91.9 | L32: 1868557 | M32: 1767706 | N32: 105.7
B33: （株）トヨタツーリストインターナショナル | C33: 1252750 | D33: 1625882 | E33: 77.1 | F33: 18299 | G33: 21817 | H33: 83.9 | I33: 284529 | J33: 294247 | K33: 96.7 | L33: 1555578 | M33: 1941946 | N33: 80.1
B34: 京王観光（株） | C34: 238792 | D34: 300631 | E34: 79.4 | F34: 52235 | G34: 43810 | H34: 119.2 | I34: 1567375 | J34: 1573240 | K34: 99.6 | L34: 1858402 | M34: 1917681 | N34: 96.9
B35: 東日観光（株） | C35: 394188 | D35: 461132 | E35: 85.5 | F35: 223281 | G35: 207102 | H35: 107.8 | I35: 1294401 | J35: 1380770 | K35: 93.7 | L35: 1911870 | M35: 2049004 | N35: 93.3
B36: 九州旅客鉄道（株） | C36: 88101 | D36: 99216 | E36: 88.8 | F36: 0 | G36: 0 | H36: － | I36: 1992841 | J36: 2240887 | K36: 88.9 | L36: 2080942 | M36: 2340103 | N36: 88.9
B37: メルコトラベル（株） | C37: 581991 | D37: 726100 | E37: 80.2 | F37: 2866 | G37: 2719 | H37: 105.4 | I37: 820772 | J37: 826476 | K37: 99.3 | L37: 1405629 | M37: 1555295 | N37: 90.4
B38: （株）フジ・トラベル・サービス | C38: 292079 | D38: 312331 | E38: 93.5 | F38: 23369 | G38: 10288 | H38: 227.1 | I38: 1188633 | J38: 1277719 | K38: 93 | L38: 1504081 | M38: 1600338 | N38: 94
B39: （株）南海国際旅行 | C39: 349056 | D39: 358651 | E39: 97.3 | F39: 32273 | G39: 16631 | H39: 194.1 | I39: 970938 | J39: 1063667 | K39: 91.3 | L39: 1352267 | M39: 1438949 | N39: 94
B40: WILLER TRAVEL（株） | C40: 0 | D40: - | E40: － | F40: 55216 | G40: - | H40: － | I40: 1148214 | J40: - | K40: － | L40: 1203430 | M40: - | N40: －
B41: （株）日産クリエイティブサービス | C41: 794785 | D41: 891780 | E41: 89.1 | F41: 0 | G41: 0 | H41: － | I41: 193778 | J41: 209113 | K41: 92.7 | L41: 988563 | M41: 1100893 | N41: 89.8
B42: 北海道旅客鉄道（株） | C42: 123326 | D42: 150599 | E42: 81.9 | F42: 0 | G42: 0 | H42: － | I42: 1109576 | J42: 1497499 | K42: 74.1 | L42: 1232902 | M42: 1648098 | N42: 74.8
B43: （株）小田急トラベル | C43: 224414 | D43: 269392 | E43: 83.3 | F43: 9428 | G43: 11688 | H43: 80.7 | I43: 1151112 | J43: 1114221 | K43: 103.3 | L43: 1384954 | M43: 1395301 | N43: 99.3
B44: イオンコンパス（株） | C44: 471793 | D44: 384328 | E44: 122.8 | F44: 5821 | G44: 9599 | H44: 60.6 | I44: 907247 | J44: 934439 | K44: 97.1 | L44: 1384861 | M44: 1328366 | N44: 104.3
B45: 京成トラベルサービス（株） | C45: 123806 | D45: 89682 | E45: 138 | F45: 4420 | G45: 253 | H45: 1747 | I45: 1088112 | J45: 1056206 | K45: 103 | L45: 1216338 | M45: 1146141 | N45: 106.1
B46: ケイライントラベル（株） | C46: 565307 | D46: 597489 | E46: 94.6 | F46: 0 | G46: 0 | H46: － | I46: 28765 | J46: 39309 | K46: 73.2 | L46: 594072 | M46: 636798 | N46: 93.3
B47: 名鉄観光バス（株） | C47: 2612 | D47: 26584 | E47: 9.8 | F47: 484 | G47: 0 | H47: － | I47: 564495 | J47: 601182 | K47: 93.9 | L47: 567591 | M47: 627766 | N47: 90.4
B48: （株）ヤマハトラベルサービス | C48: 306058 | D48: 368267 | E48: 83.1 | F48: 18818 | G48: 24456 | H48: 76.9 | I48: 213062 | J48: 248673 | K48: 85.7 | L48: 537938 | M48: 641396 | N48: 83.9
B49: （株）PTS | C49: 790539 | D49: 841550 | E49: 93.9 | F49: 866 | G49: 18519 | H49: 4.7 | I49: 890855 | J49: 951655 | K49: 93.6 | L49: 1682260 | M49: 1811724 | N49: 92.9
B50: 西武トラベル（株） | C50: 154653 | D50: 241083 | E50: 64.1 | F50: 74508 | G50: 17631 | H50: 422.6 | I50: 281209 | J50: 312315 | K50: 90 | L50: 510370 | M50: 571029 | N50: 89.4
B51: （株）JAL JTAセールス | C51: 0 | D51: 0 | E51: － | F51: 0 | G51: 0 | H51: － | I51: 447768 | J51: 488659 | K51: 91.6 | L51: 447768 | M51: 488659 | N51: 91.6
B52: 菱和ダイヤモンド航空サービス（株） | C52: 471231 | D52: 444680 | E52: 106 | F52: 0 | G52: 0 | H52: － | I52: 12972 | J52: 14315 | K52: 90.6 | L52: 484203 | M52: 458995 | N52: 105.5
B53: （株）トラベル日本 | C53: 191369 | D53: 218346 | E53: 87.6 | F53: 50 | G53: 28 | H53: 178.6 | I53: 314512 | J53: 272836 | K53: 115.3 | L53: 505931 | M53: 491210 | N53: 103
B54: 合 計（＊） | C54: 174889495 | D54: 196771772 | E54: 88.9 | F54: 20522031 | G54: 17577258 | H54: 116.8 | I54: 315366419 | J54: 328896896 | K54: 95.9 | L54: 510777945 | M54: 543245926 | N54: 94
C56: ※JTBグループは、15社内取引を相殺し合計した数値
C57: JTBグループ15社 ： ジェイティービー、JTB北海道、JTB東北、JTB関東、JTB首都圏、JTB中部、JTB西日本、JTB中国四国、JTB九州、JTB東海、JTB関
C58: 西、JTBコーポレートセールス、i.JTB、JTBグローバル・マーケティング＆トラベル、JTB国内旅行企画
C60: ※KNT-CTホールディングスは、8社内取引を相殺し、合計した数値
C61: KNT-CTホールディングス8社 ： 近畿日本ツーリスト、近畿日本ツーリスト北海道、近畿日本ツーリスト東北、近畿日本ツーリスト中国四国、近畿日本ツーリ
C62: スト九州、ユナイテッドツアーズ、クラブツーリズム、近畿日本ツーリスト個人旅行
C64: ※エイチ・アイ・エスは、5社内取引を相殺し、合計した数値
C65: エイチ・アイ・エス5社 ： エイチ・アイ・エス、オリオンツアー、クオリタ、クルーズプラネット、ジャパンホリデートラベル
C67: ※阪急交通社は、3社内取引を相殺し、合計したもの
C68: 阪急交通社3社 ： 阪急交通社、阪急阪神ビジネストラベル、阪神トラベル・インターナショナル
C70: ※WILLER TRAVELは平成27年度のデータがないため、合計数値は同社分を除いて集計
C72: ※■は新たに追加した会社

Sheet 11月
B1: 主要旅行業者の旅行取扱状況速報
F2: 42675
B3: 会 社 名 | C3: 海 外 旅 行 | F3: 外 国 人 旅 行 | I3: 国 内 旅 行 | L3: 合 計
C4: 取扱額（千円） | D4: 前年（千円） | E4: 前年比（％） | F4: 取扱額（千円） | G4: 前年（千円） | H4: 前年比（％） | I4: 取扱額（千円） | J4: 前年（千円） | K4: 前年比（％） | L4: 取扱額（千円） | M4: 前年（千円） | N4: 前年比（％）
B5: ジェイティービー（15社計＊） | C5: 34273651 | D5: 34857755 | E5: 98.3 | F5: 6661905 | G5: 7542700 | H5: 88.3 | I5: 84330624 | J5: 93368340 | K5: 90.3 | L5: 125266180 | M5: 135768795 | N5: 92.3
B6: KNT-CTホールディングス（8社計＊） | C6: 10947492 | D6: 11940713 | E6: 91.7 | F6: 1645274 | G6: 1412309 | H6: 116.5 | I6: 32478626 | J6: 34398144 | K6: 94.4 | L6: 45071392 | M6: 47751166 | N6: 94.4
B7: エイチ・アイ・エス（5社計＊） | C7: 27577854 | D7: 25682258 | E7: 107.4 | F7: 1931996 | G7: 1659603 | H7: 116.4 | I7: 3303501 | J7: 3388184 | K7: 97.5 | L7: 32813351 | M7: 30730045 | N7: 106.8
B8: （株）日本旅行 | C8: 10998432 | D8: 10292221 | E8: 106.9 | F8: 3370900 | G8: 3475915 | H8: 97 | I8: 25688194 | J8: 26318325 | K8: 97.6 | L8: 40057526 | M8: 40086461 | N8: 99.9
B9: 阪急交通社（3社計＊） | C9: 15314897 | D9: 15614578 | E9: 98.1 | F9: 353226 | G9: 275515 | H9: 128.2 | I9: 13973212 | J9: 13651897 | K9: 102.4 | L9: 29641335 | M9: 29541990 | N9: 100.3
B10: 楽天(株) | C10: 2670688 | D10: 1178005 | E10: 226.7 | F10: 736340 | G10: 673898 | H10: 109.3 | I10: 41115953 | J10: 37749819 | K10: 108.9 | L10: 44522981 | M10: 39601722 | N10: 112.4
B11: （株）JTBワールドバケーションズ | C11: 15901027 | D11: 15738142 | E11: 101 | F11: 0 | G11: 0 | H11: － | I11: 0 | J11: 0 | K11: － | L11: 15901027 | M11: 15738142 | N11: 101
B12: ANAセールス（株） | C12: 1440000 | D12: 1477000 | E12: 97.5 | F12: 83000 | G12: 170000 | H12: 48.8 | I12: 14360000 | J12: 14548000 | K12: 98.7 | L12: 15883000 | M12: 16195000 | N12: 98.1
B13: （株）ジャルパック | C13: 4052416 | D13: 3968747 | E13: 102.1 | F13: 2054 | G13: 1024 | H13: 200.6 | I13: 10416391 | J13: 9422368 | K13: 110.5 | L13: 14470861 | M13: 13392139 | N13: 108.1
B14: 東武トップツアーズ（株） | C14: 3374993 | D14: 3461927 | E14: 97.5 | F14: 936091 | G14: 850374 | H14: 110.1 | I14: 11531992 | J14: 11958188 | K14: 96.4 | L14: 15843076 | M14: 16270489 | N14: 97.4
B15: （株）ジェイアール東海ツアーズ | C15: 102190 | D15: 108507 | E15: 94.2 | F15: 20073 | G15: 23557 | H15: 85.2 | I15: 8737733 | J15: 8527964 | K15: 102.5 | L15: 8859996 | M15: 8660028 | N15: 102.3
B16: （株）JTBビジネストラベルソリューションズ | C16: 5342847 | D16: 5299494 | E16: 100.8 | F16: 15493 | G16: 13119 | H16: 118.1 | I16: 4165653 | J16: 4110958 | K16: 101.3 | L16: 9523993 | M16: 9423571 | N16: 101.1
B17: （株）農協観光 | C17: 1007662 | D17: 1009930 | E17: 99.8 | F17: 109076 | G17: 224626 | H17: 48.6 | I17: 8711703 | J17: 8685458 | K17: 100.3 | L17: 9828441 | M17: 9920014 | N17: 99.1
B18: 名鉄観光サービス（株） | C18: 1738106 | D18: 1319060 | E18: 131.8 | F18: 140979 | G18: 170463 | H18: 82.7 | I18: 7113054 | J18: 7194319 | K18: 98.9 | L18: 8992139 | M18: 8683842 | N18: 103.6
B19: （株）読売旅行 | C19: 721303 | D19: 745469 | E19: 96.8 | F19: 15384 | G19: 0 | H19: － | I19: 4669565 | J19: 5108103 | K19: 91.4 | L19: 5406252 | M19: 5853572 | N19: 92.4
B20: 日通旅行（株） | C20: 2661695 | D20: 3016684 | E20: 88.2 | F20: 178288 | G20: 138909 | H20: 128.3 | I20: 688408 | J20: 921275 | K20: 74.7 | L20: 3528391 | M20: 4076868 | N20: 86.5
B21: （株）DeNAトラベル | C21: 3291339 | D21: 2859895 | E21: 115.1 | F21: 34498 | G21: 8848 | H21: 389.9 | I21: 372091 | J21: 226899 | K21: 164 | L21: 3697928 | M21: 3095642 | N21: 119.5
B22: 西鉄旅行（株） | C22: 1109059 | D22: 1368241 | E22: 81.1 | F22: 56794 | G22: 58585 | H22: 96.9 | I22: 2141908 | J22: 2312721 | K22: 92.6 | L22: 3307761 | M22: 3739547 | N22: 88.5
B23: ビッグホリデー（株） | C23: 256694 | D23: 383653 | E23: 66.9 | F23: 0 | G23: 0 | H23: － | I23: 3313478 | J23: 3966428 | K23: 83.5 | L23: 3570172 | M23: 4350081 | N23: 82.1
B24: 日新航空サービス（株） | C24: 3988427 | D24: 3980398 | E24: 100.2 | F24: 0 | G24: 0 | H24: － | I24: 529406 | J24: 421301 | K24: 125.7 | L24: 4517833 | M24: 4401699 | N24: 102.6
B25: エムオーツーリスト（株） | C25: 3182945 | D25: 3157863 | E25: 100.8 | F25: 14088 | G25: 6548 | H25: 215.1 | I25: 271585 | J25: 281295 | K25: 96.5 | L25: 3468618 | M25: 3445706 | N25: 100.7
B26: （株）日立トラベルビューロー | C26: 1758954 | D26: 1678455 | E26: 104.8 | F26: 17365 | G26: 11594 | H26: 149.8 | I26: 1113286 | J26: 947085 | K26: 117.5 | L26: 2889605 | M26: 2637134 | N26: 109.6
B27: （株）タビックスジャパン | C27: 366898 | D27: 401260 | E27: 91.4 | F27: 31604 | G27: 20661 | H27: 153 | I27: 2557459 | J27: 3015855 | K27: 84.8 | L27: 2955961 | M27: 3437776 | N27: 86
B28: 郵船トラベル（株） | C28: 2448365 | D28: 2752411 | E28: 89 | F28: 0 | G28: 0 | H28: － | I28: 106910 | J28: 168591 | K28: 63.4 | L28: 2555275 | M28: 2921002 | N28: 87.5
B29: （株）エヌオーイー | C29: 2627634 | D29: 2552189 | E29: 103 | F29: 6467 | G29: 16744 | H29: 38.6 | I29: 128965 | J29: 126783 | K29: 101.7 | L29: 2763066 | M29: 2695716 | N29: 102.5
B30: 沖縄ツーリスト（株） | C30: 128839 | D30: 128053 | E30: 100.6 | F30: 76360 | G30: 89317 | H30: 85.5 | I30: 2078854 | J30: 2369446 | K30: 87.7 | L30: 2284053 | M30: 2586816 | N30: 88.3
B31: （株）IACEトラベル | C31: 1700166 | D31: 1805032 | E31: 94.2 | F31: 0 | G31: 0 | H31: － | I31: 346027 | J31: 289011 | K31: 119.7 | L31: 2046193 | M31: 2094043 | N31: 97.7
B32: （株）旅工房 | C32: 1630965 | D32: 1516019 | E32: 107.6 | F32: 41544 | G32: 134165 | H32: 31 | I32: 61199 | J32: 96057 | K32: 63.7 | L32: 1733708 | M32: 1746241 | N32: 99.3
B33: （株）トヨタツーリストインターナショナル | C33: 1161576 | D33: 1374063 | E33: 84.5 | F33: 10300 | G33: 30952 | H33: 33.3 | I33: 289949 | J33: 216960 | K33: 133.6 | L33: 1461825 | M33: 1621975 | N33: 90.1
B34: 京王観光（株） | C34: 281377 | D34: 283856 | E34: 99.1 | F34: 106128 | G34: 98337 | H34: 107.9 | I34: 1517167 | J34: 1537290 | K34: 98.7 | L34: 1904672 | M34: 1919483 | N34: 99.2
B35: 東日観光（株） | C35: 483048 | D35: 489461 | E35: 98.7 | F35: 272952 | G35: 271085 | H35: 100.7 | I35: 919958 | J35: 1028457 | K35: 89.5 | L35: 1675958 | M35: 1789003 | N35: 93.7
B36: 九州旅客鉄道（株） | C36: 179849 | D36: 90405 | E36: 198.9 | F36: 0 | G36: 0 | H36: － | I36: 2050658 | J36: 2334847 | K36: 87.8 | L36: 2230507 | M36: 2425252 | N36: 92
B37: メルコトラベル（株） | C37: 614880 | D37: 597317 | E37: 102.9 | F37: 0 | G37: 9783 | H37: － | I37: 876710 | J37: 875802 | K37: 100.1 | L37: 1491590 | M37: 1482902 | N37: 100.6
B38: （株）フジ・トラベル・サービス | C38: 133973 | D38: 183792 | E38: 72.9 | F38: 7293 | G38: 4558 | H38: 160 | I38: 1147819 | J38: 1302360 | K38: 88.1 | L38: 1289085 | M38: 1490710 | N38: 86.5
B39: （株）南海国際旅行 | C39: 369830 | D39: 363414 | E39: 101.8 | F39: 30892 | G39: 20449 | H39: 151.1 | I39: 999832 | J39: 1157832 | K39: 86.4 | L39: 1400554 | M39: 1541695 | N39: 90.8
B40: WILLER TRAVEL（株） | C40: 0 | D40: － | E40: － | F40: 63092 | G40: － | H40: － | I40: 1077810 | J40: － | K40: － | L40: 1140902 | M40: － | N40: －
B41: （株）日産クリエイティブサービス | C41: 750800 | D41: 829253 | E41: 90.5 | F41: 0 | G41: 0 | H41: － | I41: 212670 | J41: 193019 | K41: 110.2 | L41: 963470 | M41: 1022272 | N41: 94.2
B42: 北海道旅客鉄道（株） | C42: 53435 | D42: 94928 | E42: 56.3 | F42: 0 | G42: 0 | H42: － | I42: 776824 | J42: 1199510 | K42: 64.8 | L42: 830259 | M42: 1294438 | N42: 64.1
B43: （株）小田急トラベル | C43: 198708 | D43: 214220 | E43: 92.8 | F43: 15475 | G43: 14018 | H43: 110.4 | I43: 964912 | J43: 1006063 | K43: 95.9 | L43: 1179095 | M43: 1234301 | N43: 95.5
B44: イオンコンパス（株） | C44: 434813 | D44: 369453 | E44: 117.7 | F44: 3920 | G44: 3817 | H44: 102.7 | I44: 927852 | J44: 917880 | K44: 101.1 | L44: 1366585 | M44: 1291150 | N44: 105.8
B45: 京成トラベルサービス（株） | C45: 64800 | D45: 101708 | E45: 63.7 | F45: 73 | G45: 238 | H45: 30.7 | I45: 893666 | J45: 825510 | K45: 108.3 | L45: 958539 | M45: 927456 | N45: 103.4
B46: ケイライントラベル（株） | C46: 601008 | D46: 567084 | E46: 106 | F46: 0 | G46: 0 | H46: － | I46: 45006 | J46: 46589 | K46: 96.6 | L46: 646014 | M46: 613673 | N46: 105.3
B47: 名鉄観光バス（株） | C47: 7694 | D47: 1766 | E47: 435.7 | F47: 0 | G47: 0 | H47: － | I47: 668569 | J47: 782859 | K47: 85.4 | L47: 676263 | M47: 784625 | N47: 86.2
B48: （株）ヤマハトラベルサービス | C48: 387334 | D48: 338121 | E48: 114.6 | F48: 15299 | G48: 18506 | H48: 82.7 | I48: 248607 | J48: 214917 | K48: 115.7 | L48: 651240 | M48: 571544 | N48: 113.9
B49: （株）PTS | C49: 809190 | D49: 505993 | E49: 159.9 | F49: 16409 | G49: 17292 | H49: 94.9 | I49: 789376 | J49: 860526 | K49: 91.7 | L49: 1614975 | M49: 1383811 | N49: 116.7
B50: 西武トラベル（株） | C50: 130566 | D50: 141998 | E50: 91.9 | F50: 127543 | G50: 138946 | H50: 91.8 | I50: 315739 | J50: 271446 | K50: 116.3 | L50: 573848 | M50: 552390 | N50: 103.9
B51: （株）JAL JTAセールス | C51: 0 | D51: 0 | E51: － | F51: 0 | G51: 0 | H51: － | I51: 444987 | J51: 462315 | K51: 96.3 | L51: 444987 | M51: 462315 | N51: 96.3
B52: 菱和ダイヤモンド航空サービス（株） | C52: 425857 | D52: 411343 | E52: 103.5 | F52: 0 | G52: 0 | H52: － | I52: 15653 | J52: 10585 | K52: 147.9 | L52: 441510 | M52: 421928 | N52: 104.6
B53: （株）トラベル日本 | C53: 265269 | D53: 187452 | E53: 141.5 | F53: 58 | G53: 32 | H53: 181.3 | I53: 310858 | J53: 245878 | K53: 126.4 | L53: 576185 | M53: 433362 | N53: 133
B54: 合 計（＊） | C54: 167969545 | D54: 165439586 | E54: 101.5 | F54: 17085141 | G54: 17606487 | H54: 97 | I54: 298722589 | J54: 309063459 | K54: 96.7 | L54: 483777275 | M54: 492109532 | N54: 98.3
C56: ※JTBグループは、15社内取引を相殺し合計した数値
C57: JTBグループ15社 ： ジェイティービー、JTB北海道、JTB東北、JTB関東、JTB首都圏、JTB中部、JTB西日本、JTB中国四国、JTB九州、JTB東海、JTB関
C58: 西、JTBコーポレートセールス、i.JTB、JTBグローバル・マーケティング＆トラベル、JTB国内旅行企画
C60: ※KNT-CTホールディングスは、8社内取引を相殺し、合計した数値
C61: KNT-CTホールディングス8社 ： 近畿日本ツーリスト、近畿日本ツーリスト北海道、近畿日本ツーリスト東北、近畿日本ツーリスト中国四国、近畿日本ツーリ
C62: スト九州、ユナイテッドツアーズ、クラブツーリズム、近畿日本ツーリスト個人旅行
C64: ※エイチ・アイ・エスは、5社内取引を相殺し、合計した数値
C65: エイチ・アイ・エス5社 ： エイチ・アイ・エス、オリオンツアー、クオリタ、クルーズプラネット、ジャパンホリデートラベル
C67: ※阪急交通社は、3社内取引を相殺し、合計したもの
C68: 阪急交通社3社 ： 阪急交通社、阪急阪神ビジネストラベル、阪神トラベル・インターナショナル
C70: ※WILLER TRAVELは平成27年度のデータがないため、合計数値は同社分を除いて集計
C72: ※■は新たに追加した会社

Sheet 12月
B1: 主要旅行業者の旅行取扱状況速報
F2: 42705
B3: 会 社 名 | C3: 海 外 旅 行 | F3: 外 国 人 旅 行 | I3: 国 内 旅 行 | L3: 合 計
C4: 取扱額（千円） | D4: 前年（千円） | E4: 前年比（％） | F4: 取扱額（千円） | G4: 前年（千円） | H4: 前年比（％） | I4: 取扱額（千円） | J4: 前年（千円） | K4: 前年比（％） | L4: 取扱額（千円） | M4: 前年（千円） | N4: 前年比（％）
B5: ジェイティービー（15社計＊） | C5: 34405461 | D5: 37912481 | E5: 90.7 | F5: 5708275 | G5: 5935715 | H5: 96.2 | I5: 82096169 | J5: 85222123 | K5: 96.3 | L5: 122209905 | M5: 129070319 | N5: 94.7
B6: KNT-CTホールディングス（8社計＊） | C6: 9673217 | D6: 9865850 | E6: 98 | F6: 1787067 | G6: 1453096 | H6: 123 | I6: 23775219 | J6: 28015454 | K6: 84.9 | L6: 35235503 | M6: 39334400 | N6: 89.6
B7: エイチ・アイ・エス（5社計＊） | C7: 30991723 | D7: 30135127 | E7: 102.8 | F7: 2232117 | G7: 1959399 | H7: 113.9 | I7: 3803081 | J7: 3938391 | K7: 96.6 | L7: 37026921 | M7: 36032917 | N7: 102.8
B8: （株）日本旅行 | C8: 8011344 | D8: 7969787 | E8: 100.5 | F8: 2594948 | G8: 2294951 | H8: 113.1 | I8: 20428368 | J8: 19797340 | K8: 103.2 | L8: 31034660 | M8: 30062078 | N8: 103.2
B9: 阪急交通社（3社計＊） | C9: 13531312 | D9: 13082795 | E9: 103.4 | F9: 71337 | G9: 43120 | H9: 165.4 | I9: 8019167 | J9: 8379597 | K9: 95.7 | L9: 21621816 | M9: 21505512 | N9: 100.5
B10: 楽天(株) | C10: 3379692 | D10: 1567440 | E10: 215.6 | F10: 822515 | G10: 730620 | H10: 112.6 | I10: 43827191 | J10: 39247630 | K10: 111.7 | L10: 48029398 | M10: 41545690 | N10: 115.6
B11: （株）JTBワールドバケーションズ | C11: 18463655 | D11: 20483430 | E11: 90.1 | F11: 0 | G11: 0 | H11: － | I11: 0 | J11: 0 | K11: － | L11: 18463655 | M11: 20483430 | N11: 90.1
B12: ANAセールス（株） | C12: 1857000 | D12: 1876000 | E12: 99 | F12: 119000 | G12: 136000 | H12: 87.5 | I12: 12885000 | J12: 13237000 | K12: 97.3 | L12: 14861000 | M12: 15249000 | N12: 97.5
B13: （株）ジャルパック | C13: 4255373 | D13: 4851770 | E13: 87.7 | F13: 5 | G13: 0 | H13: － | I13: 9464083 | J13: 8886428 | K13: 106.5 | L13: 13719461 | M13: 13738198 | N13: 99.9
B14: 東武トップツアーズ（株） | C14: 2330909 | D14: 2610490 | E14: 89.3 | F14: 683920 | G14: 557679 | H14: 122.6 | I14: 8542533 | J14: 9201707 | K14: 92.8 | L14: 11557362 | M14: 12369876 | N14: 93.4
B15: （株）ジェイアール東海ツアーズ | C15: 118618 | D15: 128760 | E15: 92.1 | F15: 11470 | G15: 17630 | H15: 65.1 | I15: 7386352 | J15: 7255776 | K15: 101.8 | L15: 7516440 | M15: 7402166 | N15: 101.5
B16: （株）JTBビジネストラベルソリューションズ | C16: 3949841 | D16: 3538702 | E16: 111.6 | F16: 2402 | G16: 3987 | H16: 60.2 | I16: 3719714 | J16: 3827557 | K16: 97.2 | L16: 7671957 | M16: 7370246 | N16: 104.1
B17: （株）農協観光 | C17: 535509 | D17: 501875 | E17: 106.7 | F17: 90278 | G17: 163506 | H17: 55.2 | I17: 4654497 | J17: 4857642 | K17: 95.8 | L17: 5280284 | M17: 5523023 | N17: 95.6
B18: 名鉄観光サービス（株） | C18: 893291 | D18: 1207331 | E18: 74 | F18: 98269 | G18: 121508 | H18: 80.9 | I18: 7203847 | J18: 6084605 | K18: 118.4 | L18: 8195407 | M18: 7413444 | N18: 110.5
B19: （株）読売旅行 | C19: 510121 | D19: 454428 | E19: 112.3 | F19: 20253 | G19: 4997 | H19: 405.3 | I19: 2772943 | J19: 3114761 | K19: 89 | L19: 3303317 | M19: 3574186 | N19: 92.4
B20: 日通旅行（株） | C20: 2215219 | D20: 2383446 | E20: 92.9 | F20: 33155 | G20: 42203 | H20: 78.6 | I20: 568186 | J20: 446983 | K20: 127.1 | L20: 2816560 | M20: 2872632 | N20: 98
B21: （株）DeNAトラベル | C21: 5385682 | D21: 5048274 | E21: 106.7 | F21: 73521 | G21: 23069 | H21: 318.7 | I21: 463726 | J21: 301252 | K21: 153.9 | L21: 5922929 | M21: 5372595 | N21: 110.2
B22: 西鉄旅行（株） | C22: 1063197 | D22: 1197022 | E22: 88.8 | F22: 35057 | G22: 34522 | H22: 101.5 | I22: 1660394 | J22: 1619894 | K22: 102.5 | L22: 2758648 | M22: 2851438 | N22: 96.7
B23: ビッグホリデー（株） | C23: 342149 | D23: 468056 | E23: 73.1 | F23: 0 | G23: 0 | H23: － | I23: 4034060 | J23: 4573772 | K23: 88.2 | L23: 4376209 | M23: 5041828 | N23: 86.8
B24: 日新航空サービス（株） | C24: 2951370 | D24: 2962207 | E24: 99.6 | F24: 0 | G24: 0 | H24: － | I24: 419389 | J24: 379624 | K24: 110.5 | L24: 3370759 | M24: 3341831 | N24: 100.9
B25: エムオーツーリスト（株） | C25: 2399359 | D25: 2357302 | E25: 101.8 | F25: 7155 | G25: 4077 | H25: 175.5 | I25: 234415 | J25: 251190 | K25: 93.3 | L25: 2640929 | M25: 2612569 | N25: 101.1
B26: （株）日立トラベルビューロー | C26: 1412294 | D26: 1221720 | E26: 115.6 | F26: 14889 | G26: 1651 | H26: 901.8 | I26: 1045446 | J26: 866002 | K26: 120.7 | L26: 2472629 | M26: 2089373 | N26: 118.3
B27: （株）タビックスジャパン | C27: 422099 | D27: 597041 | E27: 70.7 | F27: 27961 | G27: 7136 | H27: 391.8 | I27: 1570584 | J27: 1820339 | K27: 86.3 | L27: 2020644 | M27: 2424516 | N27: 83.3
B28: 郵船トラベル（株） | C28: 1768302 | D28: 2474438 | E28: 71.5 | F28: 0 | G28: 0 | H28: － | I28: 190015 | J28: 123128 | K28: 154.3 | L28: 1958317 | M28: 2597566 | N28: 75.4
B29: （株）エヌオーイー | C29: 1792190 | D29: 1755330 | E29: 102.1 | F29: 11962 | G29: 17483 | H29: 68.4 | I29: 119346 | J29: 95513 | K29: 125 | L29: 1923498 | M29: 1868326 | N29: 103
B30: 沖縄ツーリスト（株） | C30: 128369 | D30: 93121 | E30: 137.9 | F30: 76635 | G30: 110405 | H30: 69.4 | I30: 2159607 | J30: 2552729 | K30: 84.6 | L30: 2364611 | M30: 2756255 | N30: 85.8
B31: （株）IACEトラベル | C31: 1561487 | D31: 1699787 | E31: 91.9 | F31: 0 | G31: 0 | H31: － | I31: 338696 | J31: 284338 | K31: 119.1 | L31: 1900183 | M31: 1984125 | N31: 95.8
B32: （株）旅工房 | C32: 1799806 | D32: 1780443 | E32: 101.1 | F32: 24352 | G32: 41045 | H32: 59.3 | I32: 43279 | J32: 38207 | K32: 113.3 | L32: 1867437 | M32: 1859695 | N32: 100.4
B33: （株）トヨタツーリストインターナショナル | C33: 911405 | D33: 945691 | E33: 96.4 | F33: 18625 | G33: 13765 | H33: 135.3 | I33: 166888 | J33: 306859 | K33: 54.4 | L33: 1096918 | M33: 1266315 | N33: 86.6
B34: 京王観光（株） | C34: 340248 | D34: 389710 | E34: 87.3 | F34: 56391 | G34: 76725 | H34: 73.5 | I34: 1235677 | J34: 1293520 | K34: 95.5 | L34: 1632316 | M34: 1759955 | N34: 92.7
B35: 東日観光（株） | C35: 270178 | D35: 370418 | E35: 72.9 | F35: 261995 | G35: 221374 | H35: 118.3 | I35: 354746 | J35: 357732 | K35: 99.2 | L35: 886919 | M35: 949524 | N35: 93.4
B36: 九州旅客鉄道（株） | C36: 76239 | D36: 119131 | E36: 64 | F36: 0 | G36: 0 | H36: － | I36: 1548003 | J36: 1698571 | K36: 91.1 | L36: 1624242 | M36: 1817702 | N36: 89.4
B37: メルコトラベル（株） | C37: 421924 | D37: 492270 | E37: 85.7 | F37: 0 | G37: 2350 | H37: － | I37: 761378 | J37: 748926 | K37: 101.7 | L37: 1183302 | M37: 1243546 | N37: 95.2
B38: （株）フジ・トラベル・サービス | C38: 196083 | D38: 220903 | E38: 88.8 | F38: 2144 | G38: 2647 | H38: 81 | I38: 1006234 | J38: 1037738 | K38: 97 | L38: 1204461 | M38: 1261288 | N38: 95.5
B39: （株）南海国際旅行 | C39: 288754 | D39: 262565 | E39: 110 | F39: 39500 | G39: 28020 | H39: 141 | I39: 746783 | J39: 850484 | K39: 87.8 | L39: 1075037 | M39: 1141069 | N39: 94.2
B40: WILLER TRAVEL（株） | C40: 0 | D40: － | E40: － | F40: 73101 | G40: － | H40: － | I40: 1492632 | J40: － | K40: － | L40: 1565733 | M40: － | N40: －
B41: （株）日産クリエイティブサービス | C41: 795462 | D41: 696444 | E41: 114.2 | F41: 0 | G41: 0 | H41: － | I41: 173101 | J41: 196825 | K41: 87.9 | L41: 968563 | M41: 893269 | N41: 108.4
B42: 北海道旅客鉄道（株） | C42: 74092 | D42: 68042 | E42: 108.9 | F42: 0 | G42: 0 | H42: － | I42: 791159 | J42: 1137675 | K42: 69.5 | L42: 865251 | M42: 1205717 | N42: 71.8
B43: （株）小田急トラベル | C43: 208333 | D43: 222776 | E43: 93.5 | F43: 23612 | G43: 22515 | H43: 104.9 | I43: 897692 | J43: 905561 | K43: 99.1 | L43: 1129637 | M43: 1150852 | N43: 98.2
B44: イオンコンパス（株） | C44: 276843 | D44: 297134 | E44: 93.2 | F44: 2018 | G44: 6015 | H44: 33.5 | I44: 712811 | J44: 759956 | K44: 93.8 | L44: 991672 | M44: 1063105 | N44: 93.3
B45: 京成トラベルサービス（株） | C45: 48935 | D45: 66648 | E45: 73.4 | F45: 54 | G45: 248 | H45: 21.8 | I45: 959749 | J45: 876688 | K45: 109.5 | L45: 1008738 | M45: 943584 | N45: 106.9
B46: ケイライントラベル（株） | C46: 445809 | D46: 473177 | E46: 94.2 | F46: 0 | G46: 0 | H46: － | I46: 25135 | J46: 17500 | K46: 143.6 | L46: 470944 | M46: 490677 | N46: 96
B47: 名鉄観光バス（株） | C47: 5307 | D47: 13610 | E47: 39 | F47: 0 | G47: 0 | H47: － | I47: 664855 | J47: 605075 | K47: 109.9 | L47: 670162 | M47: 618685 | N47: 108.3
B48: （株）ヤマハトラベルサービス | C48: 270823 | D48: 244012 | E48: 111 | F48: 18990 | G48: 11995 | H48: 158.3 | I48: 169624 | J48: 171304 | K48: 99 | L48: 459437 | M48: 427311 | N48: 107.5
B49: （株）PTS | C49: 632432 | D49: 791866 | E49: 79.9 | F49: 5264 | G49: 1787 | H49: 294.6 | I49: 820616 | J49: 867220 | K49: 94.6 | L49: 1458312 | M49: 1660873 | N49: 87.8
B50: 西武トラベル（株） | C50: 90507 | D50: 131808 | E50: 68.7 | F50: 37767 | G50: 41760 | H50: 90.4 | I50: 190236 | J50: 171356 | K50: 111 | L50: 318510 | M50: 344924 | N50: 92.3
B51: （株）JAL JTAセールス | C51: 0 | D51: 0 | E51: － | F51: 0 | G51: 0 | H51: － | I51: 320529 | J51: 343480 | K51: 93.3 | L51: 320529 | M51: 343480 | N51: 93.3
B52: 菱和ダイヤモンド航空サービス（株） | C52: 261480 | D52: 299336 | E52: 87.4 | F52: 0 | G52: 0 | H52: － | I52: 9862 | J52: 10090 | K52: 97.7 | L52: 271342 | M52: 309426 | N52: 87.7
B53: （株）トラベル日本 | C53: 143123 | D53: 270419 | E53: 52.9 | F53: 56 | G53: 32 | H53: 175 | I53: 205251 | J53: 183658 | K53: 111.8 | L53: 348430 | M53: 454109 | N53: 76.7
B54: 合 計（＊） | C54: 161906566 | D54: 166600413 | E54: 97.2 | F54: 15012959 | G54: 14133032 | H54: 106.2 | I54: 263185636 | J54: 266959200 | K54: 98.6 | L54: 440105161 | M54: 447692645 | N54: 98.3
C56: ※JTBグループは、15社内取引を相殺し合計した数値
C57: JTBグループ15社 ： ジェイティービー、JTB北海道、JTB東北、JTB関東、JTB首都圏、JTB中部、JTB西日本、JTB中国四国、JTB九州、JTB東海、JTB関
C58: 西、JTBコーポレートセールス、i.JTB、JTBグローバル・マーケティング＆トラベル、JTB国内旅行企画
C60: ※KNT-CTホールディングスは、8社内取引を相殺し、合計した数値
C61: KNT-CTホールディングス8社 ： 近畿日本ツーリスト、近畿日本ツーリスト北海道、近畿日本ツーリスト東北、近畿日本ツーリスト中国四国、近畿日本ツーリ
C62: スト九州、ユナイテッドツアーズ、クラブツーリズム、近畿日本ツーリスト個人旅行
C64: ※エイチ・アイ・エスは、5社内取引を相殺し、合計した数値
C65: エイチ・アイ・エス5社 ： エイチ・アイ・エス、オリオンツアー、クオリタ、クルーズプラネット、ジャパンホリデートラベル
C67: ※阪急交通社は、3社内取引を相殺し、合計したもの
C68: 阪急交通社3社 ： 阪急交通社、阪急阪神ビジネストラベル、阪神トラベル・インターナショナル
C70: ※WILLER TRAVELは平成27年度のデータがないため、合計数値は同社分を除いて集計
C72: ※■は新たに追加した会社

Sheet 1月
B1: 主要旅行業者の旅行取扱状況速報
F2: 42736
B3: 会 社 名 | C3: 海 外 旅 行 | F3: 外 国 人 旅 行 | I3: 国 内 旅 行 | L3: 合 計
C4: 取扱額（千円） | D4: 前年（千円） | E4: 前年比（％） | F4: 取扱額（千円） | G4: 前年（千円） | H4: 前年比（％） | I4: 取扱額（千円） | J4: 前年（千円） | K4: 前年比（％） | L4: 取扱額（千円） | M4: 前年（千円） | N4: 前年比（％）
B5: ジェイティービー（15社計） | C5: 25383657 | D5: 24587977 | E5: 103.2 | F5: 4951617 | G5: 3631318 | H5: 136.4 | I5: 60061376 | J5: 67955139 | K5: 88.4 | L5: 90396650 | M5: 96174434 | N5: 94
B6: KNT-CTホールディングス（8社計） | C6: 9911691 | D6: 9781387 | E6: 101.3 | F6: 1106825 | G6: 895063 | H6: 123.7 | I6: 20353827 | J6: 20321812 | K6: 100.2 | L6: 31372343 | M6: 30998262 | N6: 101.2
B7: エイチ・アイ・エス（5社計） | C7: 23560420 | D7: 21897647 | E7: 107.6 | F7: 2420221 | G7: 1898137 | H7: 127.5 | I7: 3812095 | J7: 3937779 | K7: 96.8 | L7: 29792737 | M7: 27733563 | N7: 107.4
B8: （株）日本旅行 | C8: 8082414 | D8: 7387962 | E8: 109.4 | F8: 1890036 | G8: 1678307 | H8: 112.6 | I8: 18612178 | J8: 18309440 | K8: 101.7 | L8: 28584628 | M8: 27375709 | N8: 104.4
B9: 阪急交通社（3社計） | C9: 15113646 | D9: 12941238 | E9: 116.8 | F9: 75845 | G9: 88288 | H9: 85.9 | I9: 6899349 | J9: 8239717 | K9: 83.7 | L9: 22088840 | M9: 21269243 | N9: 103.9
B10: 楽天(株) | C10: 2724880 | D10: 1952651 | E10: 139.5 | F10: 928197 | G10: 657973 | H10: 141.1 | I10: 37148230 | J10: 34864310 | K10: 106.6 | L10: 40801307 | M10: 37474934 | N10: 108.9
B11: （株）JTBワールドバケーションズ | C11: 12931569 | D11: 13321588 | E11: 97.1 | F11: 0 | G11: 0 | H11: － | I11: 0 | J11: 0 | K11: － | L11: 12931569 | M11: 13321588 | N11: 97.1
B12: ANAセールス（株） | C12: 1362000 | D12: 1470000 | E12: 92.7 | F12: 81000 | G12: 196000 | H12: 41.3 | I12: 10965000 | J12: 13875000 | K12: 79 | L12: 12408000 | M12: 15541000 | N12: 79.8
B13: （株）ジャルパック | C13: 3771910 | D13: 3548362 | E13: 106.3 | F13: 0 | G13: 1206 | H13: － | I13: 8179901 | J13: 7542598 | K13: 108.4 | L13: 11951811 | M13: 11092166 | N13: 107.8
B14: 東武トップツアーズ（株） | C14: 1989890 | D14: 2166993 | E14: 91.8 | F14: 254935 | G14: 361933 | H14: 70.4 | I14: 5559615 | J14: 6234544 | K14: 89.2 | L14: 7804440 | M14: 8763470 | N14: 89.1
B15: （株）ジェイアール東海ツアーズ | C15: 104971 | D15: 92974 | E15: 112.9 | F15: 10303 | G15: 5624 | H15: 183.2 | I15: 6301933 | J15: 6402762 | K15: 98.4 | L15: 6417207 | M15: 6501360 | N15: 98.7
B16: （株）JTBビジネストラベルソリューションズ | C16: 4428213 | D16: 4282113 | E16: 103.4 | F16: 5352 | G16: 742 | H16: 721.3 | I16: 3338833 | J16: 3488534 | K16: 95.7 | L16: 7772398 | M16: 7771389 | N16: 100
B17: （株）農協観光 | C17: 869663 | D17: 910806 | E17: 95.5 | F17: 81106 | G17: 77628 | H17: 104.5 | I17: 4698230 | J17: 4968790 | K17: 94.6 | L17: 5648999 | M17: 5957224 | N17: 94.8
B18: 名鉄観光サービス（株） | C18: 802756 | D18: 739850 | E18: 108.5 | F18: 84676 | G18: 93988 | H18: 90.1 | I18: 4276876 | J18: 4355123 | K18: 98.2 | L18: 5164308 | M18: 5188961 | N18: 99.5
B19: （株）読売旅行 | C19: 915788 | D19: 659832 | E19: 138.8 | F19: 5896 | G19: 2354 | H19: 250.5 | I19: 2190443 | J19: 2574475 | K19: 85.1 | L19: 3112127 | M19: 3236661 | N19: 96.2
B20: 日通旅行（株） | C20: 2216640 | D20: 2126656 | E20: 104.2 | F20: 32360 | G20: 52402 | H20: 61.8 | I20: 464539 | J20: 441534 | K20: 105.2 | L20: 2713539 | M20: 2620592 | N20: 103.5
B21: （株）DeNAトラベル | C21: 3509312 | D21: 2748888 | E21: 127.7 | F21: 70537 | G21: 14678 | H21: 480.6 | I21: 357164 | J21: 211739 | K21: 168.7 | L21: 3937013 | M21: 2975305 | N21: 132.3
B22: 西鉄旅行（株） | C22: 915732 | D22: 974460 | E22: 94 | F22: 19072 | G22: 12349 | H22: 154.4 | I22: 1306093 | J22: 1492046 | K22: 87.5 | L22: 2240897 | M22: 2478855 | N22: 90.4
B23: ビッグホリデー（株） | C23: 289841 | D23: 411138 | E23: 70.5 | F23: 0 | G23: 0 | H23: － | I23: 4162075 | J23: 4795042 | K23: 86.8 | L23: 4451916 | M23: 5206180 | N23: 85.5
B24: 日新航空サービス（株） | C24: 3278107 | D24: 3165516 | E24: 103.6 | F24: 0 | G24: 0 | H24: － | I24: 272583 | J24: 284522 | K24: 95.8 | L24: 3550690 | M24: 3450038 | N24: 102.9
B25: エムオーツーリスト（株） | C25: 2637457 | D25: 2512012 | E25: 105 | F25: 1774 | G25: 2304 | H25: 77 | I25: 255984 | J25: 260741 | K25: 98.2 | L25: 2895215 | M25: 2775057 | N25: 104.3
B26: （株）日立トラベルビューロー | C26: 1466321 | D26: 1312731 | E26: 111.7 | F26: 3628 | G26: 3893 | H26: 93.2 | I26: 1106939 | J26: 831160 | K26: 133.2 | L26: 2576888 | M26: 2147784 | N26: 120
B27: （株）タビックスジャパン | C27: 319206 | D27: 288205 | E27: 110.8 | F27: 10196 | G27: 3584 | H27: 284.5 | I27: 885782 | J27: 1181187 | K27: 75 | L27: 1215184 | M27: 1472976 | N27: 82.5
B28: 郵船トラベル（株） | C28: 2021248 | D28: 2253732 | E28: 89.7 | F28: 0 | G28: 0 | H28: － | I28: 101342 | J28: 91528 | K28: 110.7 | L28: 2122590 | M28: 2345260 | N28: 90.5
B29: （株）エヌオーイー | C29: 2008655 | D29: 1961787 | E29: 102.4 | F29: 5309 | G29: 4612 | H29: 115.1 | I29: 94868 | J29: 96509 | K29: 98.3 | L29: 2108832 | M29: 2062908 | N29: 102.2
B30: 沖縄ツーリスト（株） | C30: 53231 | D30: 84047 | E30: 63.3 | F30: 81490 | G30: 132460 | H30: 61.5 | I30: 1991210 | J30: 2067606 | K30: 96.3 | L30: 2125931 | M30: 2284113 | N30: 93.1
B31: （株）IACEトラベル | C31: 1551483 | D31: 1538041 | E31: 100.9 | F31: 0 | G31: 0 | H31: － | I31: 286045 | J31: 253271 | K31: 112.9 | L31: 1837528 | M31: 1791312 | N31: 102.6
B32: （株）旅工房 | C32: 1443329 | D32: 1283769 | E32: 112.4 | F32: 10544 | G32: 12397 | H32: 85.1 | I32: 47435 | J32: 29714 | K32: 159.6 | L32: 1501308 | M32: 1325880 | N32: 113.2
B33: （株）トヨタツーリストインターナショナル | C33: 1110708 | D33: 1305837 | E33: 85.1 | F33: 1059 | G33: 136 | H33: 778.7 | I33: 108280 | J33: 108631 | K33: 99.7 | L33: 1220047 | M33: 1414604 | N33: 86.2
B34: 京王観光（株） | C34: 225593 | D34: 269401 | E34: 83.7 | F34: 148554 | G34: 73294 | H34: 202.7 | I34: 1024306 | J34: 1138993 | K34: 89.9 | L34: 1398453 | M34: 1481688 | N34: 94.4
B35: 東日観光（株） | C35: 367919 | D35: 367547 | E35: 100.1 | F35: 62570 | G35: 81674 | H35: 76.6 | I35: 578850 | J35: 688678 | K35: 84.1 | L35: 1009339 | M35: 1137899 | N35: 88.7
B36: 九州旅客鉄道（株） | C36: 51823 | D36: 52728 | E36: 98.3 | F36: 0 | G36: 0 | H36: － | I36: 1191359 | J36: 1386422 | K36: 85.9 | L36: 1243182 | M36: 1439150 | N36: 86.4
B37: メルコトラベル（株） | C37: 501741 | D37: 528599 | E37: 94.9 | F37: 0 | G37: 0 | H37: － | I37: 610142 | J37: 584305 | K37: 104.4 | L37: 1111883 | M37: 1112904 | N37: 99.9
B38: （株）フジ・トラベル・サービス | C38: 107782 | D38: 156811 | E38: 68.7 | F38: 2198 | G38: 3399 | H38: 64.7 | I38: 695670 | J38: 765871 | K38: 90.8 | L38: 805650 | M38: 926081 | N38: 87
B39: （株）南海国際旅行 | C39: 234879 | D39: 243798 | E39: 96.3 | F39: 10746 | G39: 13258 | H39: 81.1 | I39: 698437 | J39: 713641 | K39: 97.9 | L39: 944062 | M39: 970697 | N39: 97.3
B40: WILLER TRAVEL（株） | C40: 0 | D40: － | E40: － | F40: 73451 | G40: － | H40: － | I40: 1057545 | J40: － | K40: － | L40: 1130996 | M40: － | N40: －
B41: （株）日産クリエイティブサービス | C41: 510502 | D41: 594978 | E41: 85.8 | F41: 0 | G41: 0 | H41: － | I41: 175710 | J41: 175900 | K41: 99.9 | L41: 686212 | M41: 770878 | N41: 89
B42: 北海道旅客鉄道（株） | C42: 58310 | D42: 64796 | E42: 90 | F42: 0 | G42: 0 | H42: － | I42: 917641 | J42: 1204719 | K42: 76.2 | L42: 975951 | M42: 1269515 | N42: 76.9
B43: （株）小田急トラベル | C43: 145973 | D43: 168260 | E43: 86.8 | F43: 28710 | G43: 26865 | H43: 106.9 | I43: 790952 | J43: 759215 | K43: 104.2 | L43: 965635 | M43: 954340 | N43: 101.2
B44: イオンコンパス（株） | C44: 272422 | D44: 300796 | E44: 90.6 | F44: 18150 | G44: 21570 | H44: 84.1 | I44: 705689 | J44: 689070 | K44: 102.4 | L44: 996261 | M44: 1011436 | N44: 98.5
B45: 京成トラベルサービス（株） | C45: 69431 | D45: 83907 | E45: 82.7 | F45: 80 | G45: 1343 | H45: 6 | I45: 866585 | J45: 777842 | K45: 111.4 | L45: 936096 | M45: 863092 | N45: 108.5
B46: ケイライントラベル（株） | C46: 482326 | D46: 454593 | E46: 106.1 | F46: 0 | G46: 0 | H46: － | I46: 22816 | J46: 28819 | K46: 79.2 | L46: 505142 | M46: 483412 | N46: 104.5
B47: 名鉄観光バス（株） | C47: 7614 | D47: 16471 | E47: 46.2 | F47: 1059 | G47: 0 | H47: － | I47: 469028 | J47: 509898 | K47: 92 | L47: 477701 | M47: 526369 | N47: 90.8
B48: （株）ヤマハトラベルサービス | C48: 285383 | D48: 292131 | E48: 97.7 | F48: 5 | G48: 7001 | H48: 0.1 | I48: 176278 | J48: 184476 | K48: 95.6 | L48: 461666 | M48: 483608 | N48: 95.5
B49: （株）PTS | C49: 514419 | D49: 493652 | E49: 104.2 | F49: 0 | G49: 3558 | H49: － | I49: 693880 | J49: 697718 | K49: 99.4 | L49: 1208299 | M49: 1194928 | N49: 101.1
B50: 西武トラベル（株） | C50: 106981 | D50: 135877 | E50: 78.7 | F50: 72072 | G50: 20619 | H50: 349.5 | I50: 158778 | J50: 164566 | K50: 96.5 | L50: 337831 | M50: 321062 | N50: 105.2
B51: （株）JAL JTAセールス | C51: 0 | D51: 0 | E51: － | F51: 0 | G51: 0 | H51: － | I51: 261754 | J51: 266007 | K51: 98.4 | L51: 261754 | M51: 266007 | N51: 98.4
B52: 菱和ダイヤモンド航空サービス（株） | C52: 403938 | D52: 334226 | E52: 120.9 | F52: 0 | G52: 0 | H52: － | I52: 11589 | J52: 10133 | K52: 114.4 | L52: 415527 | M52: 344359 | N52: 120.7
B53: （株）トラベル日本 | C53: 163216 | D53: 163283 | E53: 100 | F53: 55 | G53: 28 | H53: 196.4 | I53: 166313 | J53: 157238 | K53: 105.8 | L53: 329584 | M53: 320549 | N53: 102.8
B54: 合 計 | C54: 139284990 | D54: 132430053 | E54: 105.2 | F54: 12476177 | G54: 10079985 | H54: 123.8 | I54: 214054002 | J54: 226118764 | K54: 94.7 | L54: 365815170 | M54: 368628802 | N54: 99.2
C56: ※JTBグループは、15社内取引を相殺し合計した数値
C57: JTBグループ15社 ： ジェイティービー、JTB北海道、JTB東北、JTB関東、JTB首都圏、JTB中部、JTB西日本、JTB中国四国、JTB九州、JTB東海、JTB関
C58: 西、JTBコーポレートセールス、i.JTB、JTBグローバル・マーケティング＆トラベル、JTB国内旅行企画
C60: ※KNT-CTホールディングスは、8社内取引を相殺し、合計した数値
C61: KNT-CTホールディングス8社 ： 近畿日本ツーリスト、近畿日本ツーリスト北海道、近畿日本ツーリスト東北、近畿日本ツーリスト中国四国、近畿日本ツーリ
C62: スト九州、ユナイテッドツアーズ、クラブツーリズム、近畿日本ツーリスト個人旅行
C64: ※エイチ・アイ・エスは、5社内取引を相殺し、合計した数値
C65: エイチ・アイ・エス5社 ： エイチ・アイ・エス、オリオンツアー、クオリタ、クルーズプラネット、ジャパンホリデートラベル
C67: ※阪急交通社は、3社内取引を相殺し、合計したもの
C68: 阪急交通社3社 ： 阪急交通社、阪急阪神ビジネストラベル、阪神トラベル・インターナショナル
C70: ※WILLER TRAVELは平成27年度のデータがないため、合計数値は同社分を除いて集計
C72: ※■は新たに追加した会社

Sheet 2月
B1: 主要旅行業者の旅行取扱状況速報
F2: 42767
B3: 会 社 名 | C3: 海 外 旅 行 | F3: 外 国 人 旅 行 | I3: 国 内 旅 行 | L3: 合 計
C4: 取扱額（千円） | D4: 前年（千円） | E4: 前年比（％） | F4: 取扱額（千円） | G4: 前年（千円） | H4: 前年比（％） | I4: 取扱額（千円） | J4: 前年（千円） | K4: 前年比（％） | L4: 取扱額（千円） | M4: 前年（千円） | N4: 前年比（％）
B5: ジェイティービー（15社計） | C5: 31805791 | D5: 31770060 | E5: 100.1 | F5: 6307928 | G5: 4529799 | H5: 139.3 | I5: 61329547 | J5: 70133079 | K5: 87.4 | L5: 99443266 | M5: 106432938 | N5: 93.4
B6: KNT-CTホールディングス（8社計） | C6: 10534535 | D6: 10018864 | E6: 105.1 | F6: 1455770 | G6: 1007561 | H6: 144.5 | I6: 19219251 | J6: 20259870 | K6: 94.9 | L6: 31209556 | M6: 31286295 | N6: 99.8
B7: エイチ・アイ・エス（5社計） | C7: 32900448 | D7: 30257557 | E7: 108.7 | F7: 2103158 | G7: 1878240 | H7: 112 | I7: 5180286 | J7: 5741408 | K7: 90.2 | L7: 40183893 | M7: 37877206 | N7: 106.1
B8: （株）日本旅行 | C8: 9468386 | D8: 9291569 | E8: 101.9 | F8: 2154832 | G8: 1915194 | H8: 112.5 | I8: 17902063 | J8: 18635463 | K8: 96.1 | L8: 29525281 | M8: 29842226 | N8: 98.9
B9: 阪急交通社（3社計） | C9: 14727128 | D9: 14491062 | E9: 101.6 | F9: 60275 | G9: 58268 | H9: 103.4 | I9: 8942532 | J9: 9385681 | K9: 95.3 | L9: 23729935 | M9: 23935011 | N9: 99.1
B10: 楽天(株) | C10: 2892554 | D10: 2338030 | E10: 123.7 | F10: 838271 | G10: 895941 | H10: 93.6 | I10: 36692679 | J10: 34932090 | K10: 105 | L10: 40423504 | M10: 38166061 | N10: 105.9
B11: （株）JTBワールドバケーションズ | C11: 14524384 | D11: 16059105 | E11: 90.4 | F11: 0 | G11: 0 | H11: － | I11: 0 | J11: 0 | K11: － | L11: 14524384 | M11: 16059105 | N11: 90.4
B12: ANAセールス（株） | C12: 1660000 | D12: 1470000 | E12: 112.9 | F12: 92000 | G12: 196000 | H12: 46.9 | I12: 13242000 | J12: 13875000 | K12: 95.4 | L12: 14994000 | M12: 15541000 | N12: 96.5
B13: （株）ジャルパック | C13: 4421448 | D13: 4024320 | E13: 109.9 | F13: 600 | G13: 0 | H13: － | I13: 9318349 | J13: 9132865 | K13: 102 | L13: 13740397 | M13: 13157185 | N13: 104.4
B14: 東武トップツアーズ（株） | C14: 2875150 | D14: 2287015 | E14: 125.7 | F14: 321269 | G14: 388162 | H14: 82.8 | I14: 6161877 | J14: 5835090 | K14: 105.6 | L14: 9358296 | M14: 8510267 | N14: 110
B15: （株）ジェイアール東海ツアーズ | C15: 117622 | D15: 126912 | E15: 92.7 | F15: 43430 | G15: 18004 | H15: 241.2 | I15: 7529367 | J15: 7704535 | K15: 97.7 | L15: 7690419 | M15: 7849451 | N15: 98
B16: （株）JTBビジネストラベルソリューションズ | C16: 5122346 | D16: 4954120 | E16: 103.4 | F16: 3398 | G16: 6175 | H16: 55 | I16: 3861938 | J16: 3664018 | K16: 105.4 | L16: 8987682 | M16: 8624313 | N16: 104.2
B17: （株）農協観光 | C17: 1032885 | D17: 977524 | E17: 105.7 | F17: 69014 | G17: 82107 | H17: 84.1 | I17: 6489732 | J17: 6703352 | K17: 96.8 | L17: 7591631 | M17: 7762983 | N17: 97.8
B18: 名鉄観光サービス（株） | C18: 1410239 | D18: 970138 | E18: 145.4 | F18: 105404 | G18: 95240 | H18: 110.7 | I18: 4957544 | J18: 4688706 | K18: 105.7 | L18: 6473187 | M18: 5754084 | N18: 112.5
B19: （株）読売旅行 | C19: 578381 | D19: 725223 | E19: 79.8 | F19: 13742 | G19: 1572 | H19: 874.2 | I19: 2006412 | J19: 2452029 | K19: 81.8 | L19: 2598535 | M19: 3178824 | N19: 81.7
B20: 日通旅行（株） | C20: 2527798 | D20: 3035540 | E20: 83.3 | F20: 49820 | G20: 13886 | H20: 358.8 | I20: 554526 | J20: 616021 | K20: 90 | L20: 3132144 | M20: 3665447 | N20: 85.5
B21: （株）DeNAトラベル | C21: 3764891 | D21: 3276072 | E21: 114.9 | F21: 37174 | G21: 29813 | H21: 124.7 | I21: 317355 | J21: 218892 | K21: 145 | L21: 4119420 | M21: 3524777 | N21: 116.9
B22: 西鉄旅行（株） | C22: 1112512 | D22: 1117729 | E22: 99.5 | F22: 25527 | G22: 17281 | H22: 147.7 | I22: 1670313 | J22: 1821951 | K22: 91.7 | L22: 2808352 | M22: 2956961 | N22: 95
B23: ビッグホリデー（株） | C23: 471500 | D23: 604317 | E23: 78 | F23: 0 | G23: 0 | H23: － | I23: 7351620 | J23: 8517521 | K23: 86.3 | L23: 7823120 | M23: 9121838 | N23: 85.8
B24: 日新航空サービス（株） | C24: 3532899 | D24: 3472151 | E24: 101.7 | F24: 0 | G24: 0 | H24: － | I24: 330685 | J24: 331135 | K24: 99.9 | L24: 3863584 | M24: 3803286 | N24: 101.6
B25: エムオーツーリスト（株） | C25: 3037624 | D25: 3048709 | E25: 99.6 | F25: 2727 | G25: 2934 | H25: 92.9 | I25: 232352 | J25: 237688 | K25: 97.8 | L25: 3272703 | M25: 3289331 | N25: 99.5
B26: （株）日立トラベルビューロー | C26: 1623848 | D26: 1504100 | E26: 108 | F26: 7782 | G26: 10543 | H26: 73.8 | I26: 898675 | J26: 818381 | K26: 109.8 | L26: 2530305 | M26: 2333024 | N26: 108.5
B27: （株）タビックスジャパン | C27: 336992 | D27: 329363 | E27: 102.3 | F27: 51456 | G27: 9017 | H27: 570.7 | I27: 1279383 | J27: 1527654 | K27: 83.7 | L27: 1667831 | M27: 1866034 | N27: 89.4
B28: 郵船トラベル（株） | C28: 1857128 | D28: 2061109 | E28: 90.1 | F28: 0 | G28: 0 | H28: － | I28: 79389 | J28: 64968 | K28: 122.2 | L28: 1936517 | M28: 2126077 | N28: 91.1
B29: （株）エヌオーイー | C29: 2327471 | D29: 2136581 | E29: 108.9 | F29: 6061 | G29: 14177 | H29: 42.8 | I29: 106279 | J29: 90390 | K29: 117.6 | L29: 2439811 | M29: 2241148 | N29: 108.9
B30: 沖縄ツーリスト（株） | C30: 132726 | D30: 86510 | E30: 153.4 | F30: 92781 | G30: 134640 | H30: 68.9 | I30: 2347737 | J30: 2447337 | K30: 95.9 | L30: 2573244 | M30: 2668487 | N30: 96.4
B31: （株）IACEトラベル | C31: 1771225 | D31: 1817001 | E31: 97.5 | F31: 0 | G31: 0 | H31: － | I31: 353079 | J31: 307302 | K31: 114.9 | L31: 2124304 | M31: 2124303 | N31: 100
B32: （株）旅工房 | C32: 1999090 | D32: 1845705 | E32: 108.3 | F32: 27323 | G32: 20677 | H32: 132.1 | I32: 35236 | J32: 48347 | K32: 72.9 | L32: 2061649 | M32: 1914729 | N32: 107.7
B33: （株）トヨタツーリストインターナショナル | C33: 970531 | D33: 1129343 | E33: 85.9 | F33: 2036 | G33: 408 | H33: 499 | I33: 158134 | J33: 181603 | K33: 87.1 | L33: 1130701 | M33: 1311354 | N33: 86.2
B34: 京王観光（株） | C34: 318522 | D34: 304533 | E34: 104.6 | F34: 5795 | G34: 56724 | H34: 10.2 | I34: 1247873 | J34: 1304560 | K34: 95.7 | L34: 1572190 | M34: 1665817 | N34: 94.4
B35: 東日観光（株） | C35: 334977 | D35: 349292 | E35: 95.9 | F35: 71547 | G35: 97772 | H35: 73.2 | I35: 315905 | J35: 436495 | K35: 72.4 | L35: 722429 | M35: 883559 | N35: 81.8
B36: 九州旅客鉄道（株） | C36: 129194 | D36: 57130 | E36: 226.1 | F36: 0 | G36: 0 | H36: － | I36: 1432092 | J36: 1636150 | K36: 87.5 | L36: 1561286 | M36: 1693280 | N36: 92.2
B37: メルコトラベル（株） | C37: 577720 | D37: 585424 | E37: 98.7 | F37: 440 | G37: 0 | H37: － | I37: 718082 | J37: 766040 | K37: 93.7 | L37: 1296242 | M37: 1351464 | N37: 95.9
B38: （株）フジ・トラベル・サービス | C38: 163000 | D38: 167388 | E38: 97.4 | F38: 4461 | G38: 6185 | H38: 72.1 | I38: 767000 | J38: 894820 | K38: 85.7 | L38: 934461 | M38: 1068393 | N38: 87.5
B39: （株）南海国際旅行 | C39: 277543 | D39: 288965 | E39: 96 | F39: 18518 | G39: 8226 | H39: 225.1 | I39: 779185 | J39: 794340 | K39: 98.1 | L39: 1075246 | M39: 1091531 | N39: 98.5
B40: WILLER TRAVEL（株） | C40: 0 | D40: － | E40: － | F40: 63137 | G40: － | H40: － | I40: 1339545 | J40: － | K40: － | L40: 1402682 | M40: － | N40: －
B41: （株）日産クリエイティブサービス | C41: 769449 | D41: 699056 | E41: 110.1 | F41: 0 | G41: 0 | H41: － | I41: 206666 | J41: 198670 | K41: 104 | L41: 976115 | M41: 897726 | N41: 108.7
B42: 北海道旅客鉄道（株） | C42: 67933 | D42: 63217 | E42: 107.5 | F42: 0 | G42: 0 | H42: － | I42: 934793 | J42: 1270559 | K42: 73.6 | L42: 1002726 | M42: 1333776 | N42: 75.2
B43: （株）小田急トラベル | C43: 253133 | D43: 220232 | E43: 114.9 | F43: 15382 | G43: 18874 | H43: 81.5 | I43: 907313 | J43: 928833 | K43: 97.7 | L43: 1175828 | M43: 1167939 | N43: 100.7
B44: イオンコンパス（株） | C44: 264956 | D44: 228277 | E44: 116.1 | F44: 404365 | G44: 6652 | H44: 6078.8 | I44: 537513 | J44: 711923 | K44: 75.5 | L44: 1206834 | M44: 946852 | N44: 127.5
B45: 京成トラベルサービス（株） | C45: 87873 | D45: 69977 | E45: 125.6 | F45: 1900 | G45: 2564 | H45: 74.1 | I45: 747876 | J45: 736243 | K45: 101.6 | L45: 837649 | M45: 808784 | N45: 103.6
B46: ケイライントラベル（株） | C46: 546673 | D46: 596729 | E46: 91.6 | F46: 0 | G46: 0 | H46: － | I46: 32952 | J46: 32247 | K46: 102.2 | L46: 579625 | M46: 628976 | N46: 92.2
B47: 名鉄観光バス（株） | C47: 6674 | D47: 2323 | E47: 287.3 | F47: 2257 | G47: 0 | H47: － | I47: 478987 | J47: 498864 | K47: 96 | L47: 487918 | M47: 501187 | N47: 97.4
B48: （株）ヤマハトラベルサービス | C48: 333912 | D48: 322234 | E48: 103.6 | F48: 7185 | G48: 5119 | H48: 140.4 | I48: 164195 | J48: 163397 | K48: 100.5 | L48: 505292 | M48: 490750 | N48: 103
B49: （株）PTS | C49: 528300 | D49: 496659 | E49: 106.4 | F49: 9749 | G49: 0 | H49: － | I49: 674146 | J49: 692285 | K49: 97.4 | L49: 1212195 | M49: 1188944 | N49: 102
B50: 西武トラベル（株） | C50: 297787 | D50: 237502 | E50: 125.4 | F50: 64391 | G50: 22443 | H50: 286.9 | I50: 172644 | J50: 216396 | K50: 79.8 | L50: 534822 | M50: 476341 | N50: 112.3
B51: （株）JAL JTAセールス | C51: 0 | D51: 0 | E51: － | F51: 0 | G51: 0 | H51: － | I51: 325985 | J51: 357364 | K51: 91.2 | L51: 325985 | M51: 357364 | N51: 91.2
B52: 菱和ダイヤモンド航空サービス（株） | C52: 390263 | D52: 332123 | E52: 117.5 | F52: 0 | G52: 0 | H52: － | I52: 9975 | J52: 10306 | K52: 96.8 | L52: 400238 | M52: 342429 | N52: 116.9
B53: （株）トラベル日本 | C53: 183770 | D53: 174656 | E53: 105.2 | F53: 56 | G53: 32 | H53: 175 | I53: 206817 | J53: 202547 | K53: 102.1 | L53: 390643 | M53: 377235 | N53: 103.6
B54: 合計 | C54: 165069211 | D54: 160421446 | E54: 102.9 | F54: 14477824 | G54: 11550230 | H54: 125.3 | I54: 229208339 | J54: 242224415 | K54: 94.6 | L54: 408755375 | M54: 414196092 | N54: 98.7
C56: ※JTBグループは、15社内取引を相殺し合計した数値
C57: JTBグループ15社 ： ジェイティービー、JTB北海道、JTB東北、JTB関東、JTB首都圏、JTB中部、JTB西日本、JTB中国四国、JTB九州、JTB東海、JTB関
C58: 西、JTBコーポレートセールス、i.JTB、JTBグローバル・マーケティング＆トラベル、JTB国内旅行企画
C60: ※KNT-CTホールディングスは、8社内取引を相殺し、合計した数値
C61: KNT-CTホールディングス8社 ： 近畿日本ツーリスト、近畿日本ツーリスト北海道、近畿日本ツーリスト東北、近畿日本ツーリスト中国四国、近畿日本ツーリ
C62: スト九州、ユナイテッドツアーズ、クラブツーリズム、近畿日本ツーリスト個人旅行
C64: ※エイチ・アイ・エスは、5社内取引を相殺し、合計した数値
C65: エイチ・アイ・エス5社 ： エイチ・アイ・エス、オリオンツアー、クオリタ、クルーズプラネット、ジャパンホリデートラベル
C67: ※阪急交通社は、3社内取引を相殺し、合計したもの
C68: 阪急交通社3社 ： 阪急交通社、阪急阪神ビジネストラベル、阪神トラベル・インターナショナル
C70: ※WILLER TRAVELは平成27年度のデータがないため、合計数値は同社分を除いて集計
C72: ※■は新たに追加した会社

Sheet 3月
B1: 主要旅行業者の旅行取扱状況速報
F2: 42795
B3: 会 社 名 | C3: 海 外 旅 行 | F3: 外 国 人 旅 行 | I3: 国 内 旅 行 | L3: 合 計
C4: 取扱額（千円） | D4: 前年（千円） | E4: 前年比（％） | F4: 取扱額（千円） | G4: 前年（千円） | H4: 前年比（％） | I4: 取扱額（千円） | J4: 前年（千円） | K4: 前年比（％） | L4: 取扱額（千円） | M4: 前年（千円） | N4: 前年比（％）
B5: ジェイティービー（15社計） | C5: 36473410 | D5: 36148910 | E5: 100.9 | F5: 9138970 | G5: 7184298 | H5: 127.2 | I5: 92939880 | J5: 102859964 | K5: 90.4 | L5: 138552260 | M5: 146193172 | N5: 94.8
B6: KNT-CTホールディングス（8社計） | C6: 13913439 | D6: 12637309 | E6: 110.1 | F6: 3100470 | G6: 1759938 | H6: 176.2 | I6: 25854055 | J6: 25423059 | K6: 101.7 | L6: 42867964 | M6: 39820306 | N6: 107.7
B7: エイチ・アイ・エス（5社計） | C7: 37085874 | D7: 31910271 | E7: 116.2 | F7: 2903711 | G7: 2494407 | H7: 116.4 | I7: 6717412 | J7: 6596770 | K7: 101.8 | L7: 46706998 | M7: 41001450 | N7: 113.9
B8: （株）日本旅行 | C8: 11562458 | D8: 10302379 | E8: 112.2 | F8: 3258878 | G8: 3105402 | H8: 104.9 | I8: 24130533 | J8: 23397566 | K8: 103.1 | L8: 38951869 | M8: 36805347 | N8: 105.8
B9: 阪急交通社（3社計） | C9: 17252115 | D9: 14462204 | E9: 119.3 | F9: 160881 | G9: 211425 | H9: 76.1 | I9: 12434538 | J9: 11151837 | K9: 111.5 | L9: 29847534 | M9: 25825466 | N9: 115.6
B10: 楽天(株) | C10: 3725560 | D10: 3016270 | E10: 123.5 | F10: 650517 | G10: 714867 | H10: 91 | I10: 48012451 | J10: 42478690 | K10: 113 | L10: 52388528 | M10: 46209827 | N10: 113.4
B11: （株）JTBワールドバケーションズ | C11: 17762247 | D11: 17783088 | E11: 99.9 | F11: 0 | G11: 0 | H11: － | I11: 0 | J11: 0 | K11: － | L11: 17762247 | M11: 17783088 | N11: 99.9
B12: ANAセールス（株） | C12: 1787000 | D12: 1693000 | E12: 105.6 | F12: 62000 | G12: 127000 | H12: 48.8 | I12: 16830000 | J12: 16691000 | K12: 100.8 | L12: 18679000 | M12: 18511000 | N12: 100.9
B13: （株）ジャルパック | C13: 4819648 | D13: 4315765 | E13: 111.7 | F13: 96 | G13: 744 | H13: 12.9 | I13: 11902350 | J13: 11260073 | K13: 105.7 | L13: 16722094 | M13: 15576582 | N13: 107.4
B14: 東武トップツアーズ（株） | C14: 3276316 | D14: 2930236 | E14: 111.8 | F14: 728894 | G14: 610444 | H14: 119.4 | I14: 6335816 | J14: 6841949 | K14: 92.6 | L14: 10341026 | M14: 10382629 | N14: 99.6
B15: （株）ジェイアール東海ツアーズ | C15: 142002 | D15: 139734 | E15: 101.6 | F15: 103559 | G15: 47784 | H15: 216.7 | I15: 9128214 | J15: 9328731 | K15: 97.9 | L15: 9373774 | M15: 9516249 | N15: 98.5
B16: （株）JTBビジネストラベルソリューションズ | C16: 6095028 | D16: 5017281 | E16: 121.5 | F16: 14741 | G16: 28514 | H16: 51.7 | I16: 4482568 | J16: 4112139 | K16: 109 | L16: 10592338 | M16: 9157934 | N16: 115.7
B17: （株）農協観光 | C17: 573650 | D17: 604925 | E17: 94.8 | F17: 98099 | G17: 206168 | H17: 47.6 | I17: 5053137 | J17: 5377350 | K17: 94 | L17: 5724886 | M17: 6188443 | N17: 92.5
B18: 名鉄観光サービス（株） | C18: 1211094 | D18: 963392 | E18: 125.7 | F18: 105975 | G18: 109545 | H18: 96.7 | I18: 5880581 | J18: 5331055 | K18: 110.3 | L18: 7197650 | M18: 6403992 | N18: 112.4
B19: （株）読売旅行 | C19: 1036780 | D19: 810323 | E19: 127.9 | F19: 8739 | G19: 174 | H19: 5022.4 | I19: 3149908 | J19: 3332548 | K19: 94.5 | L19: 4195427 | M19: 4143045 | N19: 101.3
B20: 日通旅行（株） | C20: 3573578 | D20: 3130978 | E20: 114.1 | F20: 99810 | G20: 76448 | H20: 130.6 | I20: 580237 | J20: 582442 | K20: 99.6 | L20: 4253625 | M20: 3789868 | N20: 112.2
B21: （株）DeNAトラベル | C21: 5167452 | D21: 4239975 | E21: 121.9 | F21: 72122 | G21: 27663 | H21: 260.7 | I21: 460885 | J21: 265616 | K21: 173.5 | L21: 5700459 | M21: 4533254 | N21: 125.8
B22: 西鉄旅行（株） | C22: 1324858 | D22: 1362265 | E22: 97.3 | F22: 106171 | G22: 54629 | H22: 194.3 | I22: 1960699 | J22: 2154207 | K22: 91 | L22: 3391728 | M22: 3571101 | N22: 95
B23: ビッグホリデー（株） | C23: 335885 | D23: 424553 | E23: 79.1 | F23: 0 | G23: 0 | H23: － | I23: 8636261 | J23: 8977309 | K23: 96.2 | L23: 8972146 | M23: 9401862 | N23: 95.4
B24: 日新航空サービス（株） | C24: 4167885 | D24: 3640128 | E24: 114.5 | F24: 0 | G24: 0 | H24: － | I24: 368823 | J24: 309130 | K24: 119.3 | L24: 4536708 | M24: 3949258 | N24: 114.9
B25: エムオーツーリスト（株） | C25: 3691025 | D25: 3574343 | E25: 103.3 | F25: 1267 | G25: 1235 | H25: 102.6 | I25: 292536 | J25: 298355 | K25: 98.1 | L25: 3984828 | M25: 3873933 | N25: 102.9
B26: （株）日立トラベルビューロー | C26: 1959460 | D26: 1418044 | E26: 138.2 | F26: 908 | G26: 7360 | H26: 12.3 | I26: 1108743 | J26: 882242 | K26: 125.7 | L26: 3069111 | M26: 2307646 | N26: 133
B27: （株）タビックスジャパン | C27: 458256 | D27: 399941 | E27: 114.6 | F27: 28248 | G27: 6535 | H27: 432.3 | I27: 1698773 | J27: 1937774 | K27: 87.7 | L27: 2185277 | M27: 2344250 | N27: 93.2
B28: 郵船トラベル（株） | C28: 2151181 | D28: 2293458 | E28: 93.8 | F28: 0 | G28: 0 | H28: － | I28: 389337 | J28: 90148 | K28: 431.9 | L28: 2540518 | M28: 2383605 | N28: 106.6
B29: （株）エヌオーイー | C29: 2783862 | D29: 2305166 | E29: 120.8 | F29: 21710 | G29: 36817 | H29: 59 | I29: 122288 | J29: 108713 | K29: 112.5 | L29: 2927860 | M29: 2450695 | N29: 119.5
B30: 沖縄ツーリスト（株） | C30: 110522 | D30: 155899 | E30: 70.9 | F30: 105330 | G30: 90199 | H30: 116.8 | I30: 2396012 | J30: 2519720 | K30: 95.1 | L30: 2611864 | M30: 2765818 | N30: 94.4
B31: （株）IACEトラベル | C31: 2067353 | D31: 1987998 | E31: 104 | F31: 0 | G31: 0 | H31: － | I31: 384677 | J31: 381221 | K31: 100.9 | L31: 2452030 | M31: 2369219 | N31: 103.5
B32: （株）旅工房 | C32: 1932562 | D32: 1763195 | E32: 109.6 | F32: 40043 | G32: 20079 | H32: 199.4 | I32: 38555 | J32: 47914 | K32: 80.5 | L32: 2011160 | M32: 1831188 | N32: 109.8
B33: （株）トヨタツーリストインターナショナル | C33: 1528108 | D33: 1343965 | E33: 113.7 | F33: 1992 | G33: 185 | H33: 1076.8 | I33: 156382 | J33: 129237 | K33: 121 | L33: 1686482 | M33: 1473387 | N33: 114.5
B34: 京王観光（株） | C34: 491777 | D34: 511129 | E34: 96.2 | F34: 494 | G34: 23979 | H34: 2.1 | I34: 1598081 | J34: 1659119 | K34: 96.3 | L34: 2090352 | M34: 2194227 | N34: 95.3
B35: 東日観光（株） | C35: 358812 | D35: 419846 | E35: 85.5 | F35: 378605 | G35: 434293 | H35: 87.2 | I35: 219061 | J35: 249938 | K35: 87.6 | L35: 956478 | M35: 1104077 | N35: 86.6
B36: 九州旅客鉄道（株） | C36: 91956 | D36: 82594 | E36: 111.3 | F36: 0 | G36: 0 | H36: － | I36: 1949917 | J36: 2243648 | K36: 86.9 | L36: 2041873 | M36: 2326243 | N36: 87.8
B37: メルコトラベル（株） | C37: 702005 | D37: 595474 | E37: 117.9 | F37: 0 | G37: 0 | H37: － | I37: 843538 | J37: 849214 | K37: 99.3 | L37: 1545543 | M37: 1444688 | N37: 107
B38: （株）フジ・トラベル・サービス | C38: 188636 | D38: 180570 | E38: 104.5 | F38: 2638 | G38: 10054 | H38: 26.2 | I38: 1108027 | J38: 1189119 | K38: 93.2 | L38: 1299301 | M38: 1379743 | N38: 94.2
B39: （株）南海国際旅行 | C39: 339634 | D39: 304809 | E39: 111.4 | F39: 61403 | G39: 49244 | H39: 124.7 | I39: 980175 | J39: 1003352 | K39: 97.7 | L39: 1381212 | M39: 1357405 | N39: 101.8
B40: WILLER TRAVEL（株） | C40: 0 | D40: － | E40: － | F40: 71161 | G40: － | H40: － | I40: 2089255 | J40: － | K40: － | L40: 2160416 | M40: － | N40: －
B41: （株）日産クリエイティブサービス | C41: 826136 | D41: 842793 | E41: 98 | F41: 0 | G41: 0 | H41: － | I41: 195231 | J41: 196825 | K41: 99.2 | L41: 1021367 | M41: 1039618 | N41: 98.2
B42: 北海道旅客鉄道（株） | C42: 39215 | D42: 48265 | E42: 81.2 | F42: 0 | G42: 0 | H42: － | I42: 938629 | J42: 1227236 | K42: 76.5 | L42: 977844 | M42: 1275501 | N42: 76.7
B43: （株）小田急トラベル | C43: 169801 | D43: 167708 | E43: 101.2 | F43: 29140 | G43: 29219 | H43: 99.7 | I43: 960240 | J43: 985341 | K43: 97.5 | L43: 1159181 | M43: 1182268 | N43: 98
B44: イオンコンパス（株） | C44: 321236 | D44: 392649 | E44: 81.8 | F44: 38725 | G44: 16523 | H44: 234.4 | I44: 1019468 | J44: 927466 | K44: 109.9 | L44: 1379429 | M44: 1336638 | N44: 103.2
B45: 京成トラベルサービス（株） | C45: 80488 | D45: 83458 | E45: 96.4 | F45: 4200 | G45: 1383 | H45: 303.7 | I45: 1072493 | J45: 1038126 | K45: 103.3 | L45: 1157181 | M45: 1122967 | N45: 103
B46: ケイライントラベル（株） | C46: 625503 | D46: 572295 | E46: 109.3 | F46: 0 | G46: 0 | H46: － | I46: 44025 | J46: 47367 | K46: 92.9 | L46: 669528 | M46: 619662 | N46: 108
B47: 名鉄観光バス（株） | C47: 4951 | D47: 3452 | E47: 143.4 | F47: 2711 | G47: 0 | H47: － | I47: 545607 | J47: 542723 | K47: 100.5 | L47: 553269 | M47: 546175 | N47: 101.3
B48: （株）ヤマハトラベルサービス | C48: 366888 | D48: 411361 | E48: 89.2 | F48: 104843 | G48: 7768 | H48: 1349.7 | I48: 207097 | J48: 200663 | K48: 103.2 | L48: 678828 | M48: 619792 | N48: 109.5
B49: （株）PTS | C49: 657829 | D49: 660268 | E49: 99.6 | F49: 2510 | G49: 7185 | H49: 34.9 | I49: 996970 | J49: 983962 | K49: 101.3 | L49: 1657309 | M49: 1651415 | N49: 100.4
B50: 西武トラベル（株） | C50: 215109 | D50: 162572 | E50: 132.3 | F50: 24347 | G50: 22661 | H50: 107.4 | I50: 266999 | J50: 236268 | K50: 113 | L50: 506455 | M50: 421501 | N50: 120.2
B51: （株）JAL JTAセールス | C51: 0 | D51: 0 | E51: － | F51: 0 | G51: 0 | H51: － | I51: 449566 | J51: 501489 | K51: 89.6 | L51: 449566 | M51: 501489 | N51: 89.6
B52: 菱和ダイヤモンド航空サービス（株） | C52: 508343 | D52: 387419 | E52: 131.2 | F52: 0 | G52: 0 | H52: － | I52: 7743 | J52: 18357 | K52: 42.2 | L52: 516086 | M52: 405776 | N52: 127.2
B53: （株）トラベル日本 | C53: 168649 | D53: 158654 | E53: 106.3 | F53: 52 | G53: 24 | H53: 216.7 | I53: 229171 | J53: 213155 | K53: 107.5 | L53: 397872 | M53: 371833 | N53: 107
B54: 合 計 | C54: 194125576 | D54: 176760311 | E54: 109.8 | F54: 21462799 | G54: 17524193 | H54: 122.5 | I54: 305077689 | J54: 307180127 | K54: 99.3 | L54: 520666065 | M54: 501464632 | N54: 103.8
C56: ※JTBグループは、15社内取引を相殺し合計した数値
C57: JTBグループ15社 ： ジェイティービー、JTB北海道、JTB東北、JTB関東、JTB首都圏、JTB中部、JTB西日本、JTB中国四国、JTB九州、JTB東海、JTB関
C58: 西、JTBコーポレートセールス、i.JTB、JTBグローバル・マーケティング＆トラベル、JTB国内旅行企画
C60: ※KNT-CTホールディングスは、8社内取引を相殺し、合計した数値
C61: KNT-CTホールディングス8社 ： 近畿日本ツーリスト、近畿日本ツーリスト北海道、近畿日本ツーリスト東北、近畿日本ツーリスト中国四国、近畿日本ツーリ
C62: スト九州、ユナイテッドツアーズ、クラブツーリズム、近畿日本ツーリスト個人旅行
C64: ※エイチ・アイ・エスは、5社内取引を相殺し、合計した数値
C65: エイチ・アイ・エス5社 ： エイチ・アイ・エス、オリオンツアー、クオリタ、クルーズプラネット、ジャパンホリデートラベル
C67: ※阪急交通社は、3社内取引を相殺し、合計したもの
C68: 阪急交通社3社 ： 阪急交通社、阪急阪神ビジネストラベル、阪神トラベル・インターナショナル
C70: ※WILLER TRAVELは平成27年度のデータがないため、合計数値は同社分を除いて集計
C72: ※■は新たに追加した会社

Sheet 1Q
B1: 主要旅行業者の旅行取扱状況速報
F2: 2016年度第1四半期
B3: 会 社 名 | C3: 海 外 旅 行 | F3: 外 国 人 旅 行 | I3: 国 内 旅 行 | L3: 合 計
C4: 取扱額（千円） | D4: 前年（千円） | E4: 前年比（％） | F4: 取扱額（千円） | G4: 前年（千円） | H4: 前年比（％） | I4: 取扱額（千円） | J4: 前年（千円） | K4: 前年比（％） | L4: 取扱額（千円） | M4: 前年（千円） | N4: 前年比（％）
B5: ジェイティービー（15社計 ＊2） | C5: ='4月'!C5+'5月'!C5+'6月'!C5 -> 86505331 | D5: ='4月'!D5+'5月'!D5+'6月'!D5 -> 92342948 | E5: =C5/D5*100 -> 93.678329 | F5: ='4月'!F5+'5月'!F5+'6月'!F5 -> 24427205 | G5: ='4月'!G5+'5月'!G5+'6月'!G5 -> 20274246 | H5: =F5/G5*100 -> 120.48391 | I5: ='4月'!I5+'5月'!I5+'6月'!I5 -> 225609850 | J5: ='4月'!J5+'5月'!J5+'6月'!J5 -> 232574066 | K5: =I5/J5*100 -> 97.005592 | L5: ='4月'!L5+'5月'!L5+'6月'!L5 -> 336542386 | M5: ='4月'!M5+'5月'!M5+'6月'!M5 -> 345191260 | N5: =L5/M5*100 -> 97.494469
B6: KNT-CTホールディングス（8社計 ＊3） | C6: ='4月'!C6+'5月'!C6+'6月'!C6 -> 30161925 | D6: ='4月'!D6+'5月'!D6+'6月'!D6 -> 33318888 | E6: =C6/D6*100 -> 90.525005 | F6: ='4月'!F6+'5月'!F6+'6月'!F6 -> 5091770 | G6: ='4月'!G6+'5月'!G6+'6月'!G6 -> 3807668 | H6: =F6/G6*100 -> 133.72411 | I6: ='4月'!I6+'5月'!I6+'6月'!I6 -> 81511822 | J6: ='4月'!J6+'5月'!J6+'6月'!J6 -> 90912507 | K6: =I6/J6*100 -> 89.659635 | L6: ='4月'!L6+'5月'!L6+'6月'!L6 -> 116765517 | M6: ='4月'!M6+'5月'!M6+'6月'!M6 -> 128039063 | N6: =L6/M6*100 -> 91.195229
B7: エイチ・アイ・エス（5社計 ＊4） | C7: ='4月'!C7+'5月'!C7+'6月'!C7 -> 69291087 | D7: ='4月'!D7+'5月'!D7+'6月'!D7 -> 69068674 | E7: =C7/D7*100 -> 100.32202 | F7: ='4月'!F7+'5月'!F7+'6月'!F7 -> 6044176 | G7: ='4月'!G7+'5月'!G7+'6月'!G7 -> 6396151 | H7: =F7/G7*100 -> 94.497081 | I7: ='4月'!I7+'5月'!I7+'6月'!I7 -> 10983897 | J7: ='4月'!J7+'5月'!J7+'6月'!J7 -> 10861741 | K7: =I7/J7*100 -> 101.12464 | L7: ='4月'!L7+'5月'!L7+'6月'!L7 -> 86319161 | M7: ='4月'!M7+'5月'!M7+'6月'!M7 -> 86326566 | N7: =L7/M7*100 -> 99.991422
B8: （株）日本旅行 | C8: ='4月'!C8+'5月'!C8+'6月'!C8 -> 26331926 | D8: ='4月'!D8+'5月'!D8+'6月'!D8 -> 28819851 | E8: =C8/D8*100 -> 91.367322 | F8: ='4月'!F8+'5月'!F8+'6月'!F8 -> 9895956 | G8: ='4月'!G8+'5月'!G8+'6月'!G8 -> 7798907 | H8: =F8/G8*100 -> 126.88901 | I8: ='4月'!I8+'5月'!I8+'6月'!I8 -> 64157886 | J8: ='4月'!J8+'5月'!J8+'6月'!J8 -> 65719879 | K8: =I8/J8*100 -> 97.623256 | L8: ='4月'!L8+'5月'!L8+'6月'!L8 -> 100385768 | M8: ='4月'!M8+'5月'!M8+'6月'!M8 -> 102338637 | N8: =L8/M8*100 -> 98.091758
B9: 阪急交通社（3社計 ＊5） | C9: ='4月'!C9+'5月'!C9+'6月'!C9 -> 46005214 | D9: ='4月'!D9+'5月'!D9+'6月'!D9 -> 53695711 | E9: =C9/D9*100 -> 85.677633 | F9: ='4月'!F9+'5月'!F9+'6月'!F9 -> 1079315 | G9: ='4月'!G9+'5月'!G9+'6月'!G9 -> 814039 | H9: =F9/G9*100 -> 132.58763 | I9: ='4月'!I9+'5月'!I9+'6月'!I9 -> 33479902 | J9: ='4月'!J9+'5月'!J9+'6月'!J9 -> 36697589 | K9: =I9/J9*100 -> 91.231884 | L9: ='4月'!L9+'5月'!L9+'6月'!L9 -> 80564431 | M9: ='4月'!M9+'5月'!M9+'6月'!M9 -> 91207339 | N9: =L9/M9*100 -> 88.331084
B10: 楽天(株) | C10: ='4月'!C10+'5月'!C10+'6月'!C10 -> 4732202 | D10: ='4月'!D10+'5月'!D10+'6月'!D10 -> 4526115 | E10: =C10/D10*100 -> 104.55329 | F10: ='4月'!F10+'5月'!F10+'6月'!F10 -> 2236364 | G10: ='4月'!G10+'5月'!G10+'6月'!G10 -> 1638875 | H10: =F10/G10*100 -> 136.45726 | I10: ='4月'!I10+'5月'!I10+'6月'!I10 -> 109180904 | J10: ='4月'!J10+'5月'!J10+'6月'!J10 -> 98732665 | K10: =I10/J10*100 -> 110.58235 | L10: ='4月'!L10+'5月'!L10+'6月'!L10 -> 116149470 | M10: ='4月'!M10+'5月'!M10+'6月'!M10 -> 104897655 | N10: =L10/M10*100 -> 110.72647
B11: （株）JTBワールドバケーションズ | C11: ='4月'!C11+'5月'!C11+'6月'!C11 -> 42400253 | D11: ='4月'!D11+'5月'!D11+'6月'!D11 -> 45140961 | E11: =C11/D11*100 -> 93.928556 | F11: ='4月'!F11+'5月'!F11+'6月'!F11 -> 0 | G11: ='4月'!G11+'5月'!G11+'6月'!G11 -> 0 | H11: － | I11: ='4月'!I11+'5月'!I11+'6月'!I11 -> 0 | J11: ='4月'!J11+'5月'!J11+'6月'!J11 -> 0 | K11: － | L11: ='4月'!L11+'5月'!L11+'6月'!L11 -> 42400253 | M11: ='4月'!M11+'5月'!M11+'6月'!M11 -> 45140961 | N11: =L11/M11*100 -> 93.928556
B12: ANAセールス（株） | C12: ='4月'!C12+'5月'!C12+'6月'!C12 -> 4468000 | D12: ='4月'!D12+'5月'!D12+'6月'!D12 -> 4996000 | E12: =C12/D12*100 -> 89.431545 | F12: ='4月'!F12+'5月'!F12+'6月'!F12 -> 363000 | G12: ='4月'!G12+'5月'!G12+'6月'!G12 -> 424000 | H12: =F12/G12*100 -> 85.613208 | I12: ='4月'!I12+'5月'!I12+'6月'!I12 -> 38625000 | J12: ='4月'!J12+'5月'!J12+'6月'!J12 -> 39843000 | K12: =I12/J12*100 -> 96.943001 | L12: ='4月'!L12+'5月'!L12+'6月'!L12 -> 43456000 | M12: ='4月'!M12+'5月'!M12+'6月'!M12 -> 45263000 | N12: =L12/M12*100 -> 96.007777
B13: （株）ジャルパック | C13: ='4月'!C13+'5月'!C13+'6月'!C13 -> 11716747 | D13: ='4月'!D13+'5月'!D13+'6月'!D13 -> 12375362 | E13: =C13/D13*100 -> 94.678014 | F13: ='4月'!F13+'5月'!F13+'6月'!F13 -> 9263 | G13: ='4月'!G13+'5月'!G13+'6月'!G13 -> 11189 | H13: =F13/G13*100 -> 82.786665 | I13: ='4月'!I13+'5月'!I13+'6月'!I13 -> 26092897 | J13: ='4月'!J13+'5月'!J13+'6月'!J13 -> 25128543 | K13: =I13/J13*100 -> 103.83768 | L13: ='4月'!L13+'5月'!L13+'6月'!L13 -> 37818907 | M13: ='4月'!M13+'5月'!M13+'6月'!M13 -> 37515094 | N13: =L13/M13*100 -> 100.80984
B14: 東武トップツアーズ（株） | C14: ='4月'!C14+'5月'!C14+'6月'!C14 -> 6051309 | D14: ='4月'!D14+'5月'!D14+'6月'!D14 -> 7748263 | E14: =C14/D14*100 -> 78.098911 | F14: ='4月'!F14+'5月'!F14+'6月'!F14 -> 1406013 | G14: ='4月'!G14+'5月'!G14+'6月'!G14 -> 1439182 | H14: =F14/G14*100 -> 97.695288 | I14: ='4月'!I14+'5月'!I14+'6月'!I14 -> 25544024 | J14: ='4月'!J14+'5月'!J14+'6月'!J14 -> 28428541 | K14: =I14/J14*100 -> 89.853447 | L14: ='4月'!L14+'5月'!L14+'6月'!L14 -> 33001346 | M14: ='4月'!M14+'5月'!M14+'6月'!M14 -> 37615986 | N14: =L14/M14*100 -> 87.732237
B15: （株）ジェイアール東海ツアーズ | C15: ='4月'!C15+'5月'!C15+'6月'!C15 -> 326743 | D15: ='4月'!D15+'5月'!D15+'6月'!D15 -> 352527 | E15: =C15/D15*100 -> 92.68595 | F15: ='4月'!F15+'5月'!F15+'6月'!F15 -> 129386 | G15: ='4月'!G15+'5月'!G15+'6月'!G15 -> 108312 | H15: =F15/G15*100 -> 119.45675 | I15: ='4月'!I15+'5月'!I15+'6月'!I15 -> 21149947 | J15: ='4月'!J15+'5月'!J15+'6月'!J15 -> 22155717 | K15: =I15/J15*100 -> 95.460449 | L15: ='4月'!L15+'5月'!L15+'6月'!L15 -> 21606076 | M15: ='4月'!M15+'5月'!M15+'6月'!M15 -> 22616555 | N15: =L15/M15*100 -> 95.532127
B16: （株）JTBビジネストラベルソリューションズ | C16: ='4月'!C16+'5月'!C16+'6月'!C16 -> 15388435 | D16: ='4月'!D16+'5月'!D16+'6月'!D16 -> 15577930 | E16: =C16/D16*100 -> 98.783568 | F16: ='4月'!F16+'5月'!F16+'6月'!F16 -> 97581 | G16: ='4月'!G16+'5月'!G16+'6月'!G16 -> 64753 | H16: =F16/G16*100 -> 150.69726 | I16: ='4月'!I16+'5月'!I16+'6月'!I16 -> 10977720 | J16: ='4月'!J16+'5月'!J16+'6月'!J16 -> 11114632 | K16: =I16/J16*100 -> 98.768182 | L16: ='4月'!L16+'5月'!L16+'6月'!L16 -> 26463736 | M16: ='4月'!M16+'5月'!M16+'6月'!M16 -> 26757315 | N16: =L16/M16*100 -> 98.902808
B17: （株）農協観光 | C17: ='4月'!C17+'5月'!C17+'6月'!C17 -> 948483 | D17: ='4月'!D17+'5月'!D17+'6月'!D17 -> 1010917 | E17: =C17/D17*100 -> 93.824023 | F17: ='4月'!F17+'5月'!F17+'6月'!F17 -> 699615 | G17: ='4月'!G17+'5月'!G17+'6月'!G17 -> 626801 | H17: =F17/G17*100 -> 111.61677 | I17: ='4月'!I17+'5月'!I17+'6月'!I17 -> 11299684 | J17: ='4月'!J17+'5月'!J17+'6月'!J17 -> 11512987 | K17: =I17/J17*100 -> 98.147284 | L17: ='4月'!L17+'5月'!L17+'6月'!L17 -> 12947782 | M17: ='4月'!M17+'5月'!M17+'6月'!M17 -> 13150705 | N17: =L17/M17*100 -> 98.456942
B18: 名鉄観光サービス（株） | C18: ='4月'!C18+'5月'!C18+'6月'!C18 -> 3008525 | D18: ='4月'!D18+'5月'!D18+'6月'!D18 -> 2884263 | E18: =C18/D18*100 -> 104.30828 | F18: ='4月'!F18+'5月'!F18+'6月'!F18 -> 422934 | G18: ='4月'!G18+'5月'!G18+'6月'!G18 -> 479488 | H18: =F18/G18*100 -> 88.205336 | I18: ='4月'!I18+'5月'!I18+'6月'!I18 -> 19295036 | J18: ='4月'!J18+'5月'!J18+'6月'!J18 -> 19547063 | K18: =I18/J18*100 -> 98.710666 | L18: ='4月'!L18+'5月'!L18+'6月'!L18 -> 22726495 | M18: ='4月'!M18+'5月'!M18+'6月'!M18 -> 22910814 | N18: =L18/M18*100 -> 99.195493
B19: （株）読売旅行 | C19: ='4月'!C19+'5月'!C19+'6月'!C19 -> 2033935 | D19: ='4月'!D19+'5月'!D19+'6月'!D19 -> 1928639 | E19: =C19/D19*100 -> 105.4596 | F19: ='4月'!F19+'5月'!F19+'6月'!F19 -> 13894 | G19: ='4月'!G19+'5月'!G19+'6月'!G19 -> 10331 | H19: =F19/G19*100 -> 134.48843 | I19: ='4月'!I19+'5月'!I19+'6月'!I19 -> 11414332 | J19: ='4月'!J19+'5月'!J19+'6月'!J19 -> 12413574 | K19: =I19/J19*100 -> 91.950408 | L19: ='4月'!L19+'5月'!L19+'6月'!L19 -> 13462161 | M19: ='4月'!M19+'5月'!M19+'6月'!M19 -> 14352544 | N19: =L19/M19*100 -> 93.79634
B20: 日通旅行（株） | C20: ='4月'!C20+'5月'!C20+'6月'!C20 -> 7944444 | D20: ='4月'!D20+'5月'!D20+'6月'!D20 -> 9790598 | E20: =C20/D20*100 -> 81.143603 | F20: ='4月'!F20+'5月'!F20+'6月'!F20 -> 386768 | G20: ='4月'!G20+'5月'!G20+'6月'!G20 -> 251035 | H20: =F20/G20*100 -> 154.06935 | I20: ='4月'!I20+'5月'!I20+'6月'!I20 -> 1861105 | J20: ='4月'!J20+'5月'!J20+'6月'!J20 -> 1722434 | K20: =I20/J20*100 -> 108.05087 | L20: ='4月'!L20+'5月'!L20+'6月'!L20 -> 10192317 | M20: ='4月'!M20+'5月'!M20+'6月'!M20 -> 11764067 | N20: =L20/M20*100 -> 86.639399
B21: （株）DeNAトラベル | C21: ='4月'!C21+'5月'!C21+'6月'!C21 -> 9857674 | D21: ='4月'!D21+'5月'!D21+'6月'!D21 -> 8939766 | E21: =C21/D21*100 -> 110.2677 | F21: ='4月'!F21+'5月'!F21+'6月'!F21 -> 1024444 | G21: ='4月'!G21+'5月'!G21+'6月'!G21 -> 27740 | H21: =F21/G21*100 -> 3693.0209 | I21: ='4月'!I21+'5月'!I21+'6月'!I21 -> 797138 | J21: ='4月'!J21+'5月'!J21+'6月'!J21 -> 447153 | K21: =I21/J21*100 -> 178.26963 | L21: ='4月'!L21+'5月'!L21+'6月'!L21 -> 11679256 | M21: ='4月'!M21+'5月'!M21+'6月'!M21 -> 9414659 | N21: =L21/M21*100 -> 124.05395
B22: 西鉄旅行（株） | C22: ='4月'!C22+'5月'!C22+'6月'!C22 -> 3157209 | D22: ='4月'!D22+'5月'!D22+'6月'!D22 -> 3563045 | E22: =C22/D22*100 -> 88.609855 | F22: ='4月'!F22+'5月'!F22+'6月'!F22 -> 74235 | G22: ='4月'!G22+'5月'!G22+'6月'!G22 -> 62021 | H22: =F22/G22*100 -> 119.69333 | I22: ='4月'!I22+'5月'!I22+'6月'!I22 -> 4686207 | J22: ='4月'!J22+'5月'!J22+'6月'!J22 -> 5137836 | K22: =I22/J22*100 -> 91.209743 | L22: ='4月'!L22+'5月'!L22+'6月'!L22 -> 7917651 | M22: ='4月'!M22+'5月'!M22+'6月'!M22 -> 8762902 | N22: =L22/M22*100 -> 90.354211
B23: ビッグホリデー（株） | C23: ='4月'!C23+'5月'!C23+'6月'!C23 -> 1103126 | D23: ='4月'!D23+'5月'!D23+'6月'!D23 -> 1099816 | E23: =C23/D23*100 -> 100.30096 | F23: ='4月'!F23+'5月'!F23+'6月'!F23 -> 0 | G23: ='4月'!G23+'5月'!G23+'6月'!G23 -> 0 | H23: － | I23: ='4月'!I23+'5月'!I23+'6月'!I23 -> 8469412 | J23: ='4月'!J23+'5月'!J23+'6月'!J23 -> 8557097 | K23: =I23/J23*100 -> 98.975295 | L23: ='4月'!L23+'5月'!L23+'6月'!L23 -> 9572538 | M23: ='4月'!M23+'5月'!M23+'6月'!M23 -> 9656913 | N23: =L23/M23*100 -> 99.126274
B24: 日新航空サービス（株） | C24: ='4月'!C24+'5月'!C24+'6月'!C24 -> 10260944 | D24: ='4月'!D24+'5月'!D24+'6月'!D24 -> 10358024 | E24: =C24/D24*100 -> 99.062756 | F24: ='4月'!F24+'5月'!F24+'6月'!F24 -> 0 | G24: ='4月'!G24+'5月'!G24+'6月'!G24 -> 0 | H24: － | I24: ='4月'!I24+'5月'!I24+'6月'!I24 -> 1114913 | J24: ='4月'!J24+'5月'!J24+'6月'!J24 -> 1127368 | K24: =I24/J24*100 -> 98.895214 | L24: ='4月'!L24+'5月'!L24+'6月'!L24 -> 11375857 | M24: ='4月'!M24+'5月'!M24+'6月'!M24 -> 11485392 | N24: =L24/M24*100 -> 99.04631
B25: エムオーツーリスト（株） | C25: ='4月'!C25+'5月'!C25+'6月'!C25 -> 9415693 | D25: ='4月'!D25+'5月'!D25+'6月'!D25 -> 9583733 | E25: =C25/D25*100 -> 98.246612 | F25: ='4月'!F25+'5月'!F25+'6月'!F25 -> 14900 | G25: ='4月'!G25+'5月'!G25+'6月'!G25 -> 11792 | H25: =F25/G25*100 -> 126.35685 | I25: ='4月'!I25+'5月'!I25+'6月'!I25 -> 866432 | J25: ='4月'!J25+'5月'!J25+'6月'!J25 -> 908051 | K25: =I25/J25*100 -> 95.416667 | L25: ='4月'!L25+'5月'!L25+'6月'!L25 -> 10297025 | M25: ='4月'!M25+'5月'!M25+'6月'!M25 -> 10503576 | N25: =L25/M25*100 -> 98.033517
B26: （株）日立トラベルビューロー | C26: ='4月'!C26+'5月'!C26+'6月'!C26 -> 5013727 | D26: ='4月'!D26+'5月'!D26+'6月'!D26 -> 5010879 | E26: =C26/D26*100 -> 100.05684 | F26: ='4月'!F26+'5月'!F26+'6月'!F26 -> 14311 | G26: ='4月'!G26+'5月'!G26+'6月'!G26 -> 13030 | H26: =F26/G26*100 -> 109.83116 | I26: ='4月'!I26+'5月'!I26+'6月'!I26 -> 2993851 | J26: ='4月'!J26+'5月'!J26+'6月'!J26 -> 2488115 | K26: =I26/J26*100 -> 120.32607 | L26: ='4月'!L26+'5月'!L26+'6月'!L26 -> 8021889 | M26: ='4月'!M26+'5月'!M26+'6月'!M26 -> 7512024 | N26: =L26/M26*100 -> 106.78732
B27: （株）タビックスジャパン | C27: ='4月'!C27+'5月'!C27+'6月'!C27 -> 1122360 | D27: ='4月'!D27+'5月'!D27+'6月'!D27 -> 1116618 | E27: =C27/D27*100 -> 100.51423 | F27: ='4月'!F27+'5月'!F27+'6月'!F27 -> 20734 | G27: ='4月'!G27+'5月'!G27+'6月'!G27 -> 5870 | H27: =F27/G27*100 -> 353.21976 | I27: ='4月'!I27+'5月'!I27+'6月'!I27 -> 5739599 | J27: ='4月'!J27+'5月'!J27+'6月'!J27 -> 6496970 | K27: =I27/J27*100 -> 88.342704 | L27: ='4月'!L27+'5月'!L27+'6月'!L27 -> 6882693 | M27: ='4月'!M27+'5月'!M27+'6月'!M27 -> 7619458 | N27: =L27/M27*100 -> 90.33048
B28: 郵船トラベル（株） | C28: ='4月'!C28+'5月'!C28+'6月'!C28 -> 6956667 | D28: ='4月'!D28+'5月'!D28+'6月'!D28 -> 8092962 | E28: =C28/D28*100 -> 85.959467 | F28: ='4月'!F28+'5月'!F28+'6月'!F28 -> 0 | G28: ='4月'!G28+'5月'!G28+'6月'!G28 -> 0 | H28: － | I28: ='4月'!I28+'5月'!I28+'6月'!I28 -> 684996 | J28: ='4月'!J28+'5月'!J28+'6月'!J28 -> 502537 | K28: =I28/J28*100 -> 136.30758 | L28: ='4月'!L28+'5月'!L28+'6月'!L28 -> 7641663 | M28: ='4月'!M28+'5月'!M28+'6月'!M28 -> 8595499 | N28: =L28/M28*100 -> 88.903076
B29: （株）エヌオーイー | C29: ='4月'!C29+'5月'!C29+'6月'!C29 -> 6647681 | D29: ='4月'!D29+'5月'!D29+'6月'!D29 -> 6532024 | E29: =C29/D29*100 -> 101.77062 | F29: ='4月'!F29+'5月'!F29+'6月'!F29 -> 28857 | G29: ='4月'!G29+'5月'!G29+'6月'!G29 -> 22887 | H29: =F29/G29*100 -> 126.08468 | I29: ='4月'!I29+'5月'!I29+'6月'!I29 -> 337722 | J29: ='4月'!J29+'5月'!J29+'6月'!J29 -> 305047 | K29: =I29/J29*100 -> 110.71146 | L29: ='4月'!L29+'5月'!L29+'6月'!L29 -> 7014260 | M29: ='4月'!M29+'5月'!M29+'6月'!M29 -> 6859958 | N29: =L29/M29*100 -> 102.24931
B30: 沖縄ツーリスト（株） | C30: ='4月'!C30+'5月'!C30+'6月'!C30 -> 381917 | D30: ='4月'!D30+'5月'!D30+'6月'!D30 -> 385089 | E30: =C30/D30*100 -> 99.176294 | F30: ='4月'!F30+'5月'!F30+'6月'!F30 -> 193973 | G30: ='4月'!G30+'5月'!G30+'6月'!G30 -> 273001 | H30: =F30/G30*100 -> 71.052121 | I30: ='4月'!I30+'5月'!I30+'6月'!I30 -> 7668505 | J30: ='4月'!J30+'5月'!J30+'6月'!J30 -> 7842881 | K30: =I30/J30*100 -> 97.776633 | L30: ='4月'!L30+'5月'!L30+'6月'!L30 -> 8244395 | M30: ='4月'!M30+'5月'!M30+'6月'!M30 -> 8500971 | N30: =L30/M30*100 -> 96.981804
B31: （株）IACEトラベル | C31: ='4月'!C31+'5月'!C31+'6月'!C31 -> 4872789 | D31: ='4月'!D31+'5月'!D31+'6月'!D31 -> 5030818 | E31: =C31/D31*100 -> 96.858781 | F31: ='4月'!F31+'5月'!F31+'6月'!F31 -> 0 | G31: ='4月'!G31+'5月'!G31+'6月'!G31 -> 0 | H31: － | I31: ='4月'!I31+'5月'!I31+'6月'!I31 -> 893406 | J31: ='4月'!J31+'5月'!J31+'6月'!J31 -> 743150 | K31: =I31/J31*100 -> 120.2188 | L31: ='4月'!L31+'5月'!L31+'6月'!L31 -> 5766195 | M31: ='4月'!M31+'5月'!M31+'6月'!M31 -> 5773968 | N31: =L31/M31*100 -> 99.865379
B32: （株）旅工房 | C32: ='4月'!C32+'5月'!C32+'6月'!C32 -> 4009222 | D32: ='4月'!D32+'5月'!D32+'6月'!D32 -> 4181966 | E32: =C32/D32*100 -> 95.869311 | F32: ='4月'!F32+'5月'!F32+'6月'!F32 -> 113670 | G32: ='4月'!G32+'5月'!G32+'6月'!G32 -> 92001 | H32: =F32/G32*100 -> 123.553 | I32: ='4月'!I32+'5月'!I32+'6月'!I32 -> 137029 | J32: ='4月'!J32+'5月'!J32+'6月'!J32 -> 192261 | K32: =I32/J32*100 -> 71.272385 | L32: ='4月'!L32+'5月'!L32+'6月'!L32 -> 4259921 | M32: ='4月'!M32+'5月'!M32+'6月'!M32 -> 4466228 | N32: =L32/M32*100 -> 95.380733
B33: （株）トヨタツーリストインターナショナル | C33: ='4月'!C33+'5月'!C33+'6月'!C33 -> 3299308 | D33: ='4月'!D33+'5月'!D33+'6月'!D33 -> 3934726 | E33: =C33/D33*100 -> 83.851023 | F33: ='4月'!F33+'5月'!F33+'6月'!F33 -> 52298 | G33: ='4月'!G33+'5月'!G33+'6月'!G33 -> 22191 | H33: =F33/G33*100 -> 235.67212 | I33: ='4月'!I33+'5月'!I33+'6月'!I33 -> 586272 | J33: ='4月'!J33+'5月'!J33+'6月'!J33 -> 469796 | K33: =I33/J33*100 -> 124.79289 | L33: ='4月'!L33+'5月'!L33+'6月'!L33 -> 3937878 | M33: ='4月'!M33+'5月'!M33+'6月'!M33 -> 4426713 | N33: =L33/M33*100 -> 88.957156
B34: 京王観光（株） | C34: ='4月'!C34+'5月'!C34+'6月'!C34 -> 714323 | D34: ='4月'!D34+'5月'!D34+'6月'!D34 -> 671680 | E34: =C34/D34*100 -> 106.34871 | F34: ='4月'!F34+'5月'!F34+'6月'!F34 -> 122047 | G34: ='4月'!G34+'5月'!G34+'6月'!G34 -> 88643 | H34: =F34/G34*100 -> 137.68374 | I34: ='4月'!I34+'5月'!I34+'6月'!I34 -> 4304499 | J34: ='4月'!J34+'5月'!J34+'6月'!J34 -> 4291814 | K34: =I34/J34*100 -> 100.29556 | L34: ='4月'!L34+'5月'!L34+'6月'!L34 -> 5140869 | M34: ='4月'!M34+'5月'!M34+'6月'!M34 -> 5052137 | N34: =L34/M34*100 -> 101.75633
B35: 東日観光（株） | C35: ='4月'!C35+'5月'!C35+'6月'!C35 -> 1178296 | D35: ='4月'!D35+'5月'!D35+'6月'!D35 -> 1295266 | E35: =C35/D35*100 -> 90.969422 | F35: ='4月'!F35+'5月'!F35+'6月'!F35 -> 855337 | G35: ='4月'!G35+'5月'!G35+'6月'!G35 -> 729976 | H35: =F35/G35*100 -> 117.1733 | I35: ='4月'!I35+'5月'!I35+'6月'!I35 -> 3221099 | J35: ='4月'!J35+'5月'!J35+'6月'!J35 -> 3414227 | K35: =I35/J35*100 -> 94.343434 | L35: ='4月'!L35+'5月'!L35+'6月'!L35 -> 5254732 | M35: ='4月'!M35+'5月'!M35+'6月'!M35 -> 5439469 | N35: =L35/M35*100 -> 96.603768
B36: 九州旅客鉄道（株） | C36: ='4月'!C36+'5月'!C36+'6月'!C36 -> 188256 | D36: ='4月'!D36+'5月'!D36+'6月'!D36 -> 242946 | E36: =C36/D36*100 -> 77.488825 | F36: ='4月'!F36+'5月'!F36+'6月'!F36 -> 0 | G36: ='4月'!G36+'5月'!G36+'6月'!G36 -> 0 | H36: － | I36: ='4月'!I36+'5月'!I36+'6月'!I36 -> 4337829 | J36: ='4月'!J36+'5月'!J36+'6月'!J36 -> 5346603 | K36: =I36/J36*100 -> 81.132431 | L36: ='4月'!L36+'5月'!L36+'6月'!L36 -> 4526085 | M36: ='4月'!M36+'5月'!M36+'6月'!M36 -> 5589549 | N36: =L36/M36*100 -> 80.974064
B37: メルコトラベル（株） | C37: ='4月'!C37+'5月'!C37+'6月'!C37 -> 1767875 | D37: ='4月'!D37+'5月'!D37+'6月'!D37 -> 1899360 | E37: =C37/D37*100 -> 93.077405 | F37: ='4月'!F37+'5月'!F37+'6月'!F37 -> 1264 | G37: ='4月'!G37+'5月'!G37+'6月'!G37 -> 2563 | H37: =F37/G37*100 -> 49.317206 | I37: ='4月'!I37+'5月'!I37+'6月'!I37 -> 2187052 | J37: ='4月'!J37+'5月'!J37+'6月'!J37 -> 2231228 | K37: =I37/J37*100 -> 98.020104 | L37: ='4月'!L37+'5月'!L37+'6月'!L37 -> 3956191 | M37: ='4月'!M37+'5月'!M37+'6月'!M37 -> 4133151 | N37: =L37/M37*100 -> 95.718521
B38: （株）フジ・トラベル・サービス | C38: ='4月'!C38+'5月'!C38+'6月'!C38 -> 445718 | D38: ='4月'!D38+'5月'!D38+'6月'!D38 -> 561803 | E38: =C38/D38*100 -> 79.337063 | F38: ='4月'!F38+'5月'!F38+'6月'!F38 -> 30371 | G38: ='4月'!G38+'5月'!G38+'6月'!G38 -> 22720 | H38: =F38/G38*100 -> 133.67518 | I38: ='4月'!I38+'5月'!I38+'6月'!I38 -> 2752801 | J38: ='4月'!J38+'5月'!J38+'6月'!J38 -> 3031131 | K38: =I38/J38*100 -> 90.817619 | L38: ='4月'!L38+'5月'!L38+'6月'!L38 -> 3228890 | M38: ='4月'!M38+'5月'!M38+'6月'!M38 -> 3615654 | N38: =L38/M38*100 -> 89.303069
B39: （株）南海国際旅行 | C39: ='4月'!C39+'5月'!C39+'6月'!C39 -> 929050 | D39: ='4月'!D39+'5月'!D39+'6月'!D39 -> 959281 | E39: =C39/D39*100 -> 96.848577 | F39: ='4月'!F39+'5月'!F39+'6月'!F39 -> 94810 | G39: ='4月'!G39+'5月'!G39+'6月'!G39 -> 58417 | H39: =F39/G39*100 -> 162.29865 | I39: ='4月'!I39+'5月'!I39+'6月'!I39 -> 2369801 | J39: ='4月'!J39+'5月'!J39+'6月'!J39 -> 2839845 | K39: =I39/J39*100 -> 83.448252 | L39: ='4月'!L39+'5月'!L39+'6月'!L39 -> 3393661 | M39: ='4月'!M39+'5月'!M39+'6月'!M39 -> 3857543 | N39: =L39/M39*100 -> 87.974677
B40: WILLER TRAVEL（株） | C40: ='4月'!C40+'5月'!C40+'6月'!C40 -> 0 | D40: － | E40: － | F40: ='4月'!F40+'5月'!F40+'6月'!F40 -> 194674 | G40: － | H40: － | I40: ='4月'!I40+'5月'!I40+'6月'!I40 -> 2749019 | J40: － | K40: － | L40: ='4月'!L40+'5月'!L40+'6月'!L40 -> 2943693 | M40: － | N40: －
B41: （株）日産クリエイティブサービス | C41: ='4月'!C41+'5月'!C41+'6月'!C41 -> 2162405 | D41: ='4月'!D41+'5月'!D41+'6月'!D41 -> 2253285 | E41: =C41/D41*100 -> 95.966777 | F41: ='4月'!F41+'5月'!F41+'6月'!F41 -> 0 | G41: ='4月'!G41+'5月'!G41+'6月'!G41 -> 0 | H41: － | I41: ='4月'!I41+'5月'!I41+'6月'!I41 -> 469179 | J41: ='4月'!J41+'5月'!J41+'6月'!J41 -> 430288 | K41: =I41/J41*100 -> 109.03837 | L41: ='4月'!L41+'5月'!L41+'6月'!L41 -> 2631584 | M41: ='4月'!M41+'5月'!M41+'6月'!M41 -> 2683573 | N41: =L41/M41*100 -> 98.062695
B42: 北海道旅客鉄道（株） | C42: ='4月'!C42+'5月'!C42+'6月'!C42 -> 144764 | D42: ='4月'!D42+'5月'!D42+'6月'!D42 -> 195048 | E42: =C42/D42*100 -> 74.219679 | F42: ='4月'!F42+'5月'!F42+'6月'!F42 -> 0 | G42: ='4月'!G42+'5月'!G42+'6月'!G42 -> 0 | H42: － | I42: ='4月'!I42+'5月'!I42+'6月'!I42 -> 2748229 | J42: ='4月'!J42+'5月'!J42+'6月'!J42 -> 3347837 | K42: =I42/J42*100 -> 82.08969 | L42: ='4月'!L42+'5月'!L42+'6月'!L42 -> 2892993 | M42: ='4月'!M42+'5月'!M42+'6月'!M42 -> 3542885 | N42: =L42/M42*100 -> 81.656418
B43: （株）小田急トラベル | C43: ='4月'!C43+'5月'!C43+'6月'!C43 -> 592543 | D43: ='4月'!D43+'5月'!D43+'6月'!D43 -> 691419 | E43: =C43/D43*100 -> 85.699554 | F43: ='4月'!F43+'5月'!F43+'6月'!F43 -> 40934 | G43: ='4月'!G43+'5月'!G43+'6月'!G43 -> 46398 | H43: =F43/G43*100 -> 88.22363 | I43: ='4月'!I43+'5月'!I43+'6月'!I43 -> 2625755 | J43: ='4月'!J43+'5月'!J43+'6月'!J43 -> 2715665 | K43: =I43/J43*100 -> 96.689209 | L43: ='4月'!L43+'5月'!L43+'6月'!L43 -> 3259232 | M43: ='4月'!M43+'5月'!M43+'6月'!M43 -> 3453482 | N43: =L43/M43*100 -> 94.375242
B44: イオンコンパス（株） | C44: ='4月'!C44+'5月'!C44+'6月'!C44 -> 1168611 | D44: ='4月'!D44+'5月'!D44+'6月'!D44 -> 1274073 | E44: =C44/D44*100 -> 91.722452 | F44: ='4月'!F44+'5月'!F44+'6月'!F44 -> 44738 | G44: ='4月'!G44+'5月'!G44+'6月'!G44 -> 37955 | H44: =F44/G44*100 -> 117.87116 | I44: ='4月'!I44+'5月'!I44+'6月'!I44 -> 3055345 | J44: ='4月'!J44+'5月'!J44+'6月'!J44 -> 2742341 | K44: =I44/J44*100 -> 111.41375 | L44: ='4月'!L44+'5月'!L44+'6月'!L44 -> 4268694 | M44: ='4月'!M44+'5月'!M44+'6月'!M44 -> 4054369 | N44: =L44/M44*100 -> 105.28627
B45: 京成トラベルサービス（株） | C45: ='4月'!C45+'5月'!C45+'6月'!C45 -> 212061 | D45: ='4月'!D45+'5月'!D45+'6月'!D45 -> 243396 | E45: =C45/D45*100 -> 87.125918 | F45: ='4月'!F45+'5月'!F45+'6月'!F45 -> 4047 | G45: ='4月'!G45+'5月'!G45+'6月'!G45 -> 3452 | H45: =F45/G45*100 -> 117.23638 | I45: ='4月'!I45+'5月'!I45+'6月'!I45 -> 2883017 | J45: ='4月'!J45+'5月'!J45+'6月'!J45 -> 2794468 | K45: =I45/J45*100 -> 103.16872 | L45: ='4月'!L45+'5月'!L45+'6月'!L45 -> 3099125 | M45: ='4月'!M45+'5月'!M45+'6月'!M45 -> 3041316 | N45: =L45/M45*100 -> 101.90079
B46: ケイライントラベル（株） | C46: ='4月'!C46+'5月'!C46+'6月'!C46 -> 3698999 | D46: ='4月'!D46+'5月'!D46+'6月'!D46 -> 3746681 | E46: =C46/D46*100 -> 98.727354 | F46: ='4月'!F46+'5月'!F46+'6月'!F46 -> 0 | G46: ='4月'!G46+'5月'!G46+'6月'!G46 -> 0 | H46: － | I46: ='4月'!I46+'5月'!I46+'6月'!I46 -> 98130 | J46: ='4月'!J46+'5月'!J46+'6月'!J46 -> 105195 | K46: =I46/J46*100 -> 93.283901 | L46: ='4月'!L46+'5月'!L46+'6月'!L46 -> 3797129 | M46: ='4月'!M46+'5月'!M46+'6月'!M46 -> 3851876 | N46: =L46/M46*100 -> 98.578693
B47: 名鉄観光バス（株） | C47: ='4月'!C47+'5月'!C47+'6月'!C47 -> 26612 | D47: ='4月'!D47+'5月'!D47+'6月'!D47 -> 16293 | E47: =C47/D47*100 -> 163.33395 | F47: ='4月'!F47+'5月'!F47+'6月'!F47 -> 590 | G47: ='4月'!G47+'5月'!G47+'6月'!G47 -> 0 | H47: － | I47: ='4月'!I47+'5月'!I47+'6月'!I47 -> 1750070 | J47: ='4月'!J47+'5月'!J47+'6月'!J47 -> 1927912 | K47: =I47/J47*100 -> 90.775409 | L47: ='4月'!L47+'5月'!L47+'6月'!L47 -> 1777272 | M47: ='4月'!M47+'5月'!M47+'6月'!M47 -> 1944205 | N47: =L47/M47*100 -> 91.413817
B48: （株）ヤマハトラベルサービス | C48: ='4月'!C48+'5月'!C48+'6月'!C48 -> 984415 | D48: ='4月'!D48+'5月'!D48+'6月'!D48 -> 1099527 | E48: =C48/D48*100 -> 89.530771 | F48: ='4月'!F48+'5月'!F48+'6月'!F48 -> 75368 | G48: ='4月'!G48+'5月'!G48+'6月'!G48 -> 105593 | H48: =F48/G48*100 -> 71.375943 | I48: ='4月'!I48+'5月'!I48+'6月'!I48 -> 594295 | J48: ='4月'!J48+'5月'!J48+'6月'!J48 -> 595696 | K48: =I48/J48*100 -> 99.764813 | L48: ='4月'!L48+'5月'!L48+'6月'!L48 -> 1654078 | M48: ='4月'!M48+'5月'!M48+'6月'!M48 -> 1800816 | N48: =L48/M48*100 -> 91.851583
B49: （株）PTS | C49: ='4月'!C49+'5月'!C49+'6月'!C49 -> 1747405 | D49: ='4月'!D49+'5月'!D49+'6月'!D49 -> 1997512 | E49: =C49/D49*100 -> 87.479074 | F49: ='4月'!F49+'5月'!F49+'6月'!F49 -> 11475 | G49: ='4月'!G49+'5月'!G49+'6月'!G49 -> 15450 | H49: =F49/G49*100 -> 74.271845 | I49: ='4月'!I49+'5月'!I49+'6月'!I49 -> 2360876 | J49: ='4月'!J49+'5月'!J49+'6月'!J49 -> 2397030 | K49: =I49/J49*100 -> 98.491717 | L49: ='4月'!L49+'5月'!L49+'6月'!L49 -> 4119756 | M49: ='4月'!M49+'5月'!M49+'6月'!M49 -> 4409992 | N49: =L49/M49*100 -> 93.418673
B50: 西武トラベル（株） | C50: ='4月'!C50+'5月'!C50+'6月'!C50 -> 427697 | D50: ='4月'!D50+'5月'!D50+'6月'!D50 -> 506695 | E50: =C50/D50*100 -> 84.409161 | F50: ='4月'!F50+'5月'!F50+'6月'!F50 -> 98994 | G50: ='4月'!G50+'5月'!G50+'6月'!G50 -> 32281 | H50: =F50/G50*100 -> 306.66336 | I50: ='4月'!I50+'5月'!I50+'6月'!I50 -> 771898 | J50: ='4月'!J50+'5月'!J50+'6月'!J50 -> 934634 | K50: =I50/J50*100 -> 82.588264 | L50: ='4月'!L50+'5月'!L50+'6月'!L50 -> 1298589 | M50: ='4月'!M50+'5月'!M50+'6月'!M50 -> 1473610 | N50: =L50/M50*100 -> 88.122977
B51: （株）JAL JTAセールス | C51: ='4月'!C51+'5月'!C51+'6月'!C51 -> 0 | D51: ='4月'!D51+'5月'!D51+'6月'!D51 -> 0 | E51: － | F51: ='4月'!F51+'5月'!F51+'6月'!F51 -> 0 | G51: ='4月'!G51+'5月'!G51+'6月'!G51 -> 0 | H51: － | I51: ='4月'!I51+'5月'!I51+'6月'!I51 -> 967831 | J51: ='4月'!J51+'5月'!J51+'6月'!J51 -> 1158098 | K51: =I51/J51*100 -> 83.570734 | L51: ='4月'!L51+'5月'!L51+'6月'!L51 -> 967831 | M51: ='4月'!M51+'5月'!M51+'6月'!M51 -> 1158098 | N51: =L51/M51*100 -> 83.570734
B52: 菱和ダイヤモンド航空サービス（株） | C52: ='4月'!C52+'5月'!C52+'6月'!C52 -> 1020835 | D52: ='4月'!D52+'5月'!D52+'6月'!D52 -> 1029364 | E52: =C52/D52*100 -> 99.17143 | F52: ='4月'!F52+'5月'!F52+'6月'!F52 -> 0 | G52: ='4月'!G52+'5月'!G52+'6月'!G52 -> 0 | H52: － | I52: ='4月'!I52+'5月'!I52+'6月'!I52 -> 30791 | J52: ='4月'!J52+'5月'!J52+'6月'!J52 -> 30047 | K52: =I52/J52*100 -> 102.47612 | L52: ='4月'!L52+'5月'!L52+'6月'!L52 -> 1051626 | M52: ='4月'!M52+'5月'!M52+'6月'!M52 -> 1059411 | N52: =L52/M52*100 -> 99.265158
B53: （株）トラベル日本 | C53: ='4月'!C53+'5月'!C53+'6月'!C53 -> 585699 | D53: ='4月'!D53+'5月'!D53+'6月'!D53 -> 580771 | E53: =C53/D53*100 -> 100.84853 | F53: ='4月'!F53+'5月'!F53+'6月'!F53 -> 72 | G53: ='4月'!G53+'5月'!G53+'6月'!G53 -> 90 | H53: =F53/G53*100 -> 80 | I53: ='4月'!I53+'5月'!I53+'6月'!I53 -> 694425 | J53: ='4月'!J53+'5月'!J53+'6月'!J53 -> 728284 | K53: =I53/J53*100 -> 95.350852 | L53: ='4月'!L53+'5月'!L53+'6月'!L53 -> 1280196 | M53: ='4月'!M53+'5月'!M53+'6月'!M53 -> 1309145 | N53: =L53/M53*100 -> 97.788709
B54: 合計 | C54: ='4月'!C54+'5月'!C54+'6月'!C54 -> 441408440 | D54: ='4月'!D54+'5月'!D54+'6月'!D54 -> 470671513 | E54: =C54/D54*100 -> 93.782697 | F54: ='4月'!F54+'5月'!F54+'6月'!F54 -> 55415383 | G54: ='4月'!G54+'5月'!G54+'6月'!G54 -> 45819048 | H54: =F54/G54*100 -> 120.94399 | I54: ='4月'!I54+'5月'!I54+'6月'!I54 -> 767131429 | J54: ='4月'!J54+'5月'!J54+'6月'!J54 -> 783645543 | K54: =I54/J54*100 -> 97.892655 | L54: ='4月'!L54+'5月'!L54+'6月'!L54 -> 1263955253 | M54: ='4月'!M54+'5月'!M54+'6月'!M54 -> 1300136103 | N54: =L54/M54*100 -> 97.217149
C56: ※JTBグループは、15社内取引を相殺し合計した数値
C57: JTBグループ15社 ： ジェイティービー、JTB北海道、JTB東北、JTB関東、JTB首都圏、JTB中部、JTB西日本、JTB中国四国、JTB九州、JTB東海、JTB関
C58: 西、JTBコーポレートセールス、i.JTB、JTBグローバル・マーケティング＆トラベル、JTB国内旅行企画
C60: ※KNT-CTホールディングスは、8社内取引を相殺し、合計した数値
C61: KNT-CTホールディングス8社 ： 近畿日本ツーリスト、近畿日本ツーリスト北海道、近畿日本ツーリスト東北、近畿日本ツーリスト中国四国、近畿日本ツーリ
C62: スト九州、ユナイテッドツアーズ、クラブツーリズム、近畿日本ツーリスト個人旅行
C64: ※エイチ・アイ・エスは、5社内取引を相殺し、合計した数値
C65: エイチ・アイ・エス5社 ： エイチ・アイ・エス、オリオンツアー、クオリタ、クルーズプラネット、ジャパンホリデートラベル
C67: ※阪急交通社は、3社内取引を相殺し、合計したもの
C68: 阪急交通社3社 ： 阪急交通社、阪急阪神ビジネストラベル、阪神トラベル・インターナショナル
C70: ※WILLER TRAVELは平成27年度のデータがないため、合計数値は同社分を除いて集計
C72: ※■は新たに追加した会社

Sheet 2Q
B1: 主要旅行業者の旅行取扱状況速報
F2: 2016年度第2四半期
B3: 会 社 名 | C3: 海 外 旅 行 | F3: 外 国 人 旅 行 | I3: 国 内 旅 行 | L3: 合 計
C4: 取扱額（千円） | D4: 前年（千円） | E4: 前年比（％） | F4: 取扱額（千円） | G4: 前年（千円） | H4: 前年比（％） | I4: 取扱額（千円） | J4: 前年（千円） | K4: 前年比（％） | L4: 取扱額（千円） | M4: 前年（千円） | N4: 前年比（％）
B5: ジェイティービー（15社計 ＊2） | C5: ='7月'!C5+'8月'!C5+'9月'!C5 -> 128799035 | D5: ='7月'!D5+'8月'!D5+'9月'!D5 -> 130783146 | E5: =C5/D5*100 -> 98.4829 | F5: ='7月'!F5+'8月'!F5+'9月'!F5 -> 19769972 | G5: ='7月'!G5+'8月'!G5+'9月'!G5 -> 18279750 | H5: =F5/G5*100 -> 108.15231 | I5: ='7月'!I5+'8月'!I5+'9月'!I5 -> 279789660 | J5: ='7月'!J5+'8月'!J5+'9月'!J5 -> 311420863 | K5: =I5/J5*100 -> 89.84294 | L5: ='7月'!L5+'8月'!L5+'9月'!L5 -> 428358667 | M5: ='7月'!M5+'8月'!M5+'9月'!M5 -> 460483759 | N5: =L5/M5*100 -> 93.023621
B6: KNT-CTホールディングス（8社計 ＊3） | C6: ='7月'!C6+'8月'!C6+'9月'!C6 -> 41161302 | D6: ='7月'!D6+'8月'!D6+'9月'!D6 -> 41581932 | E6: =C6/D6*100 -> 98.988431 | F6: ='7月'!F6+'8月'!F6+'9月'!F6 -> 3731865 | G6: ='7月'!G6+'8月'!G6+'9月'!G6 -> 3683894 | H6: =F6/G6*100 -> 101.30218 | I6: ='7月'!I6+'8月'!I6+'9月'!I6 -> 87261118 | J6: ='7月'!J6+'8月'!J6+'9月'!J6 -> 93274613 | K6: =I6/J6*100 -> 93.552913 | L6: ='7月'!L6+'8月'!L6+'9月'!L6 -> 132154285 | M6: ='7月'!M6+'8月'!M6+'9月'!M6 -> 138540439 | N6: =L6/M6*100 -> 95.390404
B7: エイチ・アイ・エス（5社計 ＊4） | C7: ='7月'!C7+'8月'!C7+'9月'!C7 -> 105240987 | D7: ='7月'!D7+'8月'!D7+'9月'!D7 -> 107618917 | E7: =C7/D7*100 -> 97.790416 | F7: ='7月'!F7+'8月'!F7+'9月'!F7 -> 5135573 | G7: ='7月'!G7+'8月'!G7+'9月'!G7 -> 5821399 | H7: =F7/G7*100 -> 88.21888 | I7: ='7月'!I7+'8月'!I7+'9月'!I7 -> 20073544 | J7: ='7月'!J7+'8月'!J7+'9月'!J7 -> 20450468 | K7: =I7/J7*100 -> 98.156893 | L7: ='7月'!L7+'8月'!L7+'9月'!L7 -> 130450104 | M7: ='7月'!M7+'8月'!M7+'9月'!M7 -> 133890784 | N7: =L7/M7*100 -> 97.430234
B8: （株）日本旅行 | C8: ='7月'!C8+'8月'!C8+'9月'!C8 -> 31531539 | D8: ='7月'!D8+'8月'!D8+'9月'!D8 -> 34445020 | E8: =C8/D8*100 -> 91.541648 | F8: ='7月'!F8+'8月'!F8+'9月'!F8 -> 9009998 | G8: ='7月'!G8+'8月'!G8+'9月'!G8 -> 7449500 | H8: =F8/G8*100 -> 120.94769 | I8: ='7月'!I8+'8月'!I8+'9月'!I8 -> 75866293 | J8: ='7月'!J8+'8月'!J8+'9月'!J8 -> 77011985 | K8: =I8/J8*100 -> 98.51232 | L8: ='7月'!L8+'8月'!L8+'9月'!L8 -> 116407830 | M8: ='7月'!M8+'8月'!M8+'9月'!M8 -> 118906505 | N8: =L8/M8*100 -> 97.898622
B9: 阪急交通社（3社計 ＊5） | C9: ='7月'!C9+'8月'!C9+'9月'!C9 -> 49237647 | D9: ='7月'!D9+'8月'!D9+'9月'!D9 -> 56791058 | E9: =C9/D9*100 -> 86.699647 | F9: ='7月'!F9+'8月'!F9+'9月'!F9 -> 493572 | G9: ='7月'!G9+'8月'!G9+'9月'!G9 -> 358406 | H9: =F9/G9*100 -> 137.7131 | I9: ='7月'!I9+'8月'!I9+'9月'!I9 -> 32261160 | J9: ='7月'!J9+'8月'!J9+'9月'!J9 -> 31153125 | K9: =I9/J9*100 -> 103.55674 | L9: ='7月'!L9+'8月'!L9+'9月'!L9 -> 81992379 | M9: ='7月'!M9+'8月'!M9+'9月'!M9 -> 88302589 | N9: =L9/M9*100 -> 92.853879
B10: 楽天(株) | C10: ='7月'!C10+'8月'!C10+'9月'!C10 -> 10827837 | D10: ='7月'!D10+'8月'!D10+'9月'!D10 -> 6184074 | E10: =C10/D10*100 -> 175.09229 | F10: ='7月'!F10+'8月'!F10+'9月'!F10 -> 2312761 | G10: ='7月'!G10+'8月'!G10+'9月'!G10 -> 1699828 | H10: =F10/G10*100 -> 136.05853 | I10: ='7月'!I10+'8月'!I10+'9月'!I10 -> 154417154 | J10: ='7月'!J10+'8月'!J10+'9月'!J10 -> 140489491 | K10: =I10/J10*100 -> 109.91367 | L10: ='7月'!L10+'8月'!L10+'9月'!L10 -> 167557752 | M10: ='7月'!M10+'8月'!M10+'9月'!M10 -> 148373393 | N10: =L10/M10*100 -> 112.92978
B11: （株）JTBワールドバケーションズ | C11: ='7月'!C11+'8月'!C11+'9月'!C11 -> 65392113 | D11: ='7月'!D11+'8月'!D11+'9月'!D11 -> 71474972 | E11: =C11/D11*100 -> 91.489526 | F11: ='7月'!F11+'8月'!F11+'9月'!F11 -> 0 | G11: ='7月'!G11+'8月'!G11+'9月'!G11 -> 0 | H11: - | I11: ='7月'!I11+'8月'!I11+'9月'!I11 -> 0 | J11: ='7月'!J11+'8月'!J11+'9月'!J11 -> 0 | K11: - | L11: ='7月'!L11+'8月'!L11+'9月'!L11 -> 65392113 | M11: ='7月'!M11+'8月'!M11+'9月'!M11 -> 71474972 | N11: =L11/M11*100 -> 91.489526
B12: ANAセールス（株） | C12: ='7月'!C12+'8月'!C12+'9月'!C12 -> 6249000 | D12: ='7月'!D12+'8月'!D12+'9月'!D12 -> 7316000 | E12: =C12/D12*100 -> 85.415528 | F12: ='7月'!F12+'8月'!F12+'9月'!F12 -> 367000 | G12: ='7月'!G12+'8月'!G12+'9月'!G12 -> 755000 | H12: =F12/G12*100 -> 48.609272 | I12: ='7月'!I12+'8月'!I12+'9月'!I12 -> 52191000 | J12: ='7月'!J12+'8月'!J12+'9月'!J12 -> 55255000 | K12: =I12/J12*100 -> 94.4548 | L12: ='7月'!L12+'8月'!L12+'9月'!L12 -> 58807000 | M12: ='7月'!M12+'8月'!M12+'9月'!M12 -> 63326000 | N12: =L12/M12*100 -> 92.863911
B13: （株）ジャルパック | C13: ='7月'!C13+'8月'!C13+'9月'!C13 -> 16654962 | D13: ='7月'!D13+'8月'!D13+'9月'!D13 -> 17832052 | E13: =C13/D13*100 -> 93.399021 | F13: ='7月'!F13+'8月'!F13+'9月'!F13 -> 14543 | G13: ='7月'!G13+'8月'!G13+'9月'!G13 -> 2426 | H13: =F13/G13*100 -> 599.46414 | I13: ='7月'!I13+'8月'!I13+'9月'!I13 -> 39652526 | J13: ='7月'!J13+'8月'!J13+'9月'!J13 -> 37845853 | K13: =I13/J13*100 -> 104.77377 | L13: ='7月'!L13+'8月'!L13+'9月'!L13 -> 56322031 | M13: ='7月'!M13+'8月'!M13+'9月'!M13 -> 55680331 | N13: =L13/M13*100 -> 101.15247
B14: 東武トップツアーズ（株） | C14: ='7月'!C14+'8月'!C14+'9月'!C14 -> 8399822 | D14: ='7月'!D14+'8月'!D14+'9月'!D14 -> 9081211 | E14: =C14/D14*100 -> 92.496717 | F14: ='7月'!F14+'8月'!F14+'9月'!F14 -> 1085725 | G14: ='7月'!G14+'8月'!G14+'9月'!G14 -> 1190819 | H14: =F14/G14*100 -> 91.174645 | I14: ='7月'!I14+'8月'!I14+'9月'!I14 -> 25691616 | J14: ='7月'!J14+'8月'!J14+'9月'!J14 -> 26000209 | K14: =I14/J14*100 -> 98.813113 | L14: ='7月'!L14+'8月'!L14+'9月'!L14 -> 35177163 | M14: ='7月'!M14+'8月'!M14+'9月'!M14 -> 36272239 | N14: =L14/M14*100 -> 96.980953
B15: （株）ジェイアール東海ツアーズ | C15: ='7月'!C15+'8月'!C15+'9月'!C15 -> 487948 | D15: ='7月'!D15+'8月'!D15+'9月'!D15 -> 468239 | E15: =C15/D15*100 -> 104.20918 | F15: ='7月'!F15+'8月'!F15+'9月'!F15 -> 141273 | G15: ='7月'!G15+'8月'!G15+'9月'!G15 -> 117597 | H15: =F15/G15*100 -> 120.13317 | I15: ='7月'!I15+'8月'!I15+'9月'!I15 -> 24314378 | J15: ='7月'!J15+'8月'!J15+'9月'!J15 -> 25667846 | K15: =I15/J15*100 -> 94.72699 | L15: ='7月'!L15+'8月'!L15+'9月'!L15 -> 24943598 | M15: ='7月'!M15+'8月'!M15+'9月'!M15 -> 26253682 | N15: =L15/M15*100 -> 95.009904
B16: （株）JTBビジネストラベルソリューションズ | C16: ='7月'!C16+'8月'!C16+'9月'!C16 -> 15490758 | D16: ='7月'!D16+'8月'!D16+'9月'!D16 -> 15255060 | E16: =C16/D16*100 -> 101.54505 | F16: ='7月'!F16+'8月'!F16+'9月'!F16 -> 12775 | G16: ='7月'!G16+'8月'!G16+'9月'!G16 -> 24723 | H16: =F16/G16*100 -> 51.672532 | I16: ='7月'!I16+'8月'!I16+'9月'!I16 -> 12152574 | J16: ='7月'!J16+'8月'!J16+'9月'!J16 -> 11987450 | K16: =I16/J16*100 -> 101.37747 | L16: ='7月'!L16+'8月'!L16+'9月'!L16 -> 27656107 | M16: ='7月'!M16+'8月'!M16+'9月'!M16 -> 27267233 | N16: =L16/M16*100 -> 101.42616
B17: （株）農協観光 | C17: ='7月'!C17+'8月'!C17+'9月'!C17 -> 1990344 | D17: ='7月'!D17+'8月'!D17+'9月'!D17 -> 2430239 | E17: =C17/D17*100 -> 81.899105 | F17: ='7月'!F17+'8月'!F17+'9月'!F17 -> 242193 | G17: ='7月'!G17+'8月'!G17+'9月'!G17 -> 347273 | H17: =F17/G17*100 -> 69.741385 | I17: ='7月'!I17+'8月'!I17+'9月'!I17 -> 16847246 | J17: ='7月'!J17+'8月'!J17+'9月'!J17 -> 17339129 | K17: =I17/J17*100 -> 97.163162 | L17: ='7月'!L17+'8月'!L17+'9月'!L17 -> 19079783 | M17: ='7月'!M17+'8月'!M17+'9月'!M17 -> 20116641 | N17: =L17/M17*100 -> 94.84577
B18: 名鉄観光サービス（株） | C18: ='7月'!C18+'8月'!C18+'9月'!C18 -> 3692678 | D18: ='7月'!D18+'8月'!D18+'9月'!D18 -> 3420089 | E18: =C18/D18*100 -> 107.97023 | F18: ='7月'!F18+'8月'!F18+'9月'!F18 -> 339155 | G18: ='7月'!G18+'8月'!G18+'9月'!G18 -> 294584 | H18: =F18/G18*100 -> 115.13015 | I18: ='7月'!I18+'8月'!I18+'9月'!I18 -> 18861235 | J18: ='7月'!J18+'8月'!J18+'9月'!J18 -> 18977545 | K18: =I18/J18*100 -> 99.387118 | L18: ='7月'!L18+'8月'!L18+'9月'!L18 -> 22893068 | M18: ='7月'!M18+'8月'!M18+'9月'!M18 -> 22692218 | N18: =L18/M18*100 -> 100.88511
B19: （株）読売旅行 | C19: ='7月'!C19+'8月'!C19+'9月'!C19 -> 1962224 | D19: ='7月'!D19+'8月'!D19+'9月'!D19 -> 1944208 | E19: =C19/D19*100 -> 100.92665 | F19: ='7月'!F19+'8月'!F19+'9月'!F19 -> 10341 | G19: ='7月'!G19+'8月'!G19+'9月'!G19 -> 4681 | H19: =F19/G19*100 -> 220.91433 | I19: ='7月'!I19+'8月'!I19+'9月'!I19 -> 9525935 | J19: ='7月'!J19+'8月'!J19+'9月'!J19 -> 10233866 | K19: =I19/J19*100 -> 93.082468 | L19: ='7月'!L19+'8月'!L19+'9月'!L19 -> 11498500 | M19: ='7月'!M19+'8月'!M19+'9月'!M19 -> 12182755 | N19: =L19/M19*100 -> 94.383413
B20: 日通旅行（株） | C20: ='7月'!C20+'8月'!C20+'9月'!C20 -> 8509159 | D20: ='7月'!D20+'8月'!D20+'9月'!D20 -> 10431783 | E20: =C20/D20*100 -> 81.569555 | F20: ='7月'!F20+'8月'!F20+'9月'!F20 -> 349798 | G20: ='7月'!G20+'8月'!G20+'9月'!G20 -> 228553 | H20: =F20/G20*100 -> 153.04896 | I20: ='7月'!I20+'8月'!I20+'9月'!I20 -> 1900637 | J20: ='7月'!J20+'8月'!J20+'9月'!J20 -> 1952300 | K20: =I20/J20*100 -> 97.353737 | L20: ='7月'!L20+'8月'!L20+'9月'!L20 -> 10759594 | M20: ='7月'!M20+'8月'!M20+'9月'!M20 -> 12612636 | N20: =L20/M20*100 -> 85.308051
B21: （株）DeNAトラベル | C21: ='7月'!C21+'8月'!C21+'9月'!C21 -> 14726092 | D21: ='7月'!D21+'8月'!D21+'9月'!D21 -> 13974057 | E21: =C21/D21*100 -> 105.38165 | F21: ='7月'!F21+'8月'!F21+'9月'!F21 -> 169052 | G21: ='7月'!G21+'8月'!G21+'9月'!G21 -> 14278 | H21: =F21/G21*100 -> 1184.0034 | I21: ='7月'!I21+'8月'!I21+'9月'!I21 -> 1388177 | J21: ='7月'!J21+'8月'!J21+'9月'!J21 -> 890692 | K21: =I21/J21*100 -> 155.85376 | L21: ='7月'!L21+'8月'!L21+'9月'!L21 -> 16283321 | M21: ='7月'!M21+'8月'!M21+'9月'!M21 -> 14879027 | N21: =L21/M21*100 -> 109.43808
B22: 西鉄旅行（株） | C22: ='7月'!C22+'8月'!C22+'9月'!C22 -> 3463077 | D22: ='7月'!D22+'8月'!D22+'9月'!D22 -> 4064305 | E22: =C22/D22*100 -> 85.207114 | F22: ='7月'!F22+'8月'!F22+'9月'!F22 -> 134520 | G22: ='7月'!G22+'8月'!G22+'9月'!G22 -> 116123 | H22: =F22/G22*100 -> 115.84268 | I22: ='7月'!I22+'8月'!I22+'9月'!I22 -> 5591387 | J22: ='7月'!J22+'8月'!J22+'9月'!J22 -> 5835194 | K22: =I22/J22*100 -> 95.821784 | L22: ='7月'!L22+'8月'!L22+'9月'!L22 -> 9188984 | M22: ='7月'!M22+'8月'!M22+'9月'!M22 -> 10015622 | N22: =L22/M22*100 -> 91.746514
B23: ビッグホリデー（株） | C23: ='7月'!C23+'8月'!C23+'9月'!C23 -> 1179732 | D23: ='7月'!D23+'8月'!D23+'9月'!D23 -> 1181520 | E23: =C23/D23*100 -> 99.84867 | F23: ='7月'!F23+'8月'!F23+'9月'!F23 -> 0 | G23: ='7月'!G23+'8月'!G23+'9月'!G23 -> 0 | H23: - | I23: ='7月'!I23+'8月'!I23+'9月'!I23 -> 13245046 | J23: ='7月'!J23+'8月'!J23+'9月'!J23 -> 13765666 | K23: =I23/J23*100 -> 96.217982 | L23: ='7月'!L23+'8月'!L23+'9月'!L23 -> 14424778 | M23: ='7月'!M23+'8月'!M23+'9月'!M23 -> 14947186 | N23: =L23/M23*100 -> 96.504974
B24: 日新航空サービス（株） | C24: ='7月'!C24+'8月'!C24+'9月'!C24 -> 11984208 | D24: ='7月'!D24+'8月'!D24+'9月'!D24 -> 12464275 | E24: =C24/D24*100 -> 96.148456 | F24: ='7月'!F24+'8月'!F24+'9月'!F24 -> 0 | G24: ='7月'!G24+'8月'!G24+'9月'!G24 -> 0 | H24: - | I24: ='7月'!I24+'8月'!I24+'9月'!I24 -> 1245263 | J24: ='7月'!J24+'8月'!J24+'9月'!J24 -> 1180720 | K24: =I24/J24*100 -> 105.46641 | L24: ='7月'!L24+'8月'!L24+'9月'!L24 -> 13229471 | M24: ='7月'!M24+'8月'!M24+'9月'!M24 -> 13644995 | N24: =L24/M24*100 -> 96.954752
B25: エムオーツーリスト（株） | C25: ='7月'!C25+'8月'!C25+'9月'!C25 -> 9811108 | D25: ='7月'!D25+'8月'!D25+'9月'!D25 -> 9568167 | E25: =C25/D25*100 -> 102.53905 | F25: ='7月'!F25+'8月'!F25+'9月'!F25 -> 12019 | G25: ='7月'!G25+'8月'!G25+'9月'!G25 -> 10102 | H25: =F25/G25*100 -> 118.97644 | I25: ='7月'!I25+'8月'!I25+'9月'!I25 -> 867075 | J25: ='7月'!J25+'8月'!J25+'9月'!J25 -> 841224 | K25: =I25/J25*100 -> 103.07302 | L25: ='7月'!L25+'8月'!L25+'9月'!L25 -> 10690202 | M25: ='7月'!M25+'8月'!M25+'9月'!M25 -> 10419493 | N25: =L25/M25*100 -> 102.5981
B26: （株）日立トラベルビューロー | C26: ='7月'!C26+'8月'!C26+'9月'!C26 -> 4649862 | D26: ='7月'!D26+'8月'!D26+'9月'!D26 -> 4620283 | E26: =C26/D26*100 -> 100.6402 | F26: ='7月'!F26+'8月'!F26+'9月'!F26 -> 10614 | G26: ='7月'!G26+'8月'!G26+'9月'!G26 -> 10569 | H26: =F26/G26*100 -> 100.42577 | I26: ='7月'!I26+'8月'!I26+'9月'!I26 -> 3044426 | J26: ='7月'!J26+'8月'!J26+'9月'!J26 -> 2453443 | K26: =I26/J26*100 -> 124.0879 | L26: ='7月'!L26+'8月'!L26+'9月'!L26 -> 7704902 | M26: ='7月'!M26+'8月'!M26+'9月'!M26 -> 7084295 | N26: =L26/M26*100 -> 108.76032
B27: （株）タビックスジャパン | C27: ='7月'!C27+'8月'!C27+'9月'!C27 -> 1139572 | D27: ='7月'!D27+'8月'!D27+'9月'!D27 -> 1237355 | E27: =C27/D27*100 -> 92.097417 | F27: ='7月'!F27+'8月'!F27+'9月'!F27 -> 8989 | G27: ='7月'!G27+'8月'!G27+'9月'!G27 -> 25628 | H27: =F27/G27*100 -> 35.074918 | I27: ='7月'!I27+'8月'!I27+'9月'!I27 -> 5598676 | J27: ='7月'!J27+'8月'!J27+'9月'!J27 -> 6534749 | K27: =I27/J27*100 -> 85.675456 | L27: ='7月'!L27+'8月'!L27+'9月'!L27 -> 6747237 | M27: ='7月'!M27+'8月'!M27+'9月'!M27 -> 7797732 | N27: =L27/M27*100 -> 86.528198
B28: 郵船トラベル（株） | C28: ='7月'!C28+'8月'!C28+'9月'!C28 -> 6841926 | D28: ='7月'!D28+'8月'!D28+'9月'!D28 -> 7549126 | E28: =C28/D28*100 -> 90.632028 | F28: ='7月'!F28+'8月'!F28+'9月'!F28 -> 0 | G28: ='7月'!G28+'8月'!G28+'9月'!G28 -> 0 | H28: - | I28: ='7月'!I28+'8月'!I28+'9月'!I28 -> 758876 | J28: ='7月'!J28+'8月'!J28+'9月'!J28 -> 818267 | K28: =I28/J28*100 -> 92.741856 | L28: ='7月'!L28+'8月'!L28+'9月'!L28 -> 7600802 | M28: ='7月'!M28+'8月'!M28+'9月'!M28 -> 8367393 | N28: =L28/M28*100 -> 90.838353
B29: （株）エヌオーイー | C29: ='7月'!C29+'8月'!C29+'9月'!C29 -> 7291080 | D29: ='7月'!D29+'8月'!D29+'9月'!D29 -> 7083175 | E29: =C29/D29*100 -> 102.9352 | F29: ='7月'!F29+'8月'!F29+'9月'!F29 -> 24351 | G29: ='7月'!G29+'8月'!G29+'9月'!G29 -> 49061 | H29: =F29/G29*100 -> 49.634129 | I29: ='7月'!I29+'8月'!I29+'9月'!I29 -> 504354 | J29: ='7月'!J29+'8月'!J29+'9月'!J29 -> 343103 | K29: =I29/J29*100 -> 146.99784 | L29: ='7月'!L29+'8月'!L29+'9月'!L29 -> 7819785 | M29: ='7月'!M29+'8月'!M29+'9月'!M29 -> 7475339 | N29: =L29/M29*100 -> 104.60776
B30: 沖縄ツーリスト（株） | C30: ='7月'!C30+'8月'!C30+'9月'!C30 -> 368819 | D30: ='7月'!D30+'8月'!D30+'9月'!D30 -> 413632 | E30: =C30/D30*100 -> 89.165974 | F30: ='7月'!F30+'8月'!F30+'9月'!F30 -> 155323 | G30: ='7月'!G30+'8月'!G30+'9月'!G30 -> 240905 | H30: =F30/G30*100 -> 64.474793 | I30: ='7月'!I30+'8月'!I30+'9月'!I30 -> 8494276 | J30: ='7月'!J30+'8月'!J30+'9月'!J30 -> 9285315 | K30: =I30/J30*100 -> 91.480752 | L30: ='7月'!L30+'8月'!L30+'9月'!L30 -> 9018418 | M30: ='7月'!M30+'8月'!M30+'9月'!M30 -> 9939852 | N30: =L30/M30*100 -> 90.729902
B31: （株）IACEトラベル | C31: ='7月'!C31+'8月'!C31+'9月'!C31 -> 5736862 | D31: ='7月'!D31+'8月'!D31+'9月'!D31 -> 6054826 | E31: =C31/D31*100 -> 94.748586 | F31: ='7月'!F31+'8月'!F31+'9月'!F31 -> 0 | G31: ='7月'!G31+'8月'!G31+'9月'!G31 -> 0 | H31: - | I31: ='7月'!I31+'8月'!I31+'9月'!I31 -> 1194272 | J31: ='7月'!J31+'8月'!J31+'9月'!J31 -> 958204 | K31: =I31/J31*100 -> 124.63651 | L31: ='7月'!L31+'8月'!L31+'9月'!L31 -> 6931134 | M31: ='7月'!M31+'8月'!M31+'9月'!M31 -> 7013030 | N31: =L31/M31*100 -> 98.832231
B32: （株）旅工房 | C32: ='7月'!C32+'8月'!C32+'9月'!C32 -> 7029775 | D32: ='7月'!D32+'8月'!D32+'9月'!D32 -> 7059210 | E32: =C32/D32*100 -> 99.583027 | F32: ='7月'!F32+'8月'!F32+'9月'!F32 -> 167665 | G32: ='7月'!G32+'8月'!G32+'9月'!G32 -> 96605 | H32: =F32/G32*100 -> 173.55727 | I32: ='7月'!I32+'8月'!I32+'9月'!I32 -> 142463 | J32: ='7月'!J32+'8月'!J32+'9月'!J32 -> 207507 | K32: =I32/J32*100 -> 68.654551 | L32: ='7月'!L32+'8月'!L32+'9月'!L32 -> 7339903 | M32: ='7月'!M32+'8月'!M32+'9月'!M32 -> 7363322 | N32: =L32/M32*100 -> 99.681951
B33: （株）トヨタツーリストインターナショナル | C33: ='7月'!C33+'8月'!C33+'9月'!C33 -> 3232449 | D33: ='7月'!D33+'8月'!D33+'9月'!D33 -> 4040185 | E33: =C33/D33*100 -> 80.00745 | F33: ='7月'!F33+'8月'!F33+'9月'!F33 -> 6163 | G33: ='7月'!G33+'8月'!G33+'9月'!G33 -> 2478 | H33: =F33/G33*100 -> 248.70864 | I33: ='7月'!I33+'8月'!I33+'9月'!I33 -> 628130 | J33: ='7月'!J33+'8月'!J33+'9月'!J33 -> 638346 | K33: =I33/J33*100 -> 98.399614 | L33: ='7月'!L33+'8月'!L33+'9月'!L33 -> 3866742 | M33: ='7月'!M33+'8月'!M33+'9月'!M33 -> 4681009 | N33: =L33/M33*100 -> 82.604883
B34: 京王観光（株） | C34: ='7月'!C34+'8月'!C34+'9月'!C34 -> 1618678 | D34: ='7月'!D34+'8月'!D34+'9月'!D34 -> 1659289 | E34: =C34/D34*100 -> 97.552506 | F34: ='7月'!F34+'8月'!F34+'9月'!F34 -> 96034 | G34: ='7月'!G34+'8月'!G34+'9月'!G34 -> 63449 | H34: =F34/G34*100 -> 151.35621 | I34: ='7月'!I34+'8月'!I34+'9月'!I34 -> 6995002 | J34: ='7月'!J34+'8月'!J34+'9月'!J34 -> 7143180 | K34: =I34/J34*100 -> 97.925602 | L34: ='7月'!L34+'8月'!L34+'9月'!L34 -> 8709714 | M34: ='7月'!M34+'8月'!M34+'9月'!M34 -> 8865918 | N34: =L34/M34*100 -> 98.238152
B35: 東日観光（株） | C35: ='7月'!C35+'8月'!C35+'9月'!C35 -> 1061883 | D35: ='7月'!D35+'8月'!D35+'9月'!D35 -> 1375937 | E35: =C35/D35*100 -> 77.175263 | F35: ='7月'!F35+'8月'!F35+'9月'!F35 -> 508937 | G35: ='7月'!G35+'8月'!G35+'9月'!G35 -> 468771 | H35: =F35/G35*100 -> 108.56836 | I35: ='7月'!I35+'8月'!I35+'9月'!I35 -> 2245537 | J35: ='7月'!J35+'8月'!J35+'9月'!J35 -> 2378312 | K35: =I35/J35*100 -> 94.417259 | L35: ='7月'!L35+'8月'!L35+'9月'!L35 -> 3816357 | M35: ='7月'!M35+'8月'!M35+'9月'!M35 -> 4223020 | N35: =L35/M35*100 -> 90.370327
B36: 九州旅客鉄道（株） | C36: ='7月'!C36+'8月'!C36+'9月'!C36 -> 256293 | D36: ='7月'!D36+'8月'!D36+'9月'!D36 -> 244652 | E36: =C36/D36*100 -> 104.75819 | F36: ='7月'!F36+'8月'!F36+'9月'!F36 -> 0 | G36: ='7月'!G36+'8月'!G36+'9月'!G36 -> 0 | H36: - | I36: ='7月'!I36+'8月'!I36+'9月'!I36 -> 5495370 | J36: ='7月'!J36+'8月'!J36+'9月'!J36 -> 6300131 | K36: =I36/J36*100 -> 87.226281 | L36: ='7月'!L36+'8月'!L36+'9月'!L36 -> 5751663 | M36: ='7月'!M36+'8月'!M36+'9月'!M36 -> 6544783 | N36: =L36/M36*100 -> 87.881646
B37: メルコトラベル（株） | C37: ='7月'!C37+'8月'!C37+'9月'!C37 -> 1529747 | D37: ='7月'!D37+'8月'!D37+'9月'!D37 -> 1712059 | E37: =C37/D37*100 -> 89.351302 | F37: ='7月'!F37+'8月'!F37+'9月'!F37 -> 2483 | G37: ='7月'!G37+'8月'!G37+'9月'!G37 -> 2700 | H37: =F37/G37*100 -> 91.962963 | I37: ='7月'!I37+'8月'!I37+'9月'!I37 -> 2331866 | J37: ='7月'!J37+'8月'!J37+'9月'!J37 -> 2222818 | K37: =I37/J37*100 -> 104.90584 | L37: ='7月'!L37+'8月'!L37+'9月'!L37 -> 3864096 | M37: ='7月'!M37+'8月'!M37+'9月'!M37 -> 3937577 | N37: =L37/M37*100 -> 98.133852
B38: （株）フジ・トラベル・サービス | C38: ='7月'!C38+'8月'!C38+'9月'!C38 -> 543066 | D38: ='7月'!D38+'8月'!D38+'9月'!D38 -> 755757 | E38: =C38/D38*100 -> 71.857224 | F38: ='7月'!F38+'8月'!F38+'9月'!F38 -> 14511 | G38: ='7月'!G38+'8月'!G38+'9月'!G38 -> 31050 | H38: =F38/G38*100 -> 46.7343 | I38: ='7月'!I38+'8月'!I38+'9月'!I38 -> 3508521 | J38: ='7月'!J38+'8月'!J38+'9月'!J38 -> 4209786 | K38: =I38/J38*100 -> 83.342027 | L38: ='7月'!L38+'8月'!L38+'9月'!L38 -> 4066098 | M38: ='7月'!M38+'8月'!M38+'9月'!M38 -> 4996593 | N38: =L38/M38*100 -> 81.377411
B39: （株）南海国際旅行 | C39: ='7月'!C39+'8月'!C39+'9月'!C39 -> 991005 | D39: ='7月'!D39+'8月'!D39+'9月'!D39 -> 1003541 | E39: =C39/D39*100 -> 98.750823 | F39: ='7月'!F39+'8月'!F39+'9月'!F39 -> 47990 | G39: ='7月'!G39+'8月'!G39+'9月'!G39 -> 50436 | H39: =F39/G39*100 -> 95.150289 | I39: ='7月'!I39+'8月'!I39+'9月'!I39 -> 2710362 | J39: ='7月'!J39+'8月'!J39+'9月'!J39 -> 3139449 | K39: =I39/J39*100 -> 86.332411 | L39: ='7月'!L39+'8月'!L39+'9月'!L39 -> 3749357 | M39: ='7月'!M39+'8月'!M39+'9月'!M39 -> 4193426 | N39: =L39/M39*100 -> 89.410353
B40: WILLER TRAVEL（株） | C40: ='7月'!C40+'8月'!C40+'9月'!C40 -> 0 | D40: - | E40: - | F40: ='7月'!F40+'8月'!F40+'9月'!F40 -> 242294 | G40: - | H40: - | I40: ='7月'!I40+'8月'!I40+'9月'!I40 -> 4276971 | J40: - | K40: - | L40: ='7月'!L40+'8月'!L40+'9月'!L40 -> 4519265 | M40: - | N40: -
B41: （株）日産クリエイティブサービス | C41: ='7月'!C41+'8月'!C41+'9月'!C41 -> 2261924 | D41: ='7月'!D41+'8月'!D41+'9月'!D41 -> 2414473 | E41: =C41/D41*100 -> 93.681892 | F41: ='7月'!F41+'8月'!F41+'9月'!F41 -> 0 | G41: ='7月'!G41+'8月'!G41+'9月'!G41 -> 0 | H41: - | I41: ='7月'!I41+'8月'!I41+'9月'!I41 -> 625923 | J41: ='7月'!J41+'8月'!J41+'9月'!J41 -> 530860 | K41: =I41/J41*100 -> 117.90736 | L41: ='7月'!L41+'8月'!L41+'9月'!L41 -> 2887847 | M41: ='7月'!M41+'8月'!M41+'9月'!M41 -> 2945333 | N41: =L41/M41*100 -> 98.048234
B42: 北海道旅客鉄道（株） | C42: ='7月'!C42+'8月'!C42+'9月'!C42 -> 243838 | D42: ='7月'!D42+'8月'!D42+'9月'!D42 -> 262045 | E42: =C42/D42*100 -> 93.051957 | F42: ='7月'!F42+'8月'!F42+'9月'!F42 -> 0 | G42: ='7月'!G42+'8月'!G42+'9月'!G42 -> 0 | H42: - | I42: ='7月'!I42+'8月'!I42+'9月'!I42 -> 3450750 | J42: ='7月'!J42+'8月'!J42+'9月'!J42 -> 4662811 | K42: =I42/J42*100 -> 74.005787 | L42: ='7月'!L42+'8月'!L42+'9月'!L42 -> 3694588 | M42: ='7月'!M42+'8月'!M42+'9月'!M42 -> 4924856 | N42: =L42/M42*100 -> 75.019209
B43: （株）小田急トラベル | C43: ='7月'!C43+'8月'!C43+'9月'!C43 -> 964626 | D43: ='7月'!D43+'8月'!D43+'9月'!D43 -> 1056871 | E43: =C43/D43*100 -> 91.271877 | F43: ='7月'!F43+'8月'!F43+'9月'!F43 -> 43067 | G43: ='7月'!G43+'8月'!G43+'9月'!G43 -> 57018 | H43: =F43/G43*100 -> 75.532288 | I43: ='7月'!I43+'8月'!I43+'9月'!I43 -> 3371391 | J43: ='7月'!J43+'8月'!J43+'9月'!J43 -> 3271586 | K43: =I43/J43*100 -> 103.05066 | L43: ='7月'!L43+'8月'!L43+'9月'!L43 -> 4379084 | M43: ='7月'!M43+'8月'!M43+'9月'!M43 -> 4385475 | N43: =L43/M43*100 -> 99.854269
B44: イオンコンパス（株） | C44: ='7月'!C44+'8月'!C44+'9月'!C44 -> 1613009 | D44: ='7月'!D44+'8月'!D44+'9月'!D44 -> 1430093 | E44: =C44/D44*100 -> 112.7905 | F44: ='7月'!F44+'8月'!F44+'9月'!F44 -> 54747 | G44: ='7月'!G44+'8月'!G44+'9月'!G44 -> 22484 | H44: =F44/G44*100 -> 243.49315 | I44: ='7月'!I44+'8月'!I44+'9月'!I44 -> 2916312 | J44: ='7月'!J44+'8月'!J44+'9月'!J44 -> 3051678 | K44: =I44/J44*100 -> 95.564211 | L44: ='7月'!L44+'8月'!L44+'9月'!L44 -> 4584068 | M44: ='7月'!M44+'8月'!M44+'9月'!M44 -> 4504255 | N44: =L44/M44*100 -> 101.77195
B45: 京成トラベルサービス（株） | C45: ='7月'!C45+'8月'!C45+'9月'!C45 -> 281242 | D45: ='7月'!D45+'8月'!D45+'9月'!D45 -> 266006 | E45: =C45/D45*100 -> 105.72769 | F45: ='7月'!F45+'8月'!F45+'9月'!F45 -> 1145 | G45: ='7月'!G45+'8月'!G45+'9月'!G45 -> 836 | H45: =F45/G45*100 -> 136.96172 | I45: ='7月'!I45+'8月'!I45+'9月'!I45 -> 2876990 | J45: ='7月'!J45+'8月'!J45+'9月'!J45 -> 2768243 | K45: =I45/J45*100 -> 103.92838 | L45: ='7月'!L45+'8月'!L45+'9月'!L45 -> 3159377 | M45: ='7月'!M45+'8月'!M45+'9月'!M45 -> 3035085 | N45: =L45/M45*100 -> 104.09517
B46: ケイライントラベル（株） | C46: ='7月'!C46+'8月'!C46+'9月'!C46 -> 1747021 | D46: ='7月'!D46+'8月'!D46+'9月'!D46 -> 1942867 | E46: =C46/D46*100 -> 89.919742 | F46: ='7月'!F46+'8月'!F46+'9月'!F46 -> 0 | G46: ='7月'!G46+'8月'!G46+'9月'!G46 -> 0 | H46: - | I46: ='7月'!I46+'8月'!I46+'9月'!I46 -> 91876 | J46: ='7月'!J46+'8月'!J46+'9月'!J46 -> 99544 | K46: =I46/J46*100 -> 92.296874 | L46: ='7月'!L46+'8月'!L46+'9月'!L46 -> 1838897 | M46: ='7月'!M46+'8月'!M46+'9月'!M46 -> 2042411 | N46: =L46/M46*100 -> 90.0356
B47: 名鉄観光バス（株） | C47: ='7月'!C47+'8月'!C47+'9月'!C47 -> 35768 | D47: ='7月'!D47+'8月'!D47+'9月'!D47 -> 36784 | E47: =C47/D47*100 -> 97.23793 | F47: ='7月'!F47+'8月'!F47+'9月'!F47 -> 1371 | G47: ='7月'!G47+'8月'!G47+'9月'!G47 -> 0 | H47: - | I47: ='7月'!I47+'8月'!I47+'9月'!I47 -> 1560603 | J47: ='7月'!J47+'8月'!J47+'9月'!J47 -> 1633958 | K47: =I47/J47*100 -> 95.510595 | L47: ='7月'!L47+'8月'!L47+'9月'!L47 -> 1597742 | M47: ='7月'!M47+'8月'!M47+'9月'!M47 -> 1670742 | N47: =L47/M47*100 -> 95.630684
B48: （株）ヤマハトラベルサービス | C48: ='7月'!C48+'8月'!C48+'9月'!C48 -> 1004917 | D48: ='7月'!D48+'8月'!D48+'9月'!D48 -> 1163812 | E48: =C48/D48*100 -> 86.347022 | F48: ='7月'!F48+'8月'!F48+'9月'!F48 -> 138047 | G48: ='7月'!G48+'8月'!G48+'9月'!G48 -> 9258 | H48: =F48/G48*100 -> 1491.1104 | I48: ='7月'!I48+'8月'!I48+'9月'!I48 -> 611337 | J48: ='7月'!J48+'8月'!J48+'9月'!J48 -> 640608 | K48: =I48/J48*100 -> 95.430747 | L48: ='7月'!L48+'8月'!L48+'9月'!L48 -> 1754301 | M48: ='7月'!M48+'8月'!M48+'9月'!M48 -> 1813678 | N48: =L48/M48*100 -> 96.726155
B49: （株）PTS | C49: ='7月'!C49+'8月'!C49+'9月'!C49 -> 2846385 | D49: ='7月'!D49+'8月'!D49+'9月'!D49 -> 3479638 | E49: =C49/D49*100 -> 81.801182 | F49: ='7月'!F49+'8月'!F49+'9月'!F49 -> 61999 | G49: ='7月'!G49+'8月'!G49+'9月'!G49 -> 35682 | H49: =F49/G49*100 -> 173.75427 | I49: ='7月'!I49+'8月'!I49+'9月'!I49 -> 4330409 | J49: ='7月'!J49+'8月'!J49+'9月'!J49 -> 4704948 | K49: =I49/J49*100 -> 92.039466 | L49: ='7月'!L49+'8月'!L49+'9月'!L49 -> 7238793 | M49: ='7月'!M49+'8月'!M49+'9月'!M49 -> 8220268 | N49: =L49/M49*100 -> 88.060304
B50: 西武トラベル（株） | C50: ='7月'!C50+'8月'!C50+'9月'!C50 -> 421921 | D50: ='7月'!D50+'8月'!D50+'9月'!D50 -> 555101 | E50: =C50/D50*100 -> 76.00797 | F50: ='7月'!F50+'8月'!F50+'9月'!F50 -> 65198 | G50: ='7月'!G50+'8月'!G50+'9月'!G50 -> 216047 | H50: =F50/G50*100 -> 30.177693 | I50: ='7月'!I50+'8月'!I50+'9月'!I50 -> 743560 | J50: ='7月'!J50+'8月'!J50+'9月'!J50 -> 784534 | K50: =I50/J50*100 -> 94.777282 | L50: ='7月'!L50+'8月'!L50+'9月'!L50 -> 1230679 | M50: ='7月'!M50+'8月'!M50+'9月'!M50 -> 1555682 | N50: =L50/M50*100 -> 79.108648
B51: （株）JAL JTAセールス | C51: ='7月'!C51+'8月'!C51+'9月'!C51 -> 0 | D51: ='7月'!D51+'8月'!D51+'9月'!D51 -> 0 | E51: - | F51: ='7月'!F51+'8月'!F51+'9月'!F51 -> 0 | G51: ='7月'!G51+'8月'!G51+'9月'!G51 -> 0 | H51: - | I51: ='7月'!I51+'8月'!I51+'9月'!I51 -> 1051776 | J51: ='7月'!J51+'8月'!J51+'9月'!J51 -> 1261967 | K51: =I51/J51*100 -> 83.344176 | L51: ='7月'!L51+'8月'!L51+'9月'!L51 -> 1051776 | M51: ='7月'!M51+'8月'!M51+'9月'!M51 -> 1261967 | N51: =L51/M51*100 -> 83.344176
B52: 菱和ダイヤモンド航空サービス（株） | C52: ='7月'!C52+'8月'!C52+'9月'!C52 -> 1245658 | D52: ='7月'!D52+'8月'!D52+'9月'!D52 -> 1082966 | E52: =C52/D52*100 -> 115.02282 | F52: ='7月'!F52+'8月'!F52+'9月'!F52 -> 0 | G52: ='7月'!G52+'8月'!G52+'9月'!G52 -> 0 | H52: - | I52: ='7月'!I52+'8月'!I52+'9月'!I52 -> 28951 | J52: ='7月'!J52+'8月'!J52+'9月'!J52 -> 37083 | K52: =I52/J52*100 -> 78.070814 | L52: ='7月'!L52+'8月'!L52+'9月'!L52 -> 1274609 | M52: ='7月'!M52+'8月'!M52+'9月'!M52 -> 1120049 | N52: =L52/M52*100 -> 113.7994
B53: （株）トラベル日本 | C53: ='7月'!C53+'8月'!C53+'9月'!C53 -> 577772 | D53: ='7月'!D53+'8月'!D53+'9月'!D53 -> 637750 | E53: =C53/D53*100 -> 90.595374 | F53: ='7月'!F53+'8月'!F53+'9月'!F53 -> 105 | G53: ='7月'!G53+'8月'!G53+'9月'!G53 -> 86 | H53: =F53/G53*100 -> 122.09302 | I53: ='7月'!I53+'8月'!I53+'9月'!I53 -> 730403 | J53: ='7月'!J53+'8月'!J53+'9月'!J53 -> 766853 | K53: =I53/J53*100 -> 95.246807 | L53: ='7月'!L53+'8月'!L53+'9月'!L53 -> 1308280 | M53: ='7月'!M53+'8月'!M53+'9月'!M53 -> 1404689 | N53: =L53/M53*100 -> 93.13663
B54: 合計 | C54: ='7月'!C54+'8月'!C54+'9月'!C54 -> 592326670 | D54: ='7月'!D54+'8月'!D54+'9月'!D54 -> 617447757 | E54: =C54/D54*100 -> 95.931464 | F54: ='7月'!F54+'8月'!F54+'9月'!F54 -> 44983168 | G54: ='7月'!G54+'8月'!G54+'9月'!G54 -> 41781999 | H54: =F54/G54*100 -> 107.6616 | I54: ='7月'!I54+'8月'!I54+'9月'!I54 -> 943462407 | J54: ='7月'!J54+'8月'!J54+'9月'!J54 -> 972420522 | K54: =I54/J54*100 -> 97.022058 | L54: ='7月'!L54+'8月'!L54+'9月'!L54 -> 1580772244 | M54: ='7月'!M54+'8月'!M54+'9月'!M54 -> 1631650278 | N54: =L54/M54*100 -> 96.881805
C56: ※JTBグループは、15社内取引を相殺し合計した数値
C57: JTBグループ15社 ： ジェイティービー、JTB北海道、JTB東北、JTB関東、JTB首都圏、JTB中部、JTB西日本、JTB中国四国、JTB九州、JTB東海、JTB関
C58: 西、JTBコーポレートセールス、i.JTB、JTBグローバル・マーケティング＆トラベル、JTB国内旅行企画
C60: ※KNT-CTホールディングスは、8社内取引を相殺し、合計した数値
C61: KNT-CTホールディングス8社 ： 近畿日本ツーリスト、近畿日本ツーリスト北海道、近畿日本ツーリスト東北、近畿日本ツーリスト中国四国、近畿日本ツーリ
C62: スト九州、ユナイテッドツアーズ、クラブツーリズム、近畿日本ツーリスト個人旅行
C64: ※エイチ・アイ・エスは、5社内取引を相殺し、合計した数値
C65: エイチ・アイ・エス5社 ： エイチ・アイ・エス、オリオンツアー、クオリタ、クルーズプラネット、ジャパンホリデートラベル
C67: ※阪急交通社は、3社内取引を相殺し、合計したもの
C68: 阪急交通社3社 ： 阪急交通社、阪急阪神ビジネストラベル、阪神トラベル・インターナショナル
C70: ※WILLER TRAVELは平成27年度のデータがないため、合計数値は同社分を除いて集計
C72: ※■は新たに追加した会社

Sheet 3Q
B1: 主要旅行業者の旅行取扱状況速報
F2: 2016年度第3四半期
B3: 会 社 名 | C3: 海 外 旅 行 | F3: 外 国 人 旅 行 | I3: 国 内 旅 行 | L3: 合 計
C4: 取扱額（千円） | D4: 前年（千円） | E4: 前年比（％） | F4: 取扱額（千円） | G4: 前年（千円） | H4: 前年比（％） | I4: 取扱額（千円） | J4: 前年（千円） | K4: 前年比（％） | L4: 取扱額（千円） | M4: 前年（千円） | N4: 前年比（％）
B5: ジェイティービー（15社計 ＊2） | C5: ='10月'!C5+'11月'!C5+'12月'!C5 -> 105020623 | D5: ='10月'!D5+'11月'!D5+'12月'!D5 -> 116178816 | E5: =C5/D5*100 -> 90.395673 | F5: ='10月'!F5+'11月'!F5+'12月'!F5 -> 21318917 | G5: ='10月'!G5+'11月'!G5+'12月'!G5 -> 21488432 | H5: =F5/G5*100 -> 99.211134 | I5: ='10月'!I5+'11月'!I5+'12月'!I5 -> 257495840 | J5: ='10月'!J5+'11月'!J5+'12月'!J5 -> 277060773 | K5: =I5/J5*100 -> 92.938397 | L5: ='10月'!L5+'11月'!L5+'12月'!L5 -> 383835380 | M5: ='10月'!M5+'11月'!M5+'12月'!M5 -> 414728021 | N5: =L5/M5*100 -> 92.551108
B6: KNT-CTホールディングス（8社計 ＊3） | C6: ='10月'!C6+'11月'!C6+'12月'!C6 -> 33861605 | D6: ='10月'!D6+'11月'!D6+'12月'!D6 -> 36791661 | E6: =C6/D6*100 -> 92.036087 | F6: ='10月'!F6+'11月'!F6+'12月'!F6 -> 5521544 | G6: ='10月'!G6+'11月'!G6+'12月'!G6 -> 4240679 | H6: =F6/G6*100 -> 130.20424 | I6: ='10月'!I6+'11月'!I6+'12月'!I6 -> 89322845 | J6: ='10月'!J6+'11月'!J6+'12月'!J6 -> 99576589 | K6: =I6/J6*100 -> 89.702656 | L6: ='10月'!L6+'11月'!L6+'12月'!L6 -> 128705994 | M6: ='10月'!M6+'11月'!M6+'12月'!M6 -> 140608929 | N6: =L6/M6*100 -> 91.534723
B7: エイチ・アイ・エス（5社計 ＊4） | C7: ='10月'!C7+'11月'!C7+'12月'!C7 -> 87211114 | D7: ='10月'!D7+'11月'!D7+'12月'!D7 -> 84375169 | E7: =C7/D7*100 -> 103.36111 | F7: ='10月'!F7+'11月'!F7+'12月'!F7 -> 6339847 | G7: ='10月'!G7+'11月'!G7+'12月'!G7 -> 5409722 | H7: =F7/G7*100 -> 117.19358 | I7: ='10月'!I7+'11月'!I7+'12月'!I7 -> 11883653 | J7: ='10月'!J7+'11月'!J7+'12月'!J7 -> 11741732 | K7: =I7/J7*100 -> 101.20869 | L7: ='10月'!L7+'11月'!L7+'12月'!L7 -> 105434614 | M7: ='10月'!M7+'11月'!M7+'12月'!M7 -> 101526623 | N7: =L7/M7*100 -> 103.84923
B8: （株）日本旅行 | C8: ='10月'!C8+'11月'!C8+'12月'!C8 -> 29668671 | D8: ='10月'!D8+'11月'!D8+'12月'!D8 -> 30349966 | E8: =C8/D8*100 -> 97.755203 | F8: ='10月'!F8+'11月'!F8+'12月'!F8 -> 9601646 | G8: ='10月'!G8+'11月'!G8+'12月'!G8 -> 9068157 | H8: =F8/G8*100 -> 105.8831 | I8: ='10月'!I8+'11月'!I8+'12月'!I8 -> 73656117 | J8: ='10月'!J8+'11月'!J8+'12月'!J8 -> 73048151 | K8: =I8/J8*100 -> 100.83228 | L8: ='10月'!L8+'11月'!L8+'12月'!L8 -> 112926434 | M8: ='10月'!M8+'11月'!M8+'12月'!M8 -> 112466274 | N8: =L8/M8*100 -> 100.40915
B9: 阪急交通社（3社計 ＊5） | C9: ='10月'!C9+'11月'!C9+'12月'!C9 -> 44655457 | D9: ='10月'!D9+'11月'!D9+'12月'!D9 -> 48745566 | E9: =C9/D9*100 -> 91.60927 | F9: ='10月'!F9+'11月'!F9+'12月'!F9 -> 882545 | G9: ='10月'!G9+'11月'!G9+'12月'!G9 -> 638732 | H9: =F9/G9*100 -> 138.17141 | I9: ='10月'!I9+'11月'!I9+'12月'!I9 -> 34989335 | J9: ='10月'!J9+'11月'!J9+'12月'!J9 -> 35906191 | K9: =I9/J9*100 -> 97.446524 | L9: ='10月'!L9+'11月'!L9+'12月'!L9 -> 80527337 | M9: ='10月'!M9+'11月'!M9+'12月'!M9 -> 85290489 | N9: =L9/M9*100 -> 94.415377
B10: 楽天(株) | C10: ='10月'!C10+'11月'!C10+'12月'!C10 -> 8454564 | D10: ='10月'!D10+'11月'!D10+'12月'!D10 -> 3942276 | E10: =C10/D10*100 -> 214.45896 | F10: ='10月'!F10+'11月'!F10+'12月'!F10 -> 2395923 | G10: ='10月'!G10+'11月'!G10+'12月'!G10 -> 2093165 | H10: =F10/G10*100 -> 114.46412 | I10: ='10月'!I10+'11月'!I10+'12月'!I10 -> 128681854 | J10: ='10月'!J10+'11月'!J10+'12月'!J10 -> 117006220 | K10: =I10/J10*100 -> 109.97864 | L10: ='10月'!L10+'11月'!L10+'12月'!L10 -> 139532341 | M10: ='10月'!M10+'11月'!M10+'12月'!M10 -> 123041661 | N10: =L10/M10*100 -> 113.40252
B11: （株）JTBワールドバケーションズ | C11: ='10月'!C11+'11月'!C11+'12月'!C11 -> 51760460 | D11: ='10月'!D11+'11月'!D11+'12月'!D11 -> 56823986 | E11: =C11/D11*100 -> 91.089105 | F11: ='10月'!F11+'11月'!F11+'12月'!F11 -> 0 | G11: ='10月'!G11+'11月'!G11+'12月'!G11 -> 0 | H11: － | I11: ='10月'!I11+'11月'!I11+'12月'!I11 -> 0 | J11: ='10月'!J11+'11月'!J11+'12月'!J11 -> 0 | K11: － | L11: ='10月'!L11+'11月'!L11+'12月'!L11 -> 51760460 | M11: ='10月'!M11+'11月'!M11+'12月'!M11 -> 56823986 | N11: =L11/M11*100 -> 91.089105
B12: ANAセールス（株） | C12: ='10月'!C12+'11月'!C12+'12月'!C12 -> 5074000 | D12: ='10月'!D12+'11月'!D12+'12月'!D12 -> 5507000 | E12: =C12/D12*100 -> 92.13728 | F12: ='10月'!F12+'11月'!F12+'12月'!F12 -> 330000 | G12: ='10月'!G12+'11月'!G12+'12月'!G12 -> 518000 | H12: =F12/G12*100 -> 63.706564 | I12: ='10月'!I12+'11月'!I12+'12月'!I12 -> 43155000 | J12: ='10月'!J12+'11月'!J12+'12月'!J12 -> 44504000 | K12: =I12/J12*100 -> 96.968812 | L12: ='10月'!L12+'11月'!L12+'12月'!L12 -> 48559000 | M12: ='10月'!M12+'11月'!M12+'12月'!M12 -> 50529000 | N12: =L12/M12*100 -> 96.101249
B13: （株）ジャルパック | C13: ='10月'!C13+'11月'!C13+'12月'!C13 -> 12544874 | D13: ='10月'!D13+'11月'!D13+'12月'!D13 -> 14229139 | E13: =C13/D13*100 -> 88.163268 | F13: ='10月'!F13+'11月'!F13+'12月'!F13 -> 8741 | G13: ='10月'!G13+'11月'!G13+'12月'!G13 -> 1141 | H13: =F13/G13*100 -> 766.08238 | I13: ='10月'!I13+'11月'!I13+'12月'!I13 -> 30563962 | J13: ='10月'!J13+'11月'!J13+'12月'!J13 -> 28850716 | K13: =I13/J13*100 -> 105.93831 | L13: ='10月'!L13+'11月'!L13+'12月'!L13 -> 43117577 | M13: ='10月'!M13+'11月'!M13+'12月'!M13 -> 43080996 | N13: =L13/M13*100 -> 100.08491
B14: 東武トップツアーズ（株） | C14: ='10月'!C14+'11月'!C14+'12月'!C14 -> 8373890 | D14: ='10月'!D14+'11月'!D14+'12月'!D14 -> 9601747 | E14: =C14/D14*100 -> 87.21215 | F14: ='10月'!F14+'11月'!F14+'12月'!F14 -> 2537293 | G14: ='10月'!G14+'11月'!G14+'12月'!G14 -> 2208657 | H14: =F14/G14*100 -> 114.87945 | I14: ='10月'!I14+'11月'!I14+'12月'!I14 -> 32486867 | J14: ='10月'!J14+'11月'!J14+'12月'!J14 -> 34742123 | K14: =I14/J14*100 -> 93.508583 | L14: ='10月'!L14+'11月'!L14+'12月'!L14 -> 43398050 | M14: ='10月'!M14+'11月'!M14+'12月'!M14 -> 46552527 | N14: =L14/M14*100 -> 93.223833
B15: （株）ジェイアール東海ツアーズ | C15: ='10月'!C15+'11月'!C15+'12月'!C15 -> 338705 | D15: ='10月'!D15+'11月'!D15+'12月'!D15 -> 369269 | E15: =C15/D15*100 -> 91.723107 | F15: ='10月'!F15+'11月'!F15+'12月'!F15 -> 71188 | G15: ='10月'!G15+'11月'!G15+'12月'!G15 -> 84002 | H15: =F15/G15*100 -> 84.745601 | I15: ='10月'!I15+'11月'!I15+'12月'!I15 -> 25081354 | J15: ='10月'!J15+'11月'!J15+'12月'!J15 -> 25719684 | K15: =I15/J15*100 -> 97.518127 | L15: ='10月'!L15+'11月'!L15+'12月'!L15 -> 25491247 | M15: ='10月'!M15+'11月'!M15+'12月'!M15 -> 26172955 | N15: =L15/M15*100 -> 97.395372
B16: （株）JTBビジネストラベルソリューションズ | C16: ='10月'!C16+'11月'!C16+'12月'!C16 -> 14646664 | D16: ='10月'!D16+'11月'!D16+'12月'!D16 -> 14868864 | E16: =C16/D16*100 -> 98.505602 | F16: ='10月'!F16+'11月'!F16+'12月'!F16 -> 29080 | G16: ='10月'!G16+'11月'!G16+'12月'!G16 -> 28130 | H16: =F16/G16*100 -> 103.37718 | I16: ='10月'!I16+'11月'!I16+'12月'!I16 -> 12018782 | J16: ='10月'!J16+'11月'!J16+'12月'!J16 -> 12223234 | K16: =I16/J16*100 -> 98.327349 | L16: ='10月'!L16+'11月'!L16+'12月'!L16 -> 26694526 | M16: ='10月'!M16+'11月'!M16+'12月'!M16 -> 27120228 | N16: =L16/M16*100 -> 98.430316
B17: （株）農協観光 | C17: ='10月'!C17+'11月'!C17+'12月'!C17 -> 2441640 | D17: ='10月'!D17+'11月'!D17+'12月'!D17 -> 2707191 | E17: =C17/D17*100 -> 90.190903 | F17: ='10月'!F17+'11月'!F17+'12月'!F17 -> 324478 | G17: ='10月'!G17+'11月'!G17+'12月'!G17 -> 514963 | H17: =F17/G17*100 -> 63.009964 | I17: ='10月'!I17+'11月'!I17+'12月'!I17 -> 19770991 | J17: ='10月'!J17+'11月'!J17+'12月'!J17 -> 20446052 | K17: =I17/J17*100 -> 96.698331 | L17: ='10月'!L17+'11月'!L17+'12月'!L17 -> 22537109 | M17: ='10月'!M17+'11月'!M17+'12月'!M17 -> 23668206 | N17: =L17/M17*100 -> 95.221028
B18: 名鉄観光サービス（株） | C18: ='10月'!C18+'11月'!C18+'12月'!C18 -> 3973433 | D18: ='10月'!D18+'11月'!D18+'12月'!D18 -> 4037025 | E18: =C18/D18*100 -> 98.424781 | F18: ='10月'!F18+'11月'!F18+'12月'!F18 -> 450420 | G18: ='10月'!G18+'11月'!G18+'12月'!G18 -> 408924 | H18: =F18/G18*100 -> 110.14761 | I18: ='10月'!I18+'11月'!I18+'12月'!I18 -> 23061210 | J18: ='10月'!J18+'11月'!J18+'12月'!J18 -> 22188194 | K18: =I18/J18*100 -> 103.9346 | L18: ='10月'!L18+'11月'!L18+'12月'!L18 -> 27485063 | M18: ='10月'!M18+'11月'!M18+'12月'!M18 -> 26634143 | N18: =L18/M18*100 -> 103.19485
B19: （株）読売旅行 | C19: ='10月'!C19+'11月'!C19+'12月'!C19 -> 2133812 | D19: ='10月'!D19+'11月'!D19+'12月'!D19 -> 2011424 | E19: =C19/D19*100 -> 106.08464 | F19: ='10月'!F19+'11月'!F19+'12月'!F19 -> 45989 | G19: ='10月'!G19+'11月'!G19+'12月'!G19 -> 5842 | H19: =F19/G19*100 -> 787.21328 | I19: ='10月'!I19+'11月'!I19+'12月'!I19 -> 11230398 | J19: ='10月'!J19+'11月'!J19+'12月'!J19 -> 12601449 | K19: =I19/J19*100 -> 89.119894 | L19: ='10月'!L19+'11月'!L19+'12月'!L19 -> 13410199 | M19: ='10月'!M19+'11月'!M19+'12月'!M19 -> 14618715 | N19: =L19/M19*100 -> 91.73309
B20: 日通旅行（株） | C20: ='10月'!C20+'11月'!C20+'12月'!C20 -> 7680661 | D20: ='10月'!D20+'11月'!D20+'12月'!D20 -> 8650480 | E20: =C20/D20*100 -> 88.788842 | F20: ='10月'!F20+'11月'!F20+'12月'!F20 -> 348457 | G20: ='10月'!G20+'11月'!G20+'12月'!G20 -> 312328 | H20: =F20/G20*100 -> 111.56765 | I20: ='10月'!I20+'11月'!I20+'12月'!I20 -> 2143553 | J20: ='10月'!J20+'11月'!J20+'12月'!J20 -> 2097116 | K20: =I20/J20*100 -> 102.21433 | L20: ='10月'!L20+'11月'!L20+'12月'!L20 -> 10172671 | M20: ='10月'!M20+'11月'!M20+'12月'!M20 -> 11059924 | N20: =L20/M20*100 -> 91.977766
B21: （株）DeNAトラベル | C21: ='10月'!C21+'11月'!C21+'12月'!C21 -> 11964970 | D21: ='10月'!D21+'11月'!D21+'12月'!D21 -> 11089741 | E21: =C21/D21*100 -> 107.89224 | F21: ='10月'!F21+'11月'!F21+'12月'!F21 -> 155392 | G21: ='10月'!G21+'11月'!G21+'12月'!G21 -> 41252 | H21: =F21/G21*100 -> 376.68962 | I21: ='10月'!I21+'11月'!I21+'12月'!I21 -> 1271658 | J21: ='10月'!J21+'11月'!J21+'12月'!J21 -> 655551 | K21: =I21/J21*100 -> 193.98308 | L21: ='10月'!L21+'11月'!L21+'12月'!L21 -> 13392020 | M21: ='10月'!M21+'11月'!M21+'12月'!M21 -> 11786544 | N21: =L21/M21*100 -> 113.62126
B22: 西鉄旅行（株） | C22: ='10月'!C22+'11月'!C22+'12月'!C22 -> 3486175 | D22: ='10月'!D22+'11月'!D22+'12月'!D22 -> 4019173 | E22: =C22/D22*100 -> 86.738615 | F22: ='10月'!F22+'11月'!F22+'12月'!F22 -> 159048 | G22: ='10月'!G22+'11月'!G22+'12月'!G22 -> 130279 | H22: =F22/G22*100 -> 122.08261 | I22: ='10月'!I22+'11月'!I22+'12月'!I22 -> 6119459 | J22: ='10月'!J22+'11月'!J22+'12月'!J22 -> 6285765 | K22: =I22/J22*100 -> 97.354244 | L22: ='10月'!L22+'11月'!L22+'12月'!L22 -> 9764682 | M22: ='10月'!M22+'11月'!M22+'12月'!M22 -> 10435217 | N22: =L22/M22*100 -> 93.574307
B23: ビッグホリデー（株） | C23: ='10月'!C23+'11月'!C23+'12月'!C23 -> 1024556 | D23: ='10月'!D23+'11月'!D23+'12月'!D23 -> 1308910 | E23: =C23/D23*100 -> 78.275512 | F23: ='10月'!F23+'11月'!F23+'12月'!F23 -> 0 | G23: ='10月'!G23+'11月'!G23+'12月'!G23 -> 0 | H23: － | I23: ='10月'!I23+'11月'!I23+'12月'!I23 -> 11905850 | J23: ='10月'!J23+'11月'!J23+'12月'!J23 -> 13384058 | K23: =I23/J23*100 -> 88.955457 | L23: ='10月'!L23+'11月'!L23+'12月'!L23 -> 12930406 | M23: ='10月'!M23+'11月'!M23+'12月'!M23 -> 14692968 | N23: =L23/M23*100 -> 88.004044
B24: 日新航空サービス（株） | C24: ='10月'!C24+'11月'!C24+'12月'!C24 -> 10884965 | D24: ='10月'!D24+'11月'!D24+'12月'!D24 -> 10764845 | E24: =C24/D24*100 -> 101.11585 | F24: ='10月'!F24+'11月'!F24+'12月'!F24 -> 0 | G24: ='10月'!G24+'11月'!G24+'12月'!G24 -> 0 | H24: － | I24: ='10月'!I24+'11月'!I24+'12月'!I24 -> 1425918 | J24: ='10月'!J24+'11月'!J24+'12月'!J24 -> 1274833 | K24: =I24/J24*100 -> 111.85136 | L24: ='10月'!L24+'11月'!L24+'12月'!L24 -> 12310883 | M24: ='10月'!M24+'11月'!M24+'12月'!M24 -> 12039678 | N24: =L24/M24*100 -> 102.25259
B25: エムオーツーリスト（株） | C25: ='10月'!C25+'11月'!C25+'12月'!C25 -> 8880330 | D25: ='10月'!D25+'11月'!D25+'12月'!D25 -> 9320188 | E25: =C25/D25*100 -> 95.280589 | F25: ='10月'!F25+'11月'!F25+'12月'!F25 -> 26740 | G25: ='10月'!G25+'11月'!G25+'12月'!G25 -> 19471 | H25: =F25/G25*100 -> 137.33244 | I25: ='10月'!I25+'11月'!I25+'12月'!I25 -> 808483 | J25: ='10月'!J25+'11月'!J25+'12月'!J25 -> 853652 | K25: =I25/J25*100 -> 94.708734 | L25: ='10月'!L25+'11月'!L25+'12月'!L25 -> 9715553 | M25: ='10月'!M25+'11月'!M25+'12月'!M25 -> 10193311 | N25: =L25/M25*100 -> 95.313024
B26: （株）日立トラベルビューロー | C26: ='10月'!C26+'11月'!C26+'12月'!C26 -> 5048310 | D26: ='10月'!D26+'11月'!D26+'12月'!D26 -> 4504649 | E26: =C26/D26*100 -> 112.06889 | F26: ='10月'!F26+'11月'!F26+'12月'!F26 -> 35319 | G26: ='10月'!G26+'11月'!G26+'12月'!G26 -> 27778 | H26: =F26/G26*100 -> 127.14738 | I26: ='10月'!I26+'11月'!I26+'12月'!I26 -> 3241571 | J26: ='10月'!J26+'11月'!J26+'12月'!J26 -> 2714032 | K26: =I26/J26*100 -> 119.43746 | L26: ='10月'!L26+'11月'!L26+'12月'!L26 -> 8325200 | M26: ='10月'!M26+'11月'!M26+'12月'!M26 -> 7246459 | N26: =L26/M26*100 -> 114.88646
B27: （株）タビックスジャパン | C27: ='10月'!C27+'11月'!C27+'12月'!C27 -> 1229274 | D27: ='10月'!D27+'11月'!D27+'12月'!D27 -> 1454420 | E27: =C27/D27*100 -> 84.519877 | F27: ='10月'!F27+'11月'!F27+'12月'!F27 -> 63212 | G27: ='10月'!G27+'11月'!G27+'12月'!G27 -> 43476 | H27: =F27/G27*100 -> 145.39516 | I27: ='10月'!I27+'11月'!I27+'12月'!I27 -> 6675995 | J27: ='10月'!J27+'11月'!J27+'12月'!J27 -> 7785714 | K27: =I27/J27*100 -> 85.746728 | L27: ='10月'!L27+'11月'!L27+'12月'!L27 -> 7968481 | M27: ='10月'!M27+'11月'!M27+'12月'!M27 -> 9283610 | N27: =L27/M27*100 -> 85.833862
B28: 郵船トラベル（株） | C28: ='10月'!C28+'11月'!C28+'12月'!C28 -> 6534203 | D28: ='10月'!D28+'11月'!D28+'12月'!D28 -> 7947592 | E28: =C28/D28*100 -> 82.216135 | F28: ='10月'!F28+'11月'!F28+'12月'!F28 -> 0 | G28: ='10月'!G28+'11月'!G28+'12月'!G28 -> 0 | H28: － | I28: ='10月'!I28+'11月'!I28+'12月'!I28 -> 459232 | J28: ='10月'!J28+'11月'!J28+'12月'!J28 -> 607743 | K28: =I28/J28*100 -> 75.563519 | L28: ='10月'!L28+'11月'!L28+'12月'!L28 -> 6993435 | M28: ='10月'!M28+'11月'!M28+'12月'!M28 -> 8555335 | N28: =L28/M28*100 -> 81.743555
B29: （株）エヌオーイー | C29: ='10月'!C29+'11月'!C29+'12月'!C29 -> 6886670 | D29: ='10月'!D29+'11月'!D29+'12月'!D29 -> 6665266 | E29: =C29/D29*100 -> 103.32176 | F29: ='10月'!F29+'11月'!F29+'12月'!F29 -> 42444 | G29: ='10月'!G29+'11月'!G29+'12月'!G29 -> 41779 | H29: =F29/G29*100 -> 101.59171 | I29: ='10月'!I29+'11月'!I29+'12月'!I29 -> 380095 | J29: ='10月'!J29+'11月'!J29+'12月'!J29 -> 345904 | K29: =I29/J29*100 -> 109.88453 | L29: ='10月'!L29+'11月'!L29+'12月'!L29 -> 7309209 | M29: ='10月'!M29+'11月'!M29+'12月'!M29 -> 7052949 | N29: =L29/M29*100 -> 103.63337
B30: 沖縄ツーリスト（株） | C30: ='10月'!C30+'11月'!C30+'12月'!C30 -> 380796 | D30: ='10月'!D30+'11月'!D30+'12月'!D30 -> 451139 | E30: =C30/D30*100 -> 84.407688 | F30: ='10月'!F30+'11月'!F30+'12月'!F30 -> 234086 | G30: ='10月'!G30+'11月'!G30+'12月'!G30 -> 295563 | H30: =F30/G30*100 -> 79.200035 | I30: ='10月'!I30+'11月'!I30+'12月'!I30 -> 6705918 | J30: ='10月'!J30+'11月'!J30+'12月'!J30 -> 7774069 | K30: =I30/J30*100 -> 86.260078 | L30: ='10月'!L30+'11月'!L30+'12月'!L30 -> 7320800 | M30: ='10月'!M30+'11月'!M30+'12月'!M30 -> 8520771 | N30: =L30/M30*100 -> 85.917108
B31: （株）IACEトラベル | C31: ='10月'!C31+'11月'!C31+'12月'!C31 -> 4942613 | D31: ='10月'!D31+'11月'!D31+'12月'!D31 -> 5261699 | E31: =C31/D31*100 -> 93.935685 | F31: ='10月'!F31+'11月'!F31+'12月'!F31 -> 0 | G31: ='10月'!G31+'11月'!G31+'12月'!G31 -> 0 | H31: － | I31: ='10月'!I31+'11月'!I31+'12月'!I31 -> 1060992 | J31: ='10月'!J31+'11月'!J31+'12月'!J31 -> 883855 | K31: =I31/J31*100 -> 120.04141 | L31: ='10月'!L31+'11月'!L31+'12月'!L31 -> 6003605 | M31: ='10月'!M31+'11月'!M31+'12月'!M31 -> 6145554 | N31: =L31/M31*100 -> 97.690216
B32: （株）旅工房 | C32: ='10月'!C32+'11月'!C32+'12月'!C32 -> 5133737 | D32: ='10月'!D32+'11月'!D32+'12月'!D32 -> 4905260 | E32: =C32/D32*100 -> 104.6578 | F32: ='10月'!F32+'11月'!F32+'12月'!F32 -> 158346 | G32: ='10月'!G32+'11月'!G32+'12月'!G32 -> 254518 | H32: =F32/G32*100 -> 62.214067 | I32: ='10月'!I32+'11月'!I32+'12月'!I32 -> 177619 | J32: ='10月'!J32+'11月'!J32+'12月'!J32 -> 213864 | K32: =I32/J32*100 -> 83.052314 | L32: ='10月'!L32+'11月'!L32+'12月'!L32 -> 5469702 | M32: ='10月'!M32+'11月'!M32+'12月'!M32 -> 5373642 | N32: =L32/M32*100 -> 101.78761
B33: （株）トヨタツーリストインターナショナル | C33: ='10月'!C33+'11月'!C33+'12月'!C33 -> 3325731 | D33: ='10月'!D33+'11月'!D33+'12月'!D33 -> 3945636 | E33: =C33/D33*100 -> 84.288845 | F33: ='10月'!F33+'11月'!F33+'12月'!F33 -> 47224 | G33: ='10月'!G33+'11月'!G33+'12月'!G33 -> 66534 | H33: =F33/G33*100 -> 70.977245 | I33: ='10月'!I33+'11月'!I33+'12月'!I33 -> 741366 | J33: ='10月'!J33+'11月'!J33+'12月'!J33 -> 818066 | K33: =I33/J33*100 -> 90.624228 | L33: ='10月'!L33+'11月'!L33+'12月'!L33 -> 4114321 | M33: ='10月'!M33+'11月'!M33+'12月'!M33 -> 4830236 | N33: =L33/M33*100 -> 85.178467
B34: 京王観光（株） | C34: ='10月'!C34+'11月'!C34+'12月'!C34 -> 860417 | D34: ='10月'!D34+'11月'!D34+'12月'!D34 -> 974197 | E34: =C34/D34*100 -> 88.320637 | F34: ='10月'!F34+'11月'!F34+'12月'!F34 -> 214754 | G34: ='10月'!G34+'11月'!G34+'12月'!G34 -> 218872 | H34: =F34/G34*100 -> 98.118535 | I34: ='10月'!I34+'11月'!I34+'12月'!I34 -> 4320219 | J34: ='10月'!J34+'11月'!J34+'12月'!J34 -> 4404050 | K34: =I34/J34*100 -> 98.096502 | L34: ='10月'!L34+'11月'!L34+'12月'!L34 -> 5395390 | M34: ='10月'!M34+'11月'!M34+'12月'!M34 -> 5597119 | N34: =L34/M34*100 -> 96.395842
B35: 東日観光（株） | C35: ='10月'!C35+'11月'!C35+'12月'!C35 -> 1147414 | D35: ='10月'!D35+'11月'!D35+'12月'!D35 -> 1321011 | E35: =C35/D35*100 -> 86.858777 | F35: ='10月'!F35+'11月'!F35+'12月'!F35 -> 758228 | G35: ='10月'!G35+'11月'!G35+'12月'!G35 -> 699561 | H35: =F35/G35*100 -> 108.38626 | I35: ='10月'!I35+'11月'!I35+'12月'!I35 -> 2569105 | J35: ='10月'!J35+'11月'!J35+'12月'!J35 -> 2766959 | K35: =I35/J35*100 -> 92.849406 | L35: ='10月'!L35+'11月'!L35+'12月'!L35 -> 4474747 | M35: ='10月'!M35+'11月'!M35+'12月'!M35 -> 4787531 | N35: =L35/M35*100 -> 93.466695
B36: 九州旅客鉄道（株） | C36: ='10月'!C36+'11月'!C36+'12月'!C36 -> 344189 | D36: ='10月'!D36+'11月'!D36+'12月'!D36 -> 308752 | E36: =C36/D36*100 -> 111.4775 | F36: ='10月'!F36+'11月'!F36+'12月'!F36 -> 0 | G36: ='10月'!G36+'11月'!G36+'12月'!G36 -> 0 | H36: － | I36: ='10月'!I36+'11月'!I36+'12月'!I36 -> 5591502 | J36: ='10月'!J36+'11月'!J36+'12月'!J36 -> 6274305 | K36: =I36/J36*100 -> 89.117472 | L36: ='10月'!L36+'11月'!L36+'12月'!L36 -> 5935691 | M36: ='10月'!M36+'11月'!M36+'12月'!M36 -> 6583057 | N36: =L36/M36*100 -> 90.16618
B37: メルコトラベル（株） | C37: ='10月'!C37+'11月'!C37+'12月'!C37 -> 1618795 | D37: ='10月'!D37+'11月'!D37+'12月'!D37 -> 1815687 | E37: =C37/D37*100 -> 89.15606 | F37: ='10月'!F37+'11月'!F37+'12月'!F37 -> 2866 | G37: ='10月'!G37+'11月'!G37+'12月'!G37 -> 14852 | H37: =F37/G37*100 -> 19.297064 | I37: ='10月'!I37+'11月'!I37+'12月'!I37 -> 2458860 | J37: ='10月'!J37+'11月'!J37+'12月'!J37 -> 2451204 | K37: =I37/J37*100 -> 100.31234 | L37: ='10月'!L37+'11月'!L37+'12月'!L37 -> 4080521 | M37: ='10月'!M37+'11月'!M37+'12月'!M37 -> 4281743 | N37: =L37/M37*100 -> 95.300465
B38: （株）フジ・トラベル・サービス | C38: ='10月'!C38+'11月'!C38+'12月'!C38 -> 622135 | D38: ='10月'!D38+'11月'!D38+'12月'!D38 -> 717026 | E38: =C38/D38*100 -> 86.766031 | F38: ='10月'!F38+'11月'!F38+'12月'!F38 -> 32806 | G38: ='10月'!G38+'11月'!G38+'12月'!G38 -> 17493 | H38: =F38/G38*100 -> 187.53787 | I38: ='10月'!I38+'11月'!I38+'12月'!I38 -> 3342686 | J38: ='10月'!J38+'11月'!J38+'12月'!J38 -> 3617817 | K38: =I38/J38*100 -> 92.39511 | L38: ='10月'!L38+'11月'!L38+'12月'!L38 -> 3997627 | M38: ='10月'!M38+'11月'!M38+'12月'!M38 -> 4352336 | N38: =L38/M38*100 -> 91.850147
B39: （株）南海国際旅行 | C39: ='10月'!C39+'11月'!C39+'12月'!C39 -> 1007640 | D39: ='10月'!D39+'11月'!D39+'12月'!D39 -> 984630 | E39: =C39/D39*100 -> 102.33692 | F39: ='10月'!F39+'11月'!F39+'12月'!F39 -> 102665 | G39: ='10月'!G39+'11月'!G39+'12月'!G39 -> 65100 | H39: =F39/G39*100 -> 157.70353 | I39: ='10月'!I39+'11月'!I39+'12月'!I39 -> 2717553 | J39: ='10月'!J39+'11月'!J39+'12月'!J39 -> 3071983 | K39: =I39/J39*100 -> 88.462501 | L39: ='10月'!L39+'11月'!L39+'12月'!L39 -> 3827858 | M39: ='10月'!M39+'11月'!M39+'12月'!M39 -> 4121713 | N39: =L39/M39*100 -> 92.870561
B40: WILLER TRAVEL（株） | C40: ='10月'!C40+'11月'!C40+'12月'!C40 -> 0 | D40: － | E40: － | F40: ='10月'!F40+'11月'!F40+'12月'!F40 -> 191409 | G40: － | H40: － | I40: ='10月'!I40+'11月'!I40+'12月'!I40 -> 3718656 | J40: － | K40: － | L40: ='10月'!L40+'11月'!L40+'12月'!L40 -> 3910065 | M40: － | N40: －
B41: （株）日産クリエイティブサービス | C41: ='10月'!C41+'11月'!C41+'12月'!C41 -> 2341047 | D41: ='10月'!D41+'11月'!D41+'12月'!D41 -> 2417477 | E41: =C41/D41*100 -> 96.838439 | F41: ='10月'!F41+'11月'!F41+'12月'!F41 -> 0 | G41: ='10月'!G41+'11月'!G41+'12月'!G41 -> 0 | H41: － | I41: ='10月'!I41+'11月'!I41+'12月'!I41 -> 579549 | J41: ='10月'!J41+'11月'!J41+'12月'!J41 -> 598957 | K41: =I41/J41*100 -> 96.759701 | L41: ='10月'!L41+'11月'!L41+'12月'!L41 -> 2920596 | M41: ='10月'!M41+'11月'!M41+'12月'!M41 -> 3016434 | N41: =L41/M41*100 -> 96.822805
B42: 北海道旅客鉄道（株） | C42: ='10月'!C42+'11月'!C42+'12月'!C42 -> 250853 | D42: ='10月'!D42+'11月'!D42+'12月'!D42 -> 313569 | E42: =C42/D42*100 -> 79.999298 | F42: ='10月'!F42+'11月'!F42+'12月'!F42 -> 0 | G42: ='10月'!G42+'11月'!G42+'12月'!G42 -> 0 | H42: － | I42: ='10月'!I42+'11月'!I42+'12月'!I42 -> 2677559 | J42: ='10月'!J42+'11月'!J42+'12月'!J42 -> 3834684 | K42: =I42/J42*100 -> 69.824763 | L42: ='10月'!L42+'11月'!L42+'12月'!L42 -> 2928412 | M42: ='10月'!M42+'11月'!M42+'12月'!M42 -> 4148253 | N42: =L42/M42*100 -> 70.593862
B43: （株）小田急トラベル | C43: ='10月'!C43+'11月'!C43+'12月'!C43 -> 631455 | D43: ='10月'!D43+'11月'!D43+'12月'!D43 -> 706388 | E43: =C43/D43*100 -> 89.39209 | F43: ='10月'!F43+'11月'!F43+'12月'!F43 -> 48515 | G43: ='10月'!G43+'11月'!G43+'12月'!G43 -> 48221 | H43: =F43/G43*100 -> 100.60969 | I43: ='10月'!I43+'11月'!I43+'12月'!I43 -> 3013716 | J43: ='10月'!J43+'11月'!J43+'12月'!J43 -> 3025845 | K43: =I43/J43*100 -> 99.599153 | L43: ='10月'!L43+'11月'!L43+'12月'!L43 -> 3693686 | M43: ='10月'!M43+'11月'!M43+'12月'!M43 -> 3780454 | N43: =L43/M43*100 -> 97.704826
B44: イオンコンパス（株） | C44: ='10月'!C44+'11月'!C44+'12月'!C44 -> 1183449 | D44: ='10月'!D44+'11月'!D44+'12月'!D44 -> 1050915 | E44: =C44/D44*100 -> 112.6113 | F44: ='10月'!F44+'11月'!F44+'12月'!F44 -> 11759 | G44: ='10月'!G44+'11月'!G44+'12月'!G44 -> 19431 | H44: =F44/G44*100 -> 60.5167 | I44: ='10月'!I44+'11月'!I44+'12月'!I44 -> 2547910 | J44: ='10月'!J44+'11月'!J44+'12月'!J44 -> 2612275 | K44: =I44/J44*100 -> 97.536056 | L44: ='10月'!L44+'11月'!L44+'12月'!L44 -> 3743118 | M44: ='10月'!M44+'11月'!M44+'12月'!M44 -> 3682621 | N44: =L44/M44*100 -> 101.64277
B45: 京成トラベルサービス（株） | C45: ='10月'!C45+'11月'!C45+'12月'!C45 -> 237541 | D45: ='10月'!D45+'11月'!D45+'12月'!D45 -> 258038 | E45: =C45/D45*100 -> 92.056596 | F45: ='10月'!F45+'11月'!F45+'12月'!F45 -> 4547 | G45: ='10月'!G45+'11月'!G45+'12月'!G45 -> 739 | H45: =F45/G45*100 -> 615.29093 | I45: ='10月'!I45+'11月'!I45+'12月'!I45 -> 2941527 | J45: ='10月'!J45+'11月'!J45+'12月'!J45 -> 2758404 | K45: =I45/J45*100 -> 106.63873 | L45: ='10月'!L45+'11月'!L45+'12月'!L45 -> 3183615 | M45: ='10月'!M45+'11月'!M45+'12月'!M45 -> 3017181 | N45: =L45/M45*100 -> 105.51621
B46: ケイライントラベル（株） | C46: ='10月'!C46+'11月'!C46+'12月'!C46 -> 1612124 | D46: ='10月'!D46+'11月'!D46+'12月'!D46 -> 1637750 | E46: =C46/D46*100 -> 98.435292 | F46: ='10月'!F46+'11月'!F46+'12月'!F46 -> 0 | G46: ='10月'!G46+'11月'!G46+'12月'!G46 -> 0 | H46: － | I46: ='10月'!I46+'11月'!I46+'12月'!I46 -> 98906 | J46: ='10月'!J46+'11月'!J46+'12月'!J46 -> 103398 | K46: =I46/J46*100 -> 95.655622 | L46: ='10月'!L46+'11月'!L46+'12月'!L46 -> 1711030 | M46: ='10月'!M46+'11月'!M46+'12月'!M46 -> 1741148 | N46: =L46/M46*100 -> 98.270222
B47: 名鉄観光バス（株） | C47: ='10月'!C47+'11月'!C47+'12月'!C47 -> 15613 | D47: ='10月'!D47+'11月'!D47+'12月'!D47 -> 41960 | E47: =C47/D47*100 -> 37.209247 | F47: ='10月'!F47+'11月'!F47+'12月'!F47 -> 484 | G47: ='10月'!G47+'11月'!G47+'12月'!G47 -> 0 | H47: － | I47: ='10月'!I47+'11月'!I47+'12月'!I47 -> 1897919 | J47: ='10月'!J47+'11月'!J47+'12月'!J47 -> 1989116 | K47: =I47/J47*100 -> 95.4152 | L47: ='10月'!L47+'11月'!L47+'12月'!L47 -> 1914016 | M47: ='10月'!M47+'11月'!M47+'12月'!M47 -> 2031076 | N47: =L47/M47*100 -> 94.236552
B48: （株）ヤマハトラベルサービス | C48: ='10月'!C48+'11月'!C48+'12月'!C48 -> 964215 | D48: ='10月'!D48+'11月'!D48+'12月'!D48 -> 950400 | E48: =C48/D48*100 -> 101.4536 | F48: ='10月'!F48+'11月'!F48+'12月'!F48 -> 53107 | G48: ='10月'!G48+'11月'!G48+'12月'!G48 -> 54957 | H48: =F48/G48*100 -> 96.633732 | I48: ='10月'!I48+'11月'!I48+'12月'!I48 -> 631293 | J48: ='10月'!J48+'11月'!J48+'12月'!J48 -> 634894 | K48: =I48/J48*100 -> 99.432819 | L48: ='10月'!L48+'11月'!L48+'12月'!L48 -> 1648615 | M48: ='10月'!M48+'11月'!M48+'12月'!M48 -> 1640251 | N48: =L48/M48*100 -> 100.50992
B49: （株）PTS | C49: ='10月'!C49+'11月'!C49+'12月'!C49 -> 2232161 | D49: ='10月'!D49+'11月'!D49+'12月'!D49 -> 2139409 | E49: =C49/D49*100 -> 104.3354 | F49: ='10月'!F49+'11月'!F49+'12月'!F49 -> 22539 | G49: ='10月'!G49+'11月'!G49+'12月'!G49 -> 37598 | H49: =F49/G49*100 -> 59.947338 | I49: ='10月'!I49+'11月'!I49+'12月'!I49 -> 2500847 | J49: ='10月'!J49+'11月'!J49+'12月'!J49 -> 2679401 | K49: =I49/J49*100 -> 93.336048 | L49: ='10月'!L49+'11月'!L49+'12月'!L49 -> 4755547 | M49: ='10月'!M49+'11月'!M49+'12月'!M49 -> 4856408 | N49: =L49/M49*100 -> 97.923136
B50: 西武トラベル（株） | C50: ='10月'!C50+'11月'!C50+'12月'!C50 -> 375726 | D50: ='10月'!D50+'11月'!D50+'12月'!D50 -> 514889 | E50: =C50/D50*100 -> 72.972233 | F50: ='10月'!F50+'11月'!F50+'12月'!F50 -> 239818 | G50: ='10月'!G50+'11月'!G50+'12月'!G50 -> 198337 | H50: =F50/G50*100 -> 120.9144 | I50: ='10月'!I50+'11月'!I50+'12月'!I50 -> 787184 | J50: ='10月'!J50+'11月'!J50+'12月'!J50 -> 755117 | K50: =I50/J50*100 -> 104.24663 | L50: ='10月'!L50+'11月'!L50+'12月'!L50 -> 1402728 | M50: ='10月'!M50+'11月'!M50+'12月'!M50 -> 1468343 | N50: =L50/M50*100 -> 95.531357
B51: （株）JAL JTAセールス | C51: ='10月'!C51+'11月'!C51+'12月'!C51 -> 0 | D51: ='10月'!D51+'11月'!D51+'12月'!D51 -> 0 | E51: － | F51: ='10月'!F51+'11月'!F51+'12月'!F51 -> 0 | G51: ='10月'!G51+'11月'!G51+'12月'!G51 -> 0 | H51: － | I51: ='10月'!I51+'11月'!I51+'12月'!I51 -> 1213284 | J51: ='10月'!J51+'11月'!J51+'12月'!J51 -> 1294454 | K51: =I51/J51*100 -> 93.729403 | L51: ='10月'!L51+'11月'!L51+'12月'!L51 -> 1213284 | M51: ='10月'!M51+'11月'!M51+'12月'!M51 -> 1294454 | N51: =L51/M51*100 -> 93.729403
B52: 菱和ダイヤモンド航空サービス（株） | C52: ='10月'!C52+'11月'!C52+'12月'!C52 -> 1158568 | D52: ='10月'!D52+'11月'!D52+'12月'!D52 -> 1155359 | E52: =C52/D52*100 -> 100.27775 | F52: ='10月'!F52+'11月'!F52+'12月'!F52 -> 0 | G52: ='10月'!G52+'11月'!G52+'12月'!G52 -> 0 | H52: － | I52: ='10月'!I52+'11月'!I52+'12月'!I52 -> 38487 | J52: ='10月'!J52+'11月'!J52+'12月'!J52 -> 34990 | K52: =I52/J52*100 -> 109.99428 | L52: ='10月'!L52+'11月'!L52+'12月'!L52 -> 1197055 | M52: ='10月'!M52+'11月'!M52+'12月'!M52 -> 1190349 | N52: =L52/M52*100 -> 100.56336
B53: （株）トラベル日本 | C53: ='10月'!C53+'11月'!C53+'12月'!C53 -> 599761 | D53: ='10月'!D53+'11月'!D53+'12月'!D53 -> 676217 | E53: =C53/D53*100 -> 88.69357 | F53: ='10月'!F53+'11月'!F53+'12月'!F53 -> 164 | G53: ='10月'!G53+'11月'!G53+'12月'!G53 -> 92 | H53: =F53/G53*100 -> 178.26087 | I53: ='10月'!I53+'11月'!I53+'12月'!I53 -> 830621 | J53: ='10月'!J53+'11月'!J53+'12月'!J53 -> 702372 | K53: =I53/J53*100 -> 118.25941 | L53: ='10月'!L53+'11月'!L53+'12月'!L53 -> 1430546 | M53: ='10月'!M53+'11月'!M53+'12月'!M53 -> 1378681 | N53: =L53/M53*100 -> 103.76193
B54: 合計 | C54: ='10月'!C54+'11月'!C54+'12月'!C54 -> 504765606 | D54: ='10月'!D54+'11月'!D54+'12月'!D54 -> 528811771 | E54: =C54/D54*100 -> 95.452793 | F54: ='10月'!F54+'11月'!F54+'12月'!F54 -> 52620131 | G54: ='10月'!G54+'11月'!G54+'12月'!G54 -> 49316777 | H54: =F54/G54*100 -> 106.69824 | I54: ='10月'!I54+'11月'!I54+'12月'!I54 -> 877274644 | J54: ='10月'!J54+'11月'!J54+'12月'!J54 -> 904919555 | K54: =I54/J54*100 -> 96.945042 | L54: ='10月'!L54+'11月'!L54+'12月'!L54 -> 1434660381 | M54: ='10月'!M54+'11月'!M54+'12月'!M54 -> 1483048103 | N54: =L54/M54*100 -> 96.737279
C56: ※JTBグループは、15社内取引を相殺し合計した数値
C57: JTBグループ15社 ： ジェイティービー、JTB北海道、JTB東北、JTB関東、JTB首都圏、JTB中部、JTB西日本、JTB中国四国、JTB九州、JTB東海、JTB関
C58: 西、JTBコーポレートセールス、i.JTB、JTBグローバル・マーケティング＆トラベル、JTB国内旅行企画
C60: ※KNT-CTホールディングスは、8社内取引を相殺し、合計した数値
C61: KNT-CTホールディングス8社 ： 近畿日本ツーリスト、近畿日本ツーリスト北海道、近畿日本ツーリスト東北、近畿日本ツーリスト中国四国、近畿日本ツーリ
C62: スト九州、ユナイテッドツアーズ、クラブツーリズム、近畿日本ツーリスト個人旅行
C64: ※エイチ・アイ・エスは、5社内取引を相殺し、合計した数値
C65: エイチ・アイ・エス5社 ： エイチ・アイ・エス、オリオンツアー、クオリタ、クルーズプラネット、ジャパンホリデートラベル
C67: ※阪急交通社は、3社内取引を相殺し、合計したもの
C68: 阪急交通社3社 ： 阪急交通社、阪急阪神ビジネストラベル、阪神トラベル・インターナショナル
C70: ※WILLER TRAVELは平成27年度のデータがないため、合計数値は同社分を除いて集計
C72: ※■は新たに追加した会社

Sheet 4Q
B1: 主要旅行業者の旅行取扱状況速報
F2: 2016年度第4四半期
B3: 会 社 名 | C3: 海 外 旅 行 | F3: 外 国 人 旅 行 | I3: 国 内 旅 行 | L3: 合 計
C4: 取扱額（千円） | D4: 前年（千円） | E4: 前年比（％） | F4: 取扱額（千円） | G4: 前年（千円） | H4: 前年比（％） | I4: 取扱額（千円） | J4: 前年（千円） | K4: 前年比（％） | L4: 取扱額（千円） | M4: 前年（千円） | N4: 前年比（％）
B5: ジェイティービー（15社計 ＊2） | C5: ='1月'!C5+'2月'!C5+'3月'!C5 -> 93662858 | D5: ='1月'!D5+'2月'!D5+'3月'!D5 -> 92506947 | E5: =C5/D5*100 -> 101.24954 | F5: ='1月'!F5+'2月'!F5+'3月'!F5 -> 20398515 | G5: ='1月'!G5+'2月'!G5+'3月'!G5 -> 15345415 | H5: =F5/G5*100 -> 132.92905 | I5: ='1月'!I5+'2月'!I5+'3月'!I5 -> 214330803 | J5: ='1月'!J5+'2月'!J5+'3月'!J5 -> 240948182 | K5: =I5/J5*100 -> 88.953069 | L5: ='1月'!L5+'2月'!L5+'3月'!L5 -> 328392176 | M5: ='1月'!M5+'2月'!M5+'3月'!M5 -> 348800544 | N5: =L5/M5*100 -> 94.148986
B6: KNT-CTホールディングス（8社計 ＊3） | C6: ='1月'!C6+'2月'!C6+'3月'!C6 -> 34359665 | D6: ='1月'!D6+'2月'!D6+'3月'!D6 -> 32437560 | E6: =C6/D6*100 -> 105.92555 | F6: ='1月'!F6+'2月'!F6+'3月'!F6 -> 5663065 | G6: ='1月'!G6+'2月'!G6+'3月'!G6 -> 3662562 | H6: =F6/G6*100 -> 154.62032 | I6: ='1月'!I6+'2月'!I6+'3月'!I6 -> 65427133 | J6: ='1月'!J6+'2月'!J6+'3月'!J6 -> 66004741 | K6: =I6/J6*100 -> 99.124899 | L6: ='1月'!L6+'2月'!L6+'3月'!L6 -> 105449863 | M6: ='1月'!M6+'2月'!M6+'3月'!M6 -> 102104863 | N6: =L6/M6*100 -> 103.27604
B7: エイチ・アイ・エス（5社計 ＊4） | C7: ='1月'!C7+'2月'!C7+'3月'!C7 -> 93546742 | D7: ='1月'!D7+'2月'!D7+'3月'!D7 -> 84065475 | E7: =C7/D7*100 -> 111.27843 | F7: ='1月'!F7+'2月'!F7+'3月'!F7 -> 7427090 | G7: ='1月'!G7+'2月'!G7+'3月'!G7 -> 6270784 | H7: =F7/G7*100 -> 118.43958 | I7: ='1月'!I7+'2月'!I7+'3月'!I7 -> 15709793 | J7: ='1月'!J7+'2月'!J7+'3月'!J7 -> 16275957 | K7: =I7/J7*100 -> 96.52147 | L7: ='1月'!L7+'2月'!L7+'3月'!L7 -> 116683628 | M7: ='1月'!M7+'2月'!M7+'3月'!M7 -> 106612219 | N7: =L7/M7*100 -> 109.44677
B8: （株）日本旅行 | C8: ='1月'!C8+'2月'!C8+'3月'!C8 -> 29113258 | D8: ='1月'!D8+'2月'!D8+'3月'!D8 -> 26981910 | E8: =C8/D8*100 -> 107.89917 | F8: ='1月'!F8+'2月'!F8+'3月'!F8 -> 7303746 | G8: ='1月'!G8+'2月'!G8+'3月'!G8 -> 6698903 | H8: =F8/G8*100 -> 109.02899 | I8: ='1月'!I8+'2月'!I8+'3月'!I8 -> 60644774 | J8: ='1月'!J8+'2月'!J8+'3月'!J8 -> 60342469 | K8: =I8/J8*100 -> 100.50098 | L8: ='1月'!L8+'2月'!L8+'3月'!L8 -> 97061778 | M8: ='1月'!M8+'2月'!M8+'3月'!M8 -> 94023282 | N8: =L8/M8*100 -> 103.23164
B9: 阪急交通社（3社計 ＊5） | C9: ='1月'!C9+'2月'!C9+'3月'!C9 -> 47092889 | D9: ='1月'!D9+'2月'!D9+'3月'!D9 -> 41894504 | E9: =C9/D9*100 -> 112.40827 | F9: ='1月'!F9+'2月'!F9+'3月'!F9 -> 297001 | G9: ='1月'!G9+'2月'!G9+'3月'!G9 -> 357981 | H9: =F9/G9*100 -> 82.965576 | I9: ='1月'!I9+'2月'!I9+'3月'!I9 -> 28276419 | J9: ='1月'!J9+'2月'!J9+'3月'!J9 -> 28777235 | K9: =I9/J9*100 -> 98.25968 | L9: ='1月'!L9+'2月'!L9+'3月'!L9 -> 75666309 | M9: ='1月'!M9+'2月'!M9+'3月'!M9 -> 71029720 | N9: =L9/M9*100 -> 106.52767
B10: 楽天(株) | C10: ='1月'!C10+'2月'!C10+'3月'!C10 -> 9342994 | D10: ='1月'!D10+'2月'!D10+'3月'!D10 -> 7306951 | E10: =C10/D10*100 -> 127.86447 | F10: ='1月'!F10+'2月'!F10+'3月'!F10 -> 2416985 | G10: ='1月'!G10+'2月'!G10+'3月'!G10 -> 2268781 | H10: =F10/G10*100 -> 106.53232 | I10: ='1月'!I10+'2月'!I10+'3月'!I10 -> 121853360 | J10: ='1月'!J10+'2月'!J10+'3月'!J10 -> 112275090 | K10: =I10/J10*100 -> 108.53107 | L10: ='1月'!L10+'2月'!L10+'3月'!L10 -> 133613339 | M10: ='1月'!M10+'2月'!M10+'3月'!M10 -> 121850822 | N10: =L10/M10*100 -> 109.65321
B11: （株）JTBワールドバケーションズ | C11: ='1月'!C11+'2月'!C11+'3月'!C11 -> 45218200 | D11: ='1月'!D11+'2月'!D11+'3月'!D11 -> 47163781 | E11: =C11/D11*100 -> 95.874841 | F11: ='1月'!F11+'2月'!F11+'3月'!F11 -> 0 | G11: ='1月'!G11+'2月'!G11+'3月'!G11 -> 0 | H11: － | I11: ='1月'!I11+'2月'!I11+'3月'!I11 -> 0 | J11: ='1月'!J11+'2月'!J11+'3月'!J11 -> 0 | K11: － | L11: ='1月'!L11+'2月'!L11+'3月'!L11 -> 45218200 | M11: ='1月'!M11+'2月'!M11+'3月'!M11 -> 47163781 | N11: =L11/M11*100 -> 95.874841
B12: ANAセールス（株） | C12: ='1月'!C12+'2月'!C12+'3月'!C12 -> 4809000 | D12: ='1月'!D12+'2月'!D12+'3月'!D12 -> 4633000 | E12: =C12/D12*100 -> 103.79883 | F12: ='1月'!F12+'2月'!F12+'3月'!F12 -> 235000 | G12: ='1月'!G12+'2月'!G12+'3月'!G12 -> 519000 | H12: =F12/G12*100 -> 45.279383 | I12: ='1月'!I12+'2月'!I12+'3月'!I12 -> 41037000 | J12: ='1月'!J12+'2月'!J12+'3月'!J12 -> 44441000 | K12: =I12/J12*100 -> 92.340406 | L12: ='1月'!L12+'2月'!L12+'3月'!L12 -> 46081000 | M12: ='1月'!M12+'2月'!M12+'3月'!M12 -> 49593000 | N12: =L12/M12*100 -> 92.918355
B13: （株）ジャルパック | C13: ='1月'!C13+'2月'!C13+'3月'!C13 -> 13013006 | D13: ='1月'!D13+'2月'!D13+'3月'!D13 -> 11888447 | E13: =C13/D13*100 -> 109.45926 | F13: ='1月'!F13+'2月'!F13+'3月'!F13 -> 696 | G13: ='1月'!G13+'2月'!G13+'3月'!G13 -> 1950 | H13: =F13/G13*100 -> 35.692308 | I13: ='1月'!I13+'2月'!I13+'3月'!I13 -> 29400600 | J13: ='1月'!J13+'2月'!J13+'3月'!J13 -> 27935536 | K13: =I13/J13*100 -> 105.24445 | L13: ='1月'!L13+'2月'!L13+'3月'!L13 -> 42414302 | M13: ='1月'!M13+'2月'!M13+'3月'!M13 -> 39825933 | N13: =L13/M13*100 -> 106.4992
B14: 東武トップツアーズ（株） | C14: ='1月'!C14+'2月'!C14+'3月'!C14 -> 8141356 | D14: ='1月'!D14+'2月'!D14+'3月'!D14 -> 7384244 | E14: =C14/D14*100 -> 110.25307 | F14: ='1月'!F14+'2月'!F14+'3月'!F14 -> 1305098 | G14: ='1月'!G14+'2月'!G14+'3月'!G14 -> 1360539 | H14: =F14/G14*100 -> 95.925071 | I14: ='1月'!I14+'2月'!I14+'3月'!I14 -> 18057308 | J14: ='1月'!J14+'2月'!J14+'3月'!J14 -> 18911583 | K14: =I14/J14*100 -> 95.482795 | L14: ='1月'!L14+'2月'!L14+'3月'!L14 -> 27503762 | M14: ='1月'!M14+'2月'!M14+'3月'!M14 -> 27656366 | N14: =L14/M14*100 -> 99.448214
