Workbook

Sheet 12年
A1: 出発空港 | B1: 便数 | C1: 座席数
A2: NRT / 成田 | B2: 17983 | C2: 4503714
A3: KIX / 関西 | B3: 7950 | C3: 1801703
A4: HND / 羽田 | B4: 4499 | C4: 1171691
A5: NGO / 中部 | B5: 3486 | C5: 767900
A6: FUK / 福岡 | B6: 2464 | C6: 494633
A7: CTS / 新千歳 | B7: 832 | C7: 188322
A8: OKA / 那覇 | B8: 539 | C8: 93842
A9: HIJ / 広島 | B9: 418 | C9: 63791
A10: OKJ / 岡山 | B10: 213 | C10: 38673
A11: FSZ / 静岡 | B11: 214 | C11: 35795
A12: KIJ / 新潟 | B12: 190 | C12: 34436
A13: KMQ / 小松 | B13: 158 | C13: 23782
... A34: 合計 | B34: 39851 | C34: 9365386

Sheet 12年詳細
A1: ツーレター | B1: 航空会社 | C1: 便数 | D1: 座席 | E1: シェア | H1: 空港 | I1: 便数 | J1: 総座席 | K1: シェア
A2: AKJ / 旭川 | H2: AKJ / 旭川 | I2: 16 | J2: 2832 | K2: 0.0003023901
A3: OZ | B3: アシアナ航空 | C3: 16 | D3: 2832 | E3: 1 | H3: AOJ / 青森 | I3: 40 | J3: 6480 | K3: 0.00069190955
A4: 合計 | C4: 16 | D4: 2832 | E4: - | H4: AXT / 秋田 | I4: 39 | J4: 6500 | K4: 0.00069404507
A5: AOJ / 青森 | H5: CTS / 新千歳 | I5: 832 | J5: 188322 | K5: 0.020108301
A6: KE | B6: 大韓航空 | C6: 40 | D6: 6480 | E6: 1 | H6: DNA / 嘉手納 | I6: 2 | J6: 314 | K6: 3.3527716e-05
A7: 合計 | C7: 40 | D7: 6480 | E7: - | H7: FSZ / 静岡 | I7: 214 | J7: 35795 | K7: 0.0038220528
A8: AXT / 秋田 | H8: FUK / 福岡 | I8: 2464 | J8: 494633 | K8: 0.052815015
A9: KE | B9: 大韓航空 | C9: 39 | D9: 6500 | E9: 1 | H9: HIJ / 広島 | I9: 418 | J9: 63791 | K9: 0.0068113583
A10: 合計 | C10: 39 | D10: 6500 | E10: - | H10: HKD / 函館 | I10: 39 | J10: 6570 | K10: 0.0007015194
A11: CTS / 新千歳 | H11: HND / 羽田 | I11: 4499 | J11: 1171691 | K11: 0.12510867
A12: KE | B12: 大韓航空 | C12: 221 | D12: 53797 | E12: 0.28566498 | H12: HSG / 佐賀 | I12: 2 | J12: 282 | K12: 3.0110879e-05
A13: CX | B13: キャセイパシフィック航空 | C13: 83 | D13: 30147 | E13: 0.1600822 | H13: IBR / 茨城 | I13: 39 | J13: 7020 | K13: 0.00074956868
A14: CI | B14: チャイナエアライン | C14: 97 | D14: 30091 | E14: 0.15978484 | H14: IWO / 硫黄島 | I14: 2 | J14: 314 | K14: 3.3527716e-05
A15: BR | B15: エバー航空 | C15: 91 | D15: 24388 | E15: 0.1295016 | H15: KIJ / 新潟 | I15: 190 | J15: 34436 | K15: 0.003676944
A16: LJ | B16: ジンエアー | C16: 64 | D16: 12096 | E16: 0.064230414 | H16: KIX / 関西 | I16: 7950 | J16: 1801703 | K16: 0.19237894
A17: MU | B17: 中国東方航空 | C17: 65 | D17: 9276 | E17: 0.049256061 | H17: KKJ / 北九州 | I17: 39 | J17: 7020 | K17: 0.00074956868
A18: CO | B18: コンチネンタル航空 | C18: 58 | D18: 7192 | E18: 0.038189909 | H18: KMI / 宮崎 | I18: 67 | J18: 11208 | K18: 0.0011967473
A19: CA | B19: 中国国際航空 | C19: 40 | D19: 7036 | E19: 0.03736154 | H19: KMJ / 熊本 | I19: 40 | J19: 5820 | K19: 0.00062143728
A20: UO | B20: 香港エクスプレス航空 | C20: 35 | D20: 6461 | E20: 0.034308259 | H20: KMQ / 小松 | I20: 158 | J20: 23782 | K20: 0.0025393508
A21: CZ | B21: 中国南方航空 | C21: 26 | D21: 3220 | E21: 0.017098374 | H21: KOJ / 鹿児島 | I21: 91 | J21: 17496 | K21: 0.0018681558
A22: ZE | B22: イースター航空 | C22: 24 | D22: 2928 | E22: 0.015547838 | H22: MYJ / 松山 | I22: 66 | J22: 8883 | K22: 0.00094849267
A23: HZ | B23: オーロラ航空 | C23: 27 | D23: 1424 | E23: 0.007561517 | H23: NGO / 中部 | I23: 3486 | J23: 767900 | K23: 0.081993417
A24: SQ | B24: シンガポール航空 | C24: 1 | D24: 266 | E24: 0.0014124744 | H24: NGS / 長崎 | I24: 52 | J24: 7332 | K24: 0.00078288284
A25: 合計 | C25: 832 | D25: 188322 | E25: - | H25: NRT / 成田 | I25: 17983 | J25: 4503714 | K25: 0.48088931
A26: DNA / 嘉手納 | H26: OIT / 大分 | I26: 28 | J26: 4660 | K26: 0.00049757693
A27: CO | B27: コンチネンタル航空 | C27: 2 | D27: 314 | E27: 1 | H27: OKA / 那覇 | I27: 539 | J27: 93842 | K27: 0.010020089
A28: 合計 | C28: 2 | D28: 314 | E28: - | H28: OKJ / 岡山 | I28: 213 | J28: 38673 | K28: 0.0041293546
A29: FSZ / 静岡 | H29: SDJ / 仙台 | I29: 95 | J29: 17677 | K29: 0.0018874823
A30: OZ | B30: アシアナ航空 | C30: 91 | D30: 15531 | E30: 0.43388741 | H30: TAK / 高松 | I30: 65 | J30: 10503 | K30: 0.0011214701
A31: KE | B31: 大韓航空 | C31: 91 | D31: 15280 | E31: 0.42687526 | H31: TKS / 徳島 | I31: 1 | J31: 178 | K31: 1.9006157e-05
A32: MU | B32: 中国東方航空 | C32: 28 | D32: 4332 | E32: 0.12102249 | H32: TOY / 富山 | I32: 143 | J32: 19436 | K32: 0.0020753015
A33: CI | B33: チャイナエアライン | C33: 3 | D33: 474 | E33: 0.013242073 | H33: YGJ / 米子 | I33: 39 | J33: 6579 | K33: 0.00070248039
A34: NX | B34: マカオ航空 | C34: 1 | D34: 178 | E34: 0.0049727616 | H34: 合計 | I34: 39851 | J34: 9365386 | K34: -
A35: 合計 | C35: 214 | D35: 35795 | E35: -
A36: FUK / 福岡
A37: KE | B37: 大韓航空 | C37: 455 | D37: 115171 | E37: 0.23284132
A38: OZ | B38: アシアナ航空 | C38: 403 | D38: 73165 | E38: 0.14791775
A39: CI | B39: チャイナエアライン | C39: 129 | D39: 39974 | E39: 0.080815473
A40: MU | B40: 中国東方航空 | C40: 237 | D40: 35506 | E40: 0.071782513
A41: CX | B41: キャセイパシフィック航空 | C41: 91 | D41: 33342 | E41: 0.067407553
A42: CA | B42: 中国国際航空 | C42: 182 | D42: 30331 | E42: 0.061320211
A43: TG | B43: タイ国際航空 | C43: 91 | D43: 27239 | E43: 0.055069112
A44: SQ | B44: シンガポール航空 | C44: 65 | D44: 18525 | E44: 0.03745201
A45: BX | B45: エアプサン | C45: 91 | D45: 14742 | E45: 0.029803915
A46: BR | B46: エバー航空 | C46: 55 | D46: 14740 | E46: 0.029799872
A47: TW | B47: ティーウェイ航空 | C47: 120 | D47: 14640 | E47: 0.029597702
A48: KA | B48: 香港ドラゴン航空 | C48: 91 | D48: 14378 | E48: 0.029068016
... A56: 7C | B56: チェジュ航空 | C56: 2 | D56: 360 | E56: 0.00072781234
A57: 合計 | C57: 2464 | D57: 494633 | E57: -
A58: HIJ / 広島
A59: OZ | B59: アシアナ航空 | C59: 96 | D59: 16992 | E59: 0.26636986
A60: CI | B60: チャイナエアライン | C60: 97 | D60: 15458 | E60: 0.24232258
A61: MU | B61: 中国東方航空 | C61: 93 | D61: 14508 | E61: 0.2274302
A62: CA | B62: 中国国際航空 | C62: 65 | D62: 8437 | E62: 0.13226004
A63: CZ | B63: 中国南方航空 | C63: 38 | D63: 4680 | E63: 0.073364581
A64: CO | B64: コンチネンタル航空 | C64: 28 | D64: 3538 | E64: 0.055462369
A65: NX | B65: マカオ航空 | C65: 1 | D65: 178 | E65: 0.0027903623
A66: 合計 | C66: 418 | D66: 63791 | E66: -
A67: HKD / 函館
A68: KE | B68: 大韓航空 | C68: 39 | D68: 6570 | E68: 1
A69: 合計 | C69: 39 | D69: 6570 | E69: -
A70: HND / 羽田
A71: JL | B71: 日本航空 | C71: 1183 | D71: 302120 | E71: 0.25784955
A72: NH | B72: 全日空 | C72: 1157 | D72: 247735 | E72: 0.21143373
A73: KE | B73: 大韓航空 | C73: 366 | D73: 123746 | E73: 0.10561317
A74: OZ | B74: アシアナ航空 | C74: 311 | D74: 75833 | E74: 0.064720989
A75: CX | B75: キャセイパシフィック航空 | C75: 182 | D75: 70362 | E75: 0.060051669
A76: CI | B76: チャイナエアライン | C76: 182 | D76: 56966 | E76: 0.04861862
A77: SQ | B77: シンガポール航空 | C77: 182 | D77: 56033 | E77: 0.047822335
A78: BR | B78: エバー航空 | C78: 182 | D78: 45864 | E78: 0.039143426
A79: CA | B79: 中国国際航空 | C79: 182 | D79: 33670 | E79: 0.028736245
A80: TG | B80: タイ国際航空 | C80: 91 | D80: 32876 | E80: 0.028058592
A81: MU | B81: 中国東方航空 | C81: 91 | D81: 27118 | E81: 0.023144327
A82: HA | B82: ハワイアン航空 | C82: 91 | D82: 24297 | E82: 0.020736696
... A87: MH | B87: マレーシア航空 | C87: 18 | D87: 2988 | E87: 0.0025501604
A88: 合計 | C88: 4499 | D88: 1171691 | E88: -
A89: HSG / 佐賀
A90: OZ | B90: アシアナ航空 | C90: 2 | D90: 282 | E90: 1
A91: 合計 | C91: 2 | D91: 282 | E91: -
A92: IBR / 茨城
A93: 9C | B93: 春秋航空 | C93: 39 | D93: 7020 | E93: 1
A94: 合計 | C94: 39 | D94: 7020 | E94: -
A95: IWO / 硫黄島
A96: CO | B96: コンチネンタル航空 | C96: 2 | D96: 314 | E96: 1
A97: 合計 | C97: 2 | D97: 314 | E97: -
A98: KIJ / 新潟
A99: KE | B99: 大韓航空 | C99: 91 | D99: 21030 | E99: 0.61069811
A100: CZ | B100: 中国南方航空 | C100: 45 | D100: 6822 | E100: 0.19810663
A101: MU | B101: 中国東方航空 | C101: 28 | D101: 3360 | E101: 0.097572308
A102: CO | B102: コンチネンタル航空 | C102: 26 | D102: 3224 | E102: 0.093622953
A103: 合計 | C103: 190 | D103: 34436 | E103: -
A104: KIX / 関西
A105: KE | B105: 大韓航空 | C105: 788 | D105: 202952 | E105: 0.11264454
A106: JL | B106: 日本航空 | C106: 731 | D106: 141531 | E106: 0.078554013
A107: CX | B107: キャセイパシフィック航空 | C107: 367 | D107: 132003 | E107: 0.073265683
A108: OZ | B108: アシアナ航空 | C108: 639 | D108: 126130 | E108: 0.070005989
A109: NH | B109: 全日空 | C109: 640 | D109: 97044 | E109: 0.053862374
A110: CI | B110: チャイナエアライン | C110: 214 | D110: 77610 | E110: 0.043075912
A111: CZ | B111: 中国南方航空 | C111: 428 | D111: 74166 | E111: 0.041164387
...

Sheet 13年
A1: 出発空港 | B1: 便数 | C1: 座席数
A2: NRT / 成田 | B2: 18291 | C2: 4689653
A3: KIX / 関西 | B3: 8745 | C3: 1940967
A4: HND / 羽田 | B4: 4674 | C4: 1230802
A5: NGO / 中部 | B5: 3469 | C5: 769799
A6: FUK / 福岡 | B6: 2637 | C6: 534209
A7: CTS / 新千歳 | B7: 833 | C7: 208098
A8: OKA / 那覇 | B8: 639 | C8: 103656
A9: HIJ / 広島 | B9: 389 | C9: 59170
A10: FSZ / 静岡 | B10: 254 | C10: 39800
A11: SDJ / 仙台 | B11: 190 | C11: 32446
A12: KMQ / 小松 | B12: 202 | C12: 30500
A13: OKJ / 岡山 | B13: 227 | C13: 29751
... A36: 合計 | B36: 41696 | C36: 9859897

Sheet 13年詳細
A1: ツーレター | B1: 航空会社 | C1: 便数 | D1: 座席 | E1: シェア | H1: 空港 | I1: 便数 | J1: 総座席 | K1: シェア
A2: AKJ / 旭川 | H2: AKJ / 旭川 | I2: 39 | J2: 8192 | K2: 0.00083084032
A3: OZ | B3: アシアナ航空 | C3: 26 | D3: 4602 | E3: 0.56176758 | H3: AOJ / 青森 | I3: 38 | J3: 6042 | K3: 0.00061278531
A4: GE | B4: トランスアジア航空 | C4: 13 | D4: 3590 | E4: 0.43823242 | H4: AXT / 秋田 | I4: 38 | J4: 5244 | K4: 0.0005318514
A5: 合計 | C5: 39 | D5: 8192 | E5: - | H5: CTS / 新千歳 | I5: 833 | J5: 208098 | K5: 0.021105494
A6: AOJ / 青森 | H6: DNA / 嘉手納 | I6: 2 | J6: 310 | K6: 3.1440491e-05
A7: KE | B7: 大韓航空 | C7: 38 | D7: 6042 | E7: 1 | H7: FKS / 福島 | I7: 2 | J7: 342 | K7: 3.4685961e-05
A8: 合計 | C8: 38 | D8: 6042 | E8: - | H8: FSZ / 静岡 | I8: 254 | J8: 39800 | K8: 0.0040365533
A9: AXT / 秋田 | H9: FUK / 福岡 | I9: 2637 | J9: 534209 | K9: 0.054179978
A10: KE | B10: 大韓航空 | C10: 38 | D10: 5244 | E10: 1 | H10: HIJ / 広島 | I10: 389 | J10: 59170 | K10: 0.0060010769
A11: 合計 | C11: 38 | D11: 5244 | E11: - | H11: HKD / 函館 | I11: 63 | J11: 16412 | K11: 0.0016645204
A12: CTS / 新千歳 | H12: HND / 羽田 | I12: 4674 | J12: 1230802 | K12: 0.12482909
A13: KE | B13: 大韓航空 | C13: 219 | D13: 50059 | E13: 0.24055493 | H13: IBR / 茨城 | I13: 2 | J13: 354 | K13: 3.5903012e-05
A14: CX | B14: キャセイパシフィック航空 | C14: 98 | D14: 36314 | E14: 0.17450432 | H14: ISG / 石垣 | I14: 2 | J14: 354 | K14: 3.5903012e-05
A15: CI | B15: チャイナエアライン | C15: 97 | D15: 32675 | E15: 0.15701737 | H15: IWO / 硫黄島 | I15: 1 | J15: 155 | K15: 1.5720245e-05
A16: BR | B16: エバー航空 | C16: 90 | D16: 22740 | E16: 0.10927544 | H16: KIJ / 新潟 | I16: 198 | J16: 29158 | K16: 0.0029572317
A17: TG | B17: タイ国際航空 | C17: 51 | D17: 17979 | E17: 0.086396794 | H17: KIX / 関西 | I17: 8745 | J17: 1940967 | K17: 0.19685469
A18: HA | B18: ハワイアン航空 | C18: 39 | D18: 9828 | E18: 0.047227748 | H18: KKJ / 北九州 | I18: 178 | J18: 25632 | K18: 0.0025996215
A19: LJ | B19: ジンエアー | C19: 53 | D19: 9543 | E19: 0.045858201 | H19: KMI / 宮崎 | I19: 67 | J19: 12188 | K19: 0.0012361184
A20: GE | B20: トランスアジア航空 | C20: 26 | D20: 7333 | E20: 0.035238205 | H20: KMJ / 熊本 | I20: 38 | J20: 5562 | K20: 0.00056410326
A21: UA | B21: ユナイテッド航空 | C21: 58 | D21: 7180 | E21: 0.034502975 | H21: KMQ / 小松 | I21: 202 | J21: 30500 | K21: 0.0030933386
A22: MU | B22: 中国東方航空 | C22: 45 | D22: 6534 | E22: 0.031398668 | H22: KOJ / 鹿児島 | I22: 117 | J22: 22324 | K22: 0.002264121
A23: CA | B23: 中国国際航空 | C23: 29 | D23: 4843 | E23: 0.023272689 | H23: KUH / 釧路 | I23: 13 | J23: 3743 | K23: 0.00037961857
A24: HZ | B24: オーロラ航空 | C24: 27 | D24: 2930 | E24: 0.014079905 | H24: MYJ / 松山 | I24: 93 | J24: 14031 | K24: 0.0014230372
A25: ZE | B25: イースター航空 | C25: 1 | D25: 140 | E25: 0.00067275995 | H25: NGO / 中部 | I25: 3469 | J25: 769799 | K25: 0.078073736
A26: 合計 | C26: 833 | D26: 208098 | E26: - | H26: NGS / 長崎 | I26: 46 | J26: 6576 | K26: 0.00066694409
A27: DNA / 嘉手納 | H27: NRT / 成田 | I27: 18291 | J27: 4689653 | K27: 0.47562901
A28: UA | B28: ユナイテッド航空 | C28: 2 | D28: 310 | E28: 1 | H28: OBO / 帯広 | I28: 13 | J28: 3590 | K28: 0.00036410117
A29: 合計 | C29: 2 | D29: 310 | E29: - | H29: OIT / 大分 | I29: 26 | J29: 3900 | K29: 0.00039554166
A30: FKS / 福島 | H30: OKA / 那覇 | I30: 639 | J30: 103656 | K30: 0.010512889
A31: OZ | B31: アシアナ航空 | C31: 2 | D31: 342 | E31: 1 | H31: OKJ / 岡山 | I31: 227 | J31: 29751 | K31: 0.0030173743
A32: 合計 | C32: 2 | D32: 342 | E32: - | H32: SDJ / 仙台 | I32: 190 | J32: 32446 | K32: 0.0032907037
A33: FSZ / 静岡 | H33: TAK / 高松 | I33: 43 | J33: 7451 | K33: 0.00075568741
A34: OZ | B34: アシアナ航空 | C34: 94 | D34: 14904 | E34: 0.37447236 | H34: TOY / 富山 | I34: 88 | J34: 13603 | K34: 0.001379629
A35: KE | B35: 大韓航空 | C35: 90 | D35: 13929 | E35: 0.34997487 | H35: YGJ / 米子 | I35: 39 | J35: 5883 | K35: 0.00059665938
A36: CI | B36: チャイナエアライン | C36: 39 | D36: 6162 | E36: 0.15482412 | H36: 合計 | I36: 41696 | J36: 9859897 | K36: -
A37: MU | B37: 中国東方航空 | C37: 31 | D37: 4805 | E37: 0.12072864
A38: 合計 | C38: 254 | D38: 39800 | E38: -
A39: FUK / 福岡
A40: KE | B40: 大韓航空 | C40: 450 | D40: 93646 | E40: 0.17529843
A41: OZ | B41: アシアナ航空 | C41: 311 | D41: 63249 | E41: 0.11839748
A42: CI | B42: チャイナエアライン | C42: 164 | D42: 50056 | E42: 0.093701154
A43: MU | B43: 中国東方航空 | C43: 219 | D43: 33314 | E43: 0.06236136
A44: CX | B44: キャセイパシフィック航空 | C44: 90 | D44: 32826 | E44: 0.06144786
A45: BX | B45: エアプサン | C45: 180 | D45: 29160 | E45: 0.054585378
A46: CA | B46: 中国国際航空 | C46: 172 | D46: 28072 | E46: 0.052548722
A47: TG | B47: タイ国際航空 | C47: 90 | D47: 26910 | E47: 0.050373543
A48: BR | B48: エバー航空 | C48: 90 | D48: 26613 | E48: 0.049817581
A49: HA | B49: ハワイアン航空 | C49: 90 | D49: 22680 | E49: 0.042455294
A50: TW | B50: ティーウェイ航空 | C50: 179 | D50: 21838 | E50: 0.040879132
A51: DL | B51: デルタ航空 | C51: 90 | D51: 18900 | E51: 0.035379411
... A59: NX | B59: マカオ航空 | C59: 2 | D59: 352 | E59: 0.00065891814
A60: 合計 | C60: 2637 | D60: 534209 | E60: -
A61: HIJ / 広島
A62: MU | B62: 中国東方航空 | C62: 112 | D62: 16904 | E62: 0.28568531
A63: OZ | B63: アシアナ航空 | C63: 95 | D63: 16275 | E63: 0.27505493
A64: CI | B64: チャイナエアライン | C64: 90 | D64: 14220 | E64: 0.24032449
A65: CA | B65: 中国国際航空 | C65: 63 | D65: 8061 | E65: 0.13623458
A66: UA | B66: ユナイテッド航空 | C66: 28 | D66: 3534 | E66: 0.059726213
A67: NX | B67: マカオ航空 | C67: 1 | D67: 176 | E67: 0.0029744803
A68: 合計 | C68: 389 | D68: 59170 | E68: -
A69: HKD / 函館
A70: BR | B70: エバー航空 | C70: 35 | D70: 8820 | E70: 0.53741165
A71: GE | B71: トランスアジア航空 | C71: 25 | D71: 7151 | E71: 0.43571777
A72: KE | B72: 大韓航空 | C72: 3 | D72: 441 | E72: 0.026870583
A73: 合計 | C73: 63 | D73: 16412 | E73: -
A74: HND / 羽田
A75: JL | B75: 日本航空 | C75: 1169 | D75: 304634 | E75: 0.24750854
A76: NH | B76: 全日空 | C76: 1165 | D76: 272316 | E76: 0.22125086
A77: KE | B77: 大韓航空 | C77: 360 | D77: 103029 | E77: 0.083708834
A78: OZ | B78: アシアナ航空 | C78: 331 | D78: 86728 | E78: 0.070464624
A79: CX | B79: キャセイパシフィック航空 | C79: 180 | D79: 66760 | E79: 0.054241056
A80: CI | B80: チャイナエアライン | C80: 180 | D80: 56340 | E80: 0.045775031
A81: BR | B81: エバー航空 | C81: 180 | D81: 55620 | E81: 0.045190047
A82: SQ | B82: シンガポール航空 | C82: 177 | D82: 48702 | E82: 0.039569321
A83: CA | B83: 中国国際航空 | C83: 178 | D83: 32538 | E83: 0.026436421
A84: D7 | B84: エアアジアX | C84: 88 | D84: 29480 | E84: 0.023951862
A85: TG | B85: タイ国際航空 | C85: 90 | D85: 28836 | E85: 0.023428626
A86: MU | B86: 中国東方航空 | C86: 90 | D86: 26699 | E86: 0.02169236
... A92: BA | B92: ブリティッシュ・エアウェイズ | C92: 44 | D92: 9828 | E92: 0.0079850374
A93: 合計 | C93: 4674 | D93: 1230802 | E93: -
A94: IBR / 茨城
A95: OZ | B95: アシアナ航空 | C95: 2 | D95: 354 | E95: 1
A96: 合計 | C96: 2 | D96: 354 | E96: -
A97: ISG / 石垣
A98: OZ | B98: アシアナ航空 | C98: 2 | D98: 354 | E98: 1
A99: 合計 | C99: 2 | D99: 354 | E99: -
A100: IWO / 硫黄島
A101: UA | B101: ユナイテッド航空 | C101: 1 | D101: 155 | E101: 1
A102: 合計 | C102: 1 | D102: 155 | E102: -
A103: KIJ / 新潟
A104: KE | B104: 大韓航空 | C104: 90 | D104: 14514 | E104: 0.49777077
A105: MU | B105: 中国東方航空 | C105: 34 | D105: 4148 | E105: 0.14225941
A106: CZ | B106: 中国南方航空 | C106: 25 | D106: 3776 | E106: 0.12950134
A107: BR | B107: エバー航空 | C107: 23 | D107: 3496 | E107: 0.11989848
A108: UA | B108: ユナイテッド航空 | C108: 26 | D108: 3224 | E108: 0.11057
A109: 合計 | C109: 198 | D109: 29158 | E109: -
A110: KIX / 関西
A111: KE | B111: 大韓航空 | C111: 800 | D111: 195626 | E111: 0.10078791
A112: JL | B112: 日本航空 | C112: 721 | D112: 145077 | E112: 0.074744702
...

Sheet 14年
A1: 出発空港 | B1: 便数 | C1: 座席数
A2: NRT / 成田 | B2: 19249 | C2: 4838389
A3: KIX / 関西 | B3: 9212 | C3: 2061448
A4: HND / 羽田 | B4: 4896 | C4: 1217784
A5: NGO / 中部 | B5: 3418 | C5: 716416
A6: FUK / 福岡 | B6: 2802 | C6: 584399
A7: CTS / 新千歳 | B7: 1061 | C7: 256666
A8: OKA / 那覇 | B8: 897 | C8: 169239
A9: HIJ / 広島 | B9: 395 | C9: 62534
A10: SDJ / 仙台 | B10: 165 | C10: 31726
A11: FSZ / 静岡 | B11: 178 | C11: 29911
A12: OKJ / 岡山 | B12: 179 | C12: 29387
A13: KIJ / 新潟 | B13: 193 | C13: 28782
... A39: 合計 | B39: 44082 | C39: 10275454

Sheet 14年詳細
A1: ツーレター | B1: 航空会社 | C1: 便数 | D1: 座席 | E1: シェア | H1: 空港 | I1: 便数 | J1: 総座席 | K1: シェア
A2: AKJ / 旭川 | H2: AKJ / 旭川 | I2: 79 | J2: 18255 | K2: 0.0017765638
A3: BR | B3: エバー航空 | C3: 38 | D3: 9576 | E3: 0.52456861 | H3: AOJ / 青森 | I3: 39 | J3: 5403 | K3: 0.00052581618
A4: GE | B4: トランスアジア航空 | C4: 13 | D4: 3900 | E4: 0.2136401 | H4: AXT / 秋田 | I4: 39 | J4: 5703 | K4: 0.00055501197
A5: OZ | B5: アシアナ航空 | C5: 19 | D5: 3357 | E5: 0.18389482 | H5: CTS / 新千歳 | I5: 1061 | J5: 256666 | K5: 0.024978556
A6: MU | B6: 中国東方航空 | C6: 9 | D6: 1422 | E6: 0.077896467 | H6: DNA / 嘉手納 | I6: 1 | J6: 155 | K6: 1.5084492e-05
A7: 合計 | C7: 79 | D7: 18255 | E7: - | H7: FSZ / 静岡 | I7: 178 | J7: 29911 | K7: 0.0029109176
A8: AOJ / 青森 | H8: FUK / 福岡 | I8: 2802 | J8: 584399 | K8: 0.056873302
A9: KE | B9: 大韓航空 | C9: 39 | D9: 5403 | E9: 1 | H9: HIJ / 広島 | I9: 395 | J9: 62534 | K9: 0.0060857652
A10: 合計 | C10: 39 | D10: 5403 | E10: - | H10: HKD / 函館 | I10: 91 | J10: 24804 | K10: 0.0024139079
A11: AXT / 秋田 | H11: HND / 羽田 | I11: 4896 | J11: 1217784 | K11: 0.11851389
A12: KE | B12: 大韓航空 | C12: 39 | D12: 5703 | E12: 1 | H12: HSG / 佐賀 | I12: 78 | J12: 11778 | K12: 0.0011462267
A13: 合計 | C13: 39 | D13: 5703 | E13: - | H13: IBR / 茨城 | I13: 82 | J13: 14620 | K13: 0.0014228082
A14: CTS / 新千歳 | H14: IWO / 硫黄島 | I14: 1 | J14: 155 | K14: 1.5084492e-05
A15: KE | B15: 大韓航空 | C15: 182 | D15: 42410 | E15: 0.1652342 | H15: KIJ / 新潟 | I15: 193 | J15: 28782 | K15: 0.0028010441
A16: CI | B16: チャイナエアライン | C16: 106 | D16: 37877 | E16: 0.14757311 | H16: KIX / 関西 | I16: 9212 | J16: 2061448 | K16: 0.20061868
A17: CX | B17: キャセイパシフィック航空 | C17: 103 | D17: 36848 | E17: 0.14356401 | H17: KKJ / 北九州 | I17: 176 | J17: 25344 | K17: 0.0024664604
A18: TG | B18: タイ国際航空 | C18: 90 | D18: 32760 | E18: 0.1276367 | H18: KMI / 宮崎 | I18: 66 | J18: 12859 | K18: 0.0012514289
A19: BR | B19: エバー航空 | C19: 103 | D19: 29316 | E19: 0.11421848 | H19: KMJ / 熊本 | I19: 39 | J19: 6593 | K19: 0.00064162615
A20: LJ | B20: ジンエアー | C20: 78 | D20: 14274 | E20: 0.055613131 | H20: KMQ / 小松 | I20: 182 | J20: 27708 | K20: 0.0026965232
A21: HA | B21: ハワイアン航空 | C21: 39 | D21: 10101 | E21: 0.039354648 | H21: KOJ / 鹿児島 | I21: 153 | J21: 25459 | K21: 0.0024776521
A22: TW | B22: ティーウェイ航空 | C22: 82 | D22: 10004 | E22: 0.038976725 | H22: KUH / 釧路 | I22: 13 | J22: 3900 | K22: 0.00037954527
A23: MU | B23: 中国東方航空 | C23: 64 | D23: 9708 | E23: 0.037823475 | H23: MMY / 宮古 | I23: 3 | J23: 531 | K23: 5.1676549e-05
A24: UA | B24: ユナイテッド航空 | C24: 59 | D24: 8590 | E24: 0.033467619 | H24: MYJ / 松山 | I24: 42 | J24: 7356 | K24: 0.00071588078
A25: CZ | B25: 中国南方航空 | C25: 39 | D25: 7680 | E25: 0.029922156 | H25: NGO / 中部 | I25: 3418 | J25: 716416 | K25: 0.069721104
A26: GE | B26: トランスアジア航空 | C26: 25 | D26: 7500 | E26: 0.029220855 | H26: NGS / 長崎 | I26: 61 | J26: 10133 | K26: 0.00098613648
... A29: NX | B29: マカオ航空 | C29: 1 | D29: 178 | E29: 0.00069350829 | H29: OIT / 大分 | I29: 27 | J29: 4014 | K29: 0.00039063967
A30: 合計 | C30: 1061 | D30: 256666 | E30: - | H30: OKA / 那覇 | I30: 897 | J30: 169239 | K30: 0.016470221
A31: DNA / 嘉手納 | H31: OKJ / 岡山 | I31: 179 | J31: 29387 | K31: 0.0028599223
A32: UA | B32: ユナイテッド航空 | C32: 1 | D32: 155 | E32: 1 | H32: OKO / 横田 | I32: 1 | J32: 155 | K32: 1.5084492e-05
A33: 合計 | C33: 1 | D33: 155 | E33: - | H33: SDJ / 仙台 | I33: 165 | J33: 31726 | K33: 0.0030875521
A34: FSZ / 静岡 | H34: SHM / 南紀白浜 | I34: 1 | J34: 177 | K34: 1.7225516e-05
A35: OZ | B35: アシアナ航空 | C35: 65 | D35: 10396 | E35: 0.34756444 | H35: TAK / 高松 | I35: 102 | J35: 17620 | K35: 0.0017147661
A36: CI | B36: チャイナエアライン | C36: 48 | D36: 7584 | E36: 0.2535522 | H36: TOY / 富山 | I36: 111 | J36: 17557 | K36: 0.001708635
A37: KE | B37: 大韓航空 | C37: 38 | D37: 7368 | E37: 0.24633078 | H37: UBJ / 山口宇部 | I37: 11 | J37: 1941 | K37: 0.00018889676
A38: MU | B38: 中国東方航空 | C38: 27 | D38: 4563 | E38: 0.15255257 | H38: YGJ / 米子 | I38: 38 | J38: 6285 | K38: 0.00061165181
A39: 合計 | C39: 178 | D39: 29911 | E39: - | H39: 合計 | I39: 44082 | J39: 10275454 | K39: -
A40: FUK / 福岡
A41: KE | B41: 大韓航空 | C41: 450 | D41: 98825 | E41: 0.16910535
A42: OZ | B42: アシアナ航空 | C42: 285 | D42: 62088 | E42: 0.10624248
A43: CI | B43: チャイナエアライン | C43: 180 | D43: 47377 | E43: 0.081069612
A44: MU | B44: 中国東方航空 | C44: 236 | D44: 36269 | E44: 0.06206205
A45: 7C | B45: チェジュ航空 | C45: 178 | D45: 33108 | E45: 0.056653074
A46: CX | B46: キャセイパシフィック航空 | C46: 90 | D46: 31776 | E46: 0.05437381
A47: CA | B47: 中国国際航空 | C47: 180 | D47: 29720 | E47: 0.050855665
A48: BX | B48: エアプサン | C48: 180 | D48: 29160 | E48: 0.049897416
A49: BR | B49: エバー航空 | C49: 90 | D49: 27531 | E49: 0.047109937
A50: TG | B50: タイ国際航空 | C50: 90 | D50: 27040 | E50: 0.046269757
A51: SQ | B51: シンガポール航空 | C51: 90 | D51: 25650 | E51: 0.043891246
A52: HA | B52: ハワイアン航空 | C52: 90 | D52: 23310 | E52: 0.039887132
... A62: NX | B62: マカオ航空 | C62: 1 | D62: 176 | E62: 0.0003011641
A63: 合計 | C63: 2802 | D63: 584399 | E63: -
A64: HIJ / 広島
A65: OZ | B65: アシアナ航空 | C65: 92 | D65: 15948 | E65: 0.25502926
A66: CI | B66: チャイナエアライン | C66: 92 | D66: 14536 | E66: 0.23244955
A67: MU | B67: 中国東方航空 | C67: 76 | D67: 12008 | E67: 0.19202354
A68: 9C | B68: 春秋航空 | C68: 48 | D68: 8640 | E68: 0.13816484
A69: CA | B69: 中国国際航空 | C69: 58 | D69: 7556 | E69: 0.12083027
A70: UA | B70: ユナイテッド航空 | C70: 28 | D70: 3534 | E70: 0.056513257
A71: NZ | B71: ニュージーランド航空 | C71: 1 | D71: 312 | E71: 0.0049892858
A72: 合計 | C72: 395 | D72: 62534 | E72: -
A73: HKD / 函館
A74: BR | B74: エバー航空 | C74: 52 | D74: 13104 | E74: 0.52830189
A75: GE | B75: トランスアジア航空 | C75: 39 | D75: 11700 | E75: 0.47169811
A76: 合計 | C76: 91 | D76: 24804 | E76: -
A77: HND / 羽田
A78: JL | B78: 日本航空 | C78: 1178 | D78: 279532 | E78: 0.22954153
A79: NH | B79: 全日空 | C79: 1192 | D79: 267035 | E79: 0.21927945
A80: KE | B80: 大韓航空 | C80: 360 | D80: 96763 | E80: 0.079458262
A81: OZ | B81: アシアナ航空 | C81: 321 | D81: 87214 | E81: 0.07161697
A82: CI | B82: チャイナエアライン | C82: 195 | D82: 58710 | E82: 0.04821052
A83: CX | B83: キャセイパシフィック航空 | C83: 180 | D83: 57228 | E83: 0.046993556
A84: BR | B84: エバー航空 | C84: 180 | D84: 55620 | E84: 0.045673124
A85: SQ | B85: シンガポール航空 | C85: 182 | D85: 51779 | E85: 0.042519035
A86: TG | B86: タイ国際航空 | C86: 91 | D86: 34124 | E86: 0.02802139
A87: D7 | B87: エアアジアX | C87: 90 | D87: 33930 | E87: 0.027862084
A88: DL | B88: デルタ航空 | C88: 157 | D88: 32760 | E88: 0.026901322
A89: CA | B89: 中国国際航空 | C89: 180 | D89: 31980 | E89: 0.026260815
... A99: AF | B99: エールフランス航空 | C99: 2 | D99: 612 | E99: 0.00050255218
A100: 合計 | C100: 4896 | D100: 1217784 | E100: -
A101: HSG / 佐賀
A102: 9C | B102: 春秋航空 | C102: 39 | D102: 7020 | E102: 0.59602649
A103: TW | B103: ティーウェイ航空 | C103: 39 | D103: 4758 | E103: 0.40397351
A104: 合計 | C104: 78 | D104: 11778 | E104: -
A105: IBR / 茨城
A106: 9C | B106: 春秋航空 | C106: 77 | D106: 13860 | E106: 0.94801642
A107: 8M | B107: ミャンマー国際航空 | C107: 5 | D107: 760 | E107: 0.051983584
A108: 合計 | C108: 82 | D108: 14620 | E108: -
A109: IWO / 硫黄島
A110: UA | B110: ユナイテッド航空 | C110: 1 | D110: 155 | E110: 1
A111: 合計 | C111: 1 | D111: 155 | E111: -
A112: KIJ / 新潟
A113: KE | B113: 大韓航空 | C113: 67 | D113: 11127 | E113: 0.38659579
A114: CZ | B114: 中国南方航空 | C114: 48 | D114: 7276 | E114: 0.25279689
A115: BR | B115: エバー航空 | C115: 26 | D115: 3952 | E115: 0.13730804
A116: UA | B116: ユナイテッド航空 | C116: 26 | D116: 3255 | E116: 0.11309152
A117: MU | B117: 中国東方航空 | C117: 26 | D117: 3172 | E117: 0.11020777
A118: 合計 | C118: 193 | D118: 28782 | E118: -
A119: KIX / 関西
A120: KE | B120: 大韓航空 | C120: 785 | D120: 173555 | E120: 0.084190821
...

Sheet 15年
A1: 出発空港 | B1: 便数 | C1: 座席数
A2: NRT / 成田 | B2: 18376 | C2: 4490101
A3: KIX / 関西 | B3: 10035 | C3: 2224829
A4: HND / 羽田 | B4: 7187 | C4: 1821991
A5: NGO / 中部 | B5: 3814 | C5: 758812
A6: FUK / 福岡 | B6: 3078 | C6: 651005
A7: CTS / 新千歳 | B7: 1336 | C7: 329642
A8: OKA / 那覇 | B8: 1313 | C8: 264294
A9: HIJ / 広島 | B9: 351 | C9: 54934
A10: FSZ / 静岡 | B10: 279 | C10: 47050
A11: KMQ / 小松 | B11: 183 | C11: 30532
A12: HKD / 函館 | B12: 124 | C12: 30024
A13: AKJ / 旭川 | B13: 142 | C13: 29403
... A36: 合計 | B36: 47747 | C36: 10982337

Sheet 15年詳細
A1: ツーレター | B1: 航空会社 | C1: 便数 | D1: 座席 | E1: シェア | H1: 空港 | I1: 便数 | J1: 総座席 | K1: シェア
A2: AKJ / 旭川 | H2: AKJ / 旭川 | I2: 142 | J2: 29403 | K2: 0.002677299
A3: MU | B3: 中国東方航空 | C3: 66 | D3: 10941 | E3: 0.37210489 | H3: AOJ / 青森 | I3: 40 | J3: 5901 | K3: 0.00053731733
A4: GE | B4: トランスアジア航空 | C4: 26 | D4: 7800 | E4: 0.26527905 | H4: AXT / 秋田 | I4: 39 | J4: 6429 | K4: 0.00058539453
A5: BR | B5: エバー航空 | C5: 31 | D5: 7404 | E5: 0.25181104 | H5: CTS / 新千歳 | I5: 1336 | J5: 329642 | K5: 0.030015651
A6: OZ | B6: アシアナ航空 | C6: 18 | D6: 3078 | E6: 0.1046832 | H6: DNA / 嘉手納 | I6: 3 | J6: 667 | K6: 6.0733886e-05
A7: 9C | B7: 春秋航空 | C7: 1 | D7: 180 | E7: 0.0061218243 | H7: FSZ / 静岡 | I7: 279 | J7: 47050 | K7: 0.0042841519
A8: 合計 | C8: 142 | D8: 29403 | E8: - | H8: FUK / 福岡 | I8: 3078 | J8: 651005 | K8: 0.059277456
A9: AOJ / 青森 | H9: HIJ / 広島 | I9: 351 | J9: 54934 | K9: 0.0050020319
A10: KE | B10: 大韓航空 | C10: 38 | D10: 5365 | E10: 0.90916794 | H10: HKD / 函館 | I10: 124 | J10: 30024 | K10: 0.0027338444
A11: CZ | B11: 中国南方航空 | C11: 2 | D11: 536 | E11: 0.090832062 | H11: HND / 羽田 | I11: 7187 | J11: 1821991 | K11: 0.16590194
A12: 合計 | C12: 40 | D12: 5901 | E12: - | H12: HSG / 佐賀 | I12: 77 | J12: 11598 | K12: 0.0010560594
A13: AXT / 秋田 | H13: IBR / 茨城 | I13: 111 | J13: 19777 | K13: 0.0018008007
A14: KE | B14: 大韓航空 | C14: 39 | D14: 6429 | E14: 1 | H14: ISG / 石垣 | I14: 2 | J14: 316 | K14: 2.8773475e-05
A15: 合計 | C15: 39 | D15: 6429 | E15: - | H15: IWO / 硫黄島 | I15: 3 | J15: 465 | K15: 4.2340715e-05
A16: CTS / 新千歳 | H16: KIJ / 新潟 | I16: 136 | J16: 21886 | K16: 0.0019928363
A17: CI | B17: チャイナエアライン | C17: 169 | D17: 56908 | E17: 0.17263577 | H17: KIX / 関西 | I17: 10035 | J17: 2224829 | K17: 0.20258247
A18: CX | B18: キャセイパシフィック航空 | C18: 153 | D18: 52466 | E18: 0.15916054 | H18: KMI / 宮崎 | I18: 76 | J18: 14164 | K18: 0.0012897073
A19: KE | B19: 大韓航空 | C19: 205 | D19: 43327 | E19: 0.13143653 | H19: KMJ / 熊本 | I19: 41 | J19: 6935 | K19: 0.00063146851
A20: TG | B20: タイ国際航空 | C20: 90 | D20: 32560 | E20: 0.098773821 | H20: KMQ / 小松 | I20: 183 | J20: 30532 | K20: 0.0027801004
A21: BR | B21: エバー航空 | C21: 107 | D21: 30700 | E21: 0.093131336 | H21: KOJ / 鹿児島 | I21: 144 | J21: 25377 | K21: 0.0023107104
A22: LJ | B22: ジンエアー | C22: 117 | D22: 21411 | E22: 0.064952282 | H22: MMY / 宮古 | I22: 9 | J22: 1584 | K22: 0.0001442316
A23: HX | B23: 香港航空 | C23: 64 | D23: 18102 | E23: 0.054914119 | H23: MYJ / 松山 | I23: 61 | J23: 9593 | K23: 0.0008734935
A24: MU | B24: 中国東方航空 | C24: 64 | D24: 11146 | E24: 0.033812439 | H24: NGO / 中部 | I24: 3814 | J24: 758812 | K24: 0.069093855
A25: TW | B25: ティーウェイ航空 | C25: 90 | D25: 10980 | E25: 0.033308862 | H25: NGS / 長崎 | I25: 27 | J25: 3660 | K25: 0.0003332624
A26: 9C | B26: 春秋航空 | C26: 56 | D26: 10080 | E26: 0.030578628 | H26: NRT / 成田 | I26: 18376 | J26: 4490101 | K26: 0.4088475
A27: HA | B27: ハワイアン航空 | C27: 38 | D27: 9842 | E27: 0.029856632 | H27: OIT / 大分 | I27: 78 | J27: 11116 | K27: 0.0010121707
A28: CA | B28: 中国国際航空 | C28: 47 | D28: 9095 | E28: 0.027590538 | H28: OKA / 那覇 | I28: 1313 | J28: 264294 | K28: 0.02406537
... A34: NX | B34: マカオ航空 | C34: 3 | D34: 525 | E34: 0.0015926369 | H34: UBJ / 山口宇部 | I34: 23 | J34: 3951 | K34: 0.00035975949
A35: 合計 | C35: 1336 | D35: 329642 | E35: - | H35: YGJ / 米子 | I35: 39 | J35: 6821 | K35: 0.00062108821
A36: DNA / 嘉手納 | H36: 合計 | I36: 47747 | J36: 10982337 | K36: -
A37: UA | B37: ユナイテッド航空 | C37: 3 | D37: 667 | E37: 1
A38: 合計 | C38: 3 | D38: 667 | E38: -
A39: FSZ / 静岡
A40: GS | B40: 天津航空 | C40: 89 | D40: 15544 | E40: 0.33037194
A41: MU | B41: 中国東方航空 | C41: 69 | D41: 11474 | E41: 0.24386823
A42: CI | B42: チャイナエアライン | C42: 51 | D42: 8058 | E42: 0.17126461
A43: OZ | B43: アシアナ航空 | C43: 39 | D43: 6929 | E43: 0.14726886
A44: JD | B44: 北京首都航空 | C44: 26 | D44: 4290 | E44: 0.091179596
A45: CZ | B45: 中国南方航空 | C45: 5 | D45: 755 | E45: 0.016046759
A46: 合計 | C46: 279 | D46: 47050 | E46: -
A47: FUK / 福岡
A48: KE | B48: 大韓航空 | C48: 450 | D48: 105068 | E48: 0.16139354
A49: OZ | B49: アシアナ航空 | C49: 272 | D49: 64656 | E49: 0.09931721
A50: MU | B50: 中国東方航空 | C50: 354 | D50: 55164 | E50: 0.084736676
A51: BX | B51: エアプサン | C51: 272 | D51: 52776 | E51: 0.081068502
A52: CI | B52: チャイナエアライン | C52: 177 | D52: 52587 | E52: 0.080778181
A53: CA | B53: 中国国際航空 | C53: 214 | D53: 36322 | E53: 0.055793734
A54: CX | B54: キャセイパシフィック航空 | C54: 91 | D54: 31921 | E54: 0.049033418
A55: BR | B55: エバー航空 | C55: 106 | D55: 30562 | E55: 0.046945876
A56: 7C | B56: チェジュ航空 | C56: 157 | D56: 29202 | E56: 0.044856798
A57: SQ | B57: シンガポール航空 | C57: 90 | D57: 25650 | E57: 0.039400619
A58: TG | B58: タイ国際航空 | C58: 90 | D58: 25142 | E58: 0.038620287
A59: KA | B59: 香港ドラゴン航空 | C59: 90 | D59: 23272 | E59: 0.035747805
... A70: CZ | B70: 中国南方航空 | C70: 1 | D70: 122 | E70: 0.00018740255
A71: 合計 | C71: 3078 | D71: 651005 | E71: -
A72: HIJ / 広島
A73: CI | B73: チャイナエアライン | C73: 117 | D73: 18840 | E73: 0.342957
A74: OZ | B74: アシアナ航空 | C74: 92 | D74: 15750 | E74: 0.28670769
A75: MU | B75: 中国東方航空 | C75: 83 | D75: 12970 | E75: 0.2361015
A76: CA | B76: 中国国際航空 | C76: 58 | D76: 7250 | E76: 0.13197655
A77: UA | B77: ユナイテッド航空 | C77: 1 | D77: 124 | E77: 0.0022572542
A78: 合計 | C78: 351 | D78: 54934 | E78: -
A79: HKD / 函館
A80: BR | B80: エバー航空 | C80: 56 | D80: 13364 | E80: 0.44511058
A81: GE | B81: トランスアジア航空 | C81: 38 | D81: 11400 | E81: 0.37969624
A82: GS | B82: 天津航空 | C82: 26 | D82: 4628 | E82: 0.15414335
A83: MU | B83: 中国東方航空 | C83: 4 | D83: 632 | E83: 0.021049827
A84: 合計 | C84: 124 | D84: 30024 | E84: -
A85: HND / 羽田
A86: NH | B86: 全日空 | C86: 2120 | D86: 476316 | E86: 0.2614261
A87: JL | B87: 日本航空 | C87: 1530 | D87: 380720 | E87: 0.20895822
A88: KE | B88: 大韓航空 | C88: 360 | D88: 98732 | E88: 0.054189071
A89: OZ | B89: アシアナ航空 | C89: 300 | D89: 83556 | E89: 0.045859722
A90: SQ | B90: シンガポール航空 | C90: 270 | D90: 73440 | E90: 0.040307554
A91: TG | B91: タイ国際航空 | C91: 180 | D91: 65498 | E91: 0.035948586
A92: CX | B92: キャセイパシフィック航空 | C92: 180 | D92: 57984 | E92: 0.031824526
A93: CI | B93: チャイナエアライン | C93: 182 | D93: 56876 | E93: 0.0312164
A94: BR | B94: エバー航空 | C94: 180 | D94: 55620 | E94: 0.030527044
A95: LH | B95: ルフトハンザ・ドイツ航空 | C95: 143 | D95: 47570 | E95: 0.026108801
A96: CA | B96: 中国国際航空 | C96: 180 | D96: 37320 | E96: 0.020483087
A97: AF | B97: エールフランス航空 | C97: 131 | D97: 36709 | E97: 0.020147739
... A113: KA | B113: 香港ドラゴン航空 | C113: 2 | D113: 316 | E113: 0.00017343664
A114: 合計 | C114: 7187 | D114: 1821991 | E114: -
A115: HSG / 佐賀
A116: 9C | B116: 春秋航空 | C116: 38 | D116: 6840 | E116: 0.58975685
A117: TW | B117: ティーウェイ航空 | C117: 39 | D117: 4758 | E117: 0.41024315
A118: 合計 | C118: 77 | D118: 11598 | E118: -
A119: IBR / 茨城
A120: 9C | B120: 春秋航空 | C120: 104 | D120: 18720 | E120: 0.94655408
A121: CZ | B121: 中国南方航空 | C121: 7 | D121: 1057 | E121: 0.053445922
A122: 合計 | C122: 111 | D122: 19777 | E122: -
A123: ISG / 石垣
A124: CI | B124: チャイナエアライン | C124: 2 | D124: 316 | E124: 1
A125: 合計 | C125: 2 | D125: 316 | E125: -
A126: IWO / 硫黄島
A127: UA | B127: ユナイテッド航空 | C127: 3 | D127: 465 | E127: 1
A128: 合計 | C128: 3 | D128: 465 | E128: -
A129: KIJ / 新潟
A130: KE | B130: 大韓航空 | C130: 65 | D130: 11891 | E130: 0.54331536
...

Sheet 16年
A1: 出発空港 | B1: 便数 | C1: 座席数
A2: AKJ / 旭川 | B2: 205 | C2: 41102
A3: AOJ / 青森 | B3: 39 | C3: 5898
A4: CTS / 新千歳 | B4: 1638 | C4: 444971
A5: DNA / 嘉手納 | B5: 3 | C5: 498
A6: FKS / 福島 | B6: 2 | C6: 364
A7: FSZ / 静岡 | B7: 373 | C7: 60926
A8: FUK / 福岡 | B8: 3949 | C8: 814690
A9: HIJ / 広島 | B9: 398 | C9: 59465
A10: HKD / 函館 | B10: 192 | C10: 38350
A11: HND / 羽田 | B11: 9124 | C11: 2237030
A12: HSG / 佐賀 | B12: 66 | C12: 9618
A13: IBR / 茨城 | B13: 120 | C13: 20426
... A38: 合計 | B38: 57649 | C38: 12813752

Sheet 16年詳細
A1: ツーレター | B1: 航空会社 | C1: 便数 | D1: 座席 | E1: シェア | H1: 空港 | I1: 便数 | J1: 総座席 | K1: シェア
A2: AKJ / 旭川 | H2: AKJ / 旭川 | I2: 205 | J2: 41102 | K2: 0.0032076475
A3: GE | B3: トランスアジア航空 | C3: 52 | D3: 15392 | E3: 0.37448299 | H3: AOJ / 青森 | I3: 39 | J3: 5898 | K3: 0.00046028673
A4: MU | B4: 中国東方航空 | C4: 84 | D4: 13353 | E4: 0.3248747 | H4: CTS / 新千歳 | I4: 1638 | J4: 444971 | K4: 0.034726051
A5: 9C | B5: 春秋航空 | C5: 26 | D5: 4680 | E5: 0.11386307 | H5: DNA / 嘉手納 | I5: 3 | J5: 498 | K5: 3.8864495e-05
A6: BR | B6: エバー航空 | C6: 24 | D6: 4416 | E6: 0.10744003 | H6: FKS / 福島 | I6: 2 | J6: 364 | K6: 2.840698e-05
A7: OZ | B7: アシアナ航空 | C7: 18 | D7: 3084 | E7: 0.075032845 | H7: FSZ / 静岡 | I7: 373 | J7: 60926 | K7: 0.0047547354
A8: NX | B8: マカオ航空 | C8: 1 | D8: 177 | E8: 0.0043063598 | H8: FUK / 福岡 | I8: 3949 | J8: 814690 | K8: 0.063579348
A9: 合計 | C9: 205 | D9: 41102 | E9: - | H9: HIJ / 広島 | I9: 398 | J9: 59465 | K9: 0.0046407173
A10: AOJ / 青森 | H10: HKD / 函館 | I10: 192 | J10: 38350 | K10: 0.0029928783
A11: KE | B11: 大韓航空 | C11: 39 | D11: 5898 | E11: 1 | H11: HND / 羽田 | I11: 9124 | J11: 2237030 | K11: 0.1745804
A12: 合計 | C12: 39 | D12: 5898 | E12: - | H12: HSG / 佐賀 | I12: 66 | J12: 9618 | K12: 0.00075059982
A13: CTS / 新千歳 | H13: IBR / 茨城 | I13: 120 | J13: 20426 | K13: 0.0015940686
A14: CI | B14: チャイナエアライン | C14: 208 | D14: 70700 | E14: 0.15888676 | H14: ISG / 石垣 | I14: 1 | J14: 158 | K14: 1.2330502e-05
A15: KE | B15: 大韓航空 | C15: 244 | D15: 63081 | E15: 0.14176429 | H15: IWO / 硫黄島 | I15: 1 | J15: 166 | K15: 1.2954832e-05
A16: CX | B16: キャセイパシフィック航空 | C16: 149 | D16: 55894 | E16: 0.12561268 | H16: KIJ / 新潟 | I16: 147 | J16: 23630 | K16: 0.0018441125
A17: BR | B17: エバー航空 | C17: 194 | D17: 50506 | E17: 0.11350403 | H17: KIX / 関西 | I17: 13666 | J17: 2870624 | K17: 0.22402681
A18: TG | B18: タイ国際航空 | C18: 91 | D18: 32754 | E18: 0.073609291 | H18: KKJ / 北九州 | I18: 18 | J18: 3086 | K18: 0.000240835
A19: LJ | B19: ジンエアー | C19: 91 | D19: 29455 | E19: 0.066195325 | H19: KMI / 宮崎 | I19: 103 | J19: 19251 | K19: 0.0015023703
A20: GE | B20: トランスアジア航空 | C20: 91 | D20: 26899 | E20: 0.060451131 | H20: KMJ / 熊本 | I20: 103 | J20: 17294 | K20: 0.0013496437
A21: D7 | B21: エアアジアX | C21: 52 | D21: 19604 | E21: 0.044056804 | H21: KMQ / 小松 | I21: 156 | J21: 25199 | K21: 0.0019665591
A22: HX | B22: 香港航空 | C22: 65 | D22: 18854 | E22: 0.042371301 | H22: KOJ / 鹿児島 | I22: 161 | J22: 30035 | K22: 0.0023439661
A23: MU | B23: 中国東方航空 | C23: 65 | D23: 12514 | E23: 0.028123181 | H23: KUH / 釧路 | I23: 11 | J23: 1730 | K23: 0.0001350112
A24: 9C | B24: 春秋航空 | C24: 65 | D24: 11700 | E24: 0.026293848 | H24: MMY / 宮古 | I24: 11 | J24: 1887 | K24: 0.00014726366
A25: TW | B25: ティーウェイ航空 | C25: 89 | D25: 10858 | E25: 0.02440159 | H25: MYJ / 松山 | I25: 65 | J25: 9919 | K25: 0.00077409021
... A34: KA | B34: 香港ドラゴン航空 | C34: 2 | D34: 614 | E34: 0.0013798652 | H34: TAK / 高松 | I34: 129 | J34: 22590 | K34: 0.0017629497
A35: 合計 | C35: 1638 | D35: 444971 | E35: - | H35: TOY / 富山 | I35: 139 | J35: 21715 | K35: 0.0016946637
A36: DNA / 嘉手納 | H36: UBJ / 山口宇部 | I36: 36 | J36: 6156 | K36: 0.00048042135
A37: UA | B37: ユナイテッド航空 | C37: 3 | D37: 498 | E37: 1 | H37: YGJ / 米子 | I37: 42 | J37: 7284 | K37: 0.00056845177
A38: 合計 | C38: 3 | D38: 498 | E38: - | H38: 合計 | I38: 57649 | J38: 12813752 | K38: -
A39: FKS / 福島
A40: GE | B40: トランスアジア航空 | C40: 2 | D40: 364 | E40: 1
A41: 合計 | C41: 2 | D41: 364 | E41: -
A42: FSZ / 静岡
A43: MU | B43: 中国東方航空 | C43: 174 | D43: 28427 | E43: 0.46658241
A44: JD | B44: 北京首都航空 | C44: 59 | D44: 9386 | E44: 0.15405574
A45: CI | B45: チャイナエアライン | C45: 52 | D45: 8216 | E45: 0.13485212
A46: GS | B46: 天津航空 | C46: 39 | D46: 6945 | E46: 0.11399074
A47: OZ | B47: アシアナ航空 | C47: 39 | D47: 6675 | E47: 0.10955914
A48: CZ | B48: 中国南方航空 | C48: 9 | D48: 1159 | E48: 0.019023077
A49: UA | B49: ユナイテッド航空 | C49: 1 | D49: 118 | E49: 0.0019367758
A50: 合計 | C50: 373 | D50: 60926 | E50: -
A51: FUK / 福岡
A52: KE | B52: 大韓航空 | C52: 541 | D52: 127278 | E52: 0.15622875
A53: BX | B53: エアプサン | C53: 364 | D53: 70980 | E53: 0.087125164
A54: OZ | B54: アシアナ航空 | C54: 290 | D54: 68793 | E54: 0.084440708
A55: MU | B55: 中国東方航空 | C55: 386 | D55: 61996 | E55: 0.076097657
A56: CI | B56: チャイナエアライン | C56: 206 | D56: 61750 | E56: 0.075795701
A57: 7C | B57: チェジュ航空 | C57: 273 | D57: 50778 | E57: 0.062328002
A58: BR | B58: エバー航空 | C58: 155 | D58: 39943 | E58: 0.049028465
A59: CA | B59: 中国国際航空 | C59: 219 | D59: 37513 | E59: 0.046045735
A60: UO | B60: 香港エクスプレス航空 | C60: 184 | D60: 32016 | E60: 0.039298383
A61: CX | B61: キャセイパシフィック航空 | C61: 91 | D61: 30780 | E61: 0.037781242
A62: TG | B62: タイ国際航空 | C62: 91 | D62: 27293 | E62: 0.033501086
A63: SQ | B63: シンガポール航空 | C63: 91 | D63: 25935 | E63: 0.031834195
... A79: KL | B79: KLMオランダ航空 | C79: 1 | D79: 318 | E79: 0.00039033252
A80: 合計 | C80: 3949 | D80: 814690 | E80: -
A81: HIJ / 広島
A82: CI | B82: チャイナエアライン | C82: 119 | D82: 19172 | E82: 0.32240814
A83: OZ | B83: アシアナ航空 | C83: 65 | D83: 11193 | E83: 0.18822837
A84: MU | B84: 中国東方航空 | C84: 91 | D84: 11102 | E84: 0.18669806
A85: CA | B85: 中国国際航空 | C85: 60 | D85: 7500 | E85: 0.12612461
A86: UO | B86: 香港エクスプレス航空 | C86: 35 | D86: 6090 | E86: 0.10241318
A87: KA | B87: 香港ドラゴン航空 | C87: 28 | D87: 4408 | E87: 0.074127638
A88: 合計 | C88: 398 | D88: 59465 | E88: -
A89: HKD / 函館
A90: BR | B90: エバー航空 | C90: 68 | D90: 12512 | E90: 0.32625815
A91: GE | B91: トランスアジア航空 | C91: 39 | D91: 11655 | E91: 0.30391134
A92: MU | B92: 中国東方航空 | C92: 34 | D92: 5372 | E92: 0.14007823
A93: GS | B93: 天津航空 | C93: 26 | D93: 4628 | E93: 0.12067797
A94: CA | B94: 中国国際航空 | C94: 24 | D94: 4008 | E94: 0.10451108
A95: NX | B95: マカオ航空 | C95: 1 | D95: 175 | E95: 0.0045632334
A96: 合計 | C96: 192 | D96: 38350 | E96: -
A97: HND / 羽田
A98: NH | B98: 全日空 | C98: 2555 | D98: 584257 | E98: 0.26117531
A99: JL | B99: 日本航空 | C99: 1820 | D99: 418859 | E99: 0.18723888
A100: KE | B100: 大韓航空 | C100: 364 | D100: 101112 | E100: 0.045199215
A101: OZ | B101: アシアナ航空 | C101: 304 | D101: 84477 | E101: 0.037763016
A102: MU | B102: 中国東方航空 | C102: 273 | D102: 79314 | E102: 0.035455045
A103: SQ | B103: シンガポール航空 | C103: 273 | D103: 75396 | E103: 0.033703616
A104: CA | B104: 中国国際航空 | C104: 358 | D104: 71510 | E104: 0.031966491
A105: TG | B105: タイ国際航空 | C105: 182 | D105: 65757 | E105: 0.029394778
A106: CX | B106: キャセイパシフィック航空 | C106: 182 | D106: 57694 | E106: 0.025790445
A107: CI | B107: チャイナエアライン | C107: 182 | D107: 56966 | E107: 0.025465014
A108: BR | B108: エバー航空 | C108: 182 | D108: 56238 | E108: 0.025139582
A109: LH | B109: ルフトハンザ・ドイツ航空 | C109: 139 | D109: 46312 | E109: 0.020702449
... A135: ZV | B135: Vエアー | C135: 9 | D135: 1746 | E135: 0.00078049914
A136: 合計 | C136: 9124 | D136: 2237030 | E136: -
A137: HSG / 佐賀
A138: 9C | B138: 春秋航空 | C138: 27 | D138: 4860 | E138: 0.50530256
A139: TW | B139: ティーウェイ航空 | C139: 39 | D139: 4758 | E139: 0.49469744
A140: 合計 | C140: 66 | D140: 9618 | E140: -
A141: IBR / 茨城
A142: 9C | B142: 春秋航空 | C142: 73 | D142: 13140 | E142: 0.64329776
A143: CZ | B143: 中国南方航空 | C143: 24 | D143: 3624 | E143: 0.17742093
A144: ZV | B144: Vエアー | C144: 10 | D144: 1940 | E144: 0.09497699
A145: CA | B145: 中国国際航空 | C145: 13 | D145: 1722 | E145: 0.084304318
A146: 合計 | C146: 120 | D146: 20426 | E146: -
A147: ISG / 石垣
A148: CI | B148: チャイナエアライン | C148: 1 | D148: 158 | E148: 1
...

Sheet 17年
A1: 出発空港 | B1: 便数 | C1: 座席数
A2: NRT / 成田 | B2: 20728 | C2: 4798050
A3: KIX / 関西 | B3: 14197 | C3: 2994333
A4: HND / 羽田 | B4: 9823 | C4: 2406269
A5: FUK / 福岡 | B5: 4367 | C5: 904564
A6: NGO / 中部 | B6: 4404 | C6: 872699
A7: CTS / 新千歳 | B7: 2088 | C7: 527020
A8: OKA / 那覇 | B8: 2287 | C8: 462643
A9: HIJ / 広島 | B9: 335 | C9: 53964
A10: FSZ / 静岡 | B10: 307 | C10: 51881
A11: SDJ / 仙台 | B11: 259 | C11: 45093
A12: TAK / 高松 | B12: 236 | C12: 42151
A13: KOJ / 鹿児島 | B13: 233 | C13: 41968
... A35: 合計 | B35: 61091 | C35: 13508152

Sheet 17年詳細
A1: ツーレター | B1: 航空会社 | C1: 便数 | D1: 座席 | E1: シェア | H1: 空港 | I1: 便数 | J1: 総座席 | K1: シェア
A2: AKJ / 旭川 | H2: AKJ / 旭川 | I2: 65 | J2: 10708 | K2: 0.00079270651
A3: MU | B3: 中国東方航空 | C3: 49 | D3: 7632 | E3: 0.71273814 | H3: AOJ / 青森 | I3: 81 | J3: 13408 | K3: 0.00099258581
A4: BR | B4: エバー航空 | C4: 14 | D4: 2576 | E4: 0.2405678 | H4: CTS / 新千歳 | I4: 2088 | J4: 527020 | K4: 0.039014959
A5: OZ | B5: アシアナ航空 | C5: 2 | D5: 500 | E5: 0.046694061 | H5: DNA / 嘉手納 | I5: 2 | J5: 332 | K5: 2.4577751e-05
A6: 合計 | C6: 65 | D6: 10708 | E6: - | H6: FSZ / 静岡 | I6: 307 | J6: 51881 | K6: 0.0038407178
A7: AOJ / 青森 | H7: FUK / 福岡 | I7: 4367 | J7: 904564 | K7: 0.066964304
A8: BK | B8: 奥凱航空 | C8: 40 | D8: 7080 | E8: 0.52804296 | H8: HIJ / 広島 | I8: 335 | J8: 53964 | K8: 0.003994921
A9: KE | B9: 大韓航空 | C9: 39 | D9: 6000 | E9: 0.44749403 | H9: HKD / 函館 | I9: 175 | J9: 31589 | K9: 0.0023385138
A10: KA | B10: 香港ドラゴン航空 | C10: 2 | D10: 328 | E10: 0.024463007 | H10: HND / 羽田 | I10: 9823 | J10: 2406269 | K10: 0.17813458
A11: 合計 | C11: 81 | D11: 13408 | E11: - | H11: HSG / 佐賀 | I11: 106 | J11: 19692 | K11: 0.0014577864
A12: CTS / 新千歳 | H12: IBR / 茨城 | I12: 79 | J12: 14238 | K12: 0.0010540302
A13: KE | B13: 大韓航空 | C13: 266 | D13: 57535 | E13: 0.10917043 | H13: ISG / 石垣 | I13: 34 | J13: 5908 | K13: 0.00043736553
A14: CI | B14: チャイナエアライン | C14: 166 | D14: 56908 | E14: 0.10798072 | H14: IWO / 硫黄島 | I14: 2 | J14: 332 | K14: 2.4577751e-05
A15: CX | B15: キャセイパシフィック航空 | C15: 143 | D15: 53432 | E15: 0.10138515 | H15: KIJ / 新潟 | I15: 131 | J15: 19358 | K15: 0.0014330606
A16: BR | B16: エバー航空 | C16: 180 | D16: 48173 | E16: 0.091406398 | H16: KIX / 関西 | I16: 14197 | J16: 2994333 | K16: 0.22166859
A17: HX | B17: 香港航空 | C17: 140 | D17: 39690 | E17: 0.075310235 | H17: KKJ / 北九州 | I17: 179 | J17: 33097 | K17: 0.0024501501
A18: TG | B18: タイ国際航空 | C18: 90 | D18: 32419 | E18: 0.061513795 | H18: KMI / 宮崎 | I18: 101 | J18: 17387 | K18: 0.0012871487
A19: LJ | B19: ジンエアー | C19: 90 | D19: 28284 | E19: 0.053667792 | H19: KMJ / 熊本 | I19: 35 | J19: 5530 | K19: 0.00040938242
A20: D7 | B20: エアアジアX | C20: 68 | D20: 25636 | E20: 0.048643315 | H20: KMQ / 小松 | I20: 181 | J20: 29929 | K20: 0.0022156251
A21: BX | B21: エアプサン | C21: 128 | D21: 23640 | E21: 0.044855983 | H21: KOJ / 鹿児島 | I21: 233 | J21: 41968 | K21: 0.0031068647
A22: OZ | B22: アシアナ航空 | C22: 90 | D22: 22106 | E22: 0.041945277 | H22: MYJ / 松山 | I22: 26 | J22: 3132 | K22: 0.00023185999
A23: MU | B23: 中国東方航空 | C23: 92 | D23: 18831 | E23: 0.035731092 | H23: NGO / 中部 | I23: 4404 | J23: 872699 | K23: 0.064605358
A24: TW | B24: ティーウェイ航空 | C24: 90 | D24: 17010 | E24: 0.032275815 | H24: NGS / 長崎 | I24: 78 | J24: 13272 | K24: 0.00098251782
... A34: HZ | B34: オーロラ航空 | C34: 42 | D34: 2796 | E34: 0.0053053015 | H34: YGJ / 米子 | I34: 64 | J34: 11955 | K34: 0.00088502113
A35: SQ | B35: シンガポール航空 | C35: 4 | D35: 1178 | E35: 0.0022352093 | H35: 合計 | I35: 61091 | J35: 13508152 | K35: -
A36: HO | B36: 吉祥航空 | C36: 5 | D36: 900 | E36: 0.0017077151
A37: 合計 | C37: 2088 | D37: 527020 | E37: -
A38: DNA / 嘉手納
A39: UA | B39: ユナイテッド航空 | C39: 2 | D39: 332 | E39: 1
A40: 合計 | C40: 2 | D40: 332 | E40: -
A41: FSZ / 静岡
A42: MU | B42: 中国東方航空 | C42: 163 | D42: 26532 | E42: 0.51140109
A43: RS | B43: エアソウル | C43: 64 | D43: 12480 | E43: 0.24055049
A44: CI | B44: チャイナエアライン | C44: 51 | D44: 8058 | E44: 0.15531698
A45: JD | B45: 北京首都航空 | C45: 27 | D45: 4481 | E45: 0.086370733
A46: FM | B46: 上海航空 | C46: 1 | D46: 166 | E46: 0.0031996299
A47: KA | B47: 香港ドラゴン航空 | C47: 1 | D47: 164 | E47: 0.0031610802
A48: 合計 | C48: 307 | D48: 51881 | E48: -
A49: FUK / 福岡
A50: KE | B50: 大韓航空 | C50: 534 | D50: 125012 | E50: 0.13820139
A51: BX | B51: エアプサン | C51: 438 | D51: 86338 | E51: 0.095447088
A52: TW | B52: ティーウェイ航空 | C52: 355 | D52: 67095 | E52: 0.074173856
A53: MU | B53: 中国東方航空 | C53: 396 | D53: 66415 | E53: 0.073422113
A54: 7C | B54: チェジュ航空 | C54: 354 | D54: 65844 | E54: 0.072790869
A55: OZ | B55: アシアナ航空 | C55: 272 | D55: 64439 | E55: 0.071237635
A56: CI | B56: チャイナエアライン | C56: 180 | D56: 55110 | E56: 0.060924379
A57: LJ | B57: ジンエアー | C57: 270 | D57: 49911 | E57: 0.055176859
A58: BR | B58: エバー航空 | C58: 154 | D58: 39652 | E58: 0.043835483
A59: UO | B59: 香港エクスプレス航空 | C59: 193 | D59: 34146 | E59: 0.037748573
A60: CA | B60: 中国国際航空 | C60: 178 | D60: 31086 | E60: 0.034365728
A61: CX | B61: キャセイパシフィック航空 | C61: 90 | D61: 28803 | E61: 0.03184186
... A73: NX | B73: マカオ航空 | C73: 38 | D73: 5385 | E73: 0.0059531443
A74: 合計 | C74: 4367 | D74: 904564 | E74: -
A75: HIJ / 広島
A76: CI | B76: チャイナエアライン | C76: 90 | D76: 14524 | E76: 0.26914239
A77: MU | B77: 中国東方航空 | C77: 90 | D77: 13432 | E77: 0.24890668
A78: RS | B78: エアソウル | C78: 64 | D78: 12480 | E78: 0.23126529
A79: UO | B79: 香港エクスプレス航空 | C79: 38 | D79: 6720 | E79: 0.12452746
A80: CA | B80: 中国国際航空 | C80: 52 | D80: 6644 | E80: 0.12311912
A81: KA | B81: 香港ドラゴン航空 | C81: 1 | D81: 164 | E81: 0.0030390631
A82: 合計 | C82: 335 | D82: 53964 | E82: -
A83: HKD / 函館
A84: BR | B84: エバー航空 | C84: 87 | D84: 16008 | E84: 0.50675868
A85: IT | B85: タイガーエア台湾 | C85: 52 | D85: 9360 | E85: 0.29630568
A86: GS | B86: 天津航空 | C86: 26 | D86: 4592 | E86: 0.14536706
A87: BK | B87: 奥凱航空 | C87: 5 | D87: 825 | E87: 0.026116686
A88: MF | B88: 廈門航空 | C88: 5 | D88: 804 | E88: 0.025451898
A89: 合計 | C89: 175 | D89: 31589 | E89: -
A90: HND / 羽田
A91: NH | B91: 全日空 | C91: 2876 | D91: 669247 | E91: 0.27812643
A92: JL | B92: 日本航空 | C92: 1800 | D92: 393803 | E92: 0.1636571
A93: KE | B93: 大韓航空 | C93: 360 | D93: 98723 | E93: 0.041027416
A94: OZ | B94: アシアナ航空 | C94: 360 | D94: 84572 | E94: 0.035146528
A95: CA | B95: 中国国際航空 | C95: 360 | D95: 75000 | E95: 0.031168585
A96: SQ | B96: シンガポール航空 | C96: 270 | D96: 73350 | E96: 0.030482876
A97: TG | B97: タイ国際航空 | C97: 180 | D97: 67359 | E97: 0.02799313
A98: MU | B98: 中国東方航空 | C98: 270 | D98: 66070 | E98: 0.027457446
A99: CX | B99: キャセイパシフィック航空 | C99: 180 | D99: 58258 | E99: 0.024210926
A100: CI | B100: チャイナエアライン | C100: 180 | D100: 56340 | E100: 0.023413841
A101: BR | B101: エバー航空 | C101: 180 | D101: 55620 | E101: 0.023114623
A102: HA | B102: ハワイアン航空 | C102: 180 | D102: 52888 | E102: 0.021979255
... A128: BK | B128: 奥凱航空 | C128: 26 | D128: 4668 | E128: 0.0019399327
A129: 合計 | C129: 9823 | D129: 2406269 | E129: -
A130: HSG / 佐賀
A131: TW | B131: ティーウェイ航空 | C131: 68 | D131: 12852 | E131: 0.65265082
A132: 9C | B132: 春秋航空 | C132: 38 | D132: 6840 | E132: 0.34734918
A133: 合計 | C133: 106 | D133: 19692 | E133: -
A134: IBR / 茨城
A135: 9C | B135: 春秋航空 | C135: 77 | D135: 13860 | E135: 0.97345133
A136: LJ | B136: ジンエアー | C136: 2 | D136: 378 | E136: 0.026548673
A137: 合計 | C137: 79 | D137: 14238 | E137: -
A138: ISG / 石垣
A139: UO | B139: 香港エクスプレス航空 | C139: 29 | D139: 5118 | E139: 0.86628301
A140: CI | B140: チャイナエアライン | C140: 5 | D140: 790 | E140: 0.13371699
A141: 合計 | C141: 34 | D141: 5908 | E141: -
A142: IWO / 硫黄島
A143: UA | B143: ユナイテッド航空 | C143: 2 | D143: 332 | E143: 1
A144: 合計 | C144: 2 | D144: 332 | E144: -
A145: KIJ / 新潟
...

Sheet 経過分析
A1: 便数
A2: 空港 | C2: 2012年 | D2: 2013年 | E2: 2014年 | F2: 2015年 | G2: 2016年 | H2: 2017年
A3: 北海道 | B3: AKJ / 旭川 | C3: =IF(ISERROR(VLOOKUP(B3,'12年詳細'!$H$2:$J$100,2,FALSE))=TRUE, 0,VLOOKUP(B3,'12年詳細'!$H$2:$J$100,2,FALSE)) -> 16 | D3: =IF(ISERROR(VLOOKUP(B3,'13年詳細'!$H$2:$J$100,2,FALSE))=TRUE, 0,VLOOKUP(B3,'13年詳細'!$H$2:$J$100,2,FALSE)) -> 39 | E3: =IF(ISERROR(VLOOKUP(B3,'14年詳細'!$H$2:$J$100,2,FALSE))=TRUE, 0,VLOOKUP(B3,'14年詳細'!$H$2:$J$100,2,FALSE)) -> 79 | F3: =IF(ISERROR(VLOOKUP(B3,'15年詳細'!$H$2:$J$100,2,FALSE))=TRUE, 0,VLOOKUP(B3,'15年詳細'!$H$2:$J$100,2,FALSE)) -> 142 | G3: =IF(ISERROR(VLOOKUP(B3,'16年詳細'!$H$2:$J$100,2,FALSE))=TRUE, 0,VLOOKUP(B3,'16年詳細'!$H$2:$J$100,2,FALSE)) -> 205 | H3: =IF(ISERROR(VLOOKUP(B3,'17年詳細'!$H$2:$J$100,2,FALSE))=TRUE, 0,VLOOKUP(B3,'17年詳細'!$H$2:$J$100,2,FALSE)) -> 65
B4: CTS / 新千歳 | C4: =IF(ISERROR(VLOOKUP(B4,'12年詳細'!$H$2:$J$100,2,FALSE))=TRUE, 0,VLOOKUP(B4,'12年詳細'!$H$2:$J$100,2,FALSE)) -> 832 | D4: =IF(ISERROR(VLOOKUP(B4,'13年詳細'!$H$2:$J$100,2,FALSE))=TRUE, 0,VLOOKUP(B4,'13年詳細'!$H$2:$J$100,2,FALSE)) -> 833 | E4: =IF(ISERROR(VLOOKUP(B4,'14年詳細'!$H$2:$J$100,2,FALSE))=TRUE, 0,VLOOKUP(B4,'14年詳細'!$H$2:$J$100,2,FALSE)) -> 1061 | F4: =IF(ISERROR(VLOOKUP(B4,'15年詳細'!$H$2:$J$100,2,FALSE))=TRUE, 0,VLOOKUP(B4,'15年詳細'!$H$2:$J$100,2,FALSE)) -> 1336 | G4: =IF(ISERROR(VLOOKUP(B4,'16年詳細'!$H$2:$J$100,2,FALSE))=TRUE, 0,VLOOKUP(B4,'16年詳細'!$H$2:$J$100,2,FALSE)) -> 1638 | H4: =IF(ISERROR(VLOOKUP(B4,'17年詳細'!$H$2:$J$100,2,FALSE))=TRUE, 0,VLOOKUP(B4,'17年詳細'!$H$2:$J$100,2,FALSE)) -> 2088
B5: OKD / 丘珠 | C5: =IF(ISERROR(VLOOKUP(B5,'12年詳細'!$H$2:$J$100,2,FALSE))=TRUE, 0,VLOOKUP(B5,'12年詳細'!$H$2:$J$100,2,FALSE)) -> 0 | D5: =IF(ISERROR(VLOOKUP(B5,'13年詳細'!$H$2:$J$100,2,FALSE))=TRUE, 0,VLOOKUP(B5,'13年詳細'!$H$2:$J$100,2,FALSE)) -> 0 | E5: =IF(ISERROR(VLOOKUP(B5,'14年詳細'!$H$2:$J$100,2,FALSE))=TRUE, 0,VLOOKUP(B5,'14年詳細'!$H$2:$J$100,2,FALSE)) -> 0 | F5: =IF(ISERROR(VLOOKUP(B5,'15年詳細'!$H$2:$J$100,2,FALSE))=TRUE, 0,VLOOKUP(B5,'15年詳細'!$H$2:$J$100,2,FALSE)) -> 0 | G5: =IF(ISERROR(VLOOKUP(B5,'16年詳細'!$H$2:$J$100,2,FALSE))=TRUE, 0,VLOOKUP(B5,'16年詳細'!$H$2:$J$100,2,FALSE)) -> 0 | H5: =IF(ISERROR(VLOOKUP(B5,'17年詳細'!$H$2:$J$100,2,FALSE))=TRUE, 0,VLOOKUP(B5,'17年詳細'!$H$2:$J$100,2,FALSE)) -> 0
B6: HKD / 函館 | C6: =IF(ISERROR(VLOOKUP(B6,'12年詳細'!$H$2:$J$100,2,FALSE))=TRUE, 0,VLOOKUP(B6,'12年詳細'!$H$2:$J$100,2,FALSE)) -> 39 | D6: =IF(ISERROR(VLOOKUP(B6,'13年詳細'!$H$2:$J$100,2,FALSE))=TRUE, 0,VLOOKUP(B6,'13年詳細'!$H$2:$J$100,2,FALSE)) -> 63 | E6: =IF(ISERROR(VLOOKUP(B6,'14年詳細'!$H$2:$J$100,2,FALSE))=TRUE, 0,VLOOKUP(B6,'14年詳細'!$H$2:$J$100,2,FALSE)) -> 91 | F6: =IF(ISERROR(VLOOKUP(B6,'15年詳細'!$H$2:$J$100,2,FALSE))=TRUE, 0,VLOOKUP(B6,'15年詳細'!$H$2:$J$100,2,FALSE)) -> 124 | G6: =IF(ISERROR(VLOOKUP(B6,'16年詳細'!$H$2:$J$100,2,FALSE))=TRUE, 0,VLOOKUP(B6,'16年詳細'!$H$2:$J$100,2,FALSE)) -> 192 | H6: =IF(ISERROR(VLOOKUP(B6,'17年詳細'!$H$2:$J$100,2,FALSE))=TRUE, 0,VLOOKUP(B6,'17年詳細'!$H$2:$J$100,2,FALSE)) -> 175
B7: OBO / 帯広 | C7: =IF(ISERROR(VLOOKUP(B7,'12年詳細'!$H$2:$J$100,2,FALSE))=TRUE, 0,VLOOKUP(B7,'12年詳細'!$H$2:$J$100,2,FALSE)) -> 0 | D7: =IF(ISERROR(VLOOKUP(B7,'13年詳細'!$H$2:$J$100,2,FALSE))=TRUE, 0,VLOOKUP(B7,'13年詳細'!$H$2:$J$100,2,FALSE)) -> 13 | E7: =IF(ISERROR(VLOOKUP(B7,'14年詳細'!$H$2:$J$100,2,FALSE))=TRUE, 0,VLOOKUP(B7,'14年詳細'!$H$2:$J$100,2,FALSE)) -> 1 | F7: =IF(ISERROR(VLOOKUP(B7,'15年詳細'!$H$2:$J$100,2,FALSE))=TRUE, 0,VLOOKUP(B7,'15年詳細'!$H$2:$J$100,2,FALSE)) -> 0 | G7: =IF(ISERROR(VLOOKUP(B7,'16年詳細'!$H$2:$J$100,2,FALSE))=TRUE, 0,VLOOKUP(B7,'16年詳細'!$H$2:$J$100,2,FALSE)) -> 24 | H7: =IF(ISERROR(VLOOKUP(B7,'17年詳細'!$H$2:$J$100,2,FALSE))=TRUE, 0,VLOOKUP(B7,'17年詳細'!$H$2:$J$100,2,FALSE)) -> 1
B8: KUH / 釧路 | C8: =IF(ISERROR(VLOOKUP(B8,'12年詳細'!$H$2:$J$100,2,FALSE))=TRUE, 0,VLOOKUP(B8,'12年詳細'!$H$2:$J$100,2,FALSE)) -> 0 | D8: =IF(ISERROR(VLOOKUP(B8,'13年詳細'!$H$2:$J$100,2,FALSE))=TRUE, 0,VLOOKUP(B8,'13年詳細'!$H$2:$J$100,2,FALSE)) -> 13 | E8: =IF(ISERROR(VLOOKUP(B8,'14年詳細'!$H$2:$J$100,2,FALSE))=TRUE, 0,VLOOKUP(B8,'14年詳細'!$H$2:$J$100,2,FALSE)) -> 13 | F8: =IF(ISERROR(VLOOKUP(B8,'15年詳細'!$H$2:$J$100,2,FALSE))=TRUE, 0,VLOOKUP(B8,'15年詳細'!$H$2:$J$100,2,FALSE)) -> 0 | G8: =IF(ISERROR(VLOOKUP(B8,'16年詳細'!$H$2:$J$100,2,FALSE))=TRUE, 0,VLOOKUP(B8,'16年詳細'!$H$2:$J$100,2,FALSE)) -> 11 | H8: =IF(ISERROR(VLOOKUP(B8,'17年詳細'!$H$2:$J$100,2,FALSE))=TRUE, 0,VLOOKUP(B8,'17年詳細'!$H$2:$J$100,2,FALSE)) -> 0
B9: MMB / 女満別 | C9: =IF(ISERROR(VLOOKUP(B9,'12年詳細'!$H$2:$J$100,2,FALSE))=TRUE, 0,VLOOKUP(B9,'12年詳細'!$H$2:$J$100,2,FALSE)) -> 0 | D9: =IF(ISERROR(VLOOKUP(B9,'13年詳細'!$H$2:$J$100,2,FALSE))=TRUE, 0,VLOOKUP(B9,'13年詳細'!$H$2:$J$100,2,FALSE)) -> 0 | E9: =IF(ISERROR(VLOOKUP(B9,'14年詳細'!$H$2:$J$100,2,FALSE))=TRUE, 0,VLOOKUP(B9,'14年詳細'!$H$2:$J$100,2,FALSE)) -> 0 | F9: =IF(ISERROR(VLOOKUP(B9,'15年詳細'!$H$2:$J$100,2,FALSE))=TRUE, 0,VLOOKUP(B9,'15年詳細'!$H$2:$J$100,2,FALSE)) -> 0 | G9: =IF(ISERROR(VLOOKUP(B9,'16年詳細'!$H$2:$J$100,2,FALSE))=TRUE, 0,VLOOKUP(B9,'16年詳細'!$H$2:$J$100,2,FALSE)) -> 0 | H9: =IF(ISERROR(VLOOKUP(B9,'17年詳細'!$H$2:$J$100,2,FALSE))=TRUE, 0,VLOOKUP(B9,'17年詳細'!$H$2:$J$100,2,FALSE)) -> 0
B10: 合計 | C10: =SUM(C3:C9) -> 887 | D10: =SUM(D3:D9) -> 961 | E10: =SUM(E3:E9) -> 1245 | F10: =SUM(F3:F9) -> 1602 | G10: =SUM(G3:G9) -> 2070 | H10: =SUM(H3:H9) -> 2329
A11: 東北 | B11: AOJ / 青森 | C11: =IF(ISERROR(VLOOKUP(B11,'12年詳細'!$H$2:$J$100,2,FALSE))=TRUE, 0,VLOOKUP(B11,'12年詳細'!$H$2:$J$100,2,FALSE)) -> 40 | D11: =IF(ISERROR(VLOOKUP(B11,'13年詳細'!$H$2:$J$100,2,FALSE))=TRUE, 0,VLOOKUP(B11,'13年詳細'!$H$2:$J$100,2,FALSE)) -> 38 | E11: =IF(ISERROR(VLOOKUP(B11,'14年詳細'!$H$2:$J$100,2,FALSE))=TRUE, 0,VLOOKUP(B11,'14年詳細'!$H$2:$J$100,2,FALSE)) -> 39 | F11: =IF(ISERROR(VLOOKUP(B11,'15年詳細'!$H$2:$J$100,2,FALSE))=TRUE, 0,VLOOKUP(B11,'15年詳細'!$H$2:$J$100,2,FALSE)) -> 40 | G11: =IF(ISERROR(VLOOKUP(B11,'16年詳細'!$H$2:$J$100,2,FALSE))=TRUE, 0,VLOOKUP(B11,'16年詳細'!$H$2:$J$100,2,FALSE)) -> 39 | H11: =IF(ISERROR(VLOOKUP(B11,'17年詳細'!$H$2:$J$100,2,FALSE))=TRUE, 0,VLOOKUP(B11,'17年詳細'!$H$2:$J$100,2,FALSE)) -> 81
B12: MSJ / 三沢 | C12: =IF(ISERROR(VLOOKUP(B12,'12年詳細'!$H$2:$J$100,2,FALSE))=TRUE, 0,VLOOKUP(B12,'12年詳細'!$H$2:$J$100,2,FALSE)) -> 0 | D12: =IF(ISERROR(VLOOKUP(B12,'13年詳細'!$H$2:$J$100,2,FALSE))=TRUE, 0,VLOOKUP(B12,'13年詳細'!$H$2:$J$100,2,FALSE)) -> 0 | E12: =IF(ISERROR(VLOOKUP(B12,'14年詳細'!$H$2:$J$100,2,FALSE))=TRUE, 0,VLOOKUP(B12,'14年詳細'!$H$2:$J$100,2,FALSE)) -> 0 | F12: =IF(ISERROR(VLOOKUP(B12,'15年詳細'!$H$2:$J$100,2,FALSE))=TRUE, 0,VLOOKUP(B12,'15年詳細'!$H$2:$J$100,2,FALSE)) -> 0 | G12: =IF(ISERROR(VLOOKUP(B12,'16年詳細'!$H$2:$J$100,2,FALSE))=TRUE, 0,VLOOKUP(B12,'16年詳細'!$H$2:$J$100,2,FALSE)) -> 0 | H12: =IF(ISERROR(VLOOKUP(B12,'17年詳細'!$H$2:$J$100,2,FALSE))=TRUE, 0,VLOOKUP(B12,'17年詳細'!$H$2:$J$100,2,FALSE)) -> 0
B13: AXT / 秋田 | C13: =IF(ISERROR(VLOOKUP(B13,'12年詳細'!$H$2:$J$100,2,FALSE))=TRUE, 0,VLOOKUP(B13,'12年詳細'!$H$2:$J$100,2,FALSE)) -> 39 | D13: =IF(ISERROR(VLOOKUP(B13,'13年詳細'!$H$2:$J$100,2,FALSE))=TRUE, 0,VLOOKUP(B13,'13年詳細'!$H$2:$J$100,2,FALSE)) -> 38 | E13: =IF(ISERROR(VLOOKUP(B13,'14年詳細'!$H$2:$J$100,2,FALSE))=TRUE, 0,VLOOKUP(B13,'14年詳細'!$H$2:$J$100,2,FALSE)) -> 39 | F13: =IF(ISERROR(VLOOKUP(B13,'15年詳細'!$H$2:$J$100,2,FALSE))=TRUE, 0,VLOOKUP(B13,'15年詳細'!$H$2:$J$100,2,FALSE)) -> 39 | G13: =IF(ISERROR(VLOOKUP(B13,'16年詳細'!$H$2:$J$100,2,FALSE))=TRUE, 0,VLOOKUP(B13,'16年詳細'!$H$2:$J$100,2,FALSE)) -> 0 | H13: =IF(ISERROR(VLOOKUP(B13,'17年詳細'!$H$2:$J$100,2,FALSE))=TRUE, 0,VLOOKUP(B13,'17年詳細'!$H$2:$J$100,2,FALSE)) -> 0
B14: HNA / 花巻 | C14: =IF(ISERROR(VLOOKUP(B14,'12年詳細'!$H$2:$J$100,2,FALSE))=TRUE, 0,VLOOKUP(B14,'12年詳細'!$H$2:$J$100,2,FALSE)) -> 0 | D14: =IF(ISERROR(VLOOKUP(B14,'13年詳細'!$H$2:$J$100,2,FALSE))=TRUE, 0,VLOOKUP(B14,'13年詳細'!$H$2:$J$100,2,FALSE)) -> 0 | E14: =IF(ISERROR(VLOOKUP(B14,'14年詳細'!$H$2:$J$100,2,FALSE))=TRUE, 0,VLOOKUP(B14,'14年詳細'!$H$2:$J$100,2,FALSE)) -> 0 | F14: =IF(ISERROR(VLOOKUP(B14,'15年詳細'!$H$2:$J$100,2,FALSE))=TRUE, 0,VLOOKUP(B14,'15年詳細'!$H$2:$J$100,2,FALSE)) -> 0 | G14: =IF(ISERROR(VLOOKUP(B14,'16年詳細'!$H$2:$J$100,2,FALSE))=TRUE, 0,VLOOKUP(B14,'16年詳細'!$H$2:$J$100,2,FALSE)) -> 0 | H14: =IF(ISERROR(VLOOKUP(B14,'17年詳細'!$H$2:$J$100,2,FALSE))=TRUE, 0,VLOOKUP(B14,'17年詳細'!$H$2:$J$100,2,FALSE)) -> 0
B15: FKS / 福島 | C15: =IF(ISERROR(VLOOKUP(B15,'12年詳細'!$H$2:$J$100,2,FALSE))=TRUE, 0,VLOOKUP(B15,'12年詳細'!$H$2:$J$100,2,FALSE)) -> 0 | D15: =IF(ISERROR(VLOOKUP(B15,'13年詳細'!$H$2:$J$100,2,FALSE))=TRUE, 0,VLOOKUP(B15,'13年詳細'!$H$2:$J$100,2,FALSE)) -> 2 | E15: =IF(ISERROR(VLOOKUP(B15,'14年詳細'!$H$2:$J$100,2,FALSE))=TRUE, 0,VLOOKUP(B15,'14年詳細'!$H$2:$J$100,2,FALSE)) -> 0 | F15: =IF(ISERROR(VLOOKUP(B15,'15年詳細'!$H$2:$J$100,2,FALSE))=TRUE, 0,VLOOKUP(B15,'15年詳細'!$H$2:$J$100,2,FALSE)) -> 0 | G15: =IF(ISERROR(VLOOKUP(B15,'16年詳細'!$H$2:$J$100,2,FALSE))=TRUE, 0,VLOOKUP(B15,'16年詳細'!$H$2:$J$100,2,FALSE)) -> 2 | H15: =IF(ISERROR(VLOOKUP(B15,'17年詳細'!$H$2:$J$100,2,FALSE))=TRUE, 0,VLOOKUP(B15,'17年詳細'!$H$2:$J$100,2,FALSE)) -> 0
B16: SDJ / 仙台 | C16: =IF(ISERROR(VLOOKUP(B16,'12年詳細'!$H$2:$J$100,2,FALSE))=TRUE, 0,VLOOKUP(B16,'12年詳細'!$H$2:$J$100,2,FALSE)) -> 95 | D16: =IF(ISERROR(VLOOKUP(B16,'13年詳細'!$H$2:$J$100,2,FALSE))=TRUE, 0,VLOOKUP(B16,'13年詳細'!$H$2:$J$100,2,FALSE)) -> 190 | E16: =IF(ISERROR(VLOOKUP(B16,'14年詳細'!$H$2:$J$100,2,FALSE))=TRUE, 0,VLOOKUP(B16,'14年詳細'!$H$2:$J$100,2,FALSE)) -> 165 | F16: =IF(ISERROR(VLOOKUP(B16,'15年詳細'!$H$2:$J$100,2,FALSE))=TRUE, 0,VLOOKUP(B16,'15年詳細'!$H$2:$J$100,2,FALSE)) -> 177 | G16: =IF(ISERROR(VLOOKUP(B16,'16年詳細'!$H$2:$J$100,2,FALSE))=TRUE, 0,VLOOKUP(B16,'16年詳細'!$H$2:$J$100,2,FALSE)) -> 132 | H16: =IF(ISERROR(VLOOKUP(B16,'17年詳細'!$H$2:$J$100,2,FALSE))=TRUE, 0,VLOOKUP(B16,'17年詳細'!$H$2:$J$100,2,FALSE)) -> 259
B17: 合計 | C17: =SUM(C11:C16) -> 174 | D17: =SUM(D11:D16) -> 268 | E17: =SUM(E11:E16) -> 243 | F17: =SUM(F11:F16) -> 256 | G17: =SUM(G11:G16) -> 173 | H17: =SUM(H11:H16) -> 340
A18: 関東・甲信越 | B18: NRT / 成田 | C18: =IF(ISERROR(VLOOKUP(B18,'12年詳細'!$H$2:$J$100,2,FALSE))=TRUE, 0,VLOOKUP(B18,'12年詳細'!$H$2:$J$100,2,FALSE)) -> 17983 | D18: =IF(ISERROR(VLOOKUP(B18,'13年詳細'!$H$2:$J$100,2,FALSE))=TRUE, 0,VLOOKUP(B18,'13年詳細'!$H$2:$J$100,2,FALSE)) -> 18291 | E18: =IF(ISERROR(VLOOKUP(B18,'14年詳細'!$H$2:$J$100,2,FALSE))=TRUE, 0,VLOOKUP(B18,'14年詳細'!$H$2:$J$100,2,FALSE)) -> 19249 | F18: =IF(ISERROR(VLOOKUP(B18,'15年詳細'!$H$2:$J$100,2,FALSE))=TRUE, 0,VLOOKUP(B18,'15年詳細'!$H$2:$J$100,2,FALSE)) -> 18376 | G18: =IF(ISERROR(VLOOKUP(B18,'16年詳細'!$H$2:$J$100,2,FALSE))=TRUE, 0,VLOOKUP(B18,'16年詳細'!$H$2:$J$100,2,FALSE)) -> 19926 | H18: =IF(ISERROR(VLOOKUP(B18,'17年詳細'!$H$2:$J$100,2,FALSE))=TRUE, 0,VLOOKUP(B18,'17年詳細'!$H$2:$J$100,2,FALSE)) -> 20728
B19: HND / 羽田 | C19: =IF(ISERROR(VLOOKUP(B19,'12年詳細'!$H$2:$J$100,2,FALSE))=TRUE, 0,VLOOKUP(B19,'12年詳細'!$H$2:$J$100,2,FALSE)) -> 4499 | D19: =IF(ISERROR(VLOOKUP(B19,'13年詳細'!$H$2:$J$100,2,FALSE))=TRUE, 0,VLOOKUP(B19,'13年詳細'!$H$2:$J$100,2,FALSE)) -> 4674 | E19: =IF(ISERROR(VLOOKUP(B19,'14年詳細'!$H$2:$J$100,2,FALSE))=TRUE, 0,VLOOKUP(B19,'14年詳細'!$H$2:$J$100,2,FALSE)) -> 4896 | F19: =IF(ISERROR(VLOOKUP(B19,'15年詳細'!$H$2:$J$100,2,FALSE))=TRUE, 0,VLOOKUP(B19,'15年詳細'!$H$2:$J$100,2,FALSE)) -> 7187 | G19: =IF(ISERROR(VLOOKUP(B19,'16年詳細'!$H$2:$J$100,2,FALSE))=TRUE, 0,VLOOKUP(B19,'16年詳細'!$H$2:$J$100,2,FALSE)) -> 9124 | H19: =IF(ISERROR(VLOOKUP(B19,'17年詳細'!$H$2:$J$100,2,FALSE))=TRUE, 0,VLOOKUP(B19,'17年詳細'!$H$2:$J$100,2,FALSE)) -> 9823
B20: IBR / 茨城 | C20: =IF(ISERROR(VLOOKUP(B20,'12年詳細'!$H$2:$J$100,2,FALSE))=TRUE, 0,VLOOKUP(B20,'12年詳細'!$H$2:$J$100,2,FALSE)) -> 39 | D20: =IF(ISERROR(VLOOKUP(B20,'13年詳細'!$H$2:$J$100,2,FALSE))=TRUE, 0,VLOOKUP(B20,'13年詳細'!$H$2:$J$100,2,FALSE)) -> 2 | E20: =IF(ISERROR(VLOOKUP(B20,'14年詳細'!$H$2:$J$100,2,FALSE))=TRUE, 0,VLOOKUP(B20,'14年詳細'!$H$2:$J$100,2,FALSE)) -> 82 | F20: =IF(ISERROR(VLOOKUP(B20,'15年詳細'!$H$2:$J$100,2,FALSE))=TRUE, 0,VLOOKUP(B20,'15年詳細'!$H$2:$J$100,2,FALSE)) -> 111 | G20: =IF(ISERROR(VLOOKUP(B20,'16年詳細'!$H$2:$J$100,2,FALSE))=TRUE, 0,VLOOKUP(B20,'16年詳細'!$H$2:$J$100,2,FALSE)) -> 120 | H20: =IF(ISERROR(VLOOKUP(B20,'17年詳細'!$H$2:$J$100,2,FALSE))=TRUE, 0,VLOOKUP(B20,'17年詳細'!$H$2:$J$100,2,FALSE)) -> 79
B21: KIJ / 新潟 | C21: =IF(ISERROR(VLOOKUP(B21,'12年詳細'!$H$2:$J$100,2,FALSE))=TRUE, 0,VLOOKUP(B21,'12年詳細'!$H$2:$J$100,2,FALSE)) -> 190 | D21: =IF(ISERROR(VLOOKUP(B21,'13年詳細'!$H$2:$J$100,2,FALSE))=TRUE, 0,VLOOKUP(B21,'13年詳細'!$H$2:$J$100,2,FALSE)) -> 198 | E21: =IF(ISERROR(VLOOKUP(B21,'14年詳細'!$H$2:$J$100,2,FALSE))=TRUE, 0,VLOOKUP(B21,'14年詳細'!$H$2:$J$100,2,FALSE)) -> 193 | F21: =IF(ISERROR(VLOOKUP(B21,'15年詳細'!$H$2:$J$100,2,FALSE))=TRUE, 0,VLOOKUP(B21,'15年詳細'!$H$2:$J$100,2,FALSE)) -> 136 | G21: =IF(ISERROR(VLOOKUP(B21,'16年詳細'!$H$2:$J$100,2,FALSE))=TRUE, 0,VLOOKUP(B21,'16年詳細'!$H$2:$J$100,2,FALSE)) -> 147 | H21: =IF(ISERROR(VLOOKUP(B21,'17年詳細'!$H$2:$J$100,2,FALSE))=TRUE, 0,VLOOKUP(B21,'17年詳細'!$H$2:$J$100,2,FALSE)) -> 131
B22: 合計 | C22: =SUM(C18:C21) -> 22711 | D22: =SUM(D18:D21) -> 23165 | E22: =SUM(E18:E21) -> 24420 | F22: =SUM(F18:F21) -> 25810 | G22: =SUM(G18:G21) -> 29317 | H22: =SUM(H18:H21) -> 30761
A23: 中部・北陸 | B23: NGO / 中部 | C23: =IF(ISERROR(VLOOKUP(B23,'12年詳細'!$H$2:$J$100,2,FALSE))=TRUE, 0,VLOOKUP(B23,'12年詳細'!$H$2:$J$100,2,FALSE)) -> 3486 | D23: =IF(ISERROR(VLOOKUP(B23,'13年詳細'!$H$2:$J$100,2,FALSE))=TRUE, 0,VLOOKUP(B23,'13年詳細'!$H$2:$J$100,2,FALSE)) -> 3469 | E23: =IF(ISERROR(VLOOKUP(B23,'14年詳細'!$H$2:$J$100,2,FALSE))=TRUE, 0,VLOOKUP(B23,'14年詳細'!$H$2:$J$100,2,FALSE)) -> 3418 | F23: =IF(ISERROR(VLOOKUP(B23,'15年詳細'!$H$2:$J$100,2,FALSE))=TRUE, 0,VLOOKUP(B23,'15年詳細'!$H$2:$J$100,2,FALSE)) -> 3814 | G23: =IF(ISERROR(VLOOKUP(B23,'16年詳細'!$H$2:$J$100,2,FALSE))=TRUE, 0,VLOOKUP(B23,'16年詳細'!$H$2:$J$100,2,FALSE)) -> 4546 | H23: =IF(ISERROR(VLOOKUP(B23,'17年詳細'!$H$2:$J$100,2,FALSE))=TRUE, 0,VLOOKUP(B23,'17年詳細'!$H$2:$J$100,2,FALSE)) -> 4404
B24: FSZ / 静岡 | C24: =IF(ISERROR(VLOOKUP(B24,'12年詳細'!$H$2:$J$100,2,FALSE))=TRUE, 0,VLOOKUP(B24,'12年詳細'!$H$2:$J$100,2,FALSE)) -> 214 | D24: =IF(ISERROR(VLOOKUP(B24,'13年詳細'!$H$2:$J$100,2,FALSE))=TRUE, 0,VLOOKUP(B24,'13年詳細'!$H$2:$J$100,2,FALSE)) -> 254 | E24: =IF(ISERROR(VLOOKUP(B24,'14年詳細'!$H$2:$J$100,2,FALSE))=TRUE, 0,VLOOKUP(B24,'14年詳細'!$H$2:$J$100,2,FALSE)) -> 178 | F24: =IF(ISERROR(VLOOKUP(B24,'15年詳細'!$H$2:$J$100,2,FALSE))=TRUE, 0,VLOOKUP(B24,'15年詳細'!$H$2:$J$100,2,FALSE)) -> 279 | G24: =IF(ISERROR(VLOOKUP(B24,'16年詳細'!$H$2:$J$100,2,FALSE))=TRUE, 0,VLOOKUP(B24,'16年詳細'!$H$2:$J$100,2,FALSE)) -> 373 | H24: =IF(ISERROR(VLOOKUP(B24,'17年詳細'!$H$2:$J$100,2,FALSE))=TRUE, 0,VLOOKUP(B24,'17年詳細'!$H$2:$J$100,2,FALSE)) -> 307
B25: SHM / 南紀白浜 | C25: =IF(ISERROR(VLOOKUP(B25,'12年詳細'!$H$2:$J$100,2,FALSE))=TRUE, 0,VLOOKUP(B25,'12年詳細'!$H$2:$J$100,2,FALSE)) -> 0 | D25: =IF(ISERROR(VLOOKUP(B25,'13年詳細'!$H$2:$J$100,2,FALSE))=TRUE, 0,VLOOKUP(B25,'13年詳細'!$H$2:$J$100,2,FALSE)) -> 0 | E25: =IF(ISERROR(VLOOKUP(B25,'14年詳細'!$H$2:$J$100,2,FALSE))=TRUE, 0,VLOOKUP(B25,'14年詳細'!$H$2:$J$100,2,FALSE)) -> 1 | F25: =IF(ISERROR(VLOOKUP(B25,'15年詳細'!$H$2:$J$100,2,FALSE))=TRUE, 0,VLOOKUP(B25,'15年詳細'!$H$2:$J$100,2,FALSE)) -> 0 | G25: =IF(ISERROR(VLOOKUP(B25,'16年詳細'!$H$2:$J$100,2,FALSE))=TRUE, 0,VLOOKUP(B25,'16年詳細'!$H$2:$J$100,2,FALSE)) -> 0 | H25: =IF(ISERROR(VLOOKUP(B25,'17年詳細'!$H$2:$J$100,2,FALSE))=TRUE, 0,VLOOKUP(B25,'17年詳細'!$H$2:$J$100,2,FALSE)) -> 0
B26: KMQ / 小松 | C26: =IF(ISERROR(VLOOKUP(B26,'12年詳細'!$H$2:$J$100,2,FALSE))=TRUE, 0,VLOOKUP(B26,'12年詳細'!$H$2:$J$100,2,FALSE)) -> 158 | D26: =IF(ISERROR(VLOOKUP(B26,'13年詳細'!$H$2:$J$100,2,FALSE))=TRUE, 0,VLOOKUP(B26,'13年詳細'!$H$2:$J$100,2,FALSE)) -> 202 | E26: =IF(ISERROR(VLOOKUP(B26,'14年詳細'!$H$2:$J$100,2,FALSE))=TRUE, 0,VLOOKUP(B26,'14年詳細'!$H$2:$J$100,2,FALSE)) -> 182 | F26: =IF(ISERROR(VLOOKUP(B26,'15年詳細'!$H$2:$J$100,2,FALSE))=TRUE, 0,VLOOKUP(B26,'15年詳細'!$H$2:$J$100,2,FALSE)) -> 183 | G26: =IF(ISERROR(VLOOKUP(B26,'16年詳細'!$H$2:$J$100,2,FALSE))=TRUE, 0,VLOOKUP(B26,'16年詳細'!$H$2:$J$100,2,FALSE)) -> 156 | H26: =IF(ISERROR(VLOOKUP(B26,'17年詳細'!$H$2:$J$100,2,FALSE))=TRUE, 0,VLOOKUP(B26,'17年詳細'!$H$2:$J$100,2,FALSE)) -> 181
B27: TOY / 富山 | C27: =IF(ISERROR(VLOOKUP(B27,'12年詳細'!$H$2:$J$100,2,FALSE))=TRUE, 0,VLOOKUP(B27,'12年詳細'!$H$2:$J$100,2,FALSE)) -> 143 | D27: =IF(ISERROR(VLOOKUP(B27,'13年詳細'!$H$2:$J$100,2,FALSE))=TRUE, 0,VLOOKUP(B27,'13年詳細'!$H$2:$J$100,2,FALSE)) -> 88 | E27: =IF(ISERROR(VLOOKUP(B27,'14年詳細'!$H$2:$J$100,2,FALSE))=TRUE, 0,VLOOKUP(B27,'14年詳細'!$H$2:$J$100,2,FALSE)) -> 111 | F27: =IF(ISERROR(VLOOKUP(B27,'15年詳細'!$H$2:$J$100,2,FALSE))=TRUE, 0,VLOOKUP(B27,'15年詳細'!$H$2:$J$100,2,FALSE)) -> 118 | G27: =IF(ISERROR(VLOOKUP(B27,'16年詳細'!$H$2:$J$100,2,FALSE))=TRUE, 0,VLOOKUP(B27,'16年詳細'!$H$2:$J$100,2,FALSE)) -> 139 | H27: =IF(ISERROR(VLOOKUP(B27,'17年詳細'!$H$2:$J$100,2,FALSE))=TRUE, 0,VLOOKUP(B27,'17年詳細'!$H$2:$J$100,2,FALSE)) -> 102
B28: 合計 | C28: =SUM(C23:C27) -> 4001 | D28: =SUM(D23:D27) -> 4013 | E28: =SUM(E23:E27) -> 3890 | F28: =SUM(F23:F27) -> 4394 | G28: =SUM(G23:G27) -> 5214 | H28: =SUM(H23:H27) -> 4994
A29: 関西 | B29: KIX / 関西 | C29: =IF(ISERROR(VLOOKUP(B29,'12年詳細'!$H$2:$J$100,2,FALSE))=TRUE, 0,VLOOKUP(B29,'12年詳細'!$H$2:$J$100,2,FALSE)) -> 7950 | D29: =IF(ISERROR(VLOOKUP(B29,'13年詳細'!$H$2:$J$100,2,FALSE))=TRUE, 0,VLOOKUP(B29,'13年詳細'!$H$2:$J$100,2,FALSE)) -> 8745 | E29: =IF(ISERROR(VLOOKUP(B29,'14年詳細'!$H$2:$J$100,2,FALSE))=TRUE, 0,VLOOKUP(B29,'14年詳細'!$H$2:$J$100,2,FALSE)) -> 9212 | F29: =IF(ISERROR(VLOOKUP(B29,'15年詳細'!$H$2:$J$100,2,FALSE))=TRUE, 0,VLOOKUP(B29,'15年詳細'!$H$2:$J$100,2,FALSE)) -> 10035 | G29: =IF(ISERROR(VLOOKUP(B29,'16年詳細'!$H$2:$J$100,2,FALSE))=TRUE, 0,VLOOKUP(B29,'16年詳細'!$H$2:$J$100,2,FALSE)) -> 13666 | H29: =IF(ISERROR(VLOOKUP(B29,'17年詳細'!$H$2:$J$100,2,FALSE))=TRUE, 0,VLOOKUP(B29,'17年詳細'!$H$2:$J$100,2,FALSE)) -> 14197
B30: ITM / 伊丹 | C30: =IF(ISERROR(VLOOKUP(B30,'12年詳細'!$H$2:$J$100,2,FALSE))=TRUE, 0,VLOOKUP(B30,'12年詳細'!$H$2:$J$100,2,FALSE)) -> 0 | D30: =IF(ISERROR(VLOOKUP(B30,'13年詳細'!$H$2:$J$100,2,FALSE))=TRUE, 0,VLOOKUP(B30,'13年詳細'!$H$2:$J$100,2,FALSE)) -> 0 | E30: =IF(ISERROR(VLOOKUP(B30,'14年詳細'!$H$2:$J$100,2,FALSE))=TRUE, 0,VLOOKUP(B30,'14年詳細'!$H$2:$J$100,2,FALSE)) -> 0 | F30: =IF(ISERROR(VLOOKUP(B30,'15年詳細'!$H$2:$J$100,2,FALSE))=TRUE, 0,VLOOKUP(B30,'15年詳細'!$H$2:$J$100,2,FALSE)) -> 0 | G30: =IF(ISERROR(VLOOKUP(B30,'16年詳細'!$H$2:$J$100,2,FALSE))=TRUE, 0,VLOOKUP(B30,'16年詳細'!$H$2:$J$100,2,FALSE)) -> 0 | H30: =IF(ISERROR(VLOOKUP(B30,'17年詳細'!$H$2:$J$100,2,FALSE))=TRUE, 0,VLOOKUP(B30,'17年詳細'!$H$2:$J$100,2,FALSE)) -> 0
B31: 合計 | C31: =SUM(C29:C30) -> 7950 | D31: =SUM(D29:D30) -> 8745 | E31: =SUM(E29:E30) -> 9212 | F31: =SUM(F29:F30) -> 10035 | G31: =SUM(G29:G30) -> 13666 | H31: =SUM(H29:H30) -> 14197
A32: 中国 | B32: HIJ / 広島 | C32: =IF(ISERROR(VLOOKUP(B32,'12年詳細'!$H$2:$J$100,2,FALSE))=TRUE, 0,VLOOKUP(B32,'12年詳細'!$H$2:$J$100,2,FALSE)) -> 418 | D32: =IF(ISERROR(VLOOKUP(B32,'13年詳細'!$H$2:$J$100,2,FALSE))=TRUE, 0,VLOOKUP(B32,'13年詳細'!$H$2:$J$100,2,FALSE)) -> 389 | E32: =IF(ISERROR(VLOOKUP(B32,'14年詳細'!$H$2:$J$100,2,FALSE))=TRUE, 0,VLOOKUP(B32,'14年詳細'!$H$2:$J$100,2,FALSE)) -> 395 | F32: =IF(ISERROR(VLOOKUP(B32,'15年詳細'!$H$2:$J$100,2,FALSE))=TRUE, 0,VLOOKUP(B32,'15年詳細'!$H$2:$J$100,2,FALSE)) -> 351 | G32: =IF(ISERROR(VLOOKUP(B32,'16年詳細'!$H$2:$J$100,2,FALSE))=TRUE, 0,VLOOKUP(B32,'16年詳細'!$H$2:$J$100,2,FALSE)) -> 398 | H32: =IF(ISERROR(VLOOKUP(B32,'17年詳細'!$H$2:$J$100,2,FALSE))=TRUE, 0,VLOOKUP(B32,'17年詳細'!$H$2:$J$100,2,FALSE)) -> 335
B33: OKJ / 岡山 | C33: =IF(ISERROR(VLOOKUP(B33,'12年詳細'!$H$2:$J$100,2,FALSE))=TRUE, 0,VLOOKUP(B33,'12年詳細'!$H$2:$J$100,2,FALSE)) -> 213 | D33: =IF(ISERROR(VLOOKUP(B33,'13年詳細'!$H$2:$J$100,2,FALSE))=TRUE, 0,VLOOKUP(B33,'13年詳細'!$H$2:$J$100,2,FALSE)) -> 227 | E33: =IF(ISERROR(VLOOKUP(B33,'14年詳細'!$H$2:$J$100,2,FALSE))=TRUE, 0,VLOOKUP(B33,'14年詳細'!$H$2:$J$100,2,FALSE)) -> 179 | F33: =IF(ISERROR(VLOOKUP(B33,'15年詳細'!$H$2:$J$100,2,FALSE))=TRUE, 0,VLOOKUP(B33,'15年詳細'!$H$2:$J$100,2,FALSE)) -> 184 | G33: =IF(ISERROR(VLOOKUP(B33,'16年詳細'!$H$2:$J$100,2,FALSE))=TRUE, 0,VLOOKUP(B33,'16年詳細'!$H$2:$J$100,2,FALSE)) -> 183 | H33: =IF(ISERROR(VLOOKUP(B33,'17年詳細'!$H$2:$J$100,2,FALSE))=TRUE, 0,VLOOKUP(B33,'17年詳細'!$H$2:$J$100,2,FALSE)) -> 243
B34: YGJ / 米子 | C34: =IF(ISERROR(VLOOKUP(B34,'12年詳細'!$H$2:$J$100,2,FALSE))=TRUE, 0,VLOOKUP(B34,'12年詳細'!$H$2:$J$100,2,FALSE)) -> 39 | D34: =IF(ISERROR(VLOOKUP(B34,'13年詳細'!$H$2:$J$100,2,FALSE))=TRUE, 0,VLOOKUP(B34,'13年詳細'!$H$2:$J$100,2,FALSE)) -> 39 | E34: =IF(ISERROR(VLOOKUP(B34,'14年詳細'!$H$2:$J$100,2,FALSE))=TRUE, 0,VLOOKUP(B34,'14年詳細'!$H$2:$J$100,2,FALSE)) -> 38 | F34: =IF(ISERROR(VLOOKUP(B34,'15年詳細'!$H$2:$J$100,2,FALSE))=TRUE, 0,VLOOKUP(B34,'15年詳細'!$H$2:$J$100,2,FALSE)) -> 39 | G34: =IF(ISERROR(VLOOKUP(B34,'16年詳細'!$H$2:$J$100,2,FALSE))=TRUE, 0,VLOOKUP(B34,'16年詳細'!$H$2:$J$100,2,FALSE)) -> 42 | H34: =IF(ISERROR(VLOOKUP(B34,'17年詳細'!$H$2:$J$100,2,FALSE))=TRUE, 0,VLOOKUP(B34,'17年詳細'!$H$2:$J$100,2,FALSE)) -> 64
B35: TTJ / 鳥取 | C35: =IF(ISERROR(VLOOKUP(B35,'12年詳細'!$H$2:$J$100,2,FALSE))=TRUE, 0,VLOOKUP(B35,'12年詳細'!$H$2:$J$100,2,FALSE)) -> 0 | D35: =IF(ISERROR(VLOOKUP(B35,'13年詳細'!$H$2:$J$100,2,FALSE))=TRUE, 0,VLOOKUP(B35,'13年詳細'!$H$2:$J$100,2,FALSE)) -> 0 | E35: =IF(ISERROR(VLOOKUP(B35,'14年詳細'!$H$2:$J$100,2,FALSE))=TRUE, 0,VLOOKUP(B35,'14年詳細'!$H$2:$J$100,2,FALSE)) -> 0 | F35: =IF(ISERROR(VLOOKUP(B35,'15年詳細'!$H$2:$J$100,2,FALSE))=TRUE, 0,VLOOKUP(B35,'15年詳細'!$H$2:$J$100,2,FALSE)) -> 1 | G35: =IF(ISERROR(VLOOKUP(B35,'16年詳細'!$H$2:$J$100,2,FALSE))=TRUE, 0,VLOOKUP(B35,'16年詳細'!$H$2:$J$100,2,FALSE)) -> 0 | H35: =IF(ISERROR(VLOOKUP(B35,'17年詳細'!$H$2:$J$100,2,FALSE))=TRUE, 0,VLOOKUP(B35,'17年詳細'!$H$2:$J$100,2,FALSE)) -> 0
B36: UBJ / 山口宇部 | C36: =IF(ISERROR(VLOOKUP(B36,'12年詳細'!$H$2:$J$100,2,FALSE))=TRUE, 0,VLOOKUP(B36,'12年詳細'!$H$2:$J$100,2,FALSE)) -> 0 | D36: =IF(ISERROR(VLOOKUP(B36,'13年詳細'!$H$2:$J$100,2,FALSE))=TRUE, 0,VLOOKUP(B36,'13年詳細'!$H$2:$J$100,2,FALSE)) -> 0 | E36: =IF(ISERROR(VLOOKUP(B36,'14年詳細'!$H$2:$J$100,2,FALSE))=TRUE, 0,VLOOKUP(B36,'14年詳細'!$H$2:$J$100,2,FALSE)) -> 11 | F36: =IF(ISERROR(VLOOKUP(B36,'15年詳細'!$H$2:$J$100,2,FALSE))=TRUE, 0,VLOOKUP(B36,'15年詳細'!$H$2:$J$100,2,FALSE)) -> 23 | G36: =IF(ISERROR(VLOOKUP(B36,'16年詳細'!$H$2:$J$100,2,FALSE))=TRUE, 0,VLOOKUP(B36,'16年詳細'!$H$2:$J$100,2,FALSE)) -> 36 | H36: =IF(ISERROR(VLOOKUP(B36,'17年詳細'!$H$2:$J$100,2,FALSE))=TRUE, 0,VLOOKUP(B36,'17年詳細'!$H$2:$J$100,2,FALSE)) -> 36
B37: IWK / 岩国 | C37: =IF(ISERROR(VLOOKUP(B37,'12年詳細'!$H$2:$J$100,2,FALSE))=TRUE, 0,VLOOKUP(B37,'12年詳細'!$H$2:$J$100,2,FALSE)) -> 0 | D37: =IF(ISERROR(VLOOKUP(B37,'13年詳細'!$H$2:$J$100,2,FALSE))=TRUE, 0,VLOOKUP(B37,'13年詳細'!$H$2:$J$100,2,FALSE)) -> 0 | E37: =IF(ISERROR(VLOOKUP(B37,'14年詳細'!$H$2:$J$100,2,FALSE))=TRUE, 0,VLOOKUP(B37,'14年詳細'!$H$2:$J$100,2,FALSE)) -> 0 | F37: =IF(ISERROR(VLOOKUP(B37,'15年詳細'!$H$2:$J$100,2,FALSE))=TRUE, 0,VLOOKUP(B37,'15年詳細'!$H$2:$J$100,2,FALSE)) -> 0 | G37: =IF(ISERROR(VLOOKUP(B37,'16年詳細'!$H$2:$J$100,2,FALSE))=TRUE, 0,VLOOKUP(B37,'16年詳細'!$H$2:$J$100,2,FALSE)) -> 0 | H37: =IF(ISERROR(VLOOKUP(B37,'17年詳細'!$H$2:$J$100,2,FALSE))=TRUE, 0,VLOOKUP(B37,'17年詳細'!$H$2:$J$100,2,FALSE)) -> 0
B38: 合計 | C38: =SUM(C32:C37) -> 670 | D38: =SUM(D32:D37) -> 655 | E38: =SUM(E32:E37) -> 623 | F38: =SUM(F32:F37) -> 598 | G38: =SUM(G32:G37) -> 659 | H38: =SUM(H32:H37) -> 678
A39: 四国 | B39: KCZ / 高知 | C39: =IF(ISERROR(VLOOKUP(B39,'12年詳細'!$H$2:$J$100,2,FALSE))=TRUE, 0,VLOOKUP(B39,'12年詳細'!$H$2:$J$100,2,FALSE)) -> 0 | D39: =IF(ISERROR(VLOOKUP(B39,'13年詳細'!$H$2:$J$100,2,FALSE))=TRUE, 0,VLOOKUP(B39,'13年詳細'!$H$2:$J$100,2,FALSE)) -> 0 | E39: =IF(ISERROR(VLOOKUP(B39,'14年詳細'!$H$2:$J$100,2,FALSE))=TRUE, 0,VLOOKUP(B39,'14年詳細'!$H$2:$J$100,2,FALSE)) -> 0 | F39: =IF(ISERROR(VLOOKUP(B39,'15年詳細'!$H$2:$J$100,2,FALSE))=TRUE, 0,VLOOKUP(B39,'15年詳細'!$H$2:$J$100,2,FALSE)) -> 0 | G39: =IF(ISERROR(VLOOKUP(B39,'16年詳細'!$H$2:$J$100,2,FALSE))=TRUE, 0,VLOOKUP(B39,'16年詳細'!$H$2:$J$100,2,FALSE)) -> 0 | H39: =IF(ISERROR(VLOOKUP(B39,'17年詳細'!$H$2:$J$100,2,FALSE))=TRUE, 0,VLOOKUP(B39,'17年詳細'!$H$2:$J$100,2,FALSE)) -> 0
B40: TAK / 高松 | C40: =IF(ISERROR(VLOOKUP(B40,'12年詳細'!$H$2:$J$100,2,FALSE))=TRUE, 0,VLOOKUP(B40,'12年詳細'!$H$2:$J$100,2,FALSE)) -> 65 | D40: =IF(ISERROR(VLOOKUP(B40,'13年詳細'!$H$2:$J$100,2,FALSE))=TRUE, 0,VLOOKUP(B40,'13年詳細'!$H$2:$J$100,2,FALSE)) -> 43 | E40: =IF(ISERROR(VLOOKUP(B40,'14年詳細'!$H$2:$J$100,2,FALSE))=TRUE, 0,VLOOKUP(B40,'14年詳細'!$H$2:$J$100,2,FALSE)) -> 102 | F40: =IF(ISERROR(VLOOKUP(B40,'15年詳細'!$H$2:$J$100,2,FALSE))=TRUE, 0,VLOOKUP(B40,'15年詳細'!$H$2:$J$100,2,FALSE)) -> 140 | G40: =IF(ISERROR(VLOOKUP(B40,'16年詳細'!$H$2:$J$100,2,FALSE))=TRUE, 0,VLOOKUP(B40,'16年詳細'!$H$2:$J$100,2,FALSE)) -> 129 | H40: =IF(ISERROR(VLOOKUP(B40,'17年詳細'!$H$2:$J$100,2,FALSE))=TRUE, 0,VLOOKUP(B40,'17年詳細'!$H$2:$J$100,2,FALSE)) -> 236
B41: TKS / 徳島 | C41: =IF(ISERROR(VLOOKUP(B41,'12年詳細'!$H$2:$J$100,2,FALSE))=TRUE, 0,VLOOKUP(B41,'12年詳細'!$H$2:$J$100,2,FALSE)) -> 1 | D41: =IF(ISERROR(VLOOKUP(B41,'13年詳細'!$H$2:$J$100,2,FALSE))=TRUE, 0,VLOOKUP(B41,'13年詳細'!$H$2:$J$100,2,FALSE)) -> 0 | E41: =IF(ISERROR(VLOOKUP(B41,'14年詳細'!$H$2:$J$100,2,FALSE))=TRUE, 0,VLOOKUP(B41,'14年詳細'!$H$2:$J$100,2,FALSE)) -> 0 | F41: =IF(ISERROR(VLOOKUP(B41,'15年詳細'!$H$2:$J$100,2,FALSE))=TRUE, 0,VLOOKUP(B41,'15年詳細'!$H$2:$J$100,2,FALSE)) -> 0 | G41: =IF(ISERROR(VLOOKUP(B41,'16年詳細'!$H$2:$J$100,2,FALSE))=TRUE, 0,VLOOKUP(B41,'16年詳細'!$H$2:$J$100,2,FALSE)) -> 0 | H41: =IF(ISERROR(VLOOKUP(B41,'17年詳細'!$H$2:$J$100,2,FALSE))=TRUE, 0,VLOOKUP(B41,'17年詳細'!$H$2:$J$100,2,FALSE)) -> 0
B42: MYJ / 松山 | C42: =IF(ISERROR(VLOOKUP(B42,'12年詳細'!$H$2:$J$100,2,FALSE))=TRUE, 0,VLOOKUP(B42,'12年詳細'!$H$2:$J$100,2,FALSE)) -> 66 | D42: =IF(ISERROR(VLOOKUP(B42,'13年詳細'!$H$2:$J$100,2,FALSE))=TRUE, 0,VLOOKUP(B42,'13年詳細'!$H$2:$J$100,2,FALSE)) -> 93 | E42: =IF(ISERROR(VLOOKUP(B42,'14年詳細'!$H$2:$J$100,2,FALSE))=TRUE, 0,VLOOKUP(B42,'14年詳細'!$H$2:$J$100,2,FALSE)) -> 42 | F42: =IF(ISERROR(VLOOKUP(B42,'15年詳細'!$H$2:$J$100,2,FALSE))=TRUE, 0,VLOOKUP(B42,'15年詳細'!$H$2:$J$100,2,FALSE)) -> 61 | G42: =IF(ISERROR(VLOOKUP(B42,'16年詳細'!$H$2:$J$100,2,FALSE))=TRUE, 0,VLOOKUP(B42,'16年詳細'!$H$2:$J$100,2,FALSE)) -> 65 | H42: =IF(ISERROR(VLOOKUP(B42,'17年詳細'!$H$2:$J$100,2,FALSE))=TRUE, 0,VLOOKUP(B42,'17年詳細'!$H$2:$J$100,2,FALSE)) -> 26
B43: 合計 | C43: =SUM(C39:C42) -> 132 | D43: =SUM(D39:D42) -> 136 | E43: =SUM(E39:E42) -> 144 | F43: =SUM(F39:F42) -> 201 | G43: =SUM(G39:G42) -> 194 | H43: =SUM(H39:H42) -> 262
A44: 九州 | B44: KKJ / 北九州 | C44: =IF(ISERROR(VLOOKUP(B44,'12年詳細'!$H$2:$J$100,2,FALSE))=TRUE, 0,VLOOKUP(B44,'12年詳細'!$H$2:$J$100,2,FALSE)) -> 39 | D44: =IF(ISERROR(VLOOKUP(B44,'13年詳細'!$H$2:$J$100,2,FALSE))=TRUE, 0,VLOOKUP(B44,'13年詳細'!$H$2:$J$100,2,FALSE)) -> 178 | E44: =IF(ISERROR(VLOOKUP(B44,'14年詳細'!$H$2:$J$100,2,FALSE))=TRUE, 0,VLOOKUP(B44,'14年詳細'!$H$2:$J$100,2,FALSE)) -> 176 | F44: =IF(ISERROR(VLOOKUP(B44,'15年詳細'!$H$2:$J$100,2,FALSE))=TRUE, 0,VLOOKUP(B44,'15年詳細'!$H$2:$J$100,2,FALSE)) -> 0 | G44: =IF(ISERROR(VLOOKUP(B44,'16年詳細'!$H$2:$J$100,2,FALSE))=TRUE, 0,VLOOKUP(B44,'16年詳細'!$H$2:$J$100,2,FALSE)) -> 18 | H44: =IF(ISERROR(VLOOKUP(B44,'17年詳細'!$H$2:$J$100,2,FALSE))=TRUE, 0,VLOOKUP(B44,'17年詳細'!$H$2:$J$100,2,FALSE)) -> 179
B45: FUK / 福岡 | C45: =IF(ISERROR(VLOOKUP(B45,'12年詳細'!$H$2:$J$100,2,FALSE))=TRUE, 0,VLOOKUP(B45,'12年詳細'!$H$2:$J$100,2,FALSE)) -> 2464 | D45: =IF(ISERROR(VLOOKUP(B45,'13年詳細'!$H$2:$J$100,2,FALSE))=TRUE, 0,VLOOKUP(B45,'13年詳細'!$H$2:$J$100,2,FALSE)) -> 2637 | E45: =IF(ISERROR(VLOOKUP(B45,'14年詳細'!$H$2:$J$100,2,FALSE))=TRUE, 0,VLOOKUP(B45,'14年詳細'!$H$2:$J$100,2,FALSE)) -> 2802 | F45: =IF(ISERROR(VLOOKUP(B45,'15年詳細'!$H$2:$J$100,2,FALSE))=TRUE, 0,VLOOKUP(B45,'15年詳細'!$H$2:$J$100,2,FALSE)) -> 3078 | G45: =IF(ISERROR(VLOOKUP(B45,'16年詳細'!$H$2:$J$100,2,FALSE))=TRUE, 0,VLOOKUP(B45,'16年詳細'!$H$2:$J$100,2,FALSE)) -> 3949 | H45: =IF(ISERROR(VLOOKUP(B45,'17年詳細'!$H$2:$J$100,2,FALSE))=TRUE, 0,VLOOKUP(B45,'17年詳細'!$H$2:$J$100,2,FALSE)) -> 4367
B46: NGS / 長崎 | C46: =IF(ISERROR(VLOOKUP(B46,'12年詳細'!$H$2:$J$100,2,FALSE))=TRUE, 0,VLOOKUP(B46,'12年詳細'!$H$2:$J$100,2,FALSE)) -> 52 | D46: =IF(ISERROR(VLOOKUP(B46,'13年詳細'!$H$2:$J$100,2,FALSE))=TRUE, 0,VLOOKUP(B46,'13年詳細'!$H$2:$J$100,2,FALSE)) -> 46 | E46: =IF(ISERROR(VLOOKUP(B46,'14年詳細'!$H$2:$J$100,2,FALSE))=TRUE, 0,VLOOKUP(B46,'14年詳細'!$H$2:$J$100,2,FALSE)) -> 61 | F46: =IF(ISERROR(VLOOKUP(B46,'15年詳細'!$H$2:$J$100,2,FALSE))=TRUE, 0,VLOOKUP(B46,'15年詳細'!$H$2:$J$100,2,FALSE)) -> 27 | G46: =IF(ISERROR(VLOOKUP(B46,'16年詳細'!$H$2:$J$100,2,FALSE))=TRUE, 0,VLOOKUP(B46,'16年詳細'!$H$2:$J$100,2,FALSE)) -> 37 | H46: =IF(ISERROR(VLOOKUP(B46,'17年詳細'!$H$2:$J$100,2,FALSE))=TRUE, 0,VLOOKUP(B46,'17年詳細'!$H$2:$J$100,2,FALSE)) -> 78
B47: OIT / 大分 | C47: =IF(ISERROR(VLOOKUP(B47,'12年詳細'!$H$2:$J$100,2,FALSE))=TRUE, 0,VLOOKUP(B47,'12年詳細'!$H$2:$J$100,2,FALSE)) -> 28 | D47: =IF(ISERROR(VLOOKUP(B47,'13年詳細'!$H$2:$J$100,2,FALSE))=TRUE, 0,VLOOKUP(B47,'13年詳細'!$H$2:$J$100,2,FALSE)) -> 26 | E47: =IF(ISERROR(VLOOKUP(B47,'14年詳細'!$H$2:$J$100,2,FALSE))=TRUE, 0,VLOOKUP(B47,'14年詳細'!$H$2:$J$100,2,FALSE)) -> 27 | F47: =IF(ISERROR(VLOOKUP(B47,'15年詳細'!$H$2:$J$100,2,FALSE))=TRUE, 0,VLOOKUP(B47,'15年詳細'!$H$2:$J$100,2,FALSE)) -> 78 | G47: =IF(ISERROR(VLOOKUP(B47,'16年詳細'!$H$2:$J$100,2,FALSE))=TRUE, 0,VLOOKUP(B47,'16年詳細'!$H$2:$J$100,2,FALSE)) -> 77 | H47: =IF(ISERROR(VLOOKUP(B47,'17年詳細'!$H$2:$J$100,2,FALSE))=TRUE, 0,VLOOKUP(B47,'17年詳細'!$H$2:$J$100,2,FALSE)) -> 106
B48: HSG / 佐賀 | C48: =IF(ISERROR(VLOOKUP(B48,'12年詳細'!$H$2:$J$100,2,FALSE))=TRUE, 0,VLOOKUP(B48,'12年詳細'!$H$2:$J$100,2,FALSE)) -> 2 | D48: =IF(ISERROR(VLOOKUP(B48,'13年詳細'!$H$2:$J$100,2,FALSE))=TRUE, 0,VLOOKUP(B48,'13年詳細'!$H$2:$J$100,2,FALSE)) -> 0 | E48: =IF(ISERROR(VLOOKUP(B48,'14年詳細'!$H$2:$J$100,2,FALSE))=TRUE, 0,VLOOKUP(B48,'14年詳細'!$H$2:$J$100,2,FALSE)) -> 78 | F48: =IF(ISERROR(VLOOKUP(B48,'15年詳細'!$H$2:$J$100,2,FALSE))=TRUE, 0,VLOOKUP(B48,'15年詳細'!$H$2:$J$100,2,FALSE)) -> 77 | G48: =IF(ISERROR(VLOOKUP(B48,'16年詳細'!$H$2:$J$100,2,FALSE))=TRUE, 0,VLOOKUP(B48,'16年詳細'!$H$2:$J$100,2,FALSE)) -> 66 | H48: =IF(ISERROR(VLOOKUP(B48,'17年詳細'!$H$2:$J$100,2,FALSE))=TRUE, 0,VLOOKUP(B48,'17年詳細'!$H$2:$J$100,2,FALSE)) -> 106
B49: KMI / 宮崎 | C49: =IF(ISERROR(VLOOKUP(B49,'12年詳細'!$H$2:$J$100,2,FALSE))=TRUE, 0,VLOOKUP(B49,'12年詳細'!$H$2:$J$100,2,FALSE)) -> 67 | D49: =IF(ISERROR(VLOOKUP(B49,'13年詳細'!$H$2:$J$100,2,FALSE))=TRUE, 0,VLOOKUP(B49,'13年詳細'!$H$2:$J$100,2,FALSE)) -> 67 | E49: =IF(ISERROR(VLOOKUP(B49,'14年詳細'!$H$2:$J$100,2,FALSE))=TRUE, 0,VLOOKUP(B49,'14年詳細'!$H$2:$J$100,2,FALSE)) -> 66 | F49: =IF(ISERROR(VLOOKUP(B49,'15年詳細'!$H$2:$J$100,2,FALSE))=TRUE, 0,VLOOKUP(B49,'15年詳細'!$H$2:$J$100,2,FALSE)) -> 76 | G49: =IF(ISERROR(VLOOKUP(B49,'16年詳細'!$H$2:$J$100,2,FALSE))=TRUE, 0,VLOOKUP(B49,'16年詳細'!$H$2:$J$100,2,FALSE)) -> 103 | H49: =IF(ISERROR(VLOOKUP(B49,'17年詳細'!$H$2:$J$100,2,FALSE))=TRUE, 0,VLOOKUP(B49,'17年詳細'!$H$2:$J$100,2,FALSE)) -> 101
B50: KMJ / 熊本 | C50: =IF(ISERROR(VLOOKUP(B50,'12年詳細'!$H$2:$J$100,2,FALSE))=TRUE, 0,VLOOKUP(B50,'12年詳細'!$H$2:$J$100,2,FALSE)) -> 40 | D50: =IF(ISERROR(VLOOKUP(B50,'13年詳細'!$H$2:$J$100,2,FALSE))=TRUE, 0,VLOOKUP(B50,'13年詳細'!$H$2:$J$100,2,FALSE)) -> 38 | E50: =IF(ISERROR(VLOOKUP(B50,'14年詳細'!$H$2:$J$100,2,FALSE))=TRUE, 0,VLOOKUP(B50,'14年詳細'!$H$2:$J$100,2,FALSE)) -> 39 | F50: =IF(ISERROR(VLOOKUP(B50,'15年詳細'!$H$2:$J$100,2,FALSE))=TRUE, 0,VLOOKUP(B50,'15年詳細'!$H$2:$J$100,2,FALSE)) -> 41 | G50: =IF(ISERROR(VLOOKUP(B50,'16年詳細'!$H$2:$J$100,2,FALSE))=TRUE, 0,VLOOKUP(B50,'16年詳細'!$H$2:$J$100,2,FALSE)) -> 103 | H50: =IF(ISERROR(VLOOKUP(B50,'17年詳細'!$H$2:$J$100,2,FALSE))=TRUE, 0,VLOOKUP(B50,'17年詳細'!$H$2:$J$100,2,FALSE)) -> 35
B51: KOJ / 鹿児島 | C51: =IF(ISERROR(VLOOKUP(B51,'12年詳細'!$H$2:$J$100,2,FALSE))=TRUE, 0,VLOOKUP(B51,'12年詳細'!$H$2:$J$100,2,FALSE)) -> 91 | D51: =IF(ISERROR(VLOOKUP(B51,'13年詳細'!$H$2:$J$100,2,FALSE))=TRUE, 0,VLOOKUP(B51,'13年詳細'!$H$2:$J$100,2,FALSE)) -> 117 | E51: =IF(ISERROR(VLOOKUP(B51,'14年詳細'!$H$2:$J$100,2,FALSE))=TRUE, 0,VLOOKUP(B51,'14年詳細'!$H$2:$J$100,2,FALSE)) -> 153 | F51: =IF(ISERROR(VLOOKUP(B51,'15年詳細'!$H$2:$J$100,2,FALSE))=TRUE, 0,VLOOKUP(B51,'15年詳細'!$H$2:$J$100,2,FALSE)) -> 144 | G51: =IF(ISERROR(VLOOKUP(B51,'16年詳細'!$H$2:$J$100,2,FALSE))=TRUE, 0,VLOOKUP(B51,'16年詳細'!$H$2:$J$100,2,FALSE)) -> 161 | H51: =IF(ISERROR(VLOOKUP(B51,'17年詳細'!$H$2:$J$100,2,FALSE))=TRUE, 0,VLOOKUP(B51,'17年詳細'!$H$2:$J$100,2,FALSE)) -> 233
B52: 合計 | C52: =SUM(C44:C51) -> 2783 | D52: =SUM(D44:D51) -> 3109 | E52: =SUM(E44:E51) -> 3402 | F52: =SUM(F44:F51) -> 3521 | G52: =SUM(G44:G51) -> 4514 | H52: =SUM(H44:H51) -> 5205
A53: 沖縄 | B53: OKA / 那覇 | C53: =IF(ISERROR(VLOOKUP(B53,'12年詳細'!$H$2:$J$100,2,FALSE))=TRUE, 0,VLOOKUP(B53,'12年詳細'!$H$2:$J$100,2,FALSE)) -> 539 | D53: =IF(ISERROR(VLOOKUP(B53,'13年詳細'!$H$2:$J$100,2,FALSE))=TRUE, 0,VLOOKUP(B53,'13年詳細'!$H$2:$J$100,2,FALSE)) -> 639 | E53: =IF(ISERROR(VLOOKUP(B53,'14年詳細'!$H$2:$J$100,2,FALSE))=TRUE, 0,VLOOKUP(B53,'14年詳細'!$H$2:$J$100,2,FALSE)) -> 897 | F53: =IF(ISERROR(VLOOKUP(B53,'15年詳細'!$H$2:$J$100,2,FALSE))=TRUE, 0,VLOOKUP(B53,'15年詳細'!$H$2:$J$100,2,FALSE)) -> 1313 | G53: =IF(ISERROR(VLOOKUP(B53,'16年詳細'!$H$2:$J$100,2,FALSE))=TRUE, 0,VLOOKUP(B53,'16年詳細'!$H$2:$J$100,2,FALSE)) -> 1826 | H53: =IF(ISERROR(VLOOKUP(B53,'17年詳細'!$H$2:$J$100,2,FALSE))=TRUE, 0,VLOOKUP(B53,'17年詳細'!$H$2:$J$100,2,FALSE)) -> 2287
B54: ISG / 石垣 | C54: =IF(ISERROR(VLOOKUP(B54,'12年詳細'!$H$2:$J$100,2,FALSE))=TRUE, 0,VLOOKUP(B54,'12年詳細'!$H$2:$J$100,2,FALSE)) -> 0 | D54: =IF(ISERROR(VLOOKUP(B54,'13年詳細'!$H$2:$J$100,2,FALSE))=TRUE, 0,VLOOKUP(B54,'13年詳細'!$H$2:$J$100,2,FALSE)) -> 2 | E54: =IF(ISERROR(VLOOKUP(B54,'14年詳細'!$H$2:$J$100,2,FALSE))=TRUE, 0,VLOOKUP(B54,'14年詳細'!$H$2:$J$100,2,FALSE)) -> 0 | F54: =IF(ISERROR(VLOOKUP(B54,'15年詳細'!$H$2:$J$100,2,FALSE))=TRUE, 0,VLOOKUP(B54,'15年詳細'!$H$2:$J$100,2,FALSE)) -> 2 | G54: =IF(ISERROR(VLOOKUP(B54,'16年詳細'!$H$2:$J$100,2,FALSE))=TRUE, 0,VLOOKUP(B54,'16年詳細'!$H$2:$J$100,2,FALSE)) -> 1 | H54: =IF(ISERROR(VLOOKUP(B54,'17年詳細'!$H$2:$J$100,2,FALSE))=TRUE, 0,VLOOKUP(B54,'17年詳細'!$H$2:$J$100,2,FALSE)) -> 34
B55: MMY / 宮古 | C55: =IF(ISERROR(VLOOKUP(B55,'12年詳細'!$H$2:$J$100,2,FALSE))=TRUE, 0,VLOOKUP(B55,'12年詳細'!$H$2:$J$100,2,FALSE)) -> 0 | D55: =IF(ISERROR(VLOOKUP(B55,'13年詳細'!$H$2:$J$100,2,FALSE))=TRUE, 0,VLOOKUP(B55,'13年詳細'!$H$2:$J$100,2,FALSE)) -> 0 | E55: =IF(ISERROR(VLOOKUP(B55,'14年詳細'!$H$2:$J$100,2,FALSE))=TRUE, 0,VLOOKUP(B55,'14年詳細'!$H$2:$J$100,2,FALSE)) -> 3 | F55: =IF(ISERROR(VLOOKUP(B55,'15年詳細'!$H$2:$J$100,2,FALSE))=TRUE, 0,VLOOKUP(B55,'15年詳細'!$H$2:$J$100,2,FALSE)) -> 9 | G55: =IF(ISERROR(VLOOKUP(B55,'16年詳細'!$H$2:$J$100,2,FALSE))=TRUE, 0,VLOOKUP(B55,'16年詳細'!$H$2:$J$100,2,FALSE)) -> 11 | H55: =IF(ISERROR(VLOOKUP(B55,'17年詳細'!$H$2:$J$100,2,FALSE))=TRUE, 0,VLOOKUP(B55,'17年詳細'!$H$2:$J$100,2,FALSE)) -> 0
B56: 合計 | C56: =SUM(C53:C55) -> 539 | D56: =SUM(D53:D55) -> 641 | E56: =SUM(E53:E55) -> 900 | F56: =SUM(F53:F55) -> 1324 | G56: =SUM(G53:G55) -> 1838 | H56: =SUM(H53:H55) -> 2321
A57: その他 | B57: DNA / 嘉手納 | C57: =IF(ISERROR(VLOOKUP(B57,'12年詳細'!$H$2:$J$100,2,FALSE))=TRUE, 0,VLOOKUP(B57,'12年詳細'!$H$2:$J$100,2,FALSE)) -> 2 | D57: =IF(ISERROR(VLOOKUP(B57,'13年詳細'!$H$2:$J$100,2,FALSE))=TRUE, 0,VLOOKUP(B57,'13年詳細'!$H$2:$J$100,2,FALSE)) -> 2 | E57: =IF(ISERROR(VLOOKUP(B57,'14年詳細'!$H$2:$J$100,2,FALSE))=TRUE, 0,VLOOKUP(B57,'14年詳細'!$H$2:$J$100,2,FALSE)) -> 1 | F57: =IF(ISERROR(VLOOKUP(B57,'15年詳細'!$H$2:$J$100,2,FALSE))=TRUE, 0,VLOOKUP(B57,'15年詳細'!$H$2:$J$100,2,FALSE)) -> 3 | G57: =IF(ISERROR(VLOOKUP(B57,'16年詳細'!$H$2:$J$100,2,FALSE))=TRUE, 0,VLOOKUP(B57,'16年詳細'!$H$2:$J$100,2,FALSE)) -> 3 | H57: =IF(ISERROR(VLOOKUP(B57,'17年詳細'!$H$2:$J$100,2,FALSE))=TRUE, 0,VLOOKUP(B57,'17年詳細'!$H$2:$J$100,2,FALSE)) -> 2
B58: IWO / 硫黄島 | C58: =IF(ISERROR(VLOOKUP(B58,'12年詳細'!$H$2:$J$100,2,FALSE))=TRUE, 0,VLOOKUP(B58,'12年詳細'!$H$2:$J$100,2,FALSE)) -> 2 | D58: =IF(ISERROR(VLOOKUP(B58,'13年詳細'!$H$2:$J$100,2,FALSE))=TRUE, 0,VLOOKUP(B58,'13年詳細'!$H$2:$J$100,2,FALSE)) -> 1 | E58: =IF(ISERROR(VLOOKUP(B58,'14年詳細'!$H$2:$J$100,2,FALSE))=TRUE, 0,VLOOKUP(B58,'14年詳細'!$H$2:$J$100,2,FALSE)) -> 1 | F58: =IF(ISERROR(VLOOKUP(B58,'15年詳細'!$H$2:$J$100,2,FALSE))=TRUE, 0,VLOOKUP(B58,'15年詳細'!$H$2:$J$100,2,FALSE)) -> 3 | G58: =IF(ISERROR(VLOOKUP(B58,'16年詳細'!$H$2:$J$100,2,FALSE))=TRUE, 0,VLOOKUP(B58,'16年詳細'!$H$2:$J$100,2,FALSE)) -> 1 | H58: =IF(ISERROR(VLOOKUP(B58,'17年詳細'!$H$2:$J$100,2,FALSE))=TRUE, 0,VLOOKUP(B58,'17年詳細'!$H$2:$J$100,2,FALSE)) -> 2
B59: OKO / 横田 | C59: =IF(ISERROR(VLOOKUP(B59,'12年詳細'!$H$2:$J$100,2,FALSE))=TRUE, 0,VLOOKUP(B59,'12年詳細'!$H$2:$J$100,2,FALSE)) -> 0 | D59: =IF(ISERROR(VLOOKUP(B59,'13年詳細'!$H$2:$J$100,2,FALSE))=TRUE, 0,VLOOKUP(B59,'13年詳細'!$H$2:$J$100,2,FALSE)) -> 0 | E59: =IF(ISERROR(VLOOKUP(B59,'14年詳細'!$H$2:$J$100,2,FALSE))=TRUE, 0,VLOOKUP(B59,'14年詳細'!$H$2:$J$100,2,FALSE)) -> 1 | F59: =IF(ISERROR(VLOOKUP(B59,'15年詳細'!$H$2:$J$100,2,FALSE))=TRUE, 0,VLOOKUP(B59,'15年詳細'!$H$2:$J$100,2,FALSE)) -> 0 | G59: =IF(ISERROR(VLOOKUP(B59,'16年詳細'!$H$2:$J$100,2,FALSE))=TRUE, 0,VLOOKUP(B59,'16年詳細'!$H$2:$J$100,2,FALSE)) -> 0 | H59: =IF(ISERROR(VLOOKUP(B59,'17年詳細'!$H$2:$J$100,2,FALSE))=TRUE, 0,VLOOKUP(B59,'17年詳細'!$H$2:$J$100,2,FALSE)) -> 0
B60: 合計 | C60: =SUM(C57:C59) -> 4 | D60: =SUM(D57:D59) -> 3 | E60: =SUM(E57:E59) -> 3 | F60: =SUM(F57:F59) -> 6 | G60: =SUM(G57:G59) -> 4 | H60: =SUM(H57:H59) -> 4
A62: 座席数
A63: 空港 | C63: 2012年 | D63: 2013年 | E63: 2014年 | F63: 2015年 | G63: 2016年 | H63: 2017年
A64: 北海道 | B64: AKJ / 旭川 | C64: =IF(ISERROR(VLOOKUP(B64,'12年詳細'!$H$2:$J$100,3,FALSE))=TRUE, 0,VLOOKUP(B64,'12年詳細'!$H$2:$J$100,3,FALSE)) -> 2832 | D64: =IF(ISERROR(VLOOKUP(B64,'13年詳細'!$H$2:$J$100,3,FALSE))=TRUE, 0,VLOOKUP(B64,'13年詳細'!$H$2:$J$100,3,FALSE)) -> 8192 | E64: =IF(ISERROR(VLOOKUP(B64,'14年詳細'!$H$2:$J$100,3,FALSE))=TRUE, 0,VLOOKUP(B64,'14年詳細'!$H$2:$J$100,3,FALSE)) -> 18255 | F64: =IF(ISERROR(VLOOKUP(B64,'15年詳細'!$H$2:$J$100,3,FALSE))=TRUE, 0,VLOOKUP(B64,'15年詳細'!$H$2:$J$100,3,FALSE)) -> 29403 | G64: =IF(ISERROR(VLOOKUP(B64,'16年詳細'!$H$2:$J$100,3,FALSE))=TRUE, 0,VLOOKUP(B64,'16年詳細'!$H$2:$J$100,3,FALSE)) -> 41102 | H64: =IF(ISERROR(VLOOKUP(B64,'17年詳細'!$H$2:$J$100,3,FALSE))=TRUE, 0,VLOOKUP(B64,'17年詳細'!$H$2:$J$100,3,FALSE)) -> 10708
B65: CTS / 新千歳 | C65: =IF(ISERROR(VLOOKUP(B65,'12年詳細'!$H$2:$J$100,3,FALSE))=TRUE, 0,VLOOKUP(B65,'12年詳細'!$H$2:$J$100,3,FALSE)) -> 188322 | D65: =IF(ISERROR(VLOOKUP(B65,'13年詳細'!$H$2:$J$100,3,FALSE))=TRUE, 0,VLOOKUP(B65,'13年詳細'!$H$2:$J$100,3,FALSE)) -> 208098 | E65: =IF(ISERROR(VLOOKUP(B65,'14年詳細'!$H$2:$J$100,3,FALSE))=TRUE, 0,VLOOKUP(B65,'14年詳細'!$H$2:$J$100,3,FALSE)) -> 256666 | F65: =IF(ISERROR(VLOOKUP(B65,'15年詳細'!$H$2:$J$100,3,FALSE))=TRUE, 0,VLOOKUP(B65,'15年詳細'!$H$2:$J$100,3,FALSE)) -> 329642 | G65: =IF(ISERROR(VLOOKUP(B65,'16年詳細'!$H$2:$J$100,3,FALSE))=TRUE, 0,VLOOKUP(B65,'16年詳細'!$H$2:$J$100,3,FALSE)) -> 444971 | H65: =IF(ISERROR(VLOOKUP(B65,'17年詳細'!$H$2:$J$100,3,FALSE))=TRUE, 0,VLOOKUP(B65,'17年詳細'!$H$2:$J$100,3,FALSE)) -> 527020
B66: OKD / 丘珠 | C66: =IF(ISERROR(VLOOKUP(B66,'12年詳細'!$H$2:$J$100,3,FALSE))=TRUE, 0,VLOOKUP(B66,'12年詳細'!$H$2:$J$100,3,FALSE)) -> 0 | D66: =IF(ISERROR(VLOOKUP(B66,'13年詳細'!$H$2:$J$100,3,FALSE))=TRUE, 0,VLOOKUP(B66,'13年詳細'!$H$2:$J$100,3,FALSE)) -> 0 | E66: =IF(ISERROR(VLOOKUP(B66,'14年詳細'!$H$2:$J$100,3,FALSE))=TRUE, 0,VLOOKUP(B66,'14年詳細'!$H$2:$J$100,3,FALSE)) -> 0 | F66: =IF(ISERROR(VLOOKUP(B66,'15年詳細'!$H$2:$J$100,3,FALSE))=TRUE, 0,VLOOKUP(B66,'15年詳細'!$H$2:$J$100,3,FALSE)) -> 0 | G66: =IF(ISERROR(VLOOKUP(B66,'16年詳細'!$H$2:$J$100,3,FALSE))=TRUE, 0,VLOOKUP(B66,'16年詳細'!$H$2:$J$100,3,FALSE)) -> 0 | H66: =IF(ISERROR(VLOOKUP(B66,'17年詳細'!$H$2:$J$100,3,FALSE))=TRUE, 0,VLOOKUP(B66,'17年詳細'!$H$2:$J$100,3,FALSE)) -> 0
B67: HKD / 函館 | C67: =IF(ISERROR(VLOOKUP(B67,'12年詳細'!$H$2:$J$100,3,FALSE))=TRUE, 0,VLOOKUP(B67,'12年詳細'!$H$2:$J$100,3,FALSE)) -> 6570 | D67: =IF(ISERROR(VLOOKUP(B67,'13年詳細'!$H$2:$J$100,3,FALSE))=TRUE, 0,VLOOKUP(B67,'13年詳細'!$H$2:$J$100,3,FALSE)) -> 16412 | E67: =IF(ISERROR(VLOOKUP(B67,'14年詳細'!$H$2:$J$100,3,FALSE))=TRUE, 0,VLOOKUP(B67,'14年詳細'!$H$2:$J$100,3,FALSE)) -> 24804 | F67: =IF(ISERROR(VLOOKUP(B67,'15年詳細'!$H$2:$J$100,3,FALSE))=TRUE, 0,VLOOKUP(B67,'15年詳細'!$H$2:$J$100,3,FALSE)) -> 30024 | G67: =IF(ISERROR(VLOOKUP(B67,'16年詳細'!$H$2:$J$100,3,FALSE))=TRUE, 0,VLOOKUP(B67,'16年詳細'!$H$2:$J$100,3,FALSE)) -> 38350 | H67: =IF(ISERROR(VLOOKUP(B67,'17年詳細'!$H$2:$J$100,3,FALSE))=TRUE, 0,VLOOKUP(B67,'17年詳細'!$H$2:$J$100,3,FALSE)) -> 31589
B68: OBO / 帯広 | C68: =IF(ISERROR(VLOOKUP(B68,'12年詳細'!$H$2:$J$100,3,FALSE))=TRUE, 0,VLOOKUP(B68,'12年詳細'!$H$2:$J$100,3,FALSE)) -> 0 | D68: =IF(ISERROR(VLOOKUP(B68,'13年詳細'!$H$2:$J$100,3,FALSE))=TRUE, 0,VLOOKUP(B68,'13年詳細'!$H$2:$J$100,3,FALSE)) -> 3590 | E68: =IF(ISERROR(VLOOKUP(B68,'14年詳細'!$H$2:$J$100,3,FALSE))=TRUE, 0,VLOOKUP(B68,'14年詳細'!$H$2:$J$100,3,FALSE)) -> 268 | F68: =IF(ISERROR(VLOOKUP(B68,'15年詳細'!$H$2:$J$100,3,FALSE))=TRUE, 0,VLOOKUP(B68,'15年詳細'!$H$2:$J$100,3,FALSE)) -> 0 | G68: =IF(ISERROR(VLOOKUP(B68,'16年詳細'!$H$2:$J$100,3,FALSE))=TRUE, 0,VLOOKUP(B68,'16年詳細'!$H$2:$J$100,3,FALSE)) -> 3750 | H68: =IF(ISERROR(VLOOKUP(B68,'17年詳細'!$H$2:$J$100,3,FALSE))=TRUE, 0,VLOOKUP(B68,'17年詳細'!$H$2:$J$100,3,FALSE)) -> 158
B69: KUH / 釧路 | C69: =IF(ISERROR(VLOOKUP(B69,'12年詳細'!$H$2:$J$100,3,FALSE))=TRUE, 0,VLOOKUP(B69,'12年詳細'!$H$2:$J$100,3,FALSE)) -> 0 | D69: =IF(ISERROR(VLOOKUP(B69,'13年詳細'!$H$2:$J$100,3,FALSE))=TRUE, 0,VLOOKUP(B69,'13年詳細'!$H$2:$J$100,3,FALSE)) -> 3743 | E69: =IF(ISERROR(VLOOKUP(B69,'14年詳細'!$H$2:$J$100,3,FALSE))=TRUE, 0,VLOOKUP(B69,'14年詳細'!$H$2:$J$100,3,FALSE)) -> 3900 | F69: =IF(ISERROR(VLOOKUP(B69,'15年詳細'!$H$2:$J$100,3,FALSE))=TRUE, 0,VLOOKUP(B69,'15年詳細'!$H$2:$J$100,3,FALSE)) -> 0 | G69: =IF(ISERROR(VLOOKUP(B69,'16年詳細'!$H$2:$J$100,3,FALSE))=TRUE, 0,VLOOKUP(B69,'16年詳細'!$H$2:$J$100,3,FALSE)) -> 1730 | H69: =IF(ISERROR(VLOOKUP(B69,'17年詳細'!$H$2:$J$100,3,FALSE))=TRUE, 0,VLOOKUP(B69,'17年詳細'!$H$2:$J$100,3,FALSE)) -> 0
B70: MMB / 女満別 | C70: =IF(ISERROR(VLOOKUP(B70,'12年詳細'!$H$2:$J$100,3,FALSE))=TRUE, 0,VLOOKUP(B70,'12年詳細'!$H$2:$J$100,3,FALSE)) -> 0 | D70: =IF(ISERROR(VLOOKUP(B70,'13年詳細'!$H$2:$J$100,3,FALSE))=TRUE, 0,VLOOKUP(B70,'13年詳細'!$H$2:$J$100,3,FALSE)) -> 0 | E70: =IF(ISERROR(VLOOKUP(B70,'14年詳細'!$H$2:$J$100,3,FALSE))=TRUE, 0,VLOOKUP(B70,'14年詳細'!$H$2:$J$100,3,FALSE)) -> 0 | F70: =IF(ISERROR(VLOOKUP(B70,'15年詳細'!$H$2:$J$100,3,FALSE))=TRUE, 0,VLOOKUP(B70,'15年詳細'!$H$2:$J$100,3,FALSE)) -> 0 | G70: =IF(ISERROR(VLOOKUP(B70,'16年詳細'!$H$2:$J$100,3,FALSE))=TRUE, 0,VLOOKUP(B70,'16年詳細'!$H$2:$J$100,3,FALSE)) -> 0 | H70: =IF(ISERROR(VLOOKUP(B70,'17年詳細'!$H$2:$J$100,3,FALSE))=TRUE, 0,VLOOKUP(B70,'17年詳細'!$H$2:$J$100,3,FALSE)) -> 0
B71: 合計 | C71: =SUM(C64:C70) -> 197724 | D71: =SUM(D64:D70) -> 240035 | E71: =SUM(E64:E70) -> 303893 | F71: =SUM(F64:F70) -> 389069 | G71: =SUM(G64:G70) -> 529903 | H71: =SUM(H64:H70) -> 569475
A72: 東北 | B72: AOJ / 青森 | C72: =IF(ISERROR(VLOOKUP(B72,'12年詳細'!$H$2:$J$100,3,FALSE))=TRUE, 0,VLOOKUP(B72,'12年詳細'!$H$2:$J$100,3,FALSE)) -> 6480 | D72: =IF(ISERROR(VLOOKUP(B72,'13年詳細'!$H$2:$J$100,3,FALSE))=TRUE, 0,VLOOKUP(B72,'13年詳細'!$H$2:$J$100,3,FALSE)) -> 6042 | E72: =IF(ISERROR(VLOOKUP(B72,'14年詳細'!$H$2:$J$100,3,FALSE))=TRUE, 0,VLOOKUP(B72,'14年詳細'!$H$2:$J$100,3,FALSE)) -> 5403 | F72: =IF(ISERROR(VLOOKUP(B72,'15年詳細'!$H$2:$J$100,3,FALSE))=TRUE, 0,VLOOKUP(B72,'15年詳細'!$H$2:$J$100,3,FALSE)) -> 5901 | G72: =IF(ISERROR(VLOOKUP(B72,'16年詳細'!$H$2:$J$100,3,FALSE))=TRUE, 0,VLOOKUP(B72,'16年詳細'!$H$2:$J$100,3,FALSE)) -> 5898 | H72: =IF(ISERROR(VLOOKUP(B72,'17年詳細'!$H$2:$J$100,3,FALSE))=TRUE, 0,VLOOKUP(B72,'17年詳細'!$H$2:$J$100,3,FALSE)) -> 13408
B73: MSJ / 三沢 | C73: =IF(ISERROR(VLOOKUP(B73,'12年詳細'!$H$2:$J$100,3,FALSE))=TRUE, 0,VLOOKUP(B73,'12年詳細'!$H$2:$J$100,3,FALSE)) -> 0 | D73: =IF(ISERROR(VLOOKUP(B73,'13年詳細'!$H$2:$J$100,3,FALSE))=TRUE, 0,VLOOKUP(B73,'13年詳細'!$H$2:$J$100,3,FALSE)) -> 0 | E73: =IF(ISERROR(VLOOKUP(B73,'14年詳細'!$H$2:$J$100,3,FALSE))=TRUE, 0,VLOOKUP(B73,'14年詳細'!$H$2:$J$100,3,FALSE)) -> 0 | F73: =IF(ISERROR(VLOOKUP(B73,'15年詳細'!$H$2:$J$100,3,FALSE))=TRUE, 0,VLOOKUP(B73,'15年詳細'!$H$2:$J$100,3,FALSE)) -> 0 | G73: =IF(ISERROR(VLOOKUP(B73,'16年詳細'!$H$2:$J$100,3,FALSE))=TRUE, 0,VLOOKUP(B73,'16年詳細'!$H$2:$J$100,3,FALSE)) -> 0 | H73: =IF(ISERROR(VLOOKUP(B73,'17年詳細'!$H$2:$J$100,3,FALSE))=TRUE, 0,VLOOKUP(B73,'17年詳細'!$H$2:$J$100,3,FALSE)) -> 0
B74: AXT / 秋田 | C74: =IF(ISERROR(VLOOKUP(B74,'12年詳細'!$H$2:$J$100,3,FALSE))=TRUE, 0,VLOOKUP(B74,'12年詳細'!$H$2:$J$100,3,FALSE)) -> 6500 | D74: =IF(ISERROR(VLOOKUP(B74,'13年詳細'!$H$2:$J$100,3,FALSE))=TRUE, 0,VLOOKUP(B74,'13年詳細'!$H$2:$J$100,3,FALSE)) -> 5244 | E74: =IF(ISERROR(VLOOKUP(B74,'14年詳細'!$H$2:$J$100,3,FALSE))=TRUE, 0,VLOOKUP(B74,'14年詳細'!$H$2:$J$100,3,FALSE)) -> 5703 | F74: =IF(ISERROR(VLOOKUP(B74,'15年詳細'!$H$2:$J$100,3,FALSE))=TRUE, 0,VLOOKUP(B74,'15年詳細'!$H$2:$J$100,3,FALSE)) -> 6429 | G74: =IF(ISERROR(VLOOKUP(B74,'16年詳細'!$H$2:$J$100,3,FALSE))=TRUE, 0,VLOOKUP(B74,'16年詳細'!$H$2:$J$100,3,FALSE)) -> 0 | H74: =IF(ISERROR(VLOOKUP(B74,'17年詳細'!$H$2:$J$100,3,FALSE))=TRUE, 0,VLOOKUP(B74,'17年詳細'!$H$2:$J$100,3,FALSE)) -> 0
B75: HNA / 花巻 | C75: =IF(ISERROR(VLOOKUP(B75,'12年詳細'!$H$2:$J$100,3,FALSE))=TRUE, 0,VLOOKUP(B75,'12年詳細'!$H$2:$J$100,3,FALSE)) -> 0 | D75: =IF(ISERROR(VLOOKUP(B75,'13年詳細'!$H$2:$J$100,3,FALSE))=TRUE, 0,VLOOKUP(B75,'13年詳細'!$H$2:$J$100,3,FALSE)) -> 0 | E75: =IF(ISERROR(VLOOKUP(B75,'14年詳細'!$H$2:$J$100,3,FALSE))=TRUE, 0,VLOOKUP(B75,'14年詳細'!$H$2:$J$100,3,FALSE)) -> 0 | F75: =IF(ISERROR(VLOOKUP(B75,'15年詳細'!$H$2:$J$100,3,FALSE))=TRUE, 0,VLOOKUP(B75,'15年詳細'!$H$2:$J$100,3,FALSE)) -> 0 | G75: =IF(ISERROR(VLOOKUP(B75,'16年詳細'!$H$2:$J$100,3,FALSE))=TRUE, 0,VLOOKUP(B75,'16年詳細'!$H$2:$J$100,3,FALSE)) -> 0 | H75: =IF(ISERROR(VLOOKUP(B75,'17年詳細'!$H$2:$J$100,3,FALSE))=TRUE, 0,VLOOKUP(B75,'17年詳細'!$H$2:$J$100,3,FALSE)) -> 0
B76: FKS / 福島 | C76: =IF(ISERROR(VLOOKUP(B76,'12年詳細'!$H$2:$J$100,3,FALSE))=TRUE, 0,VLOOKUP(B76,'12年詳細'!$H$2:$J$100,3,FALSE)) -> 0 | D76: =IF(ISERROR(VLOOKUP(B76,'13年詳細'!$H$2:$J$100,3,FALSE))=TRUE, 0,VLOOKUP(B76,'13年詳細'!$H$2:$J$100,3,FALSE)) -> 342 | E76: =IF(ISERROR(VLOOKUP(B76,'14年詳細'!$H$2:$J$100,3,FALSE))=TRUE, 0,VLOOKUP(B76,'14年詳細'!$H$2:$J$100,3,FALSE)) -> 0 | F76: =IF(ISERROR(VLOOKUP(B76,'15年詳細'!$H$2:$J$100,3,FALSE))=TRUE, 0,VLOOKUP(B76,'15年詳細'!$H$2:$J$100,3,FALSE)) -> 0 | G76: =IF(ISERROR(VLOOKUP(B76,'16年詳細'!$H$2:$J$100,3,FALSE))=TRUE, 0,VLOOKUP(B76,'16年詳細'!$H$2:$J$100,3,FALSE)) -> 364 | H76: =IF(ISERROR(VLOOKUP(B76,'17年詳細'!$H$2:$J$100,3,FALSE))=TRUE, 0,VLOOKUP(B76,'17年詳細'!$H$2:$J$100,3,FALSE)) -> 0
B77: SDJ / 仙台 | C77: =IF(ISERROR(VLOOKUP(B77,'12年詳細'!$H$2:$J$100,3,FALSE))=TRUE, 0,VLOOKUP(B77,'12年詳細'!$H$2:$J$100,3,FALSE)) -> 17677 | D77: =IF(ISERROR(VLOOKUP(B77,'13年詳細'!$H$2:$J$100,3,FALSE))=TRUE, 0,VLOOKUP(B77,'13年詳細'!$H$2:$J$100,3,FALSE)) -> 32446 | E77: =IF(ISERROR(VLOOKUP(B77,'14年詳細'!$H$2:$J$100,3,FALSE))=TRUE, 0,VLOOKUP(B77,'14年詳細'!$H$2:$J$100,3,FALSE)) -> 31726 | F77: =IF(ISERROR(VLOOKUP(B77,'15年詳細'!$H$2:$J$100,3,FALSE))=TRUE, 0,VLOOKUP(B77,'15年詳細'!$H$2:$J$100,3,FALSE)) -> 28542 | G77: =IF(ISERROR(VLOOKUP(B77,'16年詳細'!$H$2:$J$100,3,FALSE))=TRUE, 0,VLOOKUP(B77,'16年詳細'!$H$2:$J$100,3,FALSE)) -> 21610 | H77: =IF(ISERROR(VLOOKUP(B77,'17年詳細'!$H$2:$J$100,3,FALSE))=TRUE, 0,VLOOKUP(B77,'17年詳細'!$H$2:$J$100,3,FALSE)) -> 45093
B78: 合計 | C78: =SUM(C72:C77) -> 30657 | D78: =SUM(D72:D77) -> 44074 | E78: =SUM(E72:E77) -> 42832 | F78: =SUM(F72:F77) -> 40872 | G78: =SUM(G72:G77) -> 27872 | H78: =SUM(H72:H77) -> 58501
A79: 関東・甲信越 | B79: NRT / 成田 | C79: =IF(ISERROR(VLOOKUP(B79,'12年詳細'!$H$2:$J$100,3,FALSE))=TRUE, 0,VLOOKUP(B79,'12年詳細'!$H$2:$J$100,3,FALSE)) -> 4503714 | D79: =IF(ISERROR(VLOOKUP(B79,'13年詳細'!$H$2:$J$100,3,FALSE))=TRUE, 0,VLOOKUP(B79,'13年詳細'!$H$2:$J$100,3,FALSE)) -> 4689653 | E79: =IF(ISERROR(VLOOKUP(B79,'14年詳細'!$H$2:$J$100,3,FALSE))=TRUE, 0,VLOOKUP(B79,'14年詳細'!$H$2:$J$100,3,FALSE)) -> 4838389 | F79: =IF(ISERROR(VLOOKUP(B79,'15年詳細'!$H$2:$J$100,3,FALSE))=TRUE, 0,VLOOKUP(B79,'15年詳細'!$H$2:$J$100,3,FALSE)) -> 4490101 | G79: =IF(ISERROR(VLOOKUP(B79,'16年詳細'!$H$2:$J$100,3,FALSE))=TRUE, 0,VLOOKUP(B79,'16年詳細'!$H$2:$J$100,3,FALSE)) -> 4714582 | H79: =IF(ISERROR(VLOOKUP(B79,'17年詳細'!$H$2:$J$100,3,FALSE))=TRUE, 0,VLOOKUP(B79,'17年詳細'!$H$2:$J$100,3,FALSE)) -> 4798050
B80: HND / 羽田 | C80: =IF(ISERROR(VLOOKUP(B80,'12年詳細'!$H$2:$J$100,3,FALSE))=TRUE, 0,VLOOKUP(B80,'12年詳細'!$H$2:$J$100,3,FALSE)) -> 1171691 | D80: =IF(ISERROR(VLOOKUP(B80,'13年詳細'!$H$2:$J$100,3,FALSE))=TRUE, 0,VLOOKUP(B80,'13年詳細'!$H$2:$J$100,3,FALSE)) -> 1230802 | E80: =IF(ISERROR(VLOOKUP(B80,'14年詳細'!$H$2:$J$100,3,FALSE))=TRUE, 0,VLOOKUP(B80,'14年詳細'!$H$2:$J$100,3,FALSE)) -> 1217784 | F80: =IF(ISERROR(VLOOKUP(B80,'15年詳細'!$H$2:$J$100,3,FALSE))=TRUE, 0,VLOOKUP(B80,'15年詳細'!$H$2:$J$100,3,FALSE)) -> 1821991 | G80: =IF(ISERROR(VLOOKUP(B80,'16年詳細'!$H$2:$J$100,3,FALSE))=TRUE, 0,VLOOKUP(B80,'16年詳細'!$H$2:$J$100,3,FALSE)) -> 2237030 | H80: =IF(ISERROR(VLOOKUP(B80,'17年詳細'!$H$2:$J$100,3,FALSE))=TRUE, 0,VLOOKUP(B80,'17年詳細'!$H$2:$J$100,3,FALSE)) -> 2406269
B81: IBR / 茨城 | C81: =IF(ISERROR(VLOOKUP(B81,'12年詳細'!$H$2:$J$100,3,FALSE))=TRUE, 0,VLOOKUP(B81,'12年詳細'!$H$2:$J$100,3,FALSE)) -> 7020 | D81: =IF(ISERROR(VLOOKUP(B81,'13年詳細'!$H$2:$J$100,3,FALSE))=TRUE, 0,VLOOKUP(B81,'13年詳細'!$H$2:$J$100,3,FALSE)) -> 354 | E81: =IF(ISERROR(VLOOKUP(B81,'14年詳細'!$H$2:$J$100,3,FALSE))=TRUE, 0,VLOOKUP(B81,'14年詳細'!$H$2:$J$100,3,FALSE)) -> 14620 | F81: =IF(ISERROR(VLOOKUP(B81,'15年詳細'!$H$2:$J$100,3,FALSE))=TRUE, 0,VLOOKUP(B81,'15年詳細'!$H$2:$J$100,3,FALSE)) -> 19777 | G81: =IF(ISERROR(VLOOKUP(B81,'16年詳細'!$H$2:$J$100,3,FALSE))=TRUE, 0,VLOOKUP(B81,'16年詳細'!$H$2:$J$100,3,FALSE)) -> 20426 | H81: =IF(ISERROR(VLOOKUP(B81,'17年詳細'!$H$2:$J$100,3,FALSE))=TRUE, 0,VLOOKUP(B81,'17年詳細'!$H$2:$J$100,3,FALSE)) -> 14238
B82: KIJ / 新潟 | C82: =IF(ISERROR(VLOOKUP(B82,'12年詳細'!$H$2:$J$100,3,FALSE))=TRUE, 0,VLOOKUP(B82,'12年詳細'!$H$2:$J$100,3,FALSE)) -> 34436 | D82: =IF(ISERROR(VLOOKUP(B82,'13年詳細'!$H$2:$J$100,3,FALSE))=TRUE, 0,VLOOKUP(B82,'13年詳細'!$H$2:$J$100,3,FALSE)) -> 29158 | E82: =IF(ISERROR(VLOOKUP(B82,'14年詳細'!$H$2:$J$100,3,FALSE))=TRUE, 0,VLOOKUP(B82,'14年詳細'!$H$2:$J$100,3,FALSE)) -> 28782 | F82: =IF(ISERROR(VLOOKUP(B82,'15年詳細'!$H$2:$J$100,3,FALSE))=TRUE, 0,VLOOKUP(B82,'15年詳細'!$H$2:$J$100,3,FALSE)) -> 21886 | G82: =IF(ISERROR(VLOOKUP(B82,'16年詳細'!$H$2:$J$100,3,FALSE))=TRUE, 0,VLOOKUP(B82,'16年詳細'!$H$2:$J$100,3,FALSE)) -> 23630 | H82: =IF(ISERROR(VLOOKUP(B82,'17年詳細'!$H$2:$J$100,3,FALSE))=TRUE, 0,VLOOKUP(B82,'17年詳細'!$H$2:$J$100,3,FALSE)) -> 19358
B83: 合計 | C83: =SUM(C79:C82) -> 5716861 | D83: =SUM(D79:D82) -> 5949967 | E83: =SUM(E79:E82) -> 6099575 | F83: =SUM(F79:F82) -> 6353755 | G83: =SUM(G79:G82) -> 6995668 | H83: =SUM(H79:H82) -> 7237915
A84: 中部・北陸 | B84: NGO / 中部 | C84: =IF(ISERROR(VLOOKUP(B84,'12年詳細'!$H$2:$J$100,3,FALSE))=TRUE, 0,VLOOKUP(B84,'12年詳細'!$H$2:$J$100,3,FALSE)) -> 767900 | D84: =IF(ISERROR(VLOOKUP(B84,'13年詳細'!$H$2:$J$100,3,FALSE))=TRUE, 0,VLOOKUP(B84,'13年詳細'!$H$2:$J$100,3,FALSE)) -> 769799 | E84: =IF(ISERROR(VLOOKUP(B84,'14年詳細'!$H$2:$J$100,3,FALSE))=TRUE, 0,VLOOKUP(B84,'14年詳細'!$H$2:$J$100,3,FALSE)) -> 716416 | F84: =IF(ISERROR(VLOOKUP(B84,'15年詳細'!$H$2:$J$100,3,FALSE))=TRUE, 0,VLOOKUP(B84,'15年詳細'!$H$2:$J$100,3,FALSE)) -> 758812 | G84: =IF(ISERROR(VLOOKUP(B84,'16年詳細'!$H$2:$J$100,3,FALSE))=TRUE, 0,VLOOKUP(B84,'16年詳細'!$H$2:$J$100,3,FALSE)) -> 870994 | H84: =IF(ISERROR(VLOOKUP(B84,'17年詳細'!$H$2:$J$100,3,FALSE))=TRUE, 0,VLOOKUP(B84,'17年詳細'!$H$2:$J$100,3,FALSE)) -> 872699
B85: FSZ / 静岡 | C85: =IF(ISERROR(VLOOKUP(B85,'12年詳細'!$H$2:$J$100,3,FALSE))=TRUE, 0,VLOOKUP(B85,'12年詳細'!$H$2:$J$100,3,FALSE)) -> 35795 | D85: =IF(ISERROR(VLOOKUP(B85,'13年詳細'!$H$2:$J$100,3,FALSE))=TRUE, 0,VLOOKUP(B85,'13年詳細'!$H$2:$J$100,3,FALSE)) -> 39800 | E85: =IF(ISERROR(VLOOKUP(B85,'14年詳細'!$H$2:$J$100,3,FALSE))=TRUE, 0,VLOOKUP(B85,'14年詳細'!$H$2:$J$100,3,FALSE)) -> 29911 | F85: =IF(ISERROR(VLOOKUP(B85,'15年詳細'!$H$2:$J$100,3,FALSE))=TRUE, 0,VLOOKUP(B85,'15年詳細'!$H$2:$J$100,3,FALSE)) -> 47050 | G85: =IF(ISERROR(VLOOKUP(B85,'16年詳細'!$H$2:$J$100,3,FALSE))=TRUE, 0,VLOOKUP(B85,'16年詳細'!$H$2:$J$100,3,FALSE)) -> 60926 | H85: =IF(ISERROR(VLOOKUP(B85,'17年詳細'!$H$2:$J$100,3,FALSE))=TRUE, 0,VLOOKUP(B85,'17年詳細'!$H$2:$J$100,3,FALSE)) -> 51881
B86: SHM / 南紀白浜 | C86: =IF(ISERROR(VLOOKUP(B86,'12年詳細'!$H$2:$J$100,3,FALSE))=TRUE, 0,VLOOKUP(B86,'12年詳細'!$H$2:$J$100,3,FALSE)) -> 0 | D86: =IF(ISERROR(VLOOKUP(B86,'13年詳細'!$H$2:$J$100,3,FALSE))=TRUE, 0,VLOOKUP(B86,'13年詳細'!$H$2:$J$100,3,FALSE)) -> 0 | E86: =IF(ISERROR(VLOOKUP(B86,'14年詳細'!$H$2:$J$100,3,FALSE))=TRUE, 0,VLOOKUP(B86,'14年詳細'!$H$2:$J$100,3,FALSE)) -> 177 | F86: =IF(ISERROR(VLOOKUP(B86,'15年詳細'!$H$2:$J$100,3,FALSE))=TRUE, 0,VLOOKUP(B86,'15年詳細'!$H$2:$J$100,3,FALSE)) -> 0 | G86: =IF(ISERROR(VLOOKUP(B86,'16年詳細'!$H$2:$J$100,3,FALSE))=TRUE, 0,VLOOKUP(B86,'16年詳細'!$H$2:$J$100,3,FALSE)) -> 0 | H86: =IF(ISERROR(VLOOKUP(B86,'17年詳細'!$H$2:$J$100,3,FALSE))=TRUE, 0,VLOOKUP(B86,'17年詳細'!$H$2:$J$100,3,FALSE)) -> 0
B87: KMQ / 小松 | C87: =IF(ISERROR(VLOOKUP(B87,'12年詳細'!$H$2:$J$100,3,FALSE))=TRUE, 0,VLOOKUP(B87,'12年詳細'!$H$2:$J$100,3,FALSE)) -> 23782 | D87: =IF(ISERROR(VLOOKUP(B87,'13年詳細'!$H$2:$J$100,3,FALSE))=TRUE, 0,VLOOKUP(B87,'13年詳細'!$H$2:$J$100,3,FALSE)) -> 30500 | E87: =IF(ISERROR(VLOOKUP(B87,'14年詳細'!$H$2:$J$100,3,FALSE))=TRUE, 0,VLOOKUP(B87,'14年詳細'!$H$2:$J$100,3,FALSE)) -> 27708 | F87: =IF(ISERROR(VLOOKUP(B87,'15年詳細'!$H$2:$J$100,3,FALSE))=TRUE, 0,VLOOKUP(B87,'15年詳細'!$H$2:$J$100,3,FALSE)) -> 30532 | G87: =IF(ISERROR(VLOOKUP(B87,'16年詳細'!$H$2:$J$100,3,FALSE))=TRUE, 0,VLOOKUP(B87,'16年詳細'!$H$2:$J$100,3,FALSE)) -> 25199 | H87: =IF(ISERROR(VLOOKUP(B87,'17年詳細'!$H$2:$J$100,3,FALSE))=TRUE, 0,VLOOKUP(B87,'17年詳細'!$H$2:$J$100,3,FALSE)) -> 29929
B88: TOY / 富山 | C88: =IF(ISERROR(VLOOKUP(B88,'12年詳細'!$H$2:$J$100,3,FALSE))=TRUE, 0,VLOOKUP(B88,'12年詳細'!$H$2:$J$100,3,FALSE)) -> 19436 | D88: =IF(ISERROR(VLOOKUP(B88,'13年詳細'!$H$2:$J$100,3,FALSE))=TRUE, 0,VLOOKUP(B88,'13年詳細'!$H$2:$J$100,3,FALSE)) -> 13603 | E88: =IF(ISERROR(VLOOKUP(B88,'14年詳細'!$H$2:$J$100,3,FALSE))=TRUE, 0,VLOOKUP(B88,'14年詳細'!$H$2:$J$100,3,FALSE)) -> 17557 | F88: =IF(ISERROR(VLOOKUP(B88,'15年詳細'!$H$2:$J$100,3,FALSE))=TRUE, 0,VLOOKUP(B88,'15年詳細'!$H$2:$J$100,3,FALSE)) -> 18596 | G88: =IF(ISERROR(VLOOKUP(B88,'16年詳細'!$H$2:$J$100,3,FALSE))=TRUE, 0,VLOOKUP(B88,'16年詳細'!$H$2:$J$100,3,FALSE)) -> 21715 | H88: =IF(ISERROR(VLOOKUP(B88,'17年詳細'!$H$2:$J$100,3,FALSE))=TRUE, 0,VLOOKUP(B88,'17年詳細'!$H$2:$J$100,3,FALSE)) -> 14489
B89: 合計 | C89: =SUM(C84:C88) -> 846913 | D89: =SUM(D84:D88) -> 853702 | E89: =SUM(E84:E88) -> 791769 | F89: =SUM(F84:F88) -> 854990 | G89: =SUM(G84:G88) -> 978834 | H89: =SUM(H84:H88) -> 968998
A90: 関西 | B90: KIX / 関西 | C90: =IF(ISERROR(VLOOKUP(B90,'12年詳細'!$H$2:$J$100,3,FALSE))=TRUE, 0,VLOOKUP(B90,'12年詳細'!$H$2:$J$100,3,FALSE)) -> 1801703 | D90: =IF(ISERROR(VLOOKUP(B90,'13年詳細'!$H$2:$J$100,3,FALSE))=TRUE, 0,VLOOKUP(B90,'13年詳細'!$H$2:$J$100,3,FALSE)) -> 1940967 | E90: =IF(ISERROR(VLOOKUP(B90,'14年詳細'!$H$2:$J$100,3,FALSE))=TRUE, 0,VLOOKUP(B90,'14年詳細'!$H$2:$J$100,3,FALSE)) -> 2061448 | F90: =IF(ISERROR(VLOOKUP(B90,'15年詳細'!$H$2:$J$100,3,FALSE))=TRUE, 0,VLOOKUP(B90,'15年詳細'!$H$2:$J$100,3,FALSE)) -> 2224829 | G90: =IF(ISERROR(VLOOKUP(B90,'16年詳細'!$H$2:$J$100,3,FALSE))=TRUE, 0,VLOOKUP(B90,'16年詳細'!$H$2:$J$100,3,FALSE)) -> 2870624 | H90: =IF(ISERROR(VLOOKUP(B90,'17年詳細'!$H$2:$J$100,3,FALSE))=TRUE, 0,VLOOKUP(B90,'17年詳細'!$H$2:$J$100,3,FALSE)) -> 2994333
B91: ITM / 伊丹 | C91: =IF(ISERROR(VLOOKUP(B91,'12年詳細'!$H$2:$J$100,3,FALSE))=TRUE, 0,VLOOKUP(B91,'12年詳細'!$H$2:$J$100,3,FALSE)) -> 0 | D91: =IF(ISERROR(VLOOKUP(B91,'13年詳細'!$H$2:$J$100,3,FALSE))=TRUE, 0,VLOOKUP(B91,'13年詳細'!$H$2:$J$100,3,FALSE)) -> 0 | E91: =IF(ISERROR(VLOOKUP(B91,'14年詳細'!$H$2:$J$100,3,FALSE))=TRUE, 0,VLOOKUP(B91,'14年詳細'!$H$2:$J$100,3,FALSE)) -> 0 | F91: =IF(ISERROR(VLOOKUP(B91,'15年詳細'!$H$2:$J$100,3,FALSE))=TRUE, 0,VLOOKUP(B91,'15年詳細'!$H$2:$J$100,3,FALSE)) -> 0 | G91: =IF(ISERROR(VLOOKUP(B91,'16年詳細'!$H$2:$J$100,3,FALSE))=TRUE, 0,VLOOKUP(B91,'16年詳細'!$H$2:$J$100,3,FALSE)) -> 0 | H91: =IF(ISERROR(VLOOKUP(B91,'17年詳細'!$H$2:$J$100,3,FALSE))=TRUE, 0,VLOOKUP(B91,'17年詳細'!$H$2:$J$100,3,FALSE)) -> 0
B92: 合計 | C92: =SUM(C90:C91) -> 1801703 | D92: =SUM(D90:D91) -> 1940967 | E92: =SUM(E90:E91) -> 2061448 | F92: =SUM(F90:F91) -> 2224829 | G92: =SUM(G90:G91) -> 2870624 | H92: =SUM(H90:H91) -> 2994333
A93: 中国 | B93: HIJ / 広島 | C93: =IF(ISERROR(VLOOKUP(B93,'12年詳細'!$H$2:$J$100,3,FALSE))=TRUE, 0,VLOOKUP(B93,'12年詳細'!$H$2:$J$100,3,FALSE)) -> 63791 | D93: =IF(ISERROR(VLOOKUP(B93,'13年詳細'!$H$2:$J$100,3,FALSE))=TRUE, 0,VLOOKUP(B93,'13年詳細'!$H$2:$J$100,3,FALSE)) -> 59170 | E93: =IF(ISERROR(VLOOKUP(B93,'14年詳細'!$H$2:$J$100,3,FALSE))=TRUE, 0,VLOOKUP(B93,'14年詳細'!$H$2:$J$100,3,FALSE)) -> 62534 | F93: =IF(ISERROR(VLOOKUP(B93,'15年詳細'!$H$2:$J$100,3,FALSE))=TRUE, 0,VLOOKUP(B93,'15年詳細'!$H$2:$J$100,3,FALSE)) -> 54934 | G93: =IF(ISERROR(VLOOKUP(B93,'16年詳細'!$H$2:$J$100,3,FALSE))=TRUE, 0,VLOOKUP(B93,'16年詳細'!$H$2:$J$100,3,FALSE)) -> 59465 | H93: =IF(ISERROR(VLOOKUP(B93,'17年詳細'!$H$2:$J$100,3,FALSE))=TRUE, 0,VLOOKUP(B93,'17年詳細'!$H$2:$J$100,3,FALSE)) -> 53964
B94: OKJ / 岡山 | C94: =IF(ISERROR(VLOOKUP(B94,'12年詳細'!$H$2:$J$100,3,FALSE))=TRUE, 0,VLOOKUP(B94,'12年詳細'!$H$2:$J$100,3,FALSE)) -> 38673 | D94: =IF(ISERROR(VLOOKUP(B94,'13年詳細'!$H$2:$J$100,3,FALSE))=TRUE, 0,VLOOKUP(B94,'13年詳細'!$H$2:$J$100,3,FALSE)) -> 29751 | E94: =IF(ISERROR(VLOOKUP(B94,'14年詳細'!$H$2:$J$100,3,FALSE))=TRUE, 0,VLOOKUP(B94,'14年詳細'!$H$2:$J$100,3,FALSE)) -> 29387 | F94: =IF(ISERROR(VLOOKUP(B94,'15年詳細'!$H$2:$J$100,3,FALSE))=TRUE, 0,VLOOKUP(B94,'15年詳細'!$H$2:$J$100,3,FALSE)) -> 27581 | G94: =IF(ISERROR(VLOOKUP(B94,'16年詳細'!$H$2:$J$100,3,FALSE))=TRUE, 0,VLOOKUP(B94,'16年詳細'!$H$2:$J$100,3,FALSE)) -> 27008 | H94: =IF(ISERROR(VLOOKUP(B94,'17年詳細'!$H$2:$J$100,3,FALSE))=TRUE, 0,VLOOKUP(B94,'17年詳細'!$H$2:$J$100,3,FALSE)) -> 38923
B95: YGJ / 米子 | C95: =IF(ISERROR(VLOOKUP(B95,'12年詳細'!$H$2:$J$100,3,FALSE))=TRUE, 0,VLOOKUP(B95,'12年詳細'!$H$2:$J$100,3,FALSE)) -> 6579 | D95: =IF(ISERROR(VLOOKUP(B95,'13年詳細'!$H$2:$J$100,3,FALSE))=TRUE, 0,VLOOKUP(B95,'13年詳細'!$H$2:$J$100,3,FALSE)) -> 5883 | E95: =IF(ISERROR(VLOOKUP(B95,'14年詳細'!$H$2:$J$100,3,FALSE))=TRUE, 0,VLOOKUP(B95,'14年詳細'!$H$2:$J$100,3,FALSE)) -> 6285 | F95: =IF(ISERROR(VLOOKUP(B95,'15年詳細'!$H$2:$J$100,3,FALSE))=TRUE, 0,VLOOKUP(B95,'15年詳細'!$H$2:$J$100,3,FALSE)) -> 6821 | G95: =IF(ISERROR(VLOOKUP(B95,'16年詳細'!$H$2:$J$100,3,FALSE))=TRUE, 0,VLOOKUP(B95,'16年詳細'!$H$2:$J$100,3,FALSE)) -> 7284 | H95: =IF(ISERROR(VLOOKUP(B95,'17年詳細'!$H$2:$J$100,3,FALSE))=TRUE, 0,VLOOKUP(B95,'17年詳細'!$H$2:$J$100,3,FALSE)) -> 11955
B96: TTJ / 鳥取 | C96: =IF(ISERROR(VLOOKUP(B96,'12年詳細'!$H$2:$J$100,3,FALSE))=TRUE, 0,VLOOKUP(B96,'12年詳細'!$H$2:$J$100,3,FALSE)) -> 0 | D96: =IF(ISERROR(VLOOKUP(B96,'13年詳細'!$H$2:$J$100,3,FALSE))=TRUE, 0,VLOOKUP(B96,'13年詳細'!$H$2:$J$100,3,FALSE)) -> 0 | E96: =IF(ISERROR(VLOOKUP(B96,'14年詳細'!$H$2:$J$100,3,FALSE))=TRUE, 0,VLOOKUP(B96,'14年詳細'!$H$2:$J$100,3,FALSE)) -> 0 | F96: =IF(ISERROR(VLOOKUP(B96,'15年詳細'!$H$2:$J$100,3,FALSE))=TRUE, 0,VLOOKUP(B96,'15年詳細'!$H$2:$J$100,3,FALSE)) -> 158 | G96: =IF(ISERROR(VLOOKUP(B96,'16年詳細'!$H$2:$J$100,3,FALSE))=TRUE, 0,VLOOKUP(B96,'16年詳細'!$H$2:$J$100,3,FALSE)) -> 0 | H96: =IF(ISERROR(VLOOKUP(B96,'17年詳細'!$H$2:$J$100,3,FALSE))=TRUE, 0,VLOOKUP(B96,'17年詳細'!$H$2:$J$100,3,FALSE)) -> 0
B97: UBJ / 山口宇部 | C97: =IF(ISERROR(VLOOKUP(B97,'12年詳細'!$H$2:$J$100,3,FALSE))=TRUE, 0,VLOOKUP(B97,'12年詳細'!$H$2:$J$100,3,FALSE)) -> 0 | D97: =IF(ISERROR(VLOOKUP(B97,'13年詳細'!$H$2:$J$100,3,FALSE))=TRUE, 0,VLOOKUP(B97,'13年詳細'!$H$2:$J$100,3,FALSE)) -> 0 | E97: =IF(ISERROR(VLOOKUP(B97,'14年詳細'!$H$2:$J$100,3,FALSE))=TRUE, 0,VLOOKUP(B97,'14年詳細'!$H$2:$J$100,3,FALSE)) -> 1941 | F97: =IF(ISERROR(VLOOKUP(B97,'15年詳細'!$H$2:$J$100,3,FALSE))=TRUE, 0,VLOOKUP(B97,'15年詳細'!$H$2:$J$100,3,FALSE)) -> 3951 | G97: =IF(ISERROR(VLOOKUP(B97,'16年詳細'!$H$2:$J$100,3,FALSE))=TRUE, 0,VLOOKUP(B97,'16年詳細'!$H$2:$J$100,3,FALSE)) -> 6156 | H97: =IF(ISERROR(VLOOKUP(B97,'17年詳細'!$H$2:$J$100,3,FALSE))=TRUE, 0,VLOOKUP(B97,'17年詳細'!$H$2:$J$100,3,FALSE)) -> 7020
B98: IWK / 岩国 | C98: =IF(ISERROR(VLOOKUP(B98,'12年詳細'!$H$2:$J$100,3,FALSE))=TRUE, 0,VLOOKUP(B98,'12年詳細'!$H$2:$J$100,3,FALSE)) -> 0 | D98: =IF(ISERROR(VLOOKUP(B98,'13年詳細'!$H$2:$J$100,3,FALSE))=TRUE, 0,VLOOKUP(B98,'13年詳細'!$H$2:$J$100,3,FALSE)) -> 0 | E98: =IF(ISERROR(VLOOKUP(B98,'14年詳細'!$H$2:$J$100,3,FALSE))=TRUE, 0,VLOOKUP(B98,'14年詳細'!$H$2:$J$100,3,FALSE)) -> 0 | F98: =IF(ISERROR(VLOOKUP(B98,'15年詳細'!$H$2:$J$100,3,FALSE))=TRUE, 0,VLOOKUP(B98,'15年詳細'!$H$2:$J$100,3,FALSE)) -> 0 | G98: =IF(ISERROR(VLOOKUP(B98,'16年詳細'!$H$2:$J$100,3,FALSE))=TRUE, 0,VLOOKUP(B98,'16年詳細'!$H$2:$J$100,3,FALSE)) -> 0 | H98: =IF(ISERROR(VLOOKUP(B98,'17年詳細'!$H$2:$J$100,3,FALSE))=TRUE, 0,VLOOKUP(B98,'17年詳細'!$H$2:$J$100,3,FALSE)) -> 0
B99: 合計 | C99: =SUM(C93:C98) -> 109043 | D99: =SUM(D93:D98) -> 94804 | E99: =SUM(E93:E98) -> 100147 | F99: =SUM(F93:F98) -> 93445 | G99: =SUM(G93:G98) -> 99913 | H99: =SUM(H93:H98) -> 111862
A100: 四国 | B100: KCZ / 高知 | C100: =IF(ISERROR(VLOOKUP(B100,'12年詳細'!$H$2:$J$100,3,FALSE))=TRUE, 0,VLOOKUP(B100,'12年詳細'!$H$2:$J$100,3,FALSE)) -> 0 | D100: =IF(ISERROR(VLOOKUP(B100,'13年詳細'!$H$2:$J$100,3,FALSE))=TRUE, 0,VLOOKUP(B100,'13年詳細'!$H$2:$J$100,3,FALSE)) -> 0 | E100: =IF(ISERROR(VLOOKUP(B100,'14年詳細'!$H$2:$J$100,3,FALSE))=TRUE, 0,VLOOKUP(B100,'14年詳細'!$H$2:$J$100,3,FALSE)) -> 0 | F100: =IF(ISERROR(VLOOKUP(B100,'15年詳細'!$H$2:$J$100,3,FALSE))=TRUE, 0,VLOOKUP(B100,'15年詳細'!$H$2:$J$100,3,FALSE)) -> 0 | G100: =IF(ISERROR(VLOOKUP(B100,'16年詳細'!$H$2:$J$100,3,FALSE))=TRUE, 0,VLOOKUP(B100,'16年詳細'!$H$2:$J$100,3,FALSE)) -> 0 | H100: =IF(ISERROR(VLOOKUP(B100,'17年詳細'!$H$2:$J$100,3,FALSE))=TRUE, 0,VLOOKUP(B100,'17年詳細'!$H$2:$J$100,3,FALSE)) -> 0
B101: TAK / 高松 | C101: =IF(ISERROR(VLOOKUP(B101,'12年詳細'!$H$2:$J$100,3,FALSE))=TRUE, 0,VLOOKUP(B101,'12年詳細'!$H$2:$J$100,3,FALSE)) -> 10503 | D101: =IF(ISERROR(VLOOKUP(B101,'13年詳細'!$H$2:$J$100,3,FALSE))=TRUE, 0,VLOOKUP(B101,'13年詳細'!$H$2:$J$100,3,FALSE)) -> 7451 | E101: =IF(ISERROR(VLOOKUP(B101,'14年詳細'!$H$2:$J$100,3,FALSE))=TRUE, 0,VLOOKUP(B101,'14年詳細'!$H$2:$J$100,3,FALSE)) -> 17620 | F101: =IF(ISERROR(VLOOKUP(B101,'15年詳細'!$H$2:$J$100,3,FALSE))=TRUE, 0,VLOOKUP(B101,'15年詳細'!$H$2:$J$100,3,FALSE)) -> 24603 | G101: =IF(ISERROR(VLOOKUP(B101,'16年詳細'!$H$2:$J$100,3,FALSE))=TRUE, 0,VLOOKUP(B101,'16年詳細'!$H$2:$J$100,3,FALSE)) -> 22590 | H101: =IF(ISERROR(VLOOKUP(B101,'17年詳細'!$H$2:$J$100,3,FALSE))=TRUE, 0,VLOOKUP(B101,'17年詳細'!$H$2:$J$100,3,FALSE)) -> 42151
...
