Workbook

Sheet 12年
A1: 出発空港 | B1: 便数 | C1: 座席数
A2: NRT / 成田 | B2: 17983 | C2: 4503714
A3: KIX / 関西 | B3: 7950 | C3: 1801703
A4: HND / 羽田 | B4: 4499 | C4: 1171691
A5: NGO / 中部 | B5: 3486 | C5: 767900
A6: FUK / 福岡 | B6: 2464 | C6: 494633
A7: CTS / 新千歳 | B7: 832 | C7: 188322
A8: OKA / 那覇 | B8: 539 | C8: 93842
A9: HIJ / 広島 | B9: 418 | C9: 63791
A10: OKJ / 岡山 | B10: 213 | C10: 38673
A11: FSZ / 静岡 | B11: 214 | C11: 35795
A12: KIJ / 新潟 | B12: 190 | C12: 34436
A13: KMQ / 小松 | B13: 158 | C13: 23782
... A34: 合計 | B34: 39851 | C34: 9365386

Sheet 12年詳細
A1: ツーレター | B1: 航空会社 | C1: 便数 | D1: 座席 | E1: シェア | H1: 空港 | I1: 便数 | J1: 総座席 | K1: シェア
A2: AKJ / 旭川 | H2: AKJ / 旭川 | I2: 16 | J2: 2832 | K2: 0.0003023901
A3: OZ | B3: アシアナ航空 | C3: 16 | D3: 2832 | E3: 1 | H3: AOJ / 青森 | I3: 40 | J3: 6480 | K3: 0.00069190955
A4: 合計 | C4: 16 | D4: 2832 | E4: - | H4: AXT / 秋田 | I4: 39 | J4: 6500 | K4: 0.00069404507
A5: AOJ / 青森 | H5: CTS / 新千歳 | I5: 832 | J5: 188322 | K5: 0.020108301
A6: KE | B6: 大韓航空 | C6: 40 | D6: 6480 | E6: 1 | H6: DNA / 嘉手納 | I6: 2 | J6: 314 | K6: 3.3527716e-05
A7: 合計 | C7: 40 | D7: 6480 | E7: - | H7: FSZ / 静岡 | I7: 214 | J7: 35795 | K7: 0.0038220528
A8: AXT / 秋田 | H8: FUK / 福岡 | I8: 2464 | J8: 494633 | K8: 0.052815015
A9: KE | B9: 大韓航空 | C9: 39 | D9: 6500 | E9: 1 | H9: HIJ / 広島 | I9: 418 | J9: 63791 | K9: 0.0068113583
A10: 合計 | C10: 39 | D10: 6500 | E10: - | H10: HKD / 函館 | I10: 39 | J10: 6570 | K10: 0.0007015194
A11: CTS / 新千歳 | H11: HND / 羽田 | I11: 4499 | J11: 1171691 | K11: 0.12510867
A12: KE | B12: 大韓航空 | C12: 221 | D12: 53797 | E12: 0.28566498 | H12: HSG / 佐賀 | I12: 2 | J12: 282 | K12: 3.0110879e-05
A13: CX | B13: キャセイパシフィック航空 | C13: 83 | D13: 30147 | E13: 0.1600822 | H13: IBR / 茨城 | I13: 39 | J13: 7020 | K13: 0.00074956868
A14: CI | B14: チャイナエアライン | C14: 97 | D14: 30091 | E14: 0.15978484 | H14: IWO / 硫黄島 | I14: 2 | J14: 314 | K14: 3.3527716e-05
A15: BR | B15: エバー航空 | C15: 91 | D15: 24388 | E15: 0.1295016 | H15: KIJ / 新潟 | I15: 190 | J15: 34436 | K15: 0.003676944
A16: LJ | B16: ジンエアー | C16: 64 | D16: 12096 | E16: 0.064230414 | H16: KIX / 関西 | I16: 7950 | J16: 1801703 | K16: 0.19237894
A17: MU | B17: 中国東方航空 | C17: 65 | D17: 9276 | E17: 0.049256061 | H17: KKJ / 北九州 | I17: 39 | J17: 7020 | K17: 0.00074956868
A18: CO | B18: コンチネンタル航空 | C18: 58 | D18: 7192 | E18: 0.038189909 | H18: KMI / 宮崎 | I18: 67 | J18: 11208 | K18: 0.0011967473
A19: CA | B19: 中国国際航空 | C19: 40 | D19: 7036 | E19: 0.03736154 | H19: KMJ / 熊本 | I19: 40 | J19: 5820 | K19: 0.00062143728
A20: UO | B20: 香港エクスプレス航空 | C20: 35 | D20: 6461 | E20: 0.034308259 | H20: KMQ / 小松 | I20: 158 | J20: 23782 | K20: 0.0025393508
A21: CZ | B21: 中国南方航空 | C21: 26 | D21: 3220 | E21: 0.017098374 | H21: KOJ / 鹿児島 | I21: 91 | J21: 17496 | K21: 0.0018681558
A22: ZE | B22: イースター航空 | C22: 24 | D22: 2928 | E22: 0.015547838 | H22: MYJ / 松山 | I22: 66 | J22: 8883 | K22: 0.00094849267
A23: HZ | B23: オーロラ航空 | C23: 27 | D23: 1424 | E23: 0.007561517 | H23: NGO / 中部 | I23: 3486 | J23: 767900 | K23: 0.081993417
A24: SQ | B24: シンガポール航空 | C24: 1 | D24: 266 | E24: 0.0014124744 | H24: NGS / 長崎 | I24: 52 | J24: 7332 | K24: 0.00078288284
A25: 合計 | C25: 832 | D25: 188322 | E25: - | H25: NRT / 成田 | I25: 17983 | J25: 4503714 | K25: 0.48088931
A26: DNA / 嘉手納 | H26: OIT / 大分 | I26: 28 | J26: 4660 | K26: 0.00049757693
A27: CO | B27: コンチネンタル航空 | C27: 2 | D27: 314 | E27: 1 | H27: OKA / 那覇 | I27: 539 | J27: 93842 | K27: 0.010020089
A28: 合計 | C28: 2 | D28: 314 | E28: - | H28: OKJ / 岡山 | I28: 213 | J28: 38673 | K28: 0.0041293546
A29: FSZ / 静岡 | H29: SDJ / 仙台 | I29: 95 | J29: 17677 | K29: 0.0018874823
A30: OZ | B30: アシアナ航空 | C30: 91 | D30: 15531 | E30: 0.43388741 | H30: TAK / 高松 | I30: 65 | J30: 10503 | K30: 0.0011214701
A31: KE | B31: 大韓航空 | C31: 91 | D31: 15280 | E31: 0.42687526 | H31: TKS / 徳島 | I31: 1 | J31: 178 | K31: 1.9006157e-05
A32: MU | B32: 中国東方航空 | C32: 28 | D32: 4332 | E32: 0.12102249 | H32: TOY / 富山 | I32: 143 | J32: 19436 | K32: 0.0020753015
A33: CI | B33: チャイナエアライン | C33: 3 | D33: 474 | E33: 0.013242073 | H33: YGJ / 米子 | I33: 39 | J33: 6579 | K33: 0.00070248039
A34: NX | B34: マカオ航空 | C34: 1 | D34: 178 | E34: 0.0049727616 | H34: 合計 | I34: 39851 | J34: 9365386 | K34: -
A35: 合計 | C35: 214 | D35: 35795 | E35: -
A36: FUK / 福岡
A37: KE | B37: 大韓航空 | C37: 455 | D37: 115171 | E37: 0.23284132
A38: OZ | B38: アシアナ航空 | C38: 403 | D38: 73165 | E38: 0.14791775
A39: CI | B39: チャイナエアライン | C39: 129 | D39: 39974 | E39: 0.080815473
A40: MU | B40: 中国東方航空 | C40: 237 | D40: 35506 | E40: 0.071782513
...

Sheet 13年
A1: 出発空港 | B1: 便数 | C1: 座席数
A2: NRT / 成田 | B2: 18291 | C2: 4689653
A3: KIX / 関西 | B3: 8745 | C3: 1940967
A4: HND / 羽田 | B4: 4674 | C4: 1230802
A5: NGO / 中部 | B5: 3469 | C5: 769799
A6: FUK / 福岡 | B6: 2637 | C6: 534209
A7: CTS / 新千歳 | B7: 833 | C7: 208098
A8: OKA / 那覇 | B8: 639 | C8: 103656
A9: HIJ / 広島 | B9: 389 | C9: 59170
A10: FSZ / 静岡 | B10: 254 | C10: 39800
A11: SDJ / 仙台 | B11: 190 | C11: 32446
A12: KMQ / 小松 | B12: 202 | C12: 30500
A13: OKJ / 岡山 | B13: 227 | C13: 29751
... A36: 合計 | B36: 41696 | C36: 9859897

Sheet 13年詳細
A1: ツーレター | B1: 航空会社 | C1: 便数 | D1: 座席 | E1: シェア | H1: 空港 | I1: 便数 | J1: 総座席 | K1: シェア
A2: AKJ / 旭川 | H2: AKJ / 旭川 | I2: 39 | J2: 8192 | K2: 0.00083084032
A3: OZ | B3: アシアナ航空 | C3: 26 | D3: 4602 | E3: 0.56176758 | H3: AOJ / 青森 | I3: 38 | J3: 6042 | K3: 0.00061278531
A4: GE | B4: トランスアジア航空 | C4: 13 | D4: 3590 | E4: 0.43823242 | H4: AXT / 秋田 | I4: 38 | J4: 5244 | K4: 0.0005318514
A5: 合計 | C5: 39 | D5: 8192 | E5: - | H5: CTS / 新千歳 | I5: 833 | J5: 208098 | K5: 0.021105494
A6: AOJ / 青森 | H6: DNA / 嘉手納 | I6: 2 | J6: 310 | K6: 3.1440491e-05
A7: KE | B7: 大韓航空 | C7: 38 | D7: 6042 | E7: 1 | H7: FKS / 福島 | I7: 2 | J7: 342 | K7: 3.4685961e-05
A8: 合計 | C8: 38 | D8: 6042 | E8: - | H8: FSZ / 静岡 | I8: 254 | J8: 39800 | K8: 0.0040365533
A9: AXT / 秋田 | H9: FUK / 福岡 | I9: 2637 | J9: 534209 | K9: 0.054179978
A10: KE | B10: 大韓航空 | C10: 38 | D10: 5244 | E10: 1 | H10: HIJ / 広島 | I10: 389 | J10: 59170 | K10: 0.0060010769
A11: 合計 | C11: 38 | D11: 5244 | E11: - | H11: HKD / 函館 | I11: 63 | J11: 16412 | K11: 0.0016645204
A12: CTS / 新千歳 | H12: HND / 羽田 | I12: 4674 | J12: 1230802 | K12: 0.12482909
A13: KE | B13: 大韓航空 | C13: 219 | D13: 50059 | E13: 0.24055493 | H13: IBR / 茨城 | I13: 2 | J13: 354 | K13: 3.5903012e-05
A14: CX | B14: キャセイパシフィック航空 | C14: 98 | D14: 36314 | E14: 0.17450432 | H14: ISG / 石垣 | I14: 2 | J14: 354 | K14: 3.5903012e-05
A15: CI | B15: チャイナエアライン | C15: 97 | D15: 32675 | E15: 0.15701737 | H15: IWO / 硫黄島 | I15: 1 | J15: 155 | K15: 1.5720245e-05
A16: BR | B16: エバー航空 | C16: 90 | D16: 22740 | E16: 0.10927544 | H16: KIJ / 新潟 | I16: 198 | J16: 29158 | K16: 0.0029572317
A17: TG | B17: タイ国際航空 | C17: 51 | D17: 17979 | E17: 0.086396794 | H17: KIX / 関西 | I17: 8745 | J17: 1940967 | K17: 0.19685469
A18: HA | B18: ハワイアン航空 | C18: 39 | D18: 9828 | E18: 0.047227748 | H18: KKJ / 北九州 | I18: 178 | J18: 25632 | K18: 0.0025996215
A19: LJ | B19: ジンエアー | C19: 53 | D19: 9543 | E19: 0.045858201 | H19: KMI / 宮崎 | I19: 67 | J19: 12188 | K19: 0.0012361184
A20: GE | B20: トランスアジア航空 | C20: 26 | D20: 7333 | E20: 0.035238205 | H20: KMJ / 熊本 | I20: 38 | J20: 5562 | K20: 0.00056410326
A21: UA | B21: ユナイテッド航空 | C21: 58 | D21: 7180 | E21: 0.034502975 | H21: KMQ / 小松 | I21: 202 | J21: 30500 | K21: 0.0030933386
A22: MU | B22: 中国東方航空 | C22: 45 | D22: 6534 | E22: 0.031398668 | H22: KOJ / 鹿児島 | I22: 117 | J22: 22324 | K22: 0.002264121
A23: CA | B23: 中国国際航空 | C23: 29 | D23: 4843 | E23: 0.023272689 | H23: KUH / 釧路 | I23: 13 | J23: 3743 | K23: 0.00037961857
A24: HZ | B24: オーロラ航空 | C24: 27 | D24: 2930 | E24: 0.014079905 | H24: MYJ / 松山 | I24: 93 | J24: 14031 | K24: 0.0014230372
A25: ZE | B25: イースター航空 | C25: 1 | D25: 140 | E25: 0.00067275995 | H25: NGO / 中部 | I25: 3469 | J25: 769799 | K25: 0.078073736
A26: 合計 | C26: 833 | D26: 208098 | E26: - | H26: NGS / 長崎 | I26: 46 | J26: 6576 | K26: 0.00066694409
A27: DNA / 嘉手納 | H27: NRT / 成田 | I27: 18291 | J27: 4689653 | K27: 0.47562901
A28: UA | B28: ユナイテッド航空 | C28: 2 | D28: 310 | E28: 1 | H28: OBO / 帯広 | I28: 13 | J28: 3590 | K28: 0.00036410117
A29: 合計 | C29: 2 | D29: 310 | E29: - | H29: OIT / 大分 | I29: 26 | J29: 3900 | K29: 0.00039554166
A30: FKS / 福島 | H30: OKA / 那覇 | I30: 639 | J30: 103656 | K30: 0.010512889
A31: OZ | B31: アシアナ航空 | C31: 2 | D31: 342 | E31: 1 | H31: OKJ / 岡山 | I31: 227 | J31: 29751 | K31: 0.0030173743
A32: 合計 | C32: 2 | D32: 342 | E32: - | H32: SDJ / 仙台 | I32: 190 | J32: 32446 | K32: 0.0032907037
A33: FSZ / 静岡 | H33: TAK / 高松 | I33: 43 | J33: 7451 | K33: 0.00075568741
A34: OZ | B34: アシアナ航空 | C34: 94 | D34: 14904 | E34: 0.37447236 | H34: TOY / 富山 | I34: 88 | J34: 13603 | K34: 0.001379629
A35: KE | B35: 大韓航空 | C35: 90 | D35: 13929 | E35: 0.34997487 | H35: YGJ / 米子 | I35: 39 | J35: 5883 | K35: 0.00059665938
A36: CI | B36: チャイナエアライン | C36: 39 | D36: 6162 | E36: 0.15482412 | H36: 合計 | I36: 41696 | J36: 9859897 | K36: -
A37: MU | B37: 中国東方航空 | C37: 31 | D37: 4805 | E37: 0.12072864
A38: 合計 | C38: 254 | D38: 39800 | E38: -
A39: FUK / 福岡
A40: KE | B40: 大韓航空 | C40: 450 | D40: 93646 | E40: 0.17529843
...

Sheet 14年
A1: 出発空港 | B1: 便数 | C1: 座席数
A2: NRT / 成田 | B2: 19249 | C2: 4838389
A3: KIX / 関西 | B3: 9212 | C3: 2061448
A4: HND / 羽田 | B4: 4896 | C4: 1217784
A5: NGO / 中部 | B5: 3418 | C5: 716416
A6: FUK / 福岡 | B6: 2802 | C6: 584399
A7: CTS / 新千歳 | B7: 1061 | C7: 256666
A8: OKA / 那覇 | B8: 897 | C8: 169239
A9: HIJ / 広島 | B9: 395 | C9: 62534
A10: SDJ / 仙台 | B10: 165 | C10: 31726
A11: FSZ / 静岡 | B11: 178 | C11: 29911
A12: OKJ / 岡山 | B12: 179 | C12: 29387
A13: KIJ / 新潟 | B13: 193 | C13: 28782
... A39: 合計 | B39: 44082 | C39: 10275454

Sheet 14年詳細
A1: ツーレター | B1: 航空会社 | C1: 便数 | D1: 座席 | E1: シェア | H1: 空港 | I1: 便数 | J1: 総座席 | K1: シェア
A2: AKJ / 旭川 | H2: AKJ / 旭川 | I2: 79 | J2: 18255 | K2: 0.0017765638
A3: BR | B3: エバー航空 | C3: 38 | D3: 9576 | E3: 0.52456861 | H3: AOJ / 青森 | I3: 39 | J3: 5403 | K3: 0.00052581618
A4: GE | B4: トランスアジア航空 | C4: 13 | D4: 3900 | E4: 0.2136401 | H4: AXT / 秋田 | I4: 39 | J4: 5703 | K4: 0.00055501197
A5: OZ | B5: アシアナ航空 | C5: 19 | D5: 3357 | E5: 0.18389482 | H5: CTS / 新千歳 | I5: 1061 | J5: 256666 | K5: 0.024978556
A6: MU | B6: 中国東方航空 | C6: 9 | D6: 1422 | E6: 0.077896467 | H6: DNA / 嘉手納 | I6: 1 | J6: 155 | K6: 1.5084492e-05
A7: 合計 | C7: 79 | D7: 18255 | E7: - | H7: FSZ / 静岡 | I7: 178 | J7: 29911 | K7: 0.0029109176
A8: AOJ / 青森 | H8: FUK / 福岡 | I8: 2802 | J8: 584399 | K8: 0.056873302
A9: KE | B9: 大韓航空 | C9: 39 | D9: 5403 | E9: 1 | H9: HIJ / 広島 | I9: 395 | J9: 62534 | K9: 0.0060857652
A10: 合計 | C10: 39 | D10: 5403 | E10: - | H10: HKD / 函館 | I10: 91 | J10: 24804 | K10: 0.0024139079
A11: AXT / 秋田 | H11: HND / 羽田 | I11: 4896 | J11: 1217784 | K11: 0.11851389
A12: KE | B12: 大韓航空 | C12: 39 | D12: 5703 | E12: 1 | H12: HSG / 佐賀 | I12: 78 | J12: 11778 | K12: 0.0011462267
A13: 合計 | C13: 39 | D13: 5703 | E13: - | H13: IBR / 茨城 | I13: 82 | J13: 14620 | K13: 0.0014228082
A14: CTS / 新千歳 | H14: IWO / 硫黄島 | I14: 1 | J14: 155 | K14: 1.5084492e-05
A15: KE | B15: 大韓航空 | C15: 182 | D15: 42410 | E15: 0.1652342 | H15: KIJ / 新潟 | I15: 193 | J15: 28782 | K15: 0.0028010441
A16: CI | B16: チャイナエアライン | C16: 106 | D16: 37877 | E16: 0.14757311 | H16: KIX / 関西 | I16: 9212 | J16: 2061448 | K16: 0.20061868
A17: CX | B17: キャセイパシフィック航空 | C17: 103 | D17: 36848 | E17: 0.14356401 | H17: KKJ / 北九州 | I17: 176 | J17: 25344 | K17: 0.0024664604
A18: TG | B18: タイ国際航空 | C18: 90 | D18: 32760 | E18: 0.1276367 | H18: KMI / 宮崎 | I18: 66 | J18: 12859 | K18: 0.0012514289
A19: BR | B19: エバー航空 | C19: 103 | D19: 29316 | E19: 0.11421848 | H19: KMJ / 熊本 | I19: 39 | J19: 6593 | K19: 0.00064162615
A20: LJ | B20: ジンエアー | C20: 78 | D20: 14274 | E20: 0.055613131 | H20: KMQ / 小松 | I20: 182 | J20: 27708 | K20: 0.0026965232
A21: HA | B21: ハワイアン航空 | C21: 39 | D21: 10101 | E21: 0.039354648 | H21: KOJ / 鹿児島 | I21: 153 | J21: 25459 | K21: 0.0024776521
A22: TW | B22: ティーウェイ航空 | C22: 82 | D22: 10004 | E22: 0.038976725 | H22: KUH / 釧路 | I22: 13 | J22: 3900 | K22: 0.00037954527
A23: MU | B23: 中国東方航空 | C23: 64 | D23: 9708 | E23: 0.037823475 | H23: MMY / 宮古 | I23: 3 | J23: 531 | K23: 5.1676549e-05
A24: UA | B24: ユナイテッド航空 | C24: 59 | D24: 8590 | E24: 0.033467619 | H24: MYJ / 松山 | I24: 42 | J24: 7356 | K24: 0.00071588078
A25: CZ | B25: 中国南方航空 | C25: 39 | D25: 7680 | E25: 0.029922156 | H25: NGO / 中部 | I25: 3418 | J25: 716416 | K25: 0.069721104
A26: GE | B26: トランスアジア航空 | C26: 25 | D26: 7500 | E26: 0.029220855 | H26: NGS / 長崎 | I26: 61 | J26: 10133 | K26: 0.00098613648
... A29: NX | B29: マカオ航空 | C29: 1 | D29: 178 | E29: 0.00069350829 | H29: OIT / 大分 | I29: 27 | J29: 4014 | K29: 0.00039063967
A30: 合計 | C30: 1061 | D30: 256666 | E30: - | H30: OKA / 那覇 | I30: 897 | J30: 169239 | K30: 0.016470221
A31: DNA / 嘉手納 | H31: OKJ / 岡山 | I31: 179 | J31: 29387 | K31: 0.0028599223
A32: UA | B32: ユナイテッド航空 | C32: 1 | D32: 155 | E32: 1 | H32: OKO / 横田 | I32: 1 | J32: 155 | K32: 1.5084492e-05
A33: 合計 | C33: 1 | D33: 155 | E33: - | H33: SDJ / 仙台 | I33: 165 | J33: 31726 | K33: 0.0030875521
A34: FSZ / 静岡 | H34: SHM / 南紀白浜 | I34: 1 | J34: 177 | K34: 1.7225516e-05
A35: OZ | B35: アシアナ航空 | C35: 65 | D35: 10396 | E35: 0.34756444 | H35: TAK / 高松 | I35: 102 | J35: 17620 | K35: 0.0017147661
A36: CI | B36: チャイナエアライン | C36: 48 | D36: 7584 | E36: 0.2535522 | H36: TOY / 富山 | I36: 111 | J36: 17557 | K36: 0.001708635
A37: KE | B37: 大韓航空 | C37: 38 | D37: 7368 | E37: 0.24633078 | H37: UBJ / 山口宇部 | I37: 11 | J37: 1941 | K37: 0.00018889676
A38: MU | B38: 中国東方航空 | C38: 27 | D38: 4563 | E38: 0.15255257 | H38: YGJ / 米子 | I38: 38 | J38: 6285 | K38: 0.00061165181
A39: 合計 | C39: 178 | D39: 29911 | E39: - | H39: 合計 | I39: 44082 | J39: 10275454 | K39: -
A40: FUK / 福岡
A41: KE | B41: 大韓航空 | C41: 450 | D41: 98825 | E41: 0.16910535
A42: OZ | B42: アシアナ航空 | C42: 285 | D42: 62088 | E42: 0.10624248
...

Sheet 15年
A1: 出発空港 | B1: 便数 | C1: 座席数
A2: NRT / 成田 | B2: 18376 | C2: 4490101
A3: KIX / 関西 | B3: 10035 | C3: 2224829
A4: HND / 羽田 | B4: 7187 | C4: 1821991
A5: NGO / 中部 | B5: 3814 | C5: 758812
A6: FUK / 福岡 | B6: 3078 | C6: 651005
A7: CTS / 新千歳 | B7: 1336 | C7: 329642
A8: OKA / 那覇 | B8: 1313 | C8: 264294
A9: HIJ / 広島 | B9: 351 | C9: 54934
A10: FSZ / 静岡 | B10: 279 | C10: 47050
A11: KMQ / 小松 | B11: 183 | C11: 30532
A12: HKD / 函館 | B12: 124 | C12: 30024
A13: AKJ / 旭川 | B13: 142 | C13: 29403
... A36: 合計 | B36: 47747 | C36: 10982337

Sheet 15年詳細
A1: ツーレター | B1: 航空会社 | C1: 便数 | D1: 座席 | E1: シェア | H1: 空港 | I1: 便数 | J1: 総座席 | K1: シェア
A2: AKJ / 旭川 | H2: AKJ / 旭川 | I2: 142 | J2: 29403 | K2: 0.002677299
A3: MU | B3: 中国東方航空 | C3: 66 | D3: 10941 | E3: 0.37210489 | H3: AOJ / 青森 | I3: 40 | J3: 5901 | K3: 0.00053731733
A4: GE | B4: トランスアジア航空 | C4: 26 | D4: 7800 | E4: 0.26527905 | H4: AXT / 秋田 | I4: 39 | J4: 6429 | K4: 0.00058539453
A5: BR | B5: エバー航空 | C5: 31 | D5: 7404 | E5: 0.25181104 | H5: CTS / 新千歳 | I5: 1336 | J5: 329642 | K5: 0.030015651
A6: OZ | B6: アシアナ航空 | C6: 18 | D6: 3078 | E6: 0.1046832 | H6: DNA / 嘉手納 | I6: 3 | J6: 667 | K6: 6.0733886e-05
A7: 9C | B7: 春秋航空 | C7: 1 | D7: 180 | E7: 0.0061218243 | H7: FSZ / 静岡 | I7: 279 | J7: 47050 | K7: 0.0042841519
A8: 合計 | C8: 142 | D8: 29403 | E8: - | H8: FUK / 福岡 | I8: 3078 | J8: 651005 | K8: 0.059277456
A9: AOJ / 青森 | H9: HIJ / 広島 | I9: 351 | J9: 54934 | K9: 0.0050020319
A10: KE | B10: 大韓航空 | C10: 38 | D10: 5365 | E10: 0.90916794 | H10: HKD / 函館 | I10: 124 | J10: 30024 | K10: 0.0027338444
A11: CZ | B11: 中国南方航空 | C11: 2 | D11: 536 | E11: 0.090832062 | H11: HND / 羽田 | I11: 7187 | J11: 1821991 | K11: 0.16590194
A12: 合計 | C12: 40 | D12: 5901 | E12: - | H12: HSG / 佐賀 | I12: 77 | J12: 11598 | K12: 0.0010560594
A13: AXT / 秋田 | H13: IBR / 茨城 | I13: 111 | J13: 19777 | K13: 0.0018008007
A14: KE | B14: 大韓航空 | C14: 39 | D14: 6429 | E14: 1 | H14: ISG / 石垣 | I14: 2 | J14: 316 | K14: 2.8773475e-05
A15: 合計 | C15: 39 | D15: 6429 | E15: - | H15: IWO / 硫黄島 | I15: 3 | J15: 465 | K15: 4.2340715e-05
A16: CTS / 新千歳 | H16: KIJ / 新潟 | I16: 136 | J16: 21886 | K16: 0.0019928363
A17: CI | B17: チャイナエアライン | C17: 169 | D17: 56908 | E17: 0.17263577 | H17: KIX / 関西 | I17: 10035 | J17: 2224829 | K17: 0.20258247
A18: CX | B18: キャセイパシフィック航空 | C18: 153 | D18: 52466 | E18: 0.15916054 | H18: KMI / 宮崎 | I18: 76 | J18: 14164 | K18: 0.0012897073
A19: KE | B19: 大韓航空 | C19: 205 | D19: 43327 | E19: 0.13143653 | H19: KMJ / 熊本 | I19: 41 | J19: 6935 | K19: 0.00063146851
A20: TG | B20: タイ国際航空 | C20: 90 | D20: 32560 | E20: 0.098773821 | H20: KMQ / 小松 | I20: 183 | J20: 30532 | K20: 0.0027801004
A21: BR | B21: エバー航空 | C21: 107 | D21: 30700 | E21: 0.093131336 | H21: KOJ / 鹿児島 | I21: 144 | J21: 25377 | K21: 0.0023107104
A22: LJ | B22: ジンエアー | C22: 117 | D22: 21411 | E22: 0.064952282 | H22: MMY / 宮古 | I22: 9 | J22: 1584 | K22: 0.0001442316
A23: HX | B23: 香港航空 | C23: 64 | D23: 18102 | E23: 0.054914119 | H23: MYJ / 松山 | I23: 61 | J23: 9593 | K23: 0.0008734935
A24: MU | B24: 中国東方航空 | C24: 64 | D24: 11146 | E24: 0.033812439 | H24: NGO / 中部 | I24: 3814 | J24: 758812 | K24: 0.069093855
A25: TW | B25: ティーウェイ航空 | C25: 90 | D25: 10980 | E25: 0.033308862 | H25: NGS / 長崎 | I25: 27 | J25: 3660 | K25: 0.0003332624
A26: 9C | B26: 春秋航空 | C26: 56 | D26: 10080 | E26: 0.030578628 | H26: NRT / 成田 | I26: 18376 | J26: 4490101 | K26: 0.4088475
A27: HA | B27: ハワイアン航空 | C27: 38 | D27: 9842 | E27: 0.029856632 | H27: OIT / 大分 | I27: 78 | J27: 11116 | K27: 0.0010121707
A28: CA | B28: 中国国際航空 | C28: 47 | D28: 9095 | E28: 0.027590538 | H28: OKA / 那覇 | I28: 1313 | J28: 264294 | K28: 0.02406537
... A34: NX | B34: マカオ航空 | C34: 3 | D34: 525 | E34: 0.0015926369 | H34: UBJ / 山口宇部 | I34: 23 | J34: 3951 | K34: 0.00035975949
A35: 合計 | C35: 1336 | D35: 329642 | E35: - | H35: YGJ / 米子 | I35: 39 | J35: 6821 | K35: 0.00062108821
A36: DNA / 嘉手納 | H36: 合計 | I36: 47747 | J36: 10982337 | K36: -
A37: UA | B37: ユナイテッド航空 | C37: 3 | D37: 667 | E37: 1
A38: 合計 | C38: 3 | D38: 667 | E38: -
A39: FSZ / 静岡
A40: GS | B40: 天津航空 | C40: 89 | D40: 15544 | E40: 0.33037194
A41: MU | B41: 中国東方航空 | C41: 69 | D41: 11474 | E41: 0.24386823
A42: CI | B42: チャイナエアライン | C42: 51 | D42: 8058 | E42: 0.17126461
A43: OZ | B43: アシアナ航空 | C43: 39 | D43: 6929 | E43: 0.14726886
A44: JD | B44: 北京首都航空 | C44: 26 | D44: 4290 | E44: 0.091179596
A45: CZ | B45: 中国南方航空 | C45: 5 | D45: 755 | E45: 0.016046759
...

Sheet 16年
A1: 出発空港 | B1: 便数 | C1: 座席数
A2: AKJ / 旭川 | B2: 205 | C2: 41102
A3: AOJ / 青森 | B3: 39 | C3: 5898
A4: CTS / 新千歳 | B4: 1638 | C4: 444971
A5: DNA / 嘉手納 | B5: 3 | C5: 498
A6: FKS / 福島 | B6: 2 | C6: 364
A7: FSZ / 静岡 | B7: 373 | C7: 60926
A8: FUK / 福岡 | B8: 3949 | C8: 814690
A9: HIJ / 広島 | B9: 398 | C9: 59465
A10: HKD / 函館 | B10: 192 | C10: 38350
A11: HND / 羽田 | B11: 9124 | C11: 2237030
A12: HSG / 佐賀 | B12: 66 | C12: 9618
A13: IBR / 茨城 | B13: 120 | C13: 20426
... A38: 合計 | B38: 57649 | C38: 12813752

Sheet 16年詳細
A1: ツーレター | B1: 航空会社 | C1: 便数 | D1: 座席 | E1: シェア | H1: 空港 | I1: 便数 | J1: 総座席 | K1: シェア
A2: AKJ / 旭川 | H2: AKJ / 旭川 | I2: 205 | J2: 41102 | K2: 0.0032076475
A3: GE | B3: トランスアジア航空 | C3: 52 | D3: 15392 | E3: 0.37448299 | H3: AOJ / 青森 | I3: 39 | J3: 5898 | K3: 0.00046028673
A4: MU | B4: 中国東方航空 | C4: 84 | D4: 13353 | E4: 0.3248747 | H4: CTS / 新千歳 | I4: 1638 | J4: 444971 | K4: 0.034726051
A5: 9C | B5: 春秋航空 | C5: 26 | D5: 4680 | E5: 0.11386307 | H5: DNA / 嘉手納 | I5: 3 | J5: 498 | K5: 3.8864495e-05
A6: BR | B6: エバー航空 | C6: 24 | D6: 4416 | E6: 0.10744003 | H6: FKS / 福島 | I6: 2 | J6: 364 | K6: 2.840698e-05
A7: OZ | B7: アシアナ航空 | C7: 18 | D7: 3084 | E7: 0.075032845 | H7: FSZ / 静岡 | I7: 373 | J7: 60926 | K7: 0.0047547354
A8: NX | B8: マカオ航空 | C8: 1 | D8: 177 | E8: 0.0043063598 | H8: FUK / 福岡 | I8: 3949 | J8: 814690 | K8: 0.063579348
A9: 合計 | C9: 205 | D9: 41102 | E9: - | H9: HIJ / 広島 | I9: 398 | J9: 59465 | K9: 0.0046407173
A10: AOJ / 青森 | H10: HKD / 函館 | I10: 192 | J10: 38350 | K10: 0.0029928783
A11: KE | B11: 大韓航空 | C11: 39 | D11: 5898 | E11: 1 | H11: HND / 羽田 | I11: 9124 | J11: 2237030 | K11: 0.1745804
A12: 合計 | C12: 39 | D12: 5898 | E12: - | H12: HSG / 佐賀 | I12: 66 | J12: 9618 | K12: 0.00075059982
A13: CTS / 新千歳 | H13: IBR / 茨城 | I13: 120 | J13: 20426 | K13: 0.0015940686
A14: CI | B14: チャイナエアライン | C14: 208 | D14: 70700 | E14: 0.15888676 | H14: ISG / 石垣 | I14: 1 | J14: 158 | K14: 1.2330502e-05
A15: KE | B15: 大韓航空 | C15: 244 | D15: 63081 | E15: 0.14176429 | H15: IWO / 硫黄島 | I15: 1 | J15: 166 | K15: 1.2954832e-05
A16: CX | B16: キャセイパシフィック航空 | C16: 149 | D16: 55894 | E16: 0.12561268 | H16: KIJ / 新潟 | I16: 147 | J16: 23630 | K16: 0.0018441125
A17: BR | B17: エバー航空 | C17: 194 | D17: 50506 | E17: 0.11350403 | H17: KIX / 関西 | I17: 13666 | J17: 2870624 | K17: 0.22402681
A18: TG | B18: タイ国際航空 | C18: 91 | D18: 32754 | E18: 0.073609291 | H18: KKJ / 北九州 | I18: 18 | J18: 3086 | K18: 0.000240835
A19: LJ | B19: ジンエアー | C19: 91 | D19: 29455 | E19: 0.066195325 | H19: KMI / 宮崎 | I19: 103 | J19: 19251 | K19: 0.0015023703
A20: GE | B20: トランスアジア航空 | C20: 91 | D20: 26899 | E20: 0.060451131 | H20: KMJ / 熊本 | I20: 103 | J20: 17294 | K20: 0.0013496437
A21: D7 | B21: エアアジアX | C21: 52 | D21: 19604 | E21: 0.044056804 | H21: KMQ / 小松 | I21: 156 | J21: 25199 | K21: 0.0019665591
A22: HX | B22: 香港航空 | C22: 65 | D22: 18854 | E22: 0.042371301 | H22: KOJ / 鹿児島 | I22: 161 | J22: 30035 | K22: 0.0023439661
A23: MU | B23: 中国東方航空 | C23: 65 | D23: 12514 | E23: 0.028123181 | H23: KUH / 釧路 | I23: 11 | J23: 1730 | K23: 0.0001350112
A24: 9C | B24: 春秋航空 | C24: 65 | D24: 11700 | E24: 0.026293848 | H24: MMY / 宮古 | I24: 11 | J24: 1887 | K24: 0.00014726366
A25: TW | B25: ティーウェイ航空 | C25: 89 | D25: 10858 | E25: 0.02440159 | H25: MYJ / 松山 | I25: 65 | J25: 9919 | K25: 0.00077409021
... A34: KA | B34: 香港ドラゴン航空 | C34: 2 | D34: 614 | E34: 0.0013798652 | H34: TAK / 高松 | I34: 129 | J34: 22590 | K34: 0.0017629497
A35: 合計 | C35: 1638 | D35: 444971 | E35: - | H35: TOY / 富山 | I35: 139 | J35: 21715 | K35: 0.0016946637
A36: DNA / 嘉手納 | H36: UBJ / 山口宇部 | I36: 36 | J36: 6156 | K36: 0.00048042135
A37: UA | B37: ユナイテッド航空 | C37: 3 | D37: 498 | E37: 1 | H37: YGJ / 米子 | I37: 42 | J37: 7284 | K37: 0.00056845177
A38: 合計 | C38: 3 | D38: 498 | E38: - | H38: 合計 | I38: 57649 | J38: 12813752 | K38: -
A39: FKS / 福島
A40: GE | B40: トランスアジア航空 | C40: 2 | D40: 364 | E40: 1
A41: 合計 | C41: 2 | D41: 364 | E41: -
A42: FSZ / 静岡
A43: MU | B43: 中国東方航空 | C43: 174 | D43: 28427 | E43: 0.46658241
A44: JD | B44: 北京首都航空 | C44: 59 | D44: 9386 | E44: 0.15405574
A45: CI | B45: チャイナエアライン | C45: 52 | D45: 8216 | E45: 0.13485212
A46: GS | B46: 天津航空 | C46: 39 | D46: 6945 | E46: 0.11399074
A47: OZ | B47: アシアナ航空 | C47: 39 | D47: 6675 | E47: 0.10955914
A48: CZ | B48: 中国南方航空 | C48: 9 | D48: 1159 | E48: 0.019023077
...

Sheet 17年
A1: 出発空港 | B1: 便数 | C1: 座席数
A2: NRT / 成田 | B2: 20728 | C2: 4798050
A3: KIX / 関西 | B3: 14197 | C3: 2994333
A4: HND / 羽田 | B4: 9823 | C4: 2406269
A5: FUK / 福岡 | B5: 4367 | C5: 904564
A6: NGO / 中部 | B6: 4404 | C6: 872699
A7: CTS / 新千歳 | B7: 2088 | C7: 527020
A8: OKA / 那覇 | B8: 2287 | C8: 462643
A9: HIJ / 広島 | B9: 335 | C9: 53964
A10: FSZ / 静岡 | B10: 307 | C10: 51881
A11: SDJ / 仙台 | B11: 259 | C11: 45093
A12: TAK / 高松 | B12: 236 | C12: 42151
A13: KOJ / 鹿児島 | B13: 233 | C13: 41968
... A35: 合計 | B35: 61091 | C35: 13508152

Sheet 17年詳細
A1: ツーレター | B1: 航空会社 | C1: 便数 | D1: 座席 | E1: シェア | H1: 空港 | I1: 便数 | J1: 総座席 | K1: シェア
A2: AKJ / 旭川 | H2: AKJ / 旭川 | I2: 65 | J2: 10708 | K2: 0.00079270651
A3: MU | B3: 中国東方航空 | C3: 49 | D3: 7632 | E3: 0.71273814 | H3: AOJ / 青森 | I3: 81 | J3: 13408 | K3: 0.00099258581
A4: BR | B4: エバー航空 | C4: 14 | D4: 2576 | E4: 0.2405678 | H4: CTS / 新千歳 | I4: 2088 | J4: 527020 | K4: 0.039014959
A5: OZ | B5: アシアナ航空 | C5: 2 | D5: 500 | E5: 0.046694061 | H5: DNA / 嘉手納 | I5: 2 | J5: 332 | K5: 2.4577751e-05
A6: 合計 | C6: 65 | D6: 10708 | E6: - | H6: FSZ / 静岡 | I6: 307 | J6: 51881 | K6: 0.0038407178
A7: AOJ / 青森 | H7: FUK / 福岡 | I7: 4367 | J7: 904564 | K7: 0.066964304
A8: BK | B8: 奥凱航空 | C8: 40 | D8: 7080 | E8: 0.52804296 | H8: HIJ / 広島 | I8: 335 | J8: 53964 | K8: 0.003994921
A9: KE | B9: 大韓航空 | C9: 39 | D9: 6000 | E9: 0.44749403 | H9: HKD / 函館 | I9: 175 | J9: 31589 | K9: 0.0023385138
A10: KA | B10: 香港ドラゴン航空 | C10: 2 | D10: 328 | E10: 0.024463007 | H10: HND / 羽田 | I10: 9823 | J10: 2406269 | K10: 0.17813458
A11: 合計 | C11: 81 | D11: 13408 | E11: - | H11: HSG / 佐賀 | I11: 106 | J11: 19692 | K11: 0.0014577864
A12: CTS / 新千歳 | H12: IBR / 茨城 | I12: 79 | J12: 14238 | K12: 0.0010540302
A13: KE | B13: 大韓航空 | C13: 266 | D13: 57535 | E13: 0.10917043 | H13: ISG / 石垣 | I13: 34 | J13: 5908 | K13: 0.00043736553
A14: CI | B14: チャイナエアライン | C14: 166 | D14: 56908 | E14: 0.10798072 | H14: IWO / 硫黄島 | I14: 2 | J14: 332 | K14: 2.4577751e-05
A15: CX | B15: キャセイパシフィック航空 | C15: 143 | D15: 53432 | E15: 0.10138515 | H15: KIJ / 新潟 | I15: 131 | J15: 19358 | K15: 0.0014330606
A16: BR | B16: エバー航空 | C16: 180 | D16: 48173 | E16: 0.091406398 | H16: KIX / 関西 | I16: 14197 | J16: 2994333 | K16: 0.22166859
A17: HX | B17: 香港航空 | C17: 140 | D17: 39690 | E17: 0.075310235 | H17: KKJ / 北九州 | I17: 179 | J17: 33097 | K17: 0.0024501501
A18: TG | B18: タイ国際航空 | C18: 90 | D18: 32419 | E18: 0.061513795 | H18: KMI / 宮崎 | I18: 101 | J18: 17387 | K18: 0.0012871487
A19: LJ | B19: ジンエアー | C19: 90 | D19: 28284 | E19: 0.053667792 | H19: KMJ / 熊本 | I19: 35 | J19: 5530 | K19: 0.00040938242
A20: D7 | B20: エアアジアX | C20: 68 | D20: 25636 | E20: 0.048643315 | H20: KMQ / 小松 | I20: 181 | J20: 29929 | K20: 0.0022156251
A21: BX | B21: エアプサン | C21: 128 | D21: 23640 | E21: 0.044855983 | H21: KOJ / 鹿児島 | I21: 233 | J21: 41968 | K21: 0.0031068647
A22: OZ | B22: アシアナ航空 | C22: 90 | D22: 22106 | E22: 0.041945277 | H22: MYJ / 松山 | I22: 26 | J22: 3132 | K22: 0.00023185999
A23: MU | B23: 中国東方航空 | C23: 92 | D23: 18831 | E23: 0.035731092 | H23: NGO / 中部 | I23: 4404 | J23: 872699 | K23: 0.064605358
A24: TW | B24: ティーウェイ航空 | C24: 90 | D24: 17010 | E24: 0.032275815 | H24: NGS / 長崎 | I24: 78 | J24: 13272 | K24: 0.00098251782
... A34: HZ | B34: オーロラ航空 | C34: 42 | D34: 2796 | E34: 0.0053053015 | H34: YGJ / 米子 | I34: 64 | J34: 11955 | K34: 0.00088502113
A35: SQ | B35: シンガポール航空 | C35: 4 | D35: 1178 | E35: 0.0022352093 | H35: 合計 | I35: 61091 | J35: 13508152 | K35: -
A36: HO | B36: 吉祥航空 | C36: 5 | D36: 900 | E36: 0.0017077151
A37: 合計 | C37: 2088 | D37: 527020 | E37: -
A38: DNA / 嘉手納
A39: UA | B39: ユナイテッド航空 | C39: 2 | D39: 332 | E39: 1
A40: 合計 | C40: 2 | D40: 332 | E40: -
A41: FSZ / 静岡
A42: MU | B42: 中国東方航空 | C42: 163 | D42: 26532 | E42: 0.51140109
A43: RS | B43: エアソウル | C43: 64 | D43: 12480 | E43: 0.24055049
A44: CI | B44: チャイナエアライン | C44: 51 | D44: 8058 | E44: 0.15531698
A45: JD | B45: 北京首都航空 | C45: 27 | D45: 4481 | E45: 0.086370733
A46: FM | B46: 上海航空 | C46: 1 | D46: 166 | E46: 0.0031996299
A47: KA | B47: 香港ドラゴン航空 | C47: 1 | D47: 164 | E47: 0.0031610802
A48: 合計 | C48: 307 | D48: 51881 | E48: -
A49: FUK / 福岡
...

Sheet 経過分析
A1: 便数
A2: 空港 | C2: 2012年 | D2: 2013年 | E2: 2014年 | F2: 2015年 | G2: 2016年 | H2: 2017年
A3: 北海道 | B3: AKJ / 旭川 | C3: =IF(ISERROR(VLOOKUP(B3,'12年詳細'!$H$2:$J$100,2,FALSE))=TRUE, 0,VLOOKUP(B3,'12年詳細'!$H$2:$J$100,2,FALSE)) -> 16 | D3: =IF(ISERROR(VLOOKUP(B3,'13年詳細'!$H$2:$J$100,2,FALSE))=TRUE, 0,VLOOKUP(B3,'13年詳細'!$H$2:$J$100,2,FALSE)) -> 39 | E3: =IF(ISERROR(VLOOKUP(B3,'14年詳細'!$H$2:$J$100,2,FALSE))=TRUE, 0,VLOOKUP(B3,'14年詳細'!$H$2:$J$100,2,FALSE)) -> 79 | F3: =IF(ISERROR(VLOOKUP(B3,'15年詳細'!$H$2:$J$100,2,FALSE))=TRUE, 0,VLOOKUP(B3,'15年詳細'!$H$2:$J$100,2,FALSE)) -> 142 | G3: =IF(ISERROR(VLOOKUP(B3,'16年詳細'!$H$2:$J$100,2,FALSE))=TRUE, 0,VLOOKUP(B3,'16年詳細'!$H$2:$J$100,2,FALSE)) -> 205 | H3: =IF(ISERROR(VLOOKUP(B3,'17年詳細'!$H$2:$J$100,2,FALSE))=TRUE, 0,VLOOKUP(B3,'17年詳細'!$H$2:$J$100,2,FALSE)) -> 65
B4: CTS / 新千歳 | C4: =IF(ISERROR(VLOOKUP(B4,'12年詳細'!$H$2:$J$100,2,FALSE))=TRUE, 0,VLOOKUP(B4,'12年詳細'!$H$2:$J$100,2,FALSE)) -> 832 | D4: =IF(ISERROR(VLOOKUP(B4,'13年詳細'!$H$2:$J$100,2,FALSE))=TRUE, 0,VLOOKUP(B4,'13年詳細'!$H$2:$J$100,2,FALSE)) -> 833 | E4: =IF(ISERROR(VLOOKUP(B4,'14年詳細'!$H$2:$J$100,2,FALSE))=TRUE, 0,VLOOKUP(B4,'14年詳細'!$H$2:$J$100,2,FALSE)) -> 1061 | F4: =IF(ISERROR(VLOOKUP(B4,'15年詳細'!$H$2:$J$100,2,FALSE))=TRUE, 0,VLOOKUP(B4,'15年詳細'!$H$2:$J$100,2,FALSE)) -> 1336 | G4: =IF(ISERROR(VLOOKUP(B4,'16年詳細'!$H$2:$J$100,2,FALSE))=TRUE, 0,VLOOKUP(B4,'16年詳細'!$H$2:$J$100,2,FALSE)) -> 1638 | H4: =IF(ISERROR(VLOOKUP(B4,'17年詳細'!$H$2:$J$100,2,FALSE))=TRUE, 0,VLOOKUP(B4,'17年詳細'!$H$2:$J$100,2,FALSE)) -> 2088
B5: OKD / 丘珠 | C5: =IF(ISERROR(VLOOKUP(B5,'12年詳細'!$H$2:$J$100,2,FALSE))=TRUE, 0,VLOOKUP(B5,'12年詳細'!$H$2:$J$100,2,FALSE)) -> 0 | D5: =IF(ISERROR(VLOOKUP(B5,'13年詳細'!$H$2:$J$100,2,FALSE))=TRUE, 0,VLOOKUP(B5,'13年詳細'!$H$2:$J$100,2,FALSE)) -> 0 | E5: =IF(ISERROR(VLOOKUP(B5,'14年詳細'!$H$2:$J$100,2,FALSE))=TRUE, 0,VLOOKUP(B5,'14年詳細'!$H$2:$J$100,2,FALSE)) -> 0 | F5: =IF(ISERROR(VLOOKUP(B5,'15年詳細'!$H$2:$J$100,2,FALSE))=TRUE, 0,VLOOKUP(B5,'15年詳細'!$H$2:$J$100,2,FALSE)) -> 0 | G5: =IF(ISERROR(VLOOKUP(B5,'16年詳細'!$H$2:$J$100,2,FALSE))=TRUE, 0,VLOOKUP(B5,'16年詳細'!$H$2:$J$100,2,FALSE)) -> 0 | H5: =IF(ISERROR(VLOOKUP(B5,'17年詳細'!$H$2:$J$100,2,FALSE))=TRUE, 0,VLOOKUP(B5,'17年詳細'!$H$2:$J$100,2,FALSE)) -> 0
B6: HKD / 函館 | C6: =IF(ISERROR(VLOOKUP(B6,'12年詳細'!$H$2:$J$100,2,FALSE))=TRUE, 0,VLOOKUP(B6,'12年詳細'!$H$2:$J$100,2,FALSE)) -> 39 | D6: =IF(ISERROR(VLOOKUP(B6,'13年詳細'!$H$2:$J$100,2,FALSE))=TRUE, 0,VLOOKUP(B6,'13年詳細'!$H$2:$J$100,2,FALSE)) -> 63 | E6: =IF(ISERROR(VLOOKUP(B6,'14年詳細'!$H$2:$J$100,2,FALSE))=TRUE, 0,VLOOKUP(B6,'14年詳細'!$H$2:$J$100,2,FALSE)) -> 91 | F6: =IF(ISERROR(VLOOKUP(B6,'15年詳細'!$H$2:$J$100,2,FALSE))=TRUE, 0,VLOOKUP(B6,'15年詳細'!$H$2:$J$100,2,FALSE)) -> 124 | G6: =IF(ISERROR(VLOOKUP(B6,'16年詳細'!$H$2:$J$100,2,FALSE))=TRUE, 0,VLOOKUP(B6,'16年詳細'!$H$2:$J$100,2,FALSE)) -> 192 | H6: =IF(ISERROR(VLOOKUP(B6,'17年詳細'!$H$2:$J$100,2,FALSE))=TRUE, 0,VLOOKUP(B6,'17年詳細'!$H$2:$J$100,2,FALSE)) -> 175
B7: OBO / 帯広 | C7: =IF(ISERROR(VLOOKUP(B7,'12年詳細'!$H$2:$J$100,2,FALSE))=TRUE, 0,VLOOKUP(B7,'12年詳細'!$H$2:$J$100,2,FALSE)) -> 0 | D7: =IF(ISERROR(VLOOKUP(B7,'13年詳細'!$H$2:$J$100,2,FALSE))=TRUE, 0,VLOOKUP(B7,'13年詳細'!$H$2:$J$100,2,FALSE)) -> 13 | E7: =IF(ISERROR(VLOOKUP(B7,'14年詳細'!$H$2:$J$100,2,FALSE))=TRUE, 0,VLOOKUP(B7,'14年詳細'!$H$2:$J$100,2,FALSE)) -> 1 | F7: =IF(ISERROR(VLOOKUP(B7,'15年詳細'!$H$2:$J$100,2,FALSE))=TRUE, 0,VLOOKUP(B7,'15年詳細'!$H$2:$J$100,2,FALSE)) -> 0 | G7: =IF(ISERROR(VLOOKUP(B7,'16年詳細'!$H$2:$J$100,2,FALSE))=TRUE, 0,VLOOKUP(B7,'16年詳細'!$H$2:$J$100,2,FALSE)) -> 24 | H7: =IF(ISERROR(VLOOKUP(B7,'17年詳細'!$H$2:$J$100,2,FALSE))=TRUE, 0,VLOOKUP(B7,'17年詳細'!$H$2:$J$100,2,FALSE)) -> 1
B8: KUH / 釧路 | C8: =IF(ISERROR(VLOOKUP(B8,'12年詳細'!$H$2:$J$100,2,FALSE))=TRUE, 0,VLOOKUP(B8,'12年詳細'!$H$2:$J$100,2,FALSE)) -> 0 | D8: =IF(ISERROR(VLOOKUP(B8,'13年詳細'!$H$2:$J$100,2,FALSE))=TRUE, 0,VLOOKUP(B8,'13年詳細'!$H$2:$J$100,2,FALSE)) -> 13 | E8: =IF(ISERROR(VLOOKUP(B8,'14年詳細'!$H$2:$J$100,2,FALSE))=TRUE, 0,VLOOKUP(B8,'14年詳細'!$H$2:$J$100,2,FALSE)) -> 13 | F8: =IF(ISERROR(VLOOKUP(B8,'15年詳細'!$H$2:$J$100,2,FALSE))=TRUE, 0,VLOOKUP(B8,'15年詳細'!$H$2:$J$100,2,FALSE)) -> 0 | G8: =IF(ISERROR(VLOOKUP(B8,'16年詳細'!$H$2:$J$100,2,FALSE))=TRUE, 0,VLOOKUP(B8,'16年詳細'!$H$2:$J$100,2,FALSE)) -> 11 | H8: =IF(ISERROR(VLOOKUP(B8,'17年詳細'!$H$2:$J$100,2,FALSE))=TRUE, 0,VLOOKUP(B8,'17年詳細'!$H$2:$J$100,2,FALSE)) -> 0
B9: MMB / 女満別 | C9: =IF(ISERROR(VLOOKUP(B9,'12年詳細'!$H$2:$J$100,2,FALSE))=TRUE, 0,VLOOKUP(B9,'12年詳細'!$H$2:$J$100,2,FALSE)) -> 0 | D9: =IF(ISERROR(VLOOKUP(B9,'13年詳細'!$H$2:$J$100,2,FALSE))=TRUE, 0,VLOOKUP(B9,'13年詳細'!$H$2:$J$100,2,FALSE)) -> 0 | E9: =IF(ISERROR(VLOOKUP(B9,'14年詳細'!$H$2:$J$100,2,FALSE))=TRUE, 0,VLOOKUP(B9,'14年詳細'!$H$2:$J$100,2,FALSE)) -> 0 | F9: =IF(ISERROR(VLOOKUP(B9,'15年詳細'!$H$2:$J$100,2,FALSE))=TRUE, 0,VLOOKUP(B9,'15年詳細'!$H$2:$J$100,2,FALSE)) -> 0 | G9: =IF(ISERROR(VLOOKUP(B9,'16年詳細'!$H$2:$J$100,2,FALSE))=TRUE, 0,VLOOKUP(B9,'16年詳細'!$H$2:$J$100,2,FALSE)) -> 0 | H9: =IF(ISERROR(VLOOKUP(B9,'17年詳細'!$H$2:$J$100,2,FALSE))=TRUE, 0,VLOOKUP(B9,'17年詳細'!$H$2:$J$100,2,FALSE)) -> 0
B10: 合計 | C10: =SUM(C3:C9) -> 887 | D10: =SUM(D3:D9) -> 961 | E10: =SUM(E3:E9) -> 1245 | F10: =SUM(F3:F9) -> 1602 | G10: =SUM(G3:G9) -> 2070 | H10: =SUM(H3:H9) -> 2329
A11: 東北 | B11: AOJ / 青森 | C11: =IF(ISERROR(VLOOKUP(B11,'12年詳細'!$H$2:$J$100,2,FALSE))=TRUE, 0,VLOOKUP(B11,'12年詳細'!$H$2:$J$100,2,FALSE)) -> 40 | D11: =IF(ISERROR(VLOOKUP(B11,'13年詳細'!$H$2:$J$100,2,FALSE))=TRUE, 0,VLOOKUP(B11,'13年詳細'!$H$2:$J$100,2,FALSE)) -> 38 | E11: =IF(ISERROR(VLOOKUP(B11,'14年詳細'!$H$2:$J$100,2,FALSE))=TRUE, 0,VLOOKUP(B11,'14年詳細'!$H$2:$J$100,2,FALSE)) -> 39 | F11: =IF(ISERROR(VLOOKUP(B11,'15年詳細'!$H$2:$J$100,2,FALSE))=TRUE, 0,VLOOKUP(B11,'15年詳細'!$H$2:$J$100,2,FALSE)) -> 40 | G11: =IF(ISERROR(VLOOKUP(B11,'16年詳細'!$H$2:$J$100,2,FALSE))=TRUE, 0,VLOOKUP(B11,'16年詳細'!$H$2:$J$100,2,FALSE)) -> 39 | H11: =IF(ISERROR(VLOOKUP(B11,'17年詳細'!$H$2:$J$100,2,FALSE))=TRUE, 0,VLOOKUP(B11,'17年詳細'!$H$2:$J$100,2,FALSE)) -> 81
B12: MSJ / 三沢 | C12: =IF(ISERROR(VLOOKUP(B12,'12年詳細'!$H$2:$J$100,2,FALSE))=TRUE, 0,VLOOKUP(B12,'12年詳細'!$H$2:$J$100,2,FALSE)) -> 0 | D12: =IF(ISERROR(VLOOKUP(B12,'13年詳細'!$H$2:$J$100,2,FALSE))=TRUE, 0,VLOOKUP(B12,'13年詳細'!$H$2:$J$100,2,FALSE)) -> 0 | E12: =IF(ISERROR(VLOOKUP(B12,'14年詳細'!$H$2:$J$100,2,FALSE))=TRUE, 0,VLOOKUP(B12,'14年詳細'!$H$2:$J$100,2,FALSE)) -> 0 | F12: =IF(ISERROR(VLOOKUP(B12,'15年詳細'!$H$2:$J$100,2,FALSE))=TRUE, 0,VLOOKUP(B12,'15年詳細'!$H$2:$J$100,2,FALSE)) -> 0 | G12: =IF(ISERROR(VLOOKUP(B12,'16年詳細'!$H$2:$J$100,2,FALSE))=TRUE, 0,VLOOKUP(B12,'16年詳細'!$H$2:$J$100,2,FALSE)) -> 0 | H12: =IF(ISERROR(VLOOKUP(B12,'17年詳細'!$H$2:$J$100,2,FALSE))=TRUE, 0,VLOOKUP(B12,'17年詳細'!$H$2:$J$100,2,FALSE)) -> 0
B13: AXT / 秋田 | C13: =IF(ISERROR(VLOOKUP(B13,'12年詳細'!$H$2:$J$100,2,FALSE))=TRUE, 0,VLOOKUP(B13,'12年詳細'!$H$2:$J$100,2,FALSE)) -> 39 | D13: =IF(ISERROR(VLOOKUP(B13,'13年詳細'!$H$2:$J$100,2,FALSE))=TRUE, 0,VLOOKUP(B13,'13年詳細'!$H$2:$J$100,2,FALSE)) -> 38 | E13: =IF(ISERROR(VLOOKUP(B13,'14年詳細'!$H$2:$J$100,2,FALSE))=TRUE, 0,VLOOKUP(B13,'14年詳細'!$H$2:$J$100,2,FALSE)) -> 39 | F13: =IF(ISERROR(VLOOKUP(B13,'15年詳細'!$H$2:$J$100,2,FALSE))=TRUE, 0,VLOOKUP(B13,'15年詳細'!$H$2:$J$100,2,FALSE)) -> 39 | G13: =IF(ISERROR(VLOOKUP(B13,'16年詳細'!$H$2:$J$100,2,FALSE))=TRUE, 0,VLOOKUP(B13,'16年詳細'!$H$2:$J$100,2,FALSE)) -> 0 | H13: =IF(ISERROR(VLOOKUP(B13,'17年詳細'!$H$2:$J$100,2,FALSE))=TRUE, 0,VLOOKUP(B13,'17年詳細'!$H$2:$J$100,2,FALSE)) -> 0
B14: HNA / 花巻 | C14: =IF(ISERROR(VLOOKUP(B14,'12年詳細'!$H$2:$J$100,2,FALSE))=TRUE, 0,VLOOKUP(B14,'12年詳細'!$H$2:$J$100,2,FALSE)) -> 0 | D14: =IF(ISERROR(VLOOKUP(B14,'13年詳細'!$H$2:$J$100,2,FALSE))=TRUE, 0,VLOOKUP(B14,'13年詳細'!$H$2:$J$100,2,FALSE)) -> 0 | E14: =IF(ISERROR(VLOOKUP(B14,'14年詳細'!$H$2:$J$100,2,FALSE))=TRUE, 0,VLOOKUP(B14,'14年詳細'!$H$2:$J$100,2,FALSE)) -> 0 | F14: =IF(ISERROR(VLOOKUP(B14,'15年詳細'!$H$2:$J$100,2,FALSE))=TRUE, 0,VLOOKUP(B14,'15年詳細'!$H$2:$J$100,2,FALSE)) -> 0 | G14: =IF(ISERROR(VLOOKUP(B14,'16年詳細'!$H$2:$J$100,2,FALSE))=TRUE, 0,VLOOKUP(B14,'16年詳細'!$H$2:$J$100,2,FALSE)) -> 0 | H14: =IF(ISERROR(VLOOKUP(B14,'17年詳細'!$H$2:$J$100,2,FALSE))=TRUE, 0,VLOOKUP(B14,'17年詳細'!$H$2:$J$100,2,FALSE)) -> 0
B15: FKS / 福島 | C15: =IF(ISERROR(VLOOKUP(B15,'12年詳細'!$H$2:$J$100,2,FALSE))=TRUE, 0,VLOOKUP(B15,'12年詳細'!$H$2:$J$100,2,FALSE)) -> 0 | D15: =IF(ISERROR(VLOOKUP(B15,'13年詳細'!$H$2:$J$100,2,FALSE))=TRUE, 0,VLOOKUP(B15,'13年詳細'!$H$2:$J$100,2,FALSE)) -> 2 | E15: =IF(ISERROR(VLOOKUP(B15,'14年詳細'!$H$2:$J$100,2,FALSE))=TRUE, 0,VLOOKUP(B15,'14年詳細'!$H$2:$J$100,2,FALSE)) -> 0 | F15: =IF(ISERROR(VLOOKUP(B15,'15年詳細'!$H$2:$J$100,2,FALSE))=TRUE, 0,VLOOKUP(B15,'15年詳細'!$H$2:$J$100,2,FALSE)) -> 0 | G15: =IF(ISERROR(VLOOKUP(B15,'16年詳細'!$H$2:$J$100,2,FALSE))=TRUE, 0,VLOOKUP(B15,'16年詳細'!$H$2:$J$100,2,FALSE)) -> 2 | H15: =IF(ISERROR(VLOOKUP(B15,'17年詳細'!$H$2:$J$100,2,FALSE))=TRUE, 0,VLOOKUP(B15,'17年詳細'!$H$2:$J$100,2,FALSE)) -> 0
B16: SDJ / 仙台 | C16: =IF(ISERROR(VLOOKUP(B16,'12年詳細'!$H$2:$J$100,2,FALSE))=TRUE, 0,VLOOKUP(B16,'12年詳細'!$H$2:$J$100,2,FALSE)) -> 95 | D16: =IF(ISERROR(VLOOKUP(B16,'13年詳細'!$H$2:$J$100,2,FALSE))=TRUE, 0,VLOOKUP(B16,'13年詳細'!$H$2:$J$100,2,FALSE)) -> 190 | E16: =IF(ISERROR(VLOOKUP(B16,'14年詳細'!$H$2:$J$100,2,FALSE))=TRUE, 0,VLOOKUP(B16,'14年詳細'!$H$2:$J$100,2,FALSE)) -> 165 | F16: =IF(ISERROR(VLOOKUP(B16,'15年詳細'!$H$2:$J$100,2,FALSE))=TRUE, 0,VLOOKUP(B16,'15年詳細'!$H$2:$J$100,2,FALSE)) -> 177 | G16: =IF(ISERROR(VLOOKUP(B16,'16年詳細'!$H$2:$J$100,2,FALSE))=TRUE, 0,VLOOKUP(B16,'16年詳細'!$H$2:$J$100,2,FALSE)) -> 132 | H16: =IF(ISERROR(VLOOKUP(B16,'17年詳細'!$H$2:$J$100,2,FALSE))=TRUE, 0,VLOOKUP(B16,'17年詳細'!$H$2:$J$100,2,FALSE)) -> 259
B17: 合計 | C17: =SUM(C11:C16) -> 174 | D17: =SUM(D11:D16) -> 268 | E17: =SUM(E11:E16) -> 243 | F17: =SUM(F11:F16) -> 256 | G17: =SUM(G11:G16) -> 173 | H17: =SUM(H11:H16) -> 340
A18: 関東・甲信越 | B18: NRT / 成田 | C18: =IF(ISERROR(VLOOKUP(B18,'12年詳細'!$H$2:$J$100,2,FALSE))=TRUE, 0,VLOOKUP(B18,'12年詳細'!$H$2:$J$100,2,FALSE)) -> 17983 | D18: =IF(ISERROR(VLOOKUP(B18,'13年詳細'!$H$2:$J$100,2,FALSE))=TRUE, 0,VLOOKUP(B18,'13年詳細'!$H$2:$J$100,2,FALSE)) -> 18291 | E18: =IF(ISERROR(VLOOKUP(B18,'14年詳細'!$H$2:$J$100,2,FALSE))=TRUE, 0,VLOOKUP(B18,'14年詳細'!$H$2:$J$100,2,FALSE)) -> 19249 | F18: =IF(ISERROR(VLOOKUP(B18,'15年詳細'!$H$2:$J$100,2,FALSE))=TRUE, 0,VLOOKUP(B18,'15年詳細'!$H$2:$J$100,2,FALSE)) -> 18376 | G18: =IF(ISERROR(VLOOKUP(B18,'16年詳細'!$H$2:$J$100,2,FALSE))=TRUE, 0,VLOOKUP(B18,'16年詳細'!$H$2:$J$100,2,FALSE)) -> 19926 | H18: =IF(ISERROR(VLOOKUP(B18,'17年詳細'!$H$2:$J$100,2,FALSE))=TRUE, 0,VLOOKUP(B18,'17年詳細'!$H$2:$J$100,2,FALSE)) -> 20728
B19: HND / 羽田 | C19: =IF(ISERROR(VLOOKUP(B19,'12年詳細'!$H$2:$J$100,2,FALSE))=TRUE, 0,VLOOKUP(B19,'12年詳細'!$H$2:$J$100,2,FALSE)) -> 4499 | D19: =IF(ISERROR(VLOOKUP(B19,'13年詳細'!$H$2:$J$100,2,FALSE))=TRUE, 0,VLOOKUP(B19,'13年詳細'!$H$2:$J$100,2,FALSE)) -> 4674 | E19: =IF(ISERROR(VLOOKUP(B19,'14年詳細'!$H$2:$J$100,2,FALSE))=TRUE, 0,VLOOKUP(B19,'14年詳細'!$H$2:$J$100,2,FALSE)) -> 4896 | F19: =IF(ISERROR(VLOOKUP(B19,'15年詳細'!$H$2:$J$100,2,FALSE))=TRUE, 0,VLOOKUP(B19,'15年詳細'!$H$2:$J$100,2,FALSE)) -> 7187 | G19: =IF(ISERROR(VLOOKUP(B19,'16年詳細'!$H$2:$J$100,2,FALSE))=TRUE, 0,VLOOKUP(B19,'16年詳細'!$H$2:$J$100,2,FALSE)) -> 9124 | H19: =IF(ISERROR(VLOOKUP(B19,'17年詳細'!$H$2:$J$100,2,FALSE))=TRUE, 0,VLOOKUP(B19,'17年詳細'!$H$2:$J$100,2,FALSE)) -> 9823
B20: IBR / 茨城 | C20: =IF(ISERROR(VLOOKUP(B20,'12年詳細'!$H$2:$J$100,2,FALSE))=TRUE, 0,VLOOKUP(B20,'12年詳細'!$H$2:$J$100,2,FALSE)) -> 39 | D20: =IF(ISERROR(VLOOKUP(B20,'13年詳細'!$H$2:$J$100,2,FALSE))=TRUE, 0,VLOOKUP(B20,'13年詳細'!$H$2:$J$100,2,FALSE)) -> 2 | E20: =IF(ISERROR(VLOOKUP(B20,'14年詳細'!$H$2:$J$100,2,FALSE))=TRUE, 0,VLOOKUP(B20,'14年詳細'!$H$2:$J$100,2,FALSE)) -> 82 | F20: =IF(ISERROR(VLOOKUP(B20,'15年詳細'!$H$2:$J$100,2,FALSE))=TRUE, 0,VLOOKUP(B20,'15年詳細'!$H$2:$J$100,2,FALSE)) -> 111 | G20: =IF(ISERROR(VLOOKUP(B20,'16年詳細'!$H$2:$J$100,2,FALSE))=TRUE, 0,VLOOKUP(B20,'16年詳細'!$H$2:$J$100,2,FALSE)) -> 120 | H20: =IF(ISERROR(VLOOKUP(B20,'17年詳細'!$H$2:$J$100,2,FALSE))=TRUE, 0,VLOOKUP(B20,'17年詳細'!$H$2:$J$100,2,FALSE)) -> 79
B21: KIJ / 新潟 | C21: =IF(ISERROR(VLOOKUP(B21,'12年詳細'!$H$2:$J$100,2,FALSE))=TRUE, 0,VLOOKUP(B21,'12年詳細'!$H$2:$J$100,2,FALSE)) -> 190 | D21: =IF(ISERROR(VLOOKUP(B21,'13年詳細'!$H$2:$J$100,2,FALSE))=TRUE, 0,VLOOKUP(B21,'13年詳細'!$H$2:$J$100,2,FALSE)) -> 198 | E21: =IF(ISERROR(VLOOKUP(B21,'14年詳細'!$H$2:$J$100,2,FALSE))=TRUE, 0,VLOOKUP(B21,'14年詳細'!$H$2:$J$100,2,FALSE)) -> 193 | F21: =IF(ISERROR(VLOOKUP(B21,'15年詳細'!$H$2:$J$100,2,FALSE))=TRUE, 0,VLOOKUP(B21,'15年詳細'!$H$2:$J$100,2,FALSE)) -> 136 | G21: =IF(ISERROR(VLOOKUP(B21,'16年詳細'!$H$2:$J$100,2,FALSE))=TRUE, 0,VLOOKUP(B21,'16年詳細'!$H$2:$J$100,2,FALSE)) -> 147 | H21: =IF(ISERROR(VLOOKUP(B21,'17年詳細'!$H$2:$J$100,2,FALSE))=TRUE, 0,VLOOKUP(B21,'17年詳細'!$H$2:$J$100,2,FALSE)) -> 131
B22: 合計 | C22: =SUM(C18:C21) -> 22711 | D22: =SUM(D18:D21) -> 23165 | E22: =SUM(E18:E21) -> 24420 | F22: =SUM(F18:F21) -> 25810 | G22: =SUM(G18:G21) -> 29317 | H22: =SUM(H18:H21) -> 30761
A23: 中部・北陸 | B23: NGO / 中部 | C23: =IF(ISERROR(VLOOKUP(B23,'12年詳細'!$H$2:$J$100,2,FALSE))=TRUE, 0,VLOOKUP(B23,'12年詳細'!$H$2:$J$100,2,FALSE)) -> 3486 | D23: =IF(ISERROR(VLOOKUP(B23,'13年詳細'!$H$2:$J$100,2,FALSE))=TRUE, 0,VLOOKUP(B23,'13年詳細'!$H$2:$J$100,2,FALSE)) -> 3469 | E23: =IF(ISERROR(VLOOKUP(B23,'14年詳細'!$H$2:$J$100,2,FALSE))=TRUE, 0,VLOOKUP(B23,'14年詳細'!$H$2:$J$100,2,FALSE)) -> 3418 | F23: =IF(ISERROR(VLOOKUP(B23,'15年詳細'!$H$2:$J$100,2,FALSE))=TRUE, 0,VLOOKUP(B23,'15年詳細'!$H$2:$J$100,2,FALSE)) -> 3814 | G23: =IF(ISERROR(VLOOKUP(B23,'16年詳細'!$H$2:$J$100,2,FALSE))=TRUE, 0,VLOOKUP(B23,'16年詳細'!$H$2:$J$100,2,FALSE)) -> 4546 | H23: =IF(ISERROR(VLOOKUP(B23,'17年詳細'!$H$2:$J$100,2,FALSE))=TRUE, 0,VLOOKUP(B23,'17年詳細'!$H$2:$J$100,2,FALSE)) -> 4404
B24: FSZ / 静岡 | C24: =IF(ISERROR(VLOOKUP(B24,'12年詳細'!$H$2:$J$100,2,FALSE))=TRUE, 0,VLOOKUP(B24,'12年詳細'!$H$2:$J$100,2,FALSE)) -> 214 | D24: =IF(ISERROR(VLOOKUP(B24,'13年詳細'!$H$2:$J$100,2,FALSE))=TRUE, 0,VLOOKUP(B24,'13年詳細'!$H$2:$J$100,2,FALSE)) -> 254 | E24: =IF(ISERROR(VLOOKUP(B24,'14年詳細'!$H$2:$J$100,2,FALSE))=TRUE, 0,VLOOKUP(B24,'14年詳細'!$H$2:$J$100,2,FALSE)) -> 178 | F24: =IF(ISERROR(VLOOKUP(B24,'15年詳細'!$H$2:$J$100,2,FALSE))=TRUE, 0,VLOOKUP(B24,'15年詳細'!$H$2:$J$100,2,FALSE)) -> 279 | G24: =IF(ISERROR(VLOOKUP(B24,'16年詳細'!$H$2:$J$100,2,FALSE))=TRUE, 0,VLOOKUP(B24,'16年詳細'!$H$2:$J$100,2,FALSE)) -> 373 | H24: =IF(ISERROR(VLOOKUP(B24,'17年詳細'!$H$2:$J$100,2,FALSE))=TRUE, 0,VLOOKUP(B24,'17年詳細'!$H$2:$J$100,2,FALSE)) -> 307
B25: SHM / 南紀白浜 | C25: =IF(ISERROR(VLOOKUP(B25,'12年詳細'!$H$2:$J$100,2,FALSE))=TRUE, 0,VLOOKUP(B25,'12年詳細'!$H$2:$J$100,2,FALSE)) -> 0 | D25: =IF(ISERROR(VLOOKUP(B25,'13年詳細'!$H$2:$J$100,2,FALSE))=TRUE, 0,VLOOKUP(B25,'13年詳細'!$H$2:$J$100,2,FALSE)) -> 0 | E25: =IF(ISERROR(VLOOKUP(B25,'14年詳細'!$H$2:$J$100,2,FALSE))=TRUE, 0,VLOOKUP(B25,'14年詳細'!$H$2:$J$100,2,FALSE)) -> 1 | F25: =IF(ISERROR(VLOOKUP(B25,'15年詳細'!$H$2:$J$100,2,FALSE))=TRUE, 0,VLOOKUP(B25,'15年詳細'!$H$2:$J$100,2,FALSE)) -> 0 | G25: =IF(ISERROR(VLOOKUP(B25,'16年詳細'!$H$2:$J$100,2,FALSE))=TRUE, 0,VLOOKUP(B25,'16年詳細'!$H$2:$J$100,2,FALSE)) -> 0 | H25: =IF(ISERROR(VLOOKUP(B25,'17年詳細'!$H$2:$J$100,2,FALSE))=TRUE, 0,VLOOKUP(B25,'17年詳細'!$H$2:$J$100,2,FALSE)) -> 0
B26: KMQ / 小松 | C26: =IF(ISERROR(VLOOKUP(B26,'12年詳細'!$H$2:$J$100,2,FALSE))=TRUE, 0,VLOOKUP(B26,'12年詳細'!$H$2:$J$100,2,FALSE)) -> 158 | D26: =IF(ISERROR(VLOOKUP(B26,'13年詳細'!$H$2:$J$100,2,FALSE))=TRUE, 0,VLOOKUP(B26,'13年詳細'!$H$2:$J$100,2,FALSE)) -> 202 | E26: =IF(ISERROR(VLOOKUP(B26,'14年詳細'!$H$2:$J$100,2,FALSE))=TRUE, 0,VLOOKUP(B26,'14年詳細'!$H$2:$J$100,2,FALSE)) -> 182 | F26: =IF(ISERROR(VLOOKUP(B26,'15年詳細'!$H$2:$J$100,2,FALSE))=TRUE, 0,VLOOKUP(B26,'15年詳細'!$H$2:$J$100,2,FALSE)) -> 183 | G26: =IF(ISERROR(VLOOKUP(B26,'16年詳細'!$H$2:$J$100,2,FALSE))=TRUE, 0,VLOOKUP(B26,'16年詳細'!$H$2:$J$100,2,FALSE)) -> 156 | H26: =IF(ISERROR(VLOOKUP(B26,'17年詳細'!$H$2:$J$100,2,FALSE))=TRUE, 0,VLOOKUP(B26,'17年詳細'!$H$2:$J$100,2,FALSE)) -> 181
B27: TOY / 富山 | C27: =IF(ISERROR(VLOOKUP(B27,'12年詳細'!$H$2:$J$100,2,FALSE))=TRUE, 0,VLOOKUP(B27,'12年詳細'!$H$2:$J$100,2,FALSE)) -> 143 | D27: =IF(ISERROR(VLOOKUP(B27,'13年詳細'!$H$2:$J$100,2,FALSE))=TRUE, 0,VLOOKUP(B27,'13年詳細'!$H$2:$J$100,2,FALSE)) -> 88 | E27: =IF(ISERROR(VLOOKUP(B27,'14年詳細'!$H$2:$J$100,2,FALSE))=TRUE, 0,VLOOKUP(B27,'14年詳細'!$H$2:$J$100,2,FALSE)) -> 111 | F27: =IF(ISERROR(VLOOKUP(B27,'15年詳細'!$H$2:$J$100,2,FALSE))=TRUE, 0,VLOOKUP(B27,'15年詳細'!$H$2:$J$100,2,FALSE)) -> 118 | G27: =IF(ISERROR(VLOOKUP(B27,'16年詳細'!$H$2:$J$100,2,FALSE))=TRUE, 0,VLOOKUP(B27,'16年詳細'!$H$2:$J$100,2,FALSE)) -> 139 | H27: =IF(ISERROR(VLOOKUP(B27,'17年詳細'!$H$2:$J$100,2,FALSE))=TRUE, 0,VLOOKUP(B27,'17年詳細'!$H$2:$J$100,2,FALSE)) -> 102
B28: 合計 | C28: =SUM(C23:C27) -> 4001 | D28: =SUM(D23:D27) -> 4013 | E28: =SUM(E23:E27) -> 3890 | F28: =SUM(F23:F27) -> 4394 | G28: =SUM(G23:G27) -> 5214 | H28: =SUM(H23:H27) -> 4994
A29: 関西 | B29: KIX / 関西 | C29: =IF(ISERROR(VLOOKUP(B29,'12年詳細'!$H$2:$J$100,2,FALSE))=TRUE, 0,VLOOKUP(B29,'12年詳細'!$H$2:$J$100,2,FALSE)) -> 7950 | D29: =IF(ISERROR(VLOOKUP(B29,'13年詳細'!$H$2:$J$100,2,FALSE))=TRUE, 0,VLOOKUP(B29,'13年詳細'!$H$2:$J$100,2,FALSE)) -> 8745 | E29: =IF(ISERROR(VLOOKUP(B29,'14年詳細'!$H$2:$J$100,2,FALSE))=TRUE, 0,VLOOKUP(B29,'14年詳細'!$H$2:$J$100,2,FALSE)) -> 9212 | F29: =IF(ISERROR(VLOOKUP(B29,'15年詳細'!$H$2:$J$100,2,FALSE))=TRUE, 0,VLOOKUP(B29,'15年詳細'!$H$2:$J$100,2,FALSE)) -> 10035 | G29: =IF(ISERROR(VLOOKUP(B29,'16年詳細'!$H$2:$J$100,2,FALSE))=TRUE, 0,VLOOKUP(B29,'16年詳細'!$H$2:$J$100,2,FALSE)) -> 13666 | H29: =IF(ISERROR(VLOOKUP(B29,'17年詳細'!$H$2:$J$100,2,FALSE))=TRUE, 0,VLOOKUP(B29,'17年詳細'!$H$2:$J$100,2,FALSE)) -> 14197
B30: ITM / 伊丹 | C30: =IF(ISERROR(VLOOKUP(B30,'12年詳細'!$H$2:$J$100,2,FALSE))=TRUE, 0,VLOOKUP(B30,'12年詳細'!$H$2:$J$100,2,FALSE)) -> 0 | D30: =IF(ISERROR(VLOOKUP(B30,'13年詳細'!$H$2:$J$100,2,FALSE))=TRUE, 0,VLOOKUP(B30,'13年詳細'!$H$2:$J$100,2,FALSE)) -> 0 | E30: =IF(ISERROR(VLOOKUP(B30,'14年詳細'!$H$2:$J$100,2,FALSE))=TRUE, 0,VLOOKUP(B30,'14年詳細'!$H$2:$J$100,2,FALSE)) -> 0 | F30: =IF(ISERROR(VLOOKUP(B30,'15年詳細'!$H$2:$J$100,2,FALSE))=TRUE, 0,VLOOKUP(B30,'15年詳細'!$H$2:$J$100,2,FALSE)) -> 0 | G30: =IF(ISERROR(VLOOKUP(B30,'16年詳細'!$H$2:$J$100,2,FALSE))=TRUE, 0,VLOOKUP(B30,'16年詳細'!$H$2:$J$100,2,FALSE)) -> 0 | H30: =IF(ISERROR(VLOOKUP(B30,'17年詳細'!$H$2:$J$100,2,FALSE))=TRUE, 0,VLOOKUP(B30,'17年詳細'!$H$2:$J$100,2,FALSE)) -> 0
B31: 合計 | C31: =SUM(C29:C30) -> 7950 | D31: =SUM(D29:D30) -> 8745 | E31: =SUM(E29:E30) -> 9212 | F31: =SUM(F29:F30) -> 10035 | G31: =SUM(G29:G30) -> 13666 | H31: =SUM(H29:H30) -> 14197
A32: 中国 | B32: HIJ / 広島 | C32: =IF(ISERROR(VLOOKUP(B32,'12年詳細'!$H$2:$J$100,2,FALSE))=TRUE, 0,VLOOKUP(B32,'12年詳細'!$H$2:$J$100,2,FALSE)) -> 418 | D32: =IF(ISERROR(VLOOKUP(B32,'13年詳細'!$H$2:$J$100,2,FALSE))=TRUE, 0,VLOOKUP(B32,'13年詳細'!$H$2:$J$100,2,FALSE)) -> 389 | E32: =IF(ISERROR(VLOOKUP(B32,'14年詳細'!$H$2:$J$100,2,FALSE))=TRUE, 0,VLOOKUP(B32,'14年詳細'!$H$2:$J$100,2,FALSE)) -> 395 | F32: =IF(ISERROR(VLOOKUP(B32,'15年詳細'!$H$2:$J$100,2,FALSE))=TRUE, 0,VLOOKUP(B32,'15年詳細'!$H$2:$J$100,2,FALSE)) -> 351 | G32: =IF(ISERROR(VLOOKUP(B32,'16年詳細'!$H$2:$J$100,2,FALSE))=TRUE, 0,VLOOKUP(B32,'16年詳細'!$H$2:$J$100,2,FALSE)) -> 398 | H32: =IF(ISERROR(VLOOKUP(B32,'17年詳細'!$H$2:$J$100,2,FALSE))=TRUE, 0,VLOOKUP(B32,'17年詳細'!$H$2:$J$100,2,FALSE)) -> 335
B33: OKJ / 岡山 | C33: =IF(ISERROR(VLOOKUP(B33,'12年詳細'!$H$2:$J$100,2,FALSE))=TRUE, 0,VLOOKUP(B33,'12年詳細'!$H$2:$J$100,2,FALSE)) -> 213 | D33: =IF(ISERROR(VLOOKUP(B33,'13年詳細'!$H$2:$J$100,2,FALSE))=TRUE, 0,VLOOKUP(B33,'13年詳細'!$H$2:$J$100,2,FALSE)) -> 227 | E33: =IF(ISERROR(VLOOKUP(B33,'14年詳細'!$H$2:$J$100,2,FALSE))=TRUE, 0,VLOOKUP(B33,'14年詳細'!$H$2:$J$100,2,FALSE)) -> 179 | F33: =IF(ISERROR(VLOOKUP(B33,'15年詳細'!$H$2:$J$100,2,FALSE))=TRUE, 0,VLOOKUP(B33,'15年詳細'!$H$2:$J$100,2,FALSE)) -> 184 | G33: =IF(ISERROR(VLOOKUP(B33,'16年詳細'!$H$2:$J$100,2,FALSE))=TRUE, 0,VLOOKUP(B33,'16年詳細'!$H$2:$J$100,2,FALSE)) -> 183 | H33: =IF(ISERROR(VLOOKUP(B33,'17年詳細'!$H$2:$J$100,2,FALSE))=TRUE, 0,VLOOKUP(B33,'17年詳細'!$H$2:$J$100,2,FALSE)) -> 243
B34: YGJ / 米子 | C34: =IF(ISERROR(VLOOKUP(B34,'12年詳細'!$H$2:$J$100,2,FALSE))=TRUE, 0,VLOOKUP(B34,'12年詳細'!$H$2:$J$100,2,FALSE)) -> 39 | D34: =IF(ISERROR(VLOOKUP(B34,'13年詳細'!$H$2:$J$100,2,FALSE))=TRUE, 0,VLOOKUP(B34,'13年詳細'!$H$2:$J$100,2,FALSE)) -> 39 | E34: =IF(ISERROR(VLOOKUP(B34,'14年詳細'!$H$2:$J$100,2,FALSE))=TRUE, 0,VLOOKUP(B34,'14年詳細'!$H$2:$J$100,2,FALSE)) -> 38 | F34: =IF(ISERROR(VLOOKUP(B34,'15年詳細'!$H$2:$J$100,2,FALSE))=TRUE, 0,VLOOKUP(B34,'15年詳細'!$H$2:$J$100,2,FALSE)) -> 39 | G34: =IF(ISERROR(VLOOKUP(B34,'16年詳細'!$H$2:$J$100,2,FALSE))=TRUE, 0,VLOOKUP(B34,'16年詳細'!$H$2:$J$100,2,FALSE)) -> 42 | H34: =IF(ISERROR(VLOOKUP(B34,'17年詳細'!$H$2:$J$100,2,FALSE))=TRUE, 0,VLOOKUP(B34,'17年詳細'!$H$2:$J$100,2,FALSE)) -> 64
B35: TTJ / 鳥取 | C35: =IF(ISERROR(VLOOKUP(B35,'12年詳細'!$H$2:$J$100,2,FALSE))=TRUE, 0,VLOOKUP(B35,'12年詳細'!$H$2:$J$100,2,FALSE)) -> 0 | D35: =IF(ISERROR(VLOOKUP(B35,'13年詳細'!$H$2:$J$100,2,FALSE))=TRUE, 0,VLOOKUP(B35,'13年詳細'!$H$2:$J$100,2,FALSE)) -> 0 | E35: =IF(ISERROR(VLOOKUP(B35,'14年詳細'!$H$2:$J$100,2,FALSE))=TRUE, 0,VLOOKUP(B35,'14年詳細'!$H$2:$J$100,2,FALSE)) -> 0 | F35: =IF(ISERROR(VLOOKUP(B35,'15年詳細'!$H$2:$J$100,2,FALSE))=TRUE, 0,VLOOKUP(B35,'15年詳細'!$H$2:$J$100,2,FALSE)) -> 1 | G35: =IF(ISERROR(VLOOKUP(B35,'16年詳細'!$H$2:$J$100,2,FALSE))=TRUE, 0,VLOOKUP(B35,'16年詳細'!$H$2:$J$100,2,FALSE)) -> 0 | H35: =IF(ISERROR(VLOOKUP(B35,'17年詳細'!$H$2:$J$100,2,FALSE))=TRUE, 0,VLOOKUP(B35,'17年詳細'!$H$2:$J$100,2,FALSE)) -> 0
B36: UBJ / 山口宇部 | C36: =IF(ISERROR(VLOOKUP(B36,'12年詳細'!$H$2:$J$100,2,FALSE))=TRUE, 0,VLOOKUP(B36,'12年詳細'!$H$2:$J$100,2,FALSE)) -> 0 | D36: =IF(ISERROR(VLOOKUP(B36,'13年詳細'!$H$2:$J$100,2,FALSE))=TRUE, 0,VLOOKUP(B36,'13年詳細'!$H$2:$J$100,2,FALSE)) -> 0 | E36: =IF(ISERROR(VLOOKUP(B36,'14年詳細'!$H$2:$J$100,2,FALSE))=TRUE, 0,VLOOKUP(B36,'14年詳細'!$H$2:$J$100,2,FALSE)) -> 11 | F36: =IF(ISERROR(VLOOKUP(B36,'15年詳細'!$H$2:$J$100,2,FALSE))=TRUE, 0,VLOOKUP(B36,'15年詳細'!$H$2:$J$100,2,FALSE)) -> 23 | G36: =IF(ISERROR(VLOOKUP(B36,'16年詳細'!$H$2:$J$100,2,FALSE))=TRUE, 0,VLOOKUP(B36,'16年詳細'!$H$2:$J$100,2,FALSE)) -> 36 | H36: =IF(ISERROR(VLOOKUP(B36,'17年詳細'!$H$2:$J$100,2,FALSE))=TRUE, 0,VLOOKUP(B36,'17年詳細'!$H$2:$J$100,2,FALSE)) -> 36
B37: IWK / 岩国 | C37: =IF(ISERROR(VLOOKUP(B37,'12年詳細'!$H$2:$J$100,2,FALSE))=TRUE, 0,VLOOKUP(B37,'12年詳細'!$H$2:$J$100,2,FALSE)) -> 0 | D37: =IF(ISERROR(VLOOKUP(B37,'13年詳細'!$H$2:$J$100,2,FALSE))=TRUE, 0,VLOOKUP(B37,'13年詳細'!$H$2:$J$100,2,FALSE)) -> 0 | E37: =IF(ISERROR(VLOOKUP(B37,'14年詳細'!$H$2:$J$100,2,FALSE))=TRUE, 0,VLOOKUP(B37,'14年詳細'!$H$2:$J$100,2,FALSE)) -> 0 | F37: =IF(ISERROR(VLOOKUP(B37,'15年詳細'!$H$2:$J$100,2,FALSE))=TRUE, 0,VLOOKUP(B37,'15年詳細'!$H$2:$J$100,2,FALSE)) -> 0 | G37: =IF(ISERROR(VLOOKUP(B37,'16年詳細'!$H$2:$J$100,2,FALSE))=TRUE, 0,VLOOKUP(B37,'16年詳細'!$H$2:$J$100,2,FALSE)) -> 0 | H37: =IF(ISERROR(VLOOKUP(B37,'17年詳細'!$H$2:$J$100,2,FALSE))=TRUE, 0,VLOOKUP(B37,'17年詳細'!$H$2:$J$100,2,FALSE)) -> 0
B38: 合計 | C38: =SUM(C32:C37) -> 670 | D38: =SUM(D32:D37) -> 655 | E38: =SUM(E32:E37) -> 623 | F38: =SUM(F32:F37) -> 598 | G38: =SUM(G32:G37) -> 659 | H38: =SUM(H32:H37) -> 678
A39: 四国 | B39: KCZ / 高知 | C39: =IF(ISERROR(VLOOKUP(B39,'12年詳細'!$H$2:$J$100,2,FALSE))=TRUE, 0,VLOOKUP(B39,'12年詳細'!$H$2:$J$100,2,FALSE)) -> 0 | D39: =IF(ISERROR(VLOOKUP(B39,'13年詳細'!$H$2:$J$100,2,FALSE))=TRUE, 0,VLOOKUP(B39,'13年詳細'!$H$2:$J$100,2,FALSE)) -> 0 | E39: =IF(ISERROR(VLOOKUP(B39,'14年詳細'!$H$2:$J$100,2,FALSE))=TRUE, 0,VLOOKUP(B39,'14年詳細'!$H$2:$J$100,2,FALSE)) -> 0 | F39: =IF(ISERROR(VLOOKUP(B39,'15年詳細'!$H$2:$J$100,2,FALSE))=TRUE, 0,VLOOKUP(B39,'15年詳細'!$H$2:$J$100,2,FALSE)) -> 0 | G39: =IF(ISERROR(VLOOKUP(B39,'16年詳細'!$H$2:$J$100,2,FALSE))=TRUE, 0,VLOOKUP(B39,'16年詳細'!$H$2:$J$100,2,FALSE)) -> 0 | H39: =IF(ISERROR(VLOOKUP(B39,'17年詳細'!$H$2:$J$100,2,FALSE))=TRUE, 0,VLOOKUP(B39,'17年詳細'!$H$2:$J$100,2,FALSE)) -> 0
B40: TAK / 高松 | C40: =IF(ISERROR(VLOOKUP(B40,'12年詳細'!$H$2:$J$100,2,FALSE))=TRUE, 0,VLOOKUP(B40,'12年詳細'!$H$2:$J$100,2,FALSE)) -> 65 | D40: =IF(ISERROR(VLOOKUP(B40,'13年詳細'!$H$2:$J$100,2,FALSE))=TRUE, 0,VLOOKUP(B40,'13年詳細'!$H$2:$J$100,2,FALSE)) -> 43 | E40: =IF(ISERROR(VLOOKUP(B40,'14年詳細'!$H$2:$J$100,2,FALSE))=TRUE, 0,VLOOKUP(B40,'14年詳細'!$H$2:$J$100,2,FALSE)) -> 102 | F40: =IF(ISERROR(VLOOKUP(B40,'15年詳細'!$H$2:$J$100,2,FALSE))=TRUE, 0,VLOOKUP(B40,'15年詳細'!$H$2:$J$100,2,FALSE)) -> 140 | G40: =IF(ISERROR(VLOOKUP(B40,'16年詳細'!$H$2:$J$100,2,FALSE))=TRUE, 0,VLOOKUP(B40,'16年詳細'!$H$2:$J$100,2,FALSE)) -> 129 | H40: =IF(ISERROR(VLOOKUP(B40,'17年詳細'!$H$2:$J$100,2,FALSE))=TRUE, 0,VLOOKUP(B40,'17年詳細'!$H$2:$J$100,2,FALSE)) -> 236
...
