Workbook

Sheet 12年
A1: スリーレター | B1: 空港 | C1: 便数 | D1: 座席数
A2: ICN | B2: 仁川 | C2: 4668 | D2: 1071956
A3: TPE | B3: 台湾桃園 | C3: 2815 | D3: 723693
A4: PVG | B4: 上海浦東 | C4: 3537 | D4: 659626
A5: HKG | B5: 香港 | C5: 2322 | D5: 623118
A6: BKK | B6: バンコク | C6: 1727 | D6: 472714
A7: HNL | B7: ホノルル | C7: 1696 | D7: 439218
A8: GMP | B8: 金浦 | C8: 1820 | D8: 432847
A9: SIN | B9: シンガポール | C9: 1297 | D9: 360121
A10: GUM | B10: グアム | C10: 1736 | D10: 308975
A11: PEK | B11: 北京 | C11: 1607 | D11: 302282
A12: PUS | B12: 釜山 | C12: 1282 | D12: 234056
A13: MNL | B13: マニラ | C13: 814 | D13: 226556
... A97: RSU | B97: 麗水 | C97: 1 | D97: 141

Sheet 12年方面別
A1: ツーレター | B1: 航空会社 | C1: 便数 | D1: 座席数 | E1: シェア | H1: 空港 | I1: 便数 | J1: 総座席 | K1: シェア
A2: オセアニア | H2: オセアニア | I2: 605 | J2: 187411 | K2: =IF(J2="","",J2/$J$17) -> 0.020011028
A3: JQ | B3: ジェットスター航空 | C3: 300 | D3: 90900 | E3: 0.48503023 | H3: ハワイ | I3: 1696 | J3: 439218 | K3: =IF(J3="","",J3/$J$17) -> 0.046898014
A4: NZ | B4: ニュージーランド航空 | C4: 123 | D4: 33682 | E4: 0.17972264 | H4: ミクロネシア | I4: 2124 | J4: 380886 | K4: =IF(J4="","",J4/$J$17) -> 0.040669546
A5: QF | B5: カンタス航空 | C5: 91 | D5: 33173 | E5: 0.17700669 | H5: ロシア | I5: 233 | J5: 51079 | K5: =IF(J5="","",J5/$J$17) -> 0.0054540197
A6: JL | B6: 日本航空 | C6: 91 | D6: 29656 | E6: 0.15824044 | H6: 欧州 | I6: 2501 | J6: 689487 | K6: =IF(J6="","",J6/$J$17) -> 0.073620778
A7: 合計 | C7: 605 | D7: 187411 | E7: - | H7: 韓国 | I7: 8087 | J7: 1804359 | K7: =IF(J7="","",J7/$J$17) -> 0.19266253
A8: ハワイ | H8: 香港・マカオ | I8: 2413 | J8: 635180 | K8: =IF(J8="","",J8/$J$17) -> 0.067822084
A9: DL | B9: デルタ航空 | C9: 509 | D9: 140469 | E9: 0.31981613 | H9: 太平洋 | I9: 124 | J9: 33227 | K9: =IF(J9="","",J9/$J$17) -> 0.0035478516
A10: JL | B10: 日本航空 | C10: 549 | D10: 135114 | E10: 0.307624 | H10: 台湾 | I10: 3722 | J10: 938683 | K10: =IF(J10="","",J10/$J$17) -> 0.10022897
A11: HA | B11: ハワイアン航空 | C11: 183 | D11: 47481 | E11: 0.10810349 | H11: 中国・モンゴル | I11: 8474 | J11: 1535666 | K11: =IF(J11="","",J11/$J$17) -> 0.16397253
A12: NH | B12: 全日空 | C12: 182 | D12: 36932 | E12: 0.084085807 | H12: 中東・アフリカ | I12: 482 | J12: 157208 | K12: =IF(J12="","",J12/$J$17) -> 0.016786067
A13: CI | B13: チャイナエアライン | C13: 91 | D13: 36725 | E13: 0.083614515 | H13: 中南米 | I13: 38 | J13: 6590 | K13: =IF(J13="","",J13/$J$17) -> 0.00070365493
A14: UA | B14: ユナイテッド航空 | C14: 91 | D14: 23023 | E14: 0.052418161 | H14: 東南アジア | I14: 5618 | J14: 1501601 | K14: =IF(J14="","",J14/$J$17) -> 0.1603352
A15: NQ | B15: エアージャパン | C15: 91 | D15: 19474 | E15: 0.044337891 | H15: 南アジア | I15: 261 | J15: 58526 | K15: =IF(J15="","",J15/$J$17) -> 0.0062491818
A16: 合計 | C16: 1696 | D16: 439218 | E16: - | H16: 北米 | I16: 3473 | J16: 946265 | K16: =IF(J16="","",J16/$J$17) -> 0.10103855
A17: ミクロネシア | H17: 合計 | I17: =SUM(I2:I16) -> 39851 | J17: =SUM(J2:J16) -> 9365386 | K17: -
A18: DL | B18: デルタ航空 | C18: 801 | D18: 151900 | E18: 0.39880699
A19: CO | B19: コンチネンタル航空 | C19: 844 | D19: 115645 | E19: 0.30362103
A20: UA | B20: ユナイテッド航空 | C20: 182 | D20: 46046 | E20: 0.12089182
A21: KE | B21: 大韓航空 | C21: 91 | D21: 26180 | E21: 0.068734477
A22: JL | B22: 日本航空 | C22: 114 | D22: 23940 | E22: 0.062853452
A23: OZ | B23: アシアナ航空 | C23: 92 | D23: 17175 | E23: 0.045092232
A24: 合計 | C24: 2124 | D24: 380886 | E24: -
A25: ロシア
A26: SU | B26: アエロフロート・ロシア航空 | C26: 91 | D26: 24348 | E26: 0.47667339
A27: JL | B27: 日本航空 | C27: 39 | D27: 12792 | E27: 0.2504356
A28: XF | B28: ウラジオストク航空 | C28: 53 | D28: 7950 | E28: 0.15564126
A29: HY | B29: ウズベキスタン航空 | C29: 19 | D29: 3933 | E29: 0.076998375
A30: HZ | B30: オーロラ航空 | C30: 27 | D30: 1424 | E30: 0.027878384
A31: S7 | B31: S7航空 | C31: 4 | D31: 632 | E31: 0.012372991
A32: 合計 | C32: 233 | D32: 51079 | E32: -
A33: 欧州
A34: LH | B34: ルフトハンザ・ドイツ航空 | C34: 348 | D34: 125065 | E34: 0.18138848
A35: NH | B35: 全日空 | C35: 429 | D35: 93728 | E35: 0.13593875
A36: JL | B36: 日本航空 | C36: 364 | D36: 93184 | E36: 0.13514976
A37: AF | B37: エールフランス航空 | C37: 262 | D37: 70780 | E37: 0.10265603
A38: AY | B38: フィンエアー | C38: 235 | D38: 63617 | E38: 0.092267149
A39: AZ | B39: アリタリア-イタリア航空 | C39: 213 | D39: 60946 | E39: 0.088393255
A40: KL | B40: KLMオランダ航空 | C40: 179 | D40: 56582 | E40: 0.082063911
A41: BA | B41: ブリティッシュ・エアウェイズ | C41: 149 | D41: 39783 | E41: 0.05769942
A42: VS | B42: ヴァージン・アトランティック航空 | C42: 79 | D42: 24332 | E42: 0.035290005
A43: OS | B43: オーストリア航空 | C43: 69 | D43: 21183 | E43: 0.030722842
A44: SK | B44: スカンジナビア航空 | C44: 83 | D44: 20358 | E44: 0.0295263
A45: LX | B45: スイス・インターナショナル・エアラインズ | C45: 91 | D45: 19929 | E45: 0.028904098
A46: 合計 | C46: 2501 | D46: 689487 | E46: -
A47: 韓国
A48: KE | B48: 大韓航空 | C48: 3145 | D48: 843913 | E48: 0.46770792
A49: OZ | B49: アシアナ航空 | C49: 2370 | D49: 492177 | E49: 0.27277111
A50: JL | B50: 日本航空 | C50: 819 | D50: 155835 | E50: 0.086365851
A51: NH | B51: 全日空 | C51: 546 | D51: 106197 | E51: 0.058855804
A52: 7C | B52: チェジュ航空 | C52: 362 | D52: 65160 | E52: 0.036112547
A53: BX | B53: エアプサン | C53: 273 | D53: 44226 | E53: 0.024510643
A54: DL | B54: デルタ航空 | C54: 178 | D54: 32574 | E54: 0.018052948
A55: UA | B55: ユナイテッド航空 | C55: 91 | D55: 23023 | E55: 0.012759656
A56: TW | B56: ティーウェイ航空 | C56: 120 | D56: 14640 | E56: 0.0081136847
A57: ZE | B57: イースター航空 | C57: 119 | D57: 14518 | E57: 0.0080460707
A58: LJ | B58: ジンエアー | C58: 64 | D58: 12096 | E58: 0.0067037657
A59: 合計 | C59: 8087 | D59: 1804359 | E59: -
A60: 香港・マカオ
A61: CX | B61: キャセイパシフィック航空 | C61: 1037 | D61: 358809 | E61: 0.56489342
A62: NH | B62: 全日空 | C62: 458 | D62: 84361 | E62: 0.13281432
A63: JL | B63: 日本航空 | C63: 182 | D63: 49784 | E63: 0.078377783
A64: UO | B64: 香港エクスプレス航空 | C64: 215 | D64: 40616 | E64: 0.063944079
A65: DL | B65: デルタ航空 | C65: 90 | D65: 24550 | E65: 0.038650461
A66: KA | B66: 香港ドラゴン航空 | C66: 120 | D66: 22368 | E66: 0.035215215
A67: HX | B67: 香港航空 | C67: 91 | D67: 15162 | E67: 0.023870399
A68: CO | B68: コンチネンタル航空 | C68: 90 | D68: 14130 | E68: 0.022245663
A69: AI | B69: エア・インディア | C69: 39 | D69: 13338 | E69: 0.020998772
A70: NX | B70: マカオ航空 | C70: 91 | D70: 12062 | E70: 0.018989893
A71: 合計 | C71: 2413 | D71: 635180 | E71: -
A72: 太平洋
A73: SB | B73: エアカラン / エア・カレドニア・インターナショナル | C73: 85 | D73: 23035 | E73: 0.6932615
A74: TN | B74: エア・タヒチ・ヌイ | C74: 26 | D74: 7644 | E74: 0.23005387
A75: PX | B75: ニューギニア航空 | C75: 13 | D75: 2548 | E75: 0.076684624
A76: 合計 | C76: 124 | D76: 33227 | E76: -
A77: 台湾
A78: CI | B78: チャイナエアライン | C78: 1288 | D78: 367424 | E78: 0.39142501
A79: BR | B79: エバー航空 | C79: 704 | D79: 173524 | E79: 0.184859
A80: JL | B80: 日本航空 | C80: 728 | D80: 140640 | E80: 0.14982694
A81: CX | B81: キャセイパシフィック航空 | C81: 364 | D81: 122573 | E81: 0.13057976
A82: NH | B82: 全日空 | C82: 273 | D82: 55146 | E82: 0.058748268
A83: DL | B83: デルタ航空 | C83: 89 | D83: 25037 | E83: 0.026672476
A84: UA | B84: ユナイテッド航空 | C84: 89 | D84: 22517 | E84: 0.023987864
A85: 3K | B85: ジェットスター・アジア航空 | C85: 98 | D85: 17640 | E85: 0.018792287
A86: VN | B86: ベトナム航空 | C86: 65 | D86: 11830 | E86: 0.012602764
A87: AE | B87: マンダリン航空 | C87: 24 | D87: 2352 | E87: 0.0025056382
A88: 合計 | C88: 3722 | D88: 938683 | E88: -
A89: 中国・モンゴル
A90: MU | B90: 中国東方航空 | C90: 1904 | D90: 344982 | E90: 0.22464651
A91: CA | B91: 中国国際航空 | C91: 1678 | D91: 308740 | E91: 0.20104632
A92: NH | B92: 全日空 | C92: 1701 | D92: 298823 | E92: 0.19458854
A93: JL | B93: 日本航空 | C93: 1183 | D93: 230728 | E93: 0.15024621
A94: CZ | B94: 中国南方航空 | C94: 1171 | D94: 190548 | E94: 0.12408167
A95: DL | B95: デルタ航空 | C95: 177 | D95: 44210 | E95: 0.028788812
A96: FM | B96: 上海航空 | C96: 208 | D96: 39856 | E96: 0.02595356
A97: ZH | B97: 深セン航空 | C97: 211 | D97: 32379 | E97: 0.021084663
A98: EY | B98: エティハド航空 | C98: 65 | D98: 17030 | E98: 0.011089651
A99: 9C | B99: 春秋航空 | C99: 65 | D99: 11700 | E99: 0.0076188442
A100: PK | B100: パキスタン国際航空 | C100: 26 | D100: 4784 | E100: 0.0031152607
...

Sheet 13年
A1: スリーレター | B1: 空港 | C1: 便数 | D1: 座席数
A2: ICN | B2: 仁川 | C2: 5350 | D2: 1109376
A3: TPE | B3: 台湾桃園 | C3: 3611 | D3: 904153
A4: PVG | B4: 上海浦東 | C4: 3472 | D4: 654029
A5: HKG | B5: 香港 | C5: 2234 | D5: 589111
A6: BKK | B6: バンコク | C6: 1667 | D6: 511389
A7: HNL | B7: ホノルル | C7: 1791 | D7: 491070
A8: GMP | B8: 金浦 | C8: 1794 | D8: 459735
A9: SIN | B9: シンガポール | C9: 1420 | D9: 374730
A10: GUM | B10: グアム | C10: 1694 | D10: 321036
A11: PUS | B11: 釜山 | C11: 1687 | D11: 290501
A12: PEK | B12: 北京 | C12: 1475 | D12: 277605
A13: MNL | B13: マニラ | C13: 904 | D13: 249771
... A102: ROP | B102: ロタ | C102: 1 | D102: 124

Sheet 13年方面別
A1: ツーレター | B1: 航空会社 | C1: 便数 | D1: 座席数 | E1: シェア | H1: 空港 | I1: 便数 | J1: 総座席 | K1: シェア
A2: オセアニア | H2: オセアニア | I2: 604 | J2: 180990 | K2: =IF(J2="","",J2/$J$17) -> 0.018356176
A3: JQ | B3: ジェットスター航空 | C3: 296 | D3: 89688 | E3: 0.49554119 | H3: ハワイ | I3: 1791 | J3: 491070 | K3: =IF(J3="","",J3/$J$17) -> 0.04980478
A4: NZ | B4: ニュージーランド航空 | C4: 128 | D4: 33452 | E4: 0.18482789 | H4: ミクロネシア | I4: 2074 | J4: 390486 | K4: =IF(J4="","",J4/$J$17) -> 0.039603456
A5: QF | B5: カンタス航空 | C5: 90 | D5: 31770 | E5: 0.17553456 | H5: ロシア | I5: 271 | J5: 56179 | K5: =IF(J5="","",J5/$J$17) -> 0.0056977269
A6: JL | B6: 日本航空 | C6: 90 | D6: 26080 | E6: 0.14409636 | H6: 欧州 | I6: 2495 | J6: 707025 | K6: =IF(J6="","",J6/$J$17) -> 0.071707139
A7: 合計 | C7: 604 | D7: 180990 | E7: - | H7: 韓国 | I7: 9100 | J7: 1908195 | K7: =IF(J7="","",J7/$J$17) -> 0.19353093
A8: ハワイ | H8: 香港・マカオ | I8: 2324 | J8: 600066 | K8: =IF(J8="","",J8/$J$17) -> 0.060859256
A9: DL | B9: デルタ航空 | C9: 489 | D9: 144388 | E9: 0.29402733 | H9: 太平洋 | I9: 122 | J9: 32489 | K9: =IF(J9="","",J9/$J$17) -> 0.0032950648
A10: JL | B10: 日本航空 | C10: 540 | D10: 143742 | E10: 0.29271183 | H10: 台湾 | I10: 4475 | J10: 1132877 | K10: =IF(J10="","",J10/$J$17) -> 0.11489745
A11: HA | B11: ハワイアン航空 | C11: 311 | D11: 85932 | E11: 0.17498931 | H11: 中国・モンゴル | I11: 7552 | J11: 1399685 | K11: =IF(J11="","",J11/$J$17) -> 0.14195737
A12: NH | B12: 全日空 | C12: 180 | D12: 39126 | E12: 0.079674995 | H12: 中東・アフリカ | I12: 640 | J12: 207063 | K12: =IF(J12="","",J12/$J$17) -> 0.021000524
A13: CI | B13: チャイナエアライン | C13: 90 | D13: 35010 | E13: 0.071293298 | H13: 中南米 | I13: 38 | J13: 6580 | K13: =IF(J13="","",J13/$J$17) -> 0.00066734977
A14: UA | B14: ユナイテッド航空 | C14: 90 | D14: 23336 | E14: 0.04752072 | H14: 東南アジア | I14: 5959 | J14: 1633235 | K14: =IF(J14="","",J14/$J$17) -> 0.16564423
A15: NQ | B15: エアージャパン | C15: 90 | D15: 19260 | E15: 0.039220478 | H15: 南アジア | I15: 380 | J15: 80614 | K15: =IF(J15="","",J15/$J$17) -> 0.0081759475
A16: KE | B16: 大韓航空 | C16: 1 | D16: 276 | E16: 0.000562038 | H16: 北米 | I16: 3871 | J16: 1033343 | K16: =IF(J16="","",J16/$J$17) -> 0.10480262
A17: 合計 | C17: 1791 | D17: 491070 | E17: - | H17: 合計 | I17: =SUM(I2:I16) -> 41696 | J17: =SUM(J2:J16) -> 9859897 | K17: -
A18: ミクロネシア
A19: UA | B19: ユナイテッド航空 | C19: 991 | D19: 174641 | E19: 0.44724011
A20: DL | B20: デルタ航空 | C20: 797 | D20: 145742 | E20: 0.37323233
A21: JL | B21: 日本航空 | C21: 100 | D21: 26100 | E21: 0.066839784
A22: KE | B22: 大韓航空 | C22: 90 | D22: 24789 | E22: 0.06348243
A23: OZ | B23: アシアナ航空 | C23: 96 | D23: 19214 | E23: 0.049205349
A24: 合計 | C24: 2074 | D24: 390486 | E24: -
A25: ロシア
A26: SU | B26: アエロフロート・ロシア航空 | C26: 90 | D26: 27180 | E26: 0.48381068
A27: XF | B27: ウラジオストク航空 | C27: 64 | D27: 9600 | E27: 0.17088236
A28: JL | B28: 日本航空 | C28: 39 | D28: 7254 | E28: 0.12912298
A29: S7 | B29: S7航空 | C29: 38 | D29: 6004 | E29: 0.10687267
A30: HY | B30: ウズベキスタン航空 | C30: 13 | D30: 3211 | E30: 0.057156589
A31: HZ | B31: オーロラ航空 | C31: 27 | D31: 2930 | E31: 0.05215472
A32: 合計 | C32: 271 | D32: 56179 | E32: -
A33: 欧州
A34: LH | B34: ルフトハンザ・ドイツ航空 | C34: 327 | D34: 125096 | E34: 0.17693292
A35: NH | B35: 全日空 | C35: 450 | D35: 99493 | E35: 0.14072063
A36: AF | B36: エールフランス航空 | C36: 259 | D36: 93668 | E36: 0.13248188
A37: JL | B37: 日本航空 | C37: 363 | D37: 89278 | E37: 0.12627276
A38: AZ | B38: アリタリア-イタリア航空 | C38: 228 | D38: 62324 | E38: 0.088149641
A39: KL | B39: KLMオランダ航空 | C39: 189 | D39: 61383 | E39: 0.086818712
A40: AY | B40: フィンエアー | C40: 218 | D40: 57508 | E40: 0.081338001
A41: BA | B41: ブリティッシュ・エアウェイズ | C41: 134 | D41: 36558 | E41: 0.0517068
A42: VS | B42: ヴァージン・アトランティック航空 | C42: 90 | D42: 21736 | E42: 0.030742902
A43: OS | B43: オーストリア航空 | C43: 67 | D43: 20671 | E43: 0.02923659
A44: LX | B44: スイス・インターナショナル・エアラインズ | C44: 90 | D44: 19710 | E44: 0.027877374
A45: SK | B45: スカンジナビア航空 | C45: 80 | D45: 19600 | E45: 0.027721792
A46: 合計 | C46: 2495 | D46: 707025 | E46: -
A47: 韓国
A48: KE | B48: 大韓航空 | C48: 3062 | D48: 707790 | E48: 0.37092121
A49: OZ | B49: アシアナ航空 | C49: 2479 | D49: 535847 | E49: 0.28081354
A50: JL | B50: 日本航空 | C50: 809 | D50: 176913 | E50: 0.092712223
A51: NH | B51: 全日空 | C51: 468 | D51: 107207 | E51: 0.056182413
A52: 7C | B52: チェジュ航空 | C52: 489 | D52: 89946 | E52: 0.047136692
A53: BX | B53: エアプサン | C53: 450 | D53: 75510 | E53: 0.039571427
A54: ZE | B54: イースター航空 | C54: 271 | D54: 44041 | E54: 0.023079926
A55: MM | B55: ピーチ・アビエーション | C55: 245 | D55: 36750 | E55: 0.019259038
A56: JW | B56: バニラエア | C56: 180 | D56: 27000 | E56: 0.014149497
A57: 7G | B57: スターフライヤー | C57: 178 | D57: 25632 | E57: 0.013432589
A58: UA | B58: ユナイテッド航空 | C58: 89 | D58: 23941 | E58: 0.012546412
A59: TW | B59: ティーウェイ航空 | C59: 180 | D59: 21960 | E59: 0.011508258
... A61: DL | B61: デルタ航空 | C61: 87 | D61: 15138 | E61: 0.0079331515
A62: 合計 | C62: 9100 | D62: 1908195 | E62: -
A63: 香港・マカオ
A64: CX | B64: キャセイパシフィック航空 | C64: 1060 | D64: 352685 | E64: 0.58774368
A65: NH | B65: 全日空 | C65: 453 | D65: 88311 | E65: 0.14716881
A66: JL | B66: 日本航空 | C66: 180 | D66: 49570 | E66: 0.08260758
A67: DL | B67: デルタ航空 | C67: 87 | D67: 23403 | E67: 0.03900071
A68: KA | B68: 香港ドラゴン航空 | C68: 142 | D68: 22590 | E68: 0.037645859
A69: UA | B69: ユナイテッド航空 | C69: 90 | D69: 13950 | E69: 0.023247443
A70: UO | B70: 香港エクスプレス航空 | C70: 85 | D70: 13831 | E70: 0.023049131
A71: MM | B71: ピーチ・アビエーション | C71: 90 | D71: 13500 | E71: 0.022497525
A72: NX | B72: マカオ航空 | C72: 90 | D72: 10955 | E72: 0.018256325
A73: AI | B73: エア・インディア | C73: 38 | D73: 9772 | E73: 0.016284875
A74: HX | B74: 香港航空 | C74: 9 | D74: 1499 | E74: 0.0024980585
A75: 合計 | C75: 2324 | D75: 600066 | E75: -
A76: 太平洋
A77: SB | B77: エアカラン / エア・カレドニア・インターナショナル | C77: 84 | D77: 22344 | E77: 0.68774047
A78: TN | B78: エア・タヒチ・ヌイ | C78: 25 | D78: 7350 | E78: 0.22623042
A79: PX | B79: ニューギニア航空 | C79: 13 | D79: 2795 | E79: 0.086029118
A80: 合計 | C80: 122 | D80: 32489 | E80: -
A81: 台湾
A82: CI | B82: チャイナエアライン | C82: 1511 | D82: 408987 | E82: 0.36101624
A83: BR | B83: エバー航空 | C83: 804 | D83: 206185 | E83: 0.18200122
A84: JL | B84: 日本航空 | C84: 720 | D84: 153360 | E84: 0.13537215
A85: CX | B85: キャセイパシフィック航空 | C85: 360 | D85: 122089 | E85: 0.10776898
A86: NH | B86: 全日空 | C86: 270 | D86: 64900 | E86: 0.057287773
A87: GE | B87: トランスアジア航空 | C87: 271 | D87: 54861 | E87: 0.048426263
A88: DL | B88: デルタ航空 | C88: 89 | D88: 33464 | E88: 0.029538953
A89: 3K | B89: ジェットスター・アジア航空 | C89: 180 | D89: 32400 | E89: 0.028599751
A90: TZ | B90: スクート | C90: 90 | D90: 29631 | E90: 0.026155531
A91: MM | B91: ピーチ・アビエーション | C91: 180 | D91: 27000 | E91: 0.023833126
A92: 合計 | C92: 4475 | D92: 1132877 | E92: -
A93: 中国・モンゴル
A94: MU | B94: 中国東方航空 | C94: 1894 | D94: 343683 | E94: 0.2455431
A95: NH | B95: 全日空 | C95: 1762 | D95: 334342 | E95: 0.23886946
A96: JL | B96: 日本航空 | C96: 1170 | D96: 266326 | E96: 0.19027567
A97: CA | B97: 中国国際航空 | C97: 1512 | D97: 243982 | E97: 0.17431208
A98: CZ | B98: 中国南方航空 | C98: 618 | D98: 90190 | E98: 0.064435927
A99: DL | B99: デルタ航空 | C99: 176 | D99: 42648 | E99: 0.030469713
A100: FM | B100: 上海航空 | C100: 193 | D100: 34892 | E100: 0.024928466
A101: EY | B101: エティハド航空 | C101: 64 | D101: 16768 | E101: 0.011979838
...

Sheet 14年
A1: スリーレター | B1: 空港 | C1: 便数 | D1: 座席数
A2: ICN | B2: 仁川 | C2: 5276 | D2: 1079063
A3: TPE | B3: 台湾桃園 | C3: 4162 | D3: 1028879
A4: PVG | B4: 上海浦東 | C4: 3518 | D4: 662683
A5: HKG | B5: 香港 | C5: 2552 | D5: 658917
A6: BKK | B6: バンコク | C6: 1809 | D6: 579536
A7: HNL | B7: ホノルル | C7: 1820 | D7: 482410
A8: GMP | B8: 金浦 | C8: 1710 | D8: 428708
A9: SIN | B9: シンガポール | C9: 1438 | D9: 409703
A10: GUM | B10: グアム | C10: 1672 | D10: 308917
A11: PEK | B11: 北京 | C11: 1548 | D11: 293439
A12: MNL | B12: マニラ | C12: 1148 | D12: 288114
A13: PUS | B13: 釜山 | C13: 1692 | D13: 282511
... A106: ROP | B106: ロタ | C106: 1 | D106: 155

Sheet 14年方面別
A1: ツーレター | B1: 航空会社 | C1: 便数 | D1: 座席数 | E1: シェア | H1: 空港 | I1: 便数 | J1: 総座席 | K1: シェア
A2: オセアニア | H2: オセアニア | I2: 556 | J2: 165046 | K2: =IF(J2="","",J2/$J$17) -> 0.016062161
A3: JQ | B3: ジェットスター航空 | C3: 271 | D3: 82241 | E3: 0.49829139 | H3: ハワイ | I3: 1820 | J3: 482410 | K3: =IF(J3="","",J3/$J$17) -> 0.046947804
A4: QF | B4: カンタス航空 | C4: 93 | D4: 33775 | E4: 0.20463992 | H4: ミクロネシア | I4: 2008 | J4: 368766 | K4: =IF(J4="","",J4/$J$17) -> 0.035888049
A5: NZ | B5: ニュージーランド航空 | C5: 101 | D5: 27470 | E5: 0.16643845 | H5: ロシア | I5: 235 | J5: 45871 | K5: =IF(J5="","",J5/$J$17) -> 0.0044641337
A6: JL | B6: 日本航空 | C6: 90 | D6: 21348 | E6: 0.12934576 | H6: 欧州 | I6: 2562 | J6: 688124 | K6: =IF(J6="","",J6/$J$17) -> 0.066967747
A7: NH | B7: 全日空 | C7: 1 | D7: 212 | E7: 0.0012844904 | H7: 韓国 | I7: 8876 | J7: 1824641 | K7: =IF(J7="","",J7/$J$17) -> 0.17757279
A8: 合計 | C8: 556 | D8: 165046 | E8: - | H8: 香港・マカオ | I8: 2666 | J8: 674520 | K8: =IF(J8="","",J8/$J$17) -> 0.065643815
A9: ハワイ | H9: 太平洋 | I9: 127 | J9: 32638 | K9: =IF(J9="","",J9/$J$17) -> 0.0031763073
A10: JL | B10: 日本航空 | C10: 540 | D10: 134880 | E10: 0.27959619 | H10: 台湾 | I10: 5319 | J10: 1303038 | K10: =IF(J10="","",J10/$J$17) -> 0.12681075
A11: DL | B11: デルタ航空 | C11: 447 | D11: 112581 | E11: 0.23337203 | H11: 中国・モンゴル | I11: 8046 | J11: 1484231 | K11: =IF(J11="","",J11/$J$17) -> 0.14444432
A12: HA | B12: ハワイアン航空 | C12: 294 | D12: 81921 | E12: 0.16981613 | H12: 中東・アフリカ | I12: 785 | J12: 229954 | K12: =IF(J12="","",J12/$J$17) -> 0.022378963
A13: NH | B13: 全日空 | C13: 181 | D13: 39194 | E13: 0.081246243 | H13: 中南米 | I13: 39 | J13: 9477 | K13: =IF(J13="","",J13/$J$17) -> 0.00092229501
A14: CI | B14: チャイナエアライン | C14: 90 | D14: 34858 | E14: 0.072258038 | H14: 東南アジア | I14: 6722 | J14: 1862898 | K14: =IF(J14="","",J14/$J$17) -> 0.18129593
A15: UA | B15: ユナイテッド航空 | C15: 90 | D15: 31455 | E15: 0.065203872 | H15: 南アジア | I15: 361 | J15: 70925 | K15: =IF(J15="","",J15/$J$17) -> 0.0069023714
A16: KE | B16: 大韓航空 | C16: 90 | D16: 28689 | E16: 0.05947016 | H16: 北米 | I16: 3960 | J16: 1032915 | K16: =IF(J16="","",J16/$J$17) -> 0.10052257
A17: NQ | B17: エアージャパン | C17: 88 | D17: 18832 | E17: 0.039037333 | H17: 合計 | I17: =SUM(I2:I16) -> 44082 | J17: =SUM(J2:J16) -> 10275454 | K17: -
A18: 合計 | C18: 1820 | D18: 482410 | E18: -
A19: ミクロネシア
A20: UA | B20: ユナイテッド航空 | C20: 984 | D20: 174795 | E20: 0.47399977
A21: DL | B21: デルタ航空 | C21: 735 | D21: 127890 | E21: 0.34680529
A22: JL | B22: 日本航空 | C22: 103 | D22: 26009 | E22: 0.070529821
A23: KE | B23: 大韓航空 | C23: 90 | D23: 22239 | E23: 0.060306536
A24: OZ | B24: アシアナ航空 | C24: 96 | D24: 17833 | E24: 0.04835858
A25: 合計 | C25: 2008 | D25: 368766 | E25: -
A26: ロシア
A27: SU | B27: アエロフロート・ロシア航空 | C27: 90 | D27: 27180 | E27: 0.59253123
A28: S7 | B28: S7航空 | C28: 52 | D28: 8216 | E28: 0.17911099
A29: JL | B29: 日本航空 | C29: 40 | D29: 7440 | E29: 0.16219398
A30: HZ | B30: オーロラ航空 | C30: 52 | D30: 2788 | E30: 0.060779142
A31: HY | B31: ウズベキスタン航空 | C31: 1 | D31: 247 | E31: 0.0053846657
A32: 合計 | C32: 235 | D32: 45871 | E32: -
A33: 欧州
A34: JL | B34: 日本航空 | C34: 450 | D34: 98690 | E34: 0.14341892
A35: LH | B35: ルフトハンザ・ドイツ航空 | C35: 307 | D35: 95105 | E35: 0.1382091
A36: NH | B36: 全日空 | C36: 454 | D36: 94937 | E36: 0.13796496
A37: AF | B37: エールフランス航空 | C37: 251 | D37: 93633 | E37: 0.13606995
A38: KL | B38: KLMオランダ航空 | C38: 208 | D38: 68248 | E38: 0.099179799
A39: AZ | B39: アリタリア-イタリア航空 | C39: 226 | D39: 61754 | E39: 0.089742546
A40: AY | B40: フィンエアー | C40: 213 | D40: 58734 | E40: 0.085353803
A41: BA | B41: ブリティッシュ・エアウェイズ | C41: 133 | D41: 36069 | E41: 0.052416425
A42: VS | B42: ヴァージン・アトランティック航空 | C42: 89 | D42: 22856 | E42: 0.033214944
A43: LX | B43: スイス・インターナショナル・エアラインズ | C43: 90 | D43: 19710 | E43: 0.028643093
A44: SK | B44: スカンジナビア航空 | C44: 80 | D44: 19600 | E44: 0.028483238
A45: OS | B45: オーストリア航空 | C45: 61 | D45: 18788 | E45: 0.027303219
A46: 合計 | C46: 2562 | D46: 688124 | E46: -
A47: 韓国
A48: KE | B48: 大韓航空 | C48: 3059 | D48: 666261 | E48: 0.36514635
A49: OZ | B49: アシアナ航空 | C49: 2305 | D49: 488599 | E49: 0.26777815
A50: JL | B50: 日本航空 | C50: 720 | D50: 160532 | E50: 0.087980046
A51: 7C | B51: チェジュ航空 | C51: 718 | D51: 133548 | E51: 0.073191384
A52: BX | B52: エアプサン | C52: 450 | D52: 75568 | E52: 0.04141527
A53: NH | B53: 全日空 | C53: 270 | D53: 65908 | E53: 0.036121078
A54: MM | B54: ピーチ・アビエーション | C54: 360 | D54: 64800 | E54: 0.035513835
A55: LJ | B55: ジンエアー | C55: 217 | D55: 39585 | E55: 0.021694679
A56: ZE | B56: イースター航空 | C56: 204 | D56: 38511 | E56: 0.02110607
A57: TW | B57: ティーウェイ航空 | C57: 222 | D57: 27084 | E57: 0.014843468
A58: 7G | B58: スターフライヤー | C58: 176 | D58: 25344 | E58: 0.013889856
A59: UA | B59: ユナイテッド航空 | C59: 87 | D59: 23061 | E59: 0.012638651
A60: JW | B60: バニラエア | C60: 88 | D60: 15840 | E60: 0.0086811597
A61: 合計 | C61: 8876 | D61: 1824641 | E61: -
A62: 香港・マカオ
A63: CX | B63: キャセイパシフィック航空 | C63: 1136 | D63: 357892 | E63: 0.53058768
A64: NH | B64: 全日空 | C64: 452 | D64: 87050 | E64: 0.12905474
A65: JL | B65: 日本航空 | C65: 180 | D65: 45540 | E65: 0.067514677
A66: UO | B66: 香港エクスプレス航空 | C66: 231 | D66: 39927 | E66: 0.059193204
A67: MM | B67: ピーチ・アビエーション | C67: 180 | D67: 32400 | E67: 0.048034158
A68: KA | B68: 香港ドラゴン航空 | C68: 142 | D68: 31292 | E68: 0.046391508
A69: HX | B69: 香港航空 | C69: 104 | D69: 29235 | E69: 0.043341932
A70: DL | B70: デルタ航空 | C70: 89 | D70: 25853 | E70: 0.038327996
A71: NX | B71: マカオ航空 | C71: 109 | D71: 14843 | E71: 0.022005278
A72: AI | B72: エア・インディア | C72: 38 | D72: 9728 | E72: 0.014422108
A73: 8M | B73: ミャンマー国際航空 | C73: 5 | D73: 760 | E73: 0.0011267272
A74: 合計 | C74: 2666 | D74: 674520 | E74: -
A75: 太平洋
A76: SB | B76: エアカラン / エア・カレドニア・インターナショナル | C76: 88 | D76: 23408 | E76: 0.71720081
A77: TN | B77: エア・タヒチ・ヌイ | C77: 26 | D77: 7644 | E77: 0.23420553
A78: PX | B78: ニューギニア航空 | C78: 13 | D78: 1586 | E78: 0.048593664
A79: 合計 | C79: 127 | D79: 32638 | E79: -
A80: 台湾
A81: CI | B81: チャイナエアライン | C81: 1646 | D81: 433661 | E81: 0.33280764
A82: BR | B82: エバー航空 | C82: 1056 | D82: 254643 | E82: 0.19542254
A83: JL | B83: 日本航空 | C83: 720 | D83: 149085 | E83: 0.11441339
A84: CX | B84: キャセイパシフィック航空 | C84: 360 | D84: 131625 | E84: 0.10101394
A85: GE | B85: トランスアジア航空 | C85: 357 | D85: 80260 | E85: 0.06159452
A86: MM | B86: ピーチ・アビエーション | C86: 340 | D86: 61200 | E86: 0.046967164
A87: NH | B87: 全日空 | C87: 272 | D87: 58904 | E87: 0.045205128
A88: TZ | B88: スクート | C88: 90 | D88: 36180 | E88: 0.027765882
A89: DL | B89: デルタ航空 | C89: 89 | D89: 33464 | E89: 0.025681523
A90: 3K | B90: ジェットスター・アジア航空 | C90: 159 | D90: 28620 | E90: 0.021964056
A91: JW | B91: バニラエア | C91: 151 | D91: 27180 | E91: 0.020858947
A92: AE | B92: マンダリン航空 | C92: 79 | D92: 8216 | E92: 0.0063052651
A93: 合計 | C93: 5319 | D93: 1303038 | E93: -
A94: 中国・モンゴル
A95: NH | B95: 全日空 | C95: 1764 | D95: 345642 | E95: 0.23287615
A96: MU | B96: 中国東方航空 | C96: 1827 | D96: 298968 | E96: 0.20142956
A97: CA | B97: 中国国際航空 | C97: 1580 | D97: 275672 | E97: 0.18573389
A98: JL | B98: 日本航空 | C98: 1170 | D98: 264847 | E98: 0.17844055
A99: CZ | B99: 中国南方航空 | C99: 885 | D99: 139298 | E99: 0.093851968
A100: DL | B100: デルタ航空 | C100: 175 | D100: 42513 | E100: 0.028643116
...

Sheet 15年
A1: スリーレター | B1: 空港 | C1: 便数 | D1: 座席数
A2: TPE | B2: 台湾桃園 | C2: 4649 | D2: 1147869
A3: ICN | B3: 仁川 | C3: 5117 | D3: 1032601
A4: HKG | B4: 香港 | C4: 3341 | D4: 847667
A5: PVG | B5: 上海浦東 | C5: 4485 | D5: 828414
A6: BKK | B6: バンコク | C6: 1919 | D6: 571779
A7: GMP | B7: 金浦 | C7: 1707 | D7: 423808
A8: SIN | B8: シンガポール | C8: 1531 | D8: 420643
A9: HNL | B9: ホノルル | C9: 1589 | D9: 411047
A10: PEK | B10: 北京 | C10: 1578 | D10: 314892
A11: MNL | B11: マニラ | C11: 1295 | D11: 291853
A12: GUM | B12: グアム | C12: 1513 | D12: 286684
A13: PUS | B13: 釜山 | C13: 1518 | D13: 267690
... A117: JJN | B117: 泉州 | C117: 1 | D117: 180

Sheet 15年方面別
A1: ツーレター | B1: 航空会社 | C1: 便数 | D1: 座席数 | E1: シェア | H1: 空港 | I1: 便数 | J1: 総座席 | K1: シェア
A2: オセアニア | H2: オセアニア | I2: 602 | J2: 184574 | K2: =IF(J2="","",J2/$J$17) -> 0.016806441
A3: JQ | B3: ジェットスター航空 | C3: 292 | D3: 96284 | E3: 0.52165527 | H3: ハワイ | I3: 1589 | J3: 411047 | K3: =IF(J3="","",J3/$J$17) -> 0.037428008
A4: NZ | B4: ニュージーランド航空 | C4: 128 | D4: 33820 | E4: 0.18323274 | H4: ミクロネシア | I4: 1708 | J4: 320772 | K4: =IF(J4="","",J4/$J$17) -> 0.029207991
A5: QF | B5: カンタス航空 | C5: 92 | D5: 33551 | E5: 0.18177533 | H5: ロシア | I5: 250 | J5: 50197 | K5: =IF(J5="","",J5/$J$17) -> 0.0045707029
A6: JL | B6: 日本航空 | C6: 90 | D6: 20919 | E6: 0.11333666 | H6: 欧州 | I6: 2789 | J6: 704396 | K6: =IF(J6="","",J6/$J$17) -> 0.06413899
A7: 合計 | C7: 602 | D7: 184574 | E7: - | H7: 韓国 | I7: 8486 | J7: 1750945 | K7: =IF(J7="","",J7/$J$17) -> 0.15943282
A8: ハワイ | H8: 香港・マカオ | I8: 3452 | J8: 863378 | K8: =IF(J8="","",J8/$J$17) -> 0.078615144
A9: DL | B9: デルタ航空 | C9: 439 | D9: 126332 | E9: 0.30734198 | H9: 太平洋 | I9: 142 | J9: 36628 | K9: =IF(J9="","",J9/$J$17) -> 0.0033351736
A10: JL | B10: 日本航空 | C10: 541 | D10: 122916 | E10: 0.2990315 | H10: 台湾 | I10: 6111 | J10: 1487148 | K10: =IF(J10="","",J10/$J$17) -> 0.13541271
A11: HA | B11: ハワイアン航空 | C11: 218 | D11: 62762 | E11: 0.15268814 | H11: 中国・モンゴル | I11: 9446 | J11: 1767315 | K11: =IF(J11="","",J11/$J$17) -> 0.1609234
A12: NH | B12: 全日空 | C12: 180 | D12: 38756 | E12: 0.094286055 | H12: 中東・アフリカ | I12: 893 | J12: 255114 | K12: =IF(J12="","",J12/$J$17) -> 0.023229482
A13: CI | B13: チャイナエアライン | C13: 90 | D13: 27410 | E13: 0.066683372 | H13: 中南米 | I13: 51 | J13: 12393 | K13: =IF(J13="","",J13/$J$17) -> 0.0011284483
A14: UA | B14: ユナイテッド航空 | C14: 90 | D14: 24315 | E14: 0.059153819 | H14: 東南アジア | I14: 7924 | J14: 2076949 | K14: =IF(J14="","",J14/$J$17) -> 0.18911722
A15: KE | B15: 大韓航空 | C15: 31 | D15: 8556 | E15: 0.020815138 | H15: 南アジア | I15: 360 | J15: 65413 | K15: =IF(J15="","",J15/$J$17) -> 0.0059562004
A16: 合計 | C16: 1589 | D16: 411047 | E16: - | H16: 北米 | I16: 3944 | J16: 996068 | K16: =IF(J16="","",J16/$J$17) -> 0.090697271
A17: ミクロネシア | H17: 合計 | I17: =SUM(I2:I16) -> 47747 | J17: =SUM(J2:J16) -> 10982337 | K17: -
A18: UA | B18: ユナイテッド航空 | C18: 839 | D18: 153552 | E18: 0.47869515
A19: DL | B19: デルタ航空 | C19: 674 | D19: 117276 | E19: 0.36560548
A20: JL | B20: 日本航空 | C20: 97 | D20: 24883 | E20: 0.077572232
A21: KE | B21: 大韓航空 | C21: 89 | D21: 23512 | E21: 0.073298168
A22: OZ | B22: アシアナ航空 | C22: 9 | D22: 1549 | E22: 0.0048289751
A23: 合計 | C23: 1708 | D23: 320772 | E23: -
A24: ロシア
A25: SU | B25: アエロフロート・ロシア航空 | C25: 92 | D25: 26314 | E25: 0.52421459
A26: S7 | B26: S7航空 | C26: 66 | D26: 10428 | E26: 0.2077415
A27: JL | B27: 日本航空 | C27: 39 | D27: 7254 | E27: 0.14451063
A28: HZ | B28: オーロラ航空 | C28: 48 | D28: 4966 | E28: 0.098930215
A29: HY | B29: ウズベキスタン航空 | C29: 5 | D29: 1235 | E29: 0.024603064
A30: 合計 | C30: 250 | D30: 50197 | E30: -
A31: 欧州
A32: NH | B32: 全日空 | C32: 623 | D32: 127336 | E32: 0.18077332
A33: LH | B33: ルフトハンザ・ドイツ航空 | C33: 362 | D33: 107096 | E33: 0.15203948
A34: JL | B34: 日本航空 | C34: 450 | D34: 92118 | E34: 0.13077587
A35: AF | B35: エールフランス航空 | C35: 304 | D35: 89243 | E35: 0.12669436
A36: KL | B36: KLMオランダ航空 | C36: 212 | D36: 66930 | E36: 0.095017575
A37: AZ | B37: アリタリア-イタリア航空 | C37: 203 | D37: 59254 | E37: 0.084120296
A38: AY | B38: フィンエアー | C38: 219 | D38: 57605 | E38: 0.081779283
A39: BA | B39: ブリティッシュ・エアウェイズ | C39: 162 | D39: 41484 | E39: 0.058893009
A40: SK | B40: スカンジナビア航空 | C40: 83 | D40: 20335 | E40: 0.028868705
A41: LX | B41: スイス・インターナショナル・エアラインズ | C41: 89 | D41: 19491 | E41: 0.027670515
A42: OS | B42: オーストリア航空 | C42: 54 | D42: 16648 | E42: 0.023634433
A43: VS | B43: ヴァージン・アトランティック航空 | C43: 28 | D43: 6856 | E43: 0.0097331615
A44: 合計 | C44: 2789 | D44: 704396 | E44: -
A45: 韓国
A46: KE | B46: 大韓航空 | C46: 2968 | D46: 647497 | E46: 0.36979859
A47: OZ | B47: アシアナ航空 | C47: 2161 | D47: 466714 | E47: 0.26654978
A48: JL | B48: 日本航空 | C48: 627 | D48: 137619 | E48: 0.078596986
A49: 7C | B49: チェジュ航空 | C49: 697 | D49: 129642 | E49: 0.074041161
A50: BX | B50: エアプサン | C50: 550 | D50: 106354 | E50: 0.060740914
A51: NH | B51: 全日空 | C51: 270 | D51: 65904 | E51: 0.037639103
A52: MM | B52: ピーチ・アビエーション | C52: 273 | D52: 49140 | E52: 0.028064845
A53: TW | B53: ティーウェイ航空 | C53: 368 | D53: 44896 | E53: 0.025641011
A54: ZE | B54: イースター航空 | C54: 214 | D54: 40446 | E54: 0.023099526
A55: LJ | B55: ジンエアー | C55: 181 | D55: 33123 | E55: 0.018917213
A56: JW | B56: バニラエア | C56: 87 | D56: 15660 | E56: 0.0089437418
A57: UA | B57: ユナイテッド航空 | C57: 90 | D57: 13950 | E57: 0.0079671263
A58: 合計 | C58: 8486 | D58: 1750945 | E58: -
A59: 香港・マカオ
A60: CX | B60: キャセイパシフィック航空 | C60: 1223 | D60: 411171 | E60: 0.47623521
A61: UO | B61: 香港エクスプレス航空 | C61: 665 | D61: 115638 | E61: 0.1339367
A62: NH | B62: 全日空 | C62: 500 | D62: 98207 | E62: 0.1137474
A63: HX | B63: 香港航空 | C63: 262 | D63: 69876 | E63: 0.080933264
A64: JL | B64: 日本航空 | C64: 180 | D64: 45329 | E64: 0.052501917
A65: KA | B65: 香港ドラゴン航空 | C65: 145 | D65: 38602 | E65: 0.044710428
A66: MM | B66: ピーチ・アビエーション | C66: 202 | D66: 36360 | E66: 0.042113651
A67: JW | B67: バニラエア | C67: 111 | D67: 19980 | E67: 0.02314166
A68: NX | B68: マカオ航空 | C68: 111 | D68: 15711 | E68: 0.018197128
A69: AI | B69: エア・インディア | C69: 39 | D69: 9984 | E69: 0.01156388
A70: GK | B70: ジェットスター・ジャパン | C70: 14 | D70: 2520 | E70: 0.0029187679
A71: 合計 | C71: 3452 | D71: 863378 | E71: -
A72: 太平洋
A73: SB | B73: エアカラン / エア・カレドニア・インターナショナル | C73: 103 | D73: 27398 | E73: 0.74800699
A74: TN | B74: エア・タヒチ・ヌイ | C74: 26 | D74: 7644 | E74: 0.2086928
A75: PX | B75: ニューギニア航空 | C75: 13 | D75: 1586 | E75: 0.043300207
A76: 合計 | C76: 142 | D76: 36628 | E76: -
A77: 台湾
A78: CI | B78: チャイナエアライン | C78: 2033 | D78: 537590 | E78: 0.36149058
A79: BR | B79: エバー航空 | C79: 1232 | D79: 295127 | E79: 0.19845167
A80: JL | B80: 日本航空 | C80: 720 | D80: 156342 | E80: 0.10512874
A81: CX | B81: キャセイパシフィック航空 | C81: 360 | D81: 124913 | E81: 0.083995003
A82: GE | B82: トランスアジア航空 | C82: 435 | D82: 95386 | E82: 0.06414022
A83: MM | B83: ピーチ・アビエーション | C83: 354 | D83: 63720 | E83: 0.042847114
A84: NH | B84: 全日空 | C84: 270 | D84: 61056 | E84: 0.041055766
A85: JW | B85: バニラエア | C85: 328 | D85: 59040 | E85: 0.039700151
A86: TZ | B86: スクート | C86: 90 | D86: 36180 | E86: 0.024328446
A87: DL | B87: デルタ航空 | C87: 89 | D87: 26077 | E87: 0.017534906
A88: 3K | B88: ジェットスター・アジア航空 | C88: 142 | D88: 25560 | E88: 0.01718726
A89: AE | B89: マンダリン航空 | C89: 56 | D89: 5806 | E89: 0.0039041171
A90: NX | B90: マカオ航空 | C90: 2 | D90: 351 | E90: 0.00023602224
A91: 合計 | C91: 6111 | D91: 1487148 | E91: -
A92: 中国・モンゴル
A93: MU | B93: 中国東方航空 | C93: 2393 | D93: 408246 | E93: 0.23099787
A94: NH | B94: 全日空 | C94: 1859 | D94: 361411 | E94: 0.20449722
A95: CA | B95: 中国国際航空 | C95: 1773 | D95: 337577 | E95: 0.19101122
A96: JL | B96: 日本航空 | C96: 1170 | D96: 252686 | E96: 0.14297734
A97: CZ | B97: 中国南方航空 | C97: 768 | D97: 126184 | E97: 0.071398704
A98: 9C | B98: 春秋航空 | C98: 562 | D98: 101160 | E98: 0.057239372
A99: FM | B99: 上海航空 | C99: 205 | D99: 45929 | E99: 0.02598801
A100: GS | B100: 天津航空 | C100: 167 | D100: 29428 | E100: 0.016651248
...

Sheet 16年
A1: スリーレター | B1: 空港 | C1: 便数 | D1: 座席数
A2: TPE | B2: 台湾桃園 | C2: 6322 | D2: 1496197
A3: ICN | B3: 仁川 | C3: 6222 | D3: 1281783
A4: HKG | B4: 香港 | C4: 4385 | D4: 1057414
A5: PVG | B5: 上海浦東 | C5: 5733 | D5: 1055063
A6: BKK | B6: バンコク | C6: 2007 | D6: 561246
A7: SIN | B7: シンガポール | C7: 1637 | D7: 430655
A8: HNL | B8: ホノルル | C8: 1703 | D8: 418146
A9: PUS | B9: 釜山 | C9: 2229 | D9: 411440
A10: GMP | B10: 金浦 | C10: 1662 | D10: 398057
A11: PEK | B11: 北京 | C11: 1846 | D11: 362363
A12: MNL | B12: マニラ | C12: 1404 | D12: 338324
A13: GUM | B13: グアム | C13: 1407 | D13: 274747
... A132: SWA | B132: 汕頭 | C132: 1 | D132: 158

Sheet 16年方面別
A1: ツーレター | B1: 航空会社 | C1: 便数 | D1: 座席数 | E1: シェア | H1: 空港 | I1: 便数 | J1: 総座席 | K1: シェア
A2: オセアニア | H2: オセアニア | I2: 791 | J2: 240255 | K2: =IF(J2="","",J2/$J$17) -> 0.018749778
A3: JQ | B3: ジェットスター航空 | C3: 297 | D3: 99495 | E3: 0.41412249 | H3: ハワイ | I3: 1703 | J3: 418146 | K3: =IF(J3="","",J3/$J$17) -> 0.032632597
A4: QF | B4: カンタス航空 | C4: 183 | D4: 60033 | E4: 0.24987201 | H4: ミクロネシア | I4: 1556 | J4: 304072 | K4: =IF(J4="","",J4/$J$17) -> 0.02373013
A5: NZ | B5: ニュージーランド航空 | C5: 129 | D5: 38958 | E5: 0.16215271 | H5: ロシア | I5: 267 | J5: 52451 | K5: =IF(J5="","",J5/$J$17) -> 0.0040933366
A6: JL | B6: 日本航空 | C6: 91 | D6: 22204 | E6: 0.092418472 | H6: 欧州 | I6: 2511 | J6: 632292 | K6: =IF(J6="","",J6/$J$17) -> 0.049344798
A7: NH | B7: 全日空 | C7: 91 | D7: 19565 | E7: 0.081434309 | H7: 韓国 | I7: 10299 | J7: 2115678 | K7: =IF(J7="","",J7/$J$17) -> 0.16510995
A8: 合計 | C8: 791 | D8: 240255 | E8: - | H8: 香港・マカオ | I8: 4578 | J8: 1089399 | K8: =IF(J8="","",J8/$J$17) -> 0.085017956
A9: ハワイ | H9: 太平洋 | I9: 143 | J9: 36894 | K9: =IF(J9="","",J9/$J$17) -> 0.0028792504
A10: JL | B10: 日本航空 | C10: 564 | D10: 135662 | E10: 0.32443692 | H10: 台湾 | I10: 8273 | J10: 1923566 | K10: =IF(J10="","",J10/$J$17) -> 0.15011731
A11: DL | B11: デルタ航空 | C11: 372 | D11: 84510 | E11: 0.20210644 | H11: 中国・モンゴル | I11: 13592 | J11: 2468477 | K11: =IF(J11="","",J11/$J$17) -> 0.1926428
A12: HA | B12: ハワイアン航空 | C12: 221 | D12: 63609 | E12: 0.15212151 | H12: 中東・アフリカ | I12: 783 | J12: 227372 | K12: =IF(J12="","",J12/$J$17) -> 0.017744373
A13: NH | B13: 全日空 | C13: 273 | D13: 57330 | E13: 0.13710522 | H13: 中南米 | I13: 52 | J13: 12636 | K13: =IF(J13="","",J13/$J$17) -> 0.00098612803
A14: CI | B14: チャイナエアライン | C14: 91 | D14: 27184 | E14: 0.065010786 | H14: 東南アジア | I14: 8469 | J14: 2165873 | K14: =IF(J14="","",J14/$J$17) -> 0.16902723
A15: KE | B15: 大韓航空 | C15: 91 | D15: 25116 | E15: 0.060065145 | H15: 南アジア | I15: 377 | J15: 70129 | K15: =IF(J15="","",J15/$J$17) -> 0.0054729481
A16: UA | B16: ユナイテッド航空 | C16: 91 | D16: 24735 | E16: 0.05915398 | H16: 北米 | I16: 4255 | J16: 1056512 | K16: =IF(J16="","",J16/$J$17) -> 0.082451416
A17: 合計 | C17: 1703 | D17: 418146 | E17: - | H17: 合計 | I17: =SUM(I2:I16) -> 57649 | J17: =SUM(J2:J16) -> 12813752 | K17: -
A18: ミクロネシア
A19: UA | B19: ユナイテッド航空 | C19: 787 | D19: 146094 | E19: 0.48045858
A20: DL | B20: デルタ航空 | C20: 531 | D20: 105369 | E20: 0.34652648
A21: KE | B21: 大韓航空 | C21: 88 | D21: 23040 | E21: 0.075771528
A22: JL | B22: 日本航空 | C22: 91 | D22: 21567 | E22: 0.07092728
A23: TW | B23: ティーウェイ航空 | C23: 48 | D23: 6018 | E23: 0.019791365
A24: OZ | B24: アシアナ航空 | C24: 9 | D24: 1618 | E24: 0.0053211082
A25: LJ | B25: ジンエアー | C25: 2 | D25: 366 | E25: 0.0012036623
A26: 合計 | C26: 1556 | D26: 304072 | E26: -
A27: ロシア
A28: SU | B28: アエロフロート・ロシア航空 | C28: 90 | D28: 27119 | E28: 0.51703495
A29: S7 | B29: S7航空 | C29: 65 | D29: 10270 | E29: 0.1958018
A30: JL | B30: 日本航空 | C30: 40 | D30: 7440 | E30: 0.14184668
A31: HZ | B31: オーロラ航空 | C31: 69 | D31: 6881 | E31: 0.13118911
A32: HY | B32: ウズベキスタン航空 | C32: 3 | D32: 741 | E32: 0.014127471
A33: 合計 | C33: 267 | D33: 52451 | E33: -
A34: 欧州
A35: NH | B35: 全日空 | C35: 623 | D35: 125261 | E35: 0.19810625
A36: LH | B36: ルフトハンザ・ドイツ航空 | C36: 285 | D36: 92842 | E36: 0.14683406
A37: JL | B37: 日本航空 | C37: 398 | D37: 85403 | E37: 0.13506892
A38: AF | B38: エールフランス航空 | C38: 248 | D38: 72761 | E38: 0.115075
A39: AY | B39: フィンエアー | C39: 221 | D39: 57737 | E39: 0.091313823
A40: KL | B40: KLMオランダ航空 | C40: 159 | D40: 48480 | E40: 0.076673436
A41: BA | B41: ブリティッシュ・エアウェイズ | C41: 175 | D41: 42839 | E41: 0.067751925
A42: AZ | B42: アリタリア-イタリア航空 | C42: 144 | D42: 42192 | E42: 0.066728663
A43: LX | B43: スイス・インターナショナル・エアラインズ | C43: 89 | D43: 19491 | E43: 0.030825948
A44: SK | B44: スカンジナビア航空 | C44: 78 | D44: 19110 | E44: 0.030223378
A45: OS | B45: オーストリア航空 | C45: 57 | D45: 17608 | E45: 0.027847893
A46: LO | B46: LOTポーランド航空 | C46: 34 | D46: 8568 | E46: 0.013550701
A47: 合計 | C47: 2511 | D47: 632292 | E47: -
A48: 韓国
A49: KE | B49: 大韓航空 | C49: 3165 | D49: 735085 | E49: 0.34744654
A50: OZ | B50: アシアナ航空 | C50: 2257 | D50: 489883 | E50: 0.23154894
A51: 7C | B51: チェジュ航空 | C51: 1244 | D51: 231384 | E51: 0.10936636
A52: BX | B52: エアプサン | C52: 767 | D52: 149151 | E52: 0.070497968
A53: MM | B53: ピーチ・アビエーション | C53: 551 | D53: 99180 | E53: 0.046878589
A54: JL | B54: 日本航空 | C54: 546 | D54: 94731 | E54: 0.044775717
A55: ZE | B55: イースター航空 | C55: 476 | D55: 89629 | E55: 0.042364197
A56: LJ | B56: ジンエアー | C56: 366 | D56: 80866 | E56: 0.038222263
A57: TW | B57: ティーウェイ航空 | C57: 563 | D57: 68686 | E57: 0.032465243
A58: NH | B58: 全日空 | C58: 273 | D58: 61977 | E58: 0.029294155
A59: UA | B59: ユナイテッド航空 | C59: 91 | D59: 15106 | E59: 0.0071400279
A60: 合計 | C60: 10299 | D60: 2115678 | E60: -
A61: 香港・マカオ
A62: CX | B62: キャセイパシフィック航空 | C62: 1291 | D62: 440259 | E62: 0.40413017
A63: UO | B63: 香港エクスプレス航空 | C63: 1073 | D63: 186702 | E63: 0.17138073
A64: NH | B64: 全日空 | C64: 498 | D64: 98673 | E64: 0.090575629
A65: HX | B65: 香港航空 | C65: 341 | D65: 85965 | E65: 0.078910482
A66: KA | B66: 香港ドラゴン航空 | C66: 262 | D66: 59326 | E66: 0.05445755
A67: JL | B67: 日本航空 | C67: 182 | D67: 43971 | E67: 0.040362622
A68: MM | B68: ピーチ・アビエーション | C68: 226 | D68: 40680 | E68: 0.03734169
A69: GK | B69: ジェットスター・ジャパン | C69: 193 | D69: 34740 | E69: 0.031889143
A70: JW | B70: バニラエア | C70: 182 | D70: 32760 | E70: 0.030071627
A71: NX | B71: マカオ航空 | C71: 193 | D71: 31985 | E71: 0.029360225
A72: DL | B72: デルタ航空 | C72: 59 | D72: 13863 | E72: 0.012725365
A73: ET | B73: エチオピア航空 | C73: 39 | D73: 10491 | E73: 0.0096300804
A74: AI | B74: エア・インディア | C74: 39 | D74: 9984 | E74: 0.0091646862
A75: 合計 | C75: 4578 | D75: 1089399 | E75: -
A76: 太平洋
A77: SB | B77: エアカラン / エア・カレドニア・インターナショナル | C77: 104 | D77: 27664 | E77: 0.74982382
A78: TN | B78: エア・タヒチ・ヌイ | C78: 26 | D78: 7644 | E78: 0.20718816
A79: PX | B79: ニューギニア航空 | C79: 13 | D79: 1586 | E79: 0.04298802
A80: 合計 | C80: 143 | D80: 36894 | E80: -
A81: 台湾
A82: CI | B82: チャイナエアライン | C82: 2243 | D82: 598571 | E82: 0.31117778
A83: BR | B83: エバー航空 | C83: 1538 | D83: 365915 | E83: 0.19022742
A84: GE | B84: トランスアジア航空 | C84: 631 | D84: 171108 | E84: 0.088953537
A85: JL | B85: 日本航空 | C85: 739 | D85: 145183 | E85: 0.075475965
A86: CX | B86: キャセイパシフィック航空 | C86: 364 | D86: 124990 | E86: 0.064978275
A87: IT | B87: タイガーエア台湾 | C87: 674 | D87: 101100 | E87: 0.052558633
A88: MM | B88: ピーチ・アビエーション | C88: 555 | D88: 99900 | E88: 0.051934792
A89: JW | B89: バニラエア | C89: 397 | D89: 71460 | E89: 0.037149752
A90: NH | B90: 全日空 | C90: 273 | D90: 63128 | E90: 0.032818214
A91: GK | B91: ジェットスター・ジャパン | C91: 278 | D91: 50040 | E91: 0.026014184
A92: TZ | B92: スクート | C92: 130 | D92: 47470 | E92: 0.024678124
A93: ZV | B93: Vエアー | C93: 187 | D93: 36278 | E93: 0.018859764
... A97: NX | B97: マカオ航空 | C97: 5 | D97: 838 | E97: 0.00043564921
A98: 合計 | C98: 8273 | D98: 1923566 | E98: -
A99: 中国・モンゴル
A100: MU | B100: 中国東方航空 | C100: 3103 | D100: 558877 | E100: 0.22640559
A101: NH | B101: 全日空 | C101: 2117 | D101: 414332 | E101: 0.16784924
A102: CA | B102: 中国国際航空 | C102: 2038 | D102: 375265 | E102: 0.15202289
A103: JL | B103: 日本航空 | C103: 1274 | D103: 243248 | E103: 0.098541732
...

Sheet 17年
A1: スリーレター | B1: 空港 | C1: 便数 | D1: 座席数
A2: ICN | B2: 仁川 | C2: 7829 | D2: 1621348
A3: TPE | B3: 台湾桃園 | C3: 6132 | D3: 1389376
A4: HKG | B4: 香港 | C4: 5031 | D4: 1196443
A5: PVG | B5: 上海浦東 | C5: 5910 | D5: 1046276
A6: BKK | B6: バンコク | C6: 1949 | D6: 578294
A7: PUS | B7: 釜山 | C7: 2787 | D7: 521904
A8: HNL | B8: ホノルル | C8: 1880 | D8: 473338
A9: SIN | B9: シンガポール | C9: 1530 | D9: 385204
A10: GMP | B10: 金浦 | C10: 1620 | D10: 382247
A11: PEK | B11: 北京 | C11: 1913 | D11: 375192
A12: MNL | B12: マニラ | C12: 1527 | D12: 374796
A13: KUL | B13: クアラルンプール | C13: 777 | D13: 232260
... A129: PHX | B129: フェニックス | C129: 1 | D129: 264

Sheet 17年方面別
A1: ツーレター | B1: 航空会社 | C1: 便数 | D1: 座席数 | E1: シェア | H1: 空港 | I1: 便数 | J1: 総座席 | K1: シェア
A2: オセアニア | H2: オセアニア | I2: 913 | J2: 278292 | K2: =IF(J2="","",J2/$J$17) -> 0.020601782
A3: JQ | B3: ジェットスター航空 | C3: 304 | D3: 101840 | E3: 0.36594656 | H3: ハワイ | I3: 1919 | J3: 484804 | K3: =IF(J3="","",J3/$J$17) -> 0.035889735
A4: QF | B4: カンタス航空 | C4: 270 | D4: 85813 | E4: 0.30835597 | H4: ミクロネシア | I4: 1260 | J4: 235496 | K4: =IF(J4="","",J4/$J$17) -> 0.017433621
A5: NZ | B5: ニュージーランド航空 | C5: 159 | D5: 48848 | E5: 0.17552786 | H5: ロシア | I5: 287 | J5: 50270 | K5: =IF(J5="","",J5/$J$17) -> 0.0037214565
A6: JL | B6: 日本航空 | C6: 90 | D6: 21666 | E6: 0.077853478 | H6: 欧州 | I6: 2473 | J6: 616420 | K6: =IF(J6="","",J6/$J$17) -> 0.045633185
A7: NH | B7: 全日空 | C7: 90 | D7: 20125 | E7: 0.072316128 | H7: 韓国 | I7: 12897 | J7: 2640844 | K7: =IF(J7="","",J7/$J$17) -> 0.19550002
A8: 合計 | C8: 913 | D8: 278292 | E8: - | H8: 香港・マカオ | I8: 5251 | J8: 1231957 | K8: =IF(J8="","",J8/$J$17) -> 0.091201002
A9: ハワイ | H9: 太平洋 | I9: 164 | J9: 41648 | K9: =IF(J9="","",J9/$J$17) -> 0.0030831753
A10: JL | B10: 日本航空 | C10: 618 | D10: 136575 | E10: 0.28171178 | H10: 台湾 | I10: 7907 | J10: 1781410 | K10: =IF(J10="","",J10/$J$17) -> 0.13187666
A11: HA | B11: ハワイアン航空 | C11: 399 | D11: 114213 | E11: 0.23558593 | H11: 中国・モンゴル | I11: 13848 | J11: 2490712 | K11: =IF(J11="","",J11/$J$17) -> 0.18438584
A12: DL | B12: デルタ航空 | C12: 361 | D12: 95123 | E12: 0.19620919 | H12: 中東・アフリカ | I12: 659 | J12: 194811 | K12: =IF(J12="","",J12/$J$17) -> 0.014421736
A13: NH | B13: 全日空 | C13: 270 | D13: 61920 | E13: 0.12772172 | H13: 中南米 | I13: 118 | J13: 25344 | K13: =IF(J13="","",J13/$J$17) -> 0.0018762004
A14: CI | B14: チャイナエアライン | C14: 90 | D14: 27648 | E14: 0.057029232 | H14: 東南アジア | I14: 8930 | J14: 2326590 | K14: =IF(J14="","",J14/$J$17) -> 0.17223599
A15: KE | B15: 大韓航空 | C15: 90 | D15: 24840 | E15: 0.051237201 | H15: 南アジア | I15: 372 | J15: 80385 | K15: =IF(J15="","",J15/$J$17) -> 0.005950851
A16: UA | B16: ユナイテッド航空 | C16: 90 | D16: 24210 | E16: 0.049937707 | H16: 北米 | I16: 4093 | J16: 1029169 | K16: =IF(J16="","",J16/$J$17) -> 0.076188734
A17: OZ | B17: アシアナ航空 | C17: 1 | D17: 275 | E17: 0.00056723954 | H17: 合計 | I17: =SUM(I2:I16) -> 61091 | J17: =SUM(J2:J16) -> 13508152 | K17: -
A18: 合計 | C18: 1919 | D18: 484804 | E18: -
A19: ミクロネシア
A20: UA | B20: ユナイテッド航空 | C20: 798 | D20: 148812 | E20: 0.63190882
A21: DL | B21: デルタ航空 | C21: 270 | D21: 45630 | E21: 0.19376125
A22: JL | B22: 日本航空 | C22: 94 | D22: 22278 | E22: 0.094600333
A23: TW | B23: ティーウェイ航空 | C23: 90 | D23: 17010 | E23: 0.072230526
A24: KE | B24: 大韓航空 | C24: 5 | D24: 1253 | E24: 0.0053206849
A25: OZ | B25: アシアナ航空 | C25: 3 | D25: 513 | E25: 0.0021783809
A26: 合計 | C26: 1260 | D26: 235496 | E26: -
A27: ロシア
A28: SU | B28: アエロフロート・ロシア航空 | C28: 89 | D28: 26344 | E28: 0.52405013
A29: S7 | B29: S7航空 | C29: 63 | D29: 9954 | E29: 0.19801074
A30: JL | B30: 日本航空 | C30: 40 | D30: 6440 | E30: 0.12810822
A31: HZ | B31: オーロラ航空 | C31: 67 | D31: 4594 | E31: 0.091386513
A32: R3 | B32: ヤクーツク航空 | C32: 26 | D32: 2444 | E32: 0.048617466
A33: HY | B33: ウズベキスタン航空 | C33: 2 | D33: 494 | E33: 0.0098269346
A34: 合計 | C34: 287 | D34: 50270 | E34: -
A35: 欧州
A36: NH | B36: 全日空 | C36: 624 | D36: 127520 | E36: 0.20687194
A37: LH | B37: ルフトハンザ・ドイツ航空 | C37: 255 | D37: 84782 | E37: 0.13753934
A38: JL | B38: 日本航空 | C38: 404 | D38: 83146 | E38: 0.13488531
A39: AF | B39: エールフランス航空 | C39: 249 | D39: 73758 | E39: 0.11965543
A40: AY | B40: フィンエアー | C40: 208 | D40: 54790 | E40: 0.088884202
A41: KL | B41: KLMオランダ航空 | C41: 160 | D41: 49594 | E41: 0.080454885
A42: BA | B42: ブリティッシュ・エアウェイズ | C42: 176 | D42: 42336 | E42: 0.068680445
A43: AZ | B43: アリタリア-イタリア航空 | C43: 155 | D43: 41320 | E43: 0.067032218
A44: LX | B44: スイス・インターナショナル・エアラインズ | C44: 88 | D44: 19272 | E44: 0.031264398
A45: SK | B45: スカンジナビア航空 | C45: 78 | D45: 19266 | E45: 0.031254664
A46: IB | B46: イベリア航空 | C46: 38 | D46: 11060 | E46: 0.017942312
A47: LO | B47: LOTポーランド航空 | C47: 38 | D47: 9576 | E47: 0.015534863
A48: 合計 | C48: 2473 | D48: 616420 | E48: -
A49: 韓国
A50: KE | B50: 大韓航空 | C50: 3127 | D50: 725051 | E50: 0.27455276
A51: OZ | B51: アシアナ航空 | C51: 2110 | D51: 457774 | E51: 0.17334382
A52: 7C | B52: チェジュ航空 | C52: 1657 | D52: 308202 | E52: 0.11670587
A53: LJ | B53: ジンエアー | C53: 1256 | D53: 254682 | E53: 0.096439623
A54: BX | B54: エアプサン | C54: 1106 | D54: 212564 | E54: 0.080490934
A55: TW | B55: ティーウェイ航空 | C55: 1109 | D55: 209601 | E55: 0.079368944
A56: ZE | B56: イースター航空 | C56: 692 | D56: 127188 | E56: 0.048161876
A57: MM | B57: ピーチ・アビエーション | C57: 615 | D57: 110700 | E57: 0.041918417
A58: JL | B58: 日本航空 | C58: 541 | D58: 93233 | E58: 0.035304244
A59: NH | B59: 全日空 | C59: 270 | D59: 63729 | E59: 0.024132058
A60: RS | B60: エアソウル | C60: 324 | D60: 63180 | E60: 0.02392417
A61: UA | B61: ユナイテッド航空 | C61: 90 | D61: 14940 | E61: 0.0056572823
A62: 合計 | C62: 12897 | D62: 2640844 | E62: -
A63: 香港・マカオ
A64: CX | B64: キャセイパシフィック航空 | C64: 1290 | D64: 436390 | E64: 0.35422503
A65: HX | B65: 香港航空 | C65: 931 | D65: 232837 | E65: 0.18899767
A66: UO | B66: 香港エクスプレス航空 | C66: 1203 | D66: 218166 | E66: 0.17708897
A67: NH | B67: 全日空 | C67: 535 | D67: 105850 | E67: 0.085920207
A68: KA | B68: 香港ドラゴン航空 | C68: 231 | D68: 45026 | E68: 0.036548354
A69: MM | B69: ピーチ・アビエーション | C69: 224 | D69: 40320 | E69: 0.032728415
A70: JL | B70: 日本航空 | C70: 180 | D70: 38016 | E70: 0.03085822
A71: NX | B71: マカオ航空 | C71: 220 | D71: 35514 | E71: 0.028827305
A72: GK | B72: ジェットスター・ジャパン | C72: 180 | D72: 29880 | E72: 0.024254093
A73: JW | B73: バニラエア | C73: 180 | D73: 29700 | E73: 0.024107984
A74: ET | B74: エチオピア航空 | C74: 39 | D74: 10530 | E74: 0.0085473762
A75: AI | B75: エア・インディア | C75: 38 | D75: 9728 | E75: 0.0078963795
A76: 合計 | C76: 5251 | D76: 1231957 | E76: -
A77: 太平洋
A78: SB | B78: エアカラン / エア・カレドニア・インターナショナル | C78: 103 | D78: 27398 | E78: 0.65784672
A79: TN | B79: エア・タヒチ・ヌイ | C79: 36 | D79: 10650 | E79: 0.25571456
A80: PX | B80: ニューギニア航空 | C80: 25 | D80: 3600 | E80: 0.086438725
A81: 合計 | C81: 164 | D81: 41648 | E81: -
A82: 台湾
A83: CI | B83: チャイナエアライン | C83: 2090 | D83: 560936 | E83: 0.31488315
A84: BR | B84: エバー航空 | C84: 1563 | D84: 365102 | E84: 0.20495113
A85: IT | B85: タイガーエア台湾 | C85: 952 | D85: 171360 | E85: 0.096193465
A86: JL | B86: 日本航空 | C86: 725 | D86: 132303 | E86: 0.074268697
A87: CX | B87: キャセイパシフィック航空 | C87: 360 | D87: 121270 | E87: 0.068075289
A88: MM | B88: ピーチ・アビエーション | C88: 623 | D88: 112140 | E88: 0.062950135
A89: JW | B89: バニラエア | C89: 630 | D89: 103950 | E89: 0.058352653
A90: NH | B90: 全日空 | C90: 270 | D90: 62460 | E90: 0.035062114
A91: TZ | B91: スクート | C91: 166 | D91: 59370 | E91: 0.033327533
A92: 3K | B92: ジェットスター・アジア航空 | C92: 144 | D92: 23850 | E92: 0.013388271
A93: GK | B93: ジェットスター・ジャパン | C93: 132 | D93: 21600 | E93: 0.012125227
A94: DL | B94: デルタ航空 | C94: 88 | D94: 19858 | E94: 0.01114735
... A97: FE | B97: ファーイースタン航空 | C97: 26 | D97: 4110 | E97: 0.0023071612
A98: 合計 | C98: 7907 | D98: 1781410 | E98: -
A99: 中国・モンゴル
A100: MU | B100: 中国東方航空 | C100: 3131 | D100: 543836 | E100: 0.2183456
A101: NH | B101: 全日空 | C101: 2217 | D101: 432788 | E101: 0.17376076
A102: CA | B102: 中国国際航空 | C102: 1999 | D102: 370200 | E102: 0.1486322
...

Sheet 方面別経過分析
A1: 便数
A2: 方面 | B2: 2012年 | C2: 2013年 | D2: 2014年 | E2: 2015年 | F2: 2016年 | G2: 2017年
A3: オセアニア | B3: ='12年方面別'!I2 -> 605 | C3: ='13年方面別'!I2 -> 604 | D3: ='14年方面別'!I2 -> 556 | E3: ='15年方面別'!I2 -> 602 | F3: ='16年方面別'!I2 -> 791 | G3: ='17年方面別'!I2 -> 913
A4: ハワイ | B4: ='12年方面別'!I3 -> 1696 | C4: ='13年方面別'!I3 -> 1791 | D4: ='14年方面別'!I3 -> 1820 | E4: ='15年方面別'!I3 -> 1589 | F4: ='16年方面別'!I3 -> 1703 | G4: ='17年方面別'!I3 -> 1919
A5: ミクロネシア | B5: ='12年方面別'!I4 -> 2124 | C5: ='13年方面別'!I4 -> 2074 | D5: ='14年方面別'!I4 -> 2008 | E5: ='15年方面別'!I4 -> 1708 | F5: ='16年方面別'!I4 -> 1556 | G5: ='17年方面別'!I4 -> 1260
A6: ロシア | B6: ='12年方面別'!I5 -> 233 | C6: ='13年方面別'!I5 -> 271 | D6: ='14年方面別'!I5 -> 235 | E6: ='15年方面別'!I5 -> 250 | F6: ='16年方面別'!I5 -> 267 | G6: ='17年方面別'!I5 -> 287
A7: 欧州 | B7: ='12年方面別'!I6 -> 2501 | C7: ='13年方面別'!I6 -> 2495 | D7: ='14年方面別'!I6 -> 2562 | E7: ='15年方面別'!I6 -> 2789 | F7: ='16年方面別'!I6 -> 2511 | G7: ='17年方面別'!I6 -> 2473
A8: 韓国 | B8: ='12年方面別'!I7 -> 8087 | C8: ='13年方面別'!I7 -> 9100 | D8: ='14年方面別'!I7 -> 8876 | E8: ='15年方面別'!I7 -> 8486 | F8: ='16年方面別'!I7 -> 10299 | G8: ='17年方面別'!I7 -> 12897
A9: 香港・マカオ | B9: ='12年方面別'!I8 -> 2413 | C9: ='13年方面別'!I8 -> 2324 | D9: ='14年方面別'!I8 -> 2666 | E9: ='15年方面別'!I8 -> 3452 | F9: ='16年方面別'!I8 -> 4578 | G9: ='17年方面別'!I8 -> 5251
A10: 太平洋 | B10: ='12年方面別'!I9 -> 124 | C10: ='13年方面別'!I9 -> 122 | D10: ='14年方面別'!I9 -> 127 | E10: ='15年方面別'!I9 -> 142 | F10: ='16年方面別'!I9 -> 143 | G10: ='17年方面別'!I9 -> 164
A11: 台湾 | B11: ='12年方面別'!I10 -> 3722 | C11: ='13年方面別'!I10 -> 4475 | D11: ='14年方面別'!I10 -> 5319 | E11: ='15年方面別'!I10 -> 6111 | F11: ='16年方面別'!I10 -> 8273 | G11: ='17年方面別'!I10 -> 7907
A12: 中国 | B12: ='12年方面別'!I11 -> 8474 | C12: ='13年方面別'!I11 -> 7552 | D12: ='14年方面別'!I11 -> 8046 | E12: ='15年方面別'!I11 -> 9446 | F12: ='16年方面別'!I11 -> 13592 | G12: ='17年方面別'!I11 -> 13848
A13: 中東・アフリカ | B13: ='12年方面別'!I12 -> 482 | C13: ='13年方面別'!I12 -> 640 | D13: ='14年方面別'!I12 -> 785 | E13: ='15年方面別'!I12 -> 893 | F13: ='16年方面別'!I12 -> 783 | G13: ='17年方面別'!I12 -> 659
A14: 中南米 | B14: ='12年方面別'!I13 -> 38 | C14: ='13年方面別'!I13 -> 38 | D14: ='14年方面別'!I13 -> 39 | E14: ='15年方面別'!I13 -> 51 | F14: ='16年方面別'!I13 -> 52 | G14: ='17年方面別'!I13 -> 118
... A18: 合計 | B18: ='12年方面別'!I17 -> 39851 | C18: ='13年方面別'!I17 -> 41696 | D18: ='14年方面別'!I17 -> 44082 | E18: ='15年方面別'!I17 -> 47747 | F18: ='16年方面別'!I17 -> 57649 | G18: ='17年方面別'!I17 -> 61091
A20: 座席数
A21: 方面 | B21: 2012年 | C21: 2013年 | D21: 2014年 | E21: 2015年 | F21: 2016年 | G21: 2017年
A22: オセアニア | B22: ='12年方面別'!J2 -> 187411 | C22: ='13年方面別'!J2 -> 180990 | D22: ='14年方面別'!J2 -> 165046 | E22: ='15年方面別'!J2 -> 184574 | F22: ='16年方面別'!J2 -> 240255 | G22: ='17年方面別'!J2 -> 278292
A23: ハワイ | B23: ='12年方面別'!J3 -> 439218 | C23: ='13年方面別'!J3 -> 491070 | D23: ='14年方面別'!J3 -> 482410 | E23: ='15年方面別'!J3 -> 411047 | F23: ='16年方面別'!J3 -> 418146 | G23: ='17年方面別'!J3 -> 484804
A24: ミクロネシア | B24: ='12年方面別'!J4 -> 380886 | C24: ='13年方面別'!J4 -> 390486 | D24: ='14年方面別'!J4 -> 368766 | E24: ='15年方面別'!J4 -> 320772 | F24: ='16年方面別'!J4 -> 304072 | G24: ='17年方面別'!J4 -> 235496
A25: ロシア | B25: ='12年方面別'!J5 -> 51079 | C25: ='13年方面別'!J5 -> 56179 | D25: ='14年方面別'!J5 -> 45871 | E25: ='15年方面別'!J5 -> 50197 | F25: ='16年方面別'!J5 -> 52451 | G25: ='17年方面別'!J5 -> 50270
A26: 欧州 | B26: ='12年方面別'!J6 -> 689487 | C26: ='13年方面別'!J6 -> 707025 | D26: ='14年方面別'!J6 -> 688124 | E26: ='15年方面別'!J6 -> 704396 | F26: ='16年方面別'!J6 -> 632292 | G26: ='17年方面別'!J6 -> 616420
A27: 韓国 | B27: ='12年方面別'!J7 -> 1804359 | C27: ='13年方面別'!J7 -> 1908195 | D27: ='14年方面別'!J7 -> 1824641 | E27: ='15年方面別'!J7 -> 1750945 | F27: ='16年方面別'!J7 -> 2115678 | G27: ='17年方面別'!J7 -> 2640844
A28: 香港・マカオ | B28: ='12年方面別'!J8 -> 635180 | C28: ='13年方面別'!J8 -> 600066 | D28: ='14年方面別'!J8 -> 674520 | E28: ='15年方面別'!J8 -> 863378 | F28: ='16年方面別'!J8 -> 1089399 | G28: ='17年方面別'!J8 -> 1231957
A29: 太平洋 | B29: ='12年方面別'!J9 -> 33227 | C29: ='13年方面別'!J9 -> 32489 | D29: ='14年方面別'!J9 -> 32638 | E29: ='15年方面別'!J9 -> 36628 | F29: ='16年方面別'!J9 -> 36894 | G29: ='17年方面別'!J9 -> 41648
A30: 台湾 | B30: ='12年方面別'!J10 -> 938683 | C30: ='13年方面別'!J10 -> 1132877 | D30: ='14年方面別'!J10 -> 1303038 | E30: ='15年方面別'!J10 -> 1487148 | F30: ='16年方面別'!J10 -> 1923566 | G30: ='17年方面別'!J10 -> 1781410
A31: 中国 | B31: ='12年方面別'!J11 -> 1535666 | C31: ='13年方面別'!J11 -> 1399685 | D31: ='14年方面別'!J11 -> 1484231 | E31: ='15年方面別'!J11 -> 1767315 | F31: ='16年方面別'!J11 -> 2468477 | G31: ='17年方面別'!J11 -> 2490712
A32: 中東・アフリカ | B32: ='12年方面別'!J12 -> 157208 | C32: ='13年方面別'!J12 -> 207063 | D32: ='14年方面別'!J12 -> 229954 | E32: ='15年方面別'!J12 -> 255114 | F32: ='16年方面別'!J12 -> 227372 | G32: ='17年方面別'!J12 -> 194811
A33: 中南米 | B33: ='12年方面別'!J13 -> 6590 | C33: ='13年方面別'!J13 -> 6580 | D33: ='14年方面別'!J13 -> 9477 | E33: ='15年方面別'!J13 -> 12393 | F33: ='16年方面別'!J13 -> 12636 | G33: ='17年方面別'!J13 -> 25344
... A37: 合計 | B37: ='12年方面別'!J17 -> 9365386 | C37: ='13年方面別'!J17 -> 9859897 | D37: ='14年方面別'!J17 -> 10275454 | E37: ='15年方面別'!J17 -> 10982337 | F37: ='16年方面別'!J17 -> 12813752 | G37: ='17年方面別'!J17 -> 13508152
