Workbook

Sheet 12年
A1: スリーレター | B1: 空港 | C1: 便数 | D1: 座席数
A2: ICN | B2: 仁川 | C2: 4668 | D2: 1071956
A3: TPE | B3: 台湾桃園 | C3: 2815 | D3: 723693
A4: PVG | B4: 上海浦東 | C4: 3537 | D4: 659626
A5: HKG | B5: 香港 | C5: 2322 | D5: 623118
A6: BKK | B6: バンコク | C6: 1727 | D6: 472714
A7: HNL | B7: ホノルル | C7: 1696 | D7: 439218
A8: GMP | B8: 金浦 | C8: 1820 | D8: 432847
A9: SIN | B9: シンガポール | C9: 1297 | D9: 360121
A10: GUM | B10: グアム | C10: 1736 | D10: 308975
A11: PEK | B11: 北京 | C11: 1607 | D11: 302282
A12: PUS | B12: 釜山 | C12: 1282 | D12: 234056
A13: MNL | B13: マニラ | C13: 814 | D13: 226556
... A97: RSU | B97: 麗水 | C97: 1 | D97: 141

Sheet 12年方面別
A1: ツーレター | B1: 航空会社 | C1: 便数 | D1: 座席数 | E1: シェア | H1: 空港 | I1: 便数 | J1: 総座席 | K1: シェア
A2: オセアニア | H2: オセアニア | I2: 605 | J2: 187411 | K2: =IF(J2="","",J2/$J$17) -> 0.020011028
A3: JQ | B3: ジェットスター航空 | C3: 300 | D3: 90900 | E3: 0.48503023 | H3: ハワイ | I3: 1696 | J3: 439218 | K3: =IF(J3="","",J3/$J$17) -> 0.046898014
A4: NZ | B4: ニュージーランド航空 | C4: 123 | D4: 33682 | E4: 0.17972264 | H4: ミクロネシア | I4: 2124 | J4: 380886 | K4: =IF(J4="","",J4/$J$17) -> 0.040669546
A5: QF | B5: カンタス航空 | C5: 91 | D5: 33173 | E5: 0.17700669 | H5: ロシア | I5: 233 | J5: 51079 | K5: =IF(J5="","",J5/$J$17) -> 0.0054540197
A6: JL | B6: 日本航空 | C6: 91 | D6: 29656 | E6: 0.15824044 | H6: 欧州 | I6: 2501 | J6: 689487 | K6: =IF(J6="","",J6/$J$17) -> 0.073620778
A7: 合計 | C7: 605 | D7: 187411 | E7: - | H7: 韓国 | I7: 8087 | J7: 1804359 | K7: =IF(J7="","",J7/$J$17) -> 0.19266253
A8: ハワイ | H8: 香港・マカオ | I8: 2413 | J8: 635180 | K8: =IF(J8="","",J8/$J$17) -> 0.067822084
A9: DL | B9: デルタ航空 | C9: 509 | D9: 140469 | E9: 0.31981613 | H9: 太平洋 | I9: 124 | J9: 33227 | K9: =IF(J9="","",J9/$J$17) -> 0.0035478516
A10: JL | B10: 日本航空 | C10: 549 | D10: 135114 | E10: 0.307624 | H10: 台湾 | I10: 3722 | J10: 938683 | K10: =IF(J10="","",J10/$J$17) -> 0.10022897
A11: HA | B11: ハワイアン航空 | C11: 183 | D11: 47481 | E11: 0.10810349 | H11: 中国・モンゴル | I11: 8474 | J11: 1535666 | K11: =IF(J11="","",J11/$J$17) -> 0.16397253
A12: NH | B12: 全日空 | C12: 182 | D12: 36932 | E12: 0.084085807 | H12: 中東・アフリカ | I12: 482 | J12: 157208 | K12: =IF(J12="","",J12/$J$17) -> 0.016786067
A13: CI | B13: チャイナエアライン | C13: 91 | D13: 36725 | E13: 0.083614515 | H13: 中南米 | I13: 38 | J13: 6590 | K13: =IF(J13="","",J13/$J$17) -> 0.00070365493
A14: UA | B14: ユナイテッド航空 | C14: 91 | D14: 23023 | E14: 0.052418161 | H14: 東南アジア | I14: 5618 | J14: 1501601 | K14: =IF(J14="","",J14/$J$17) -> 0.1603352
A15: NQ | B15: エアージャパン | C15: 91 | D15: 19474 | E15: 0.044337891 | H15: 南アジア | I15: 261 | J15: 58526 | K15: =IF(J15="","",J15/$J$17) -> 0.0062491818
A16: 合計 | C16: 1696 | D16: 439218 | E16: - | H16: 北米 | I16: 3473 | J16: 946265 | K16: =IF(J16="","",J16/$J$17) -> 0.10103855
A17: ミクロネシア | H17: 合計 | I17: =SUM(I2:I16) -> 39851 | J17: =SUM(J2:J16) -> 9365386 | K17: -
A18: DL | B18: デルタ航空 | C18: 801 | D18: 151900 | E18: 0.39880699
A19: CO | B19: コンチネンタル航空 | C19: 844 | D19: 115645 | E19: 0.30362103
A20: UA | B20: ユナイテッド航空 | C20: 182 | D20: 46046 | E20: 0.12089182
A21: KE | B21: 大韓航空 | C21: 91 | D21: 26180 | E21: 0.068734477
A22: JL | B22: 日本航空 | C22: 114 | D22: 23940 | E22: 0.062853452
A23: OZ | B23: アシアナ航空 | C23: 92 | D23: 17175 | E23: 0.045092232
A24: 合計 | C24: 2124 | D24: 380886 | E24: -
A25: ロシア
A26: SU | B26: アエロフロート・ロシア航空 | C26: 91 | D26: 24348 | E26: 0.47667339
A27: JL | B27: 日本航空 | C27: 39 | D27: 12792 | E27: 0.2504356
A28: XF | B28: ウラジオストク航空 | C28: 53 | D28: 7950 | E28: 0.15564126
A29: HY | B29: ウズベキスタン航空 | C29: 19 | D29: 3933 | E29: 0.076998375
A30: HZ | B30: オーロラ航空 | C30: 27 | D30: 1424 | E30: 0.027878384
A31: S7 | B31: S7航空 | C31: 4 | D31: 632 | E31: 0.012372991
A32: 合計 | C32: 233 | D32: 51079 | E32: -
A33: 欧州
A34: LH | B34: ルフトハンザ・ドイツ航空 | C34: 348 | D34: 125065 | E34: 0.18138848
A35: NH | B35: 全日空 | C35: 429 | D35: 93728 | E35: 0.13593875
A36: JL | B36: 日本航空 | C36: 364 | D36: 93184 | E36: 0.13514976
A37: AF | B37: エールフランス航空 | C37: 262 | D37: 70780 | E37: 0.10265603
A38: AY | B38: フィンエアー | C38: 235 | D38: 63617 | E38: 0.092267149
A39: AZ | B39: アリタリア-イタリア航空 | C39: 213 | D39: 60946 | E39: 0.088393255
A40: KL | B40: KLMオランダ航空 | C40: 179 | D40: 56582 | E40: 0.082063911
...

Sheet 13年
A1: スリーレター | B1: 空港 | C1: 便数 | D1: 座席数
A2: ICN | B2: 仁川 | C2: 5350 | D2: 1109376
A3: TPE | B3: 台湾桃園 | C3: 3611 | D3: 904153
A4: PVG | B4: 上海浦東 | C4: 3472 | D4: 654029
A5: HKG | B5: 香港 | C5: 2234 | D5: 589111
A6: BKK | B6: バンコク | C6: 1667 | D6: 511389
A7: HNL | B7: ホノルル | C7: 1791 | D7: 491070
A8: GMP | B8: 金浦 | C8: 1794 | D8: 459735
A9: SIN | B9: シンガポール | C9: 1420 | D9: 374730
A10: GUM | B10: グアム | C10: 1694 | D10: 321036
A11: PUS | B11: 釜山 | C11: 1687 | D11: 290501
A12: PEK | B12: 北京 | C12: 1475 | D12: 277605
A13: MNL | B13: マニラ | C13: 904 | D13: 249771
... A102: ROP | B102: ロタ | C102: 1 | D102: 124

Sheet 13年方面別
A1: ツーレター | B1: 航空会社 | C1: 便数 | D1: 座席数 | E1: シェア | H1: 空港 | I1: 便数 | J1: 総座席 | K1: シェア
A2: オセアニア | H2: オセアニア | I2: 604 | J2: 180990 | K2: =IF(J2="","",J2/$J$17) -> 0.018356176
A3: JQ | B3: ジェットスター航空 | C3: 296 | D3: 89688 | E3: 0.49554119 | H3: ハワイ | I3: 1791 | J3: 491070 | K3: =IF(J3="","",J3/$J$17) -> 0.04980478
A4: NZ | B4: ニュージーランド航空 | C4: 128 | D4: 33452 | E4: 0.18482789 | H4: ミクロネシア | I4: 2074 | J4: 390486 | K4: =IF(J4="","",J4/$J$17) -> 0.039603456
A5: QF | B5: カンタス航空 | C5: 90 | D5: 31770 | E5: 0.17553456 | H5: ロシア | I5: 271 | J5: 56179 | K5: =IF(J5="","",J5/$J$17) -> 0.0056977269
A6: JL | B6: 日本航空 | C6: 90 | D6: 26080 | E6: 0.14409636 | H6: 欧州 | I6: 2495 | J6: 707025 | K6: =IF(J6="","",J6/$J$17) -> 0.071707139
A7: 合計 | C7: 604 | D7: 180990 | E7: - | H7: 韓国 | I7: 9100 | J7: 1908195 | K7: =IF(J7="","",J7/$J$17) -> 0.19353093
A8: ハワイ | H8: 香港・マカオ | I8: 2324 | J8: 600066 | K8: =IF(J8="","",J8/$J$17) -> 0.060859256
A9: DL | B9: デルタ航空 | C9: 489 | D9: 144388 | E9: 0.29402733 | H9: 太平洋 | I9: 122 | J9: 32489 | K9: =IF(J9="","",J9/$J$17) -> 0.0032950648
A10: JL | B10: 日本航空 | C10: 540 | D10: 143742 | E10: 0.29271183 | H10: 台湾 | I10: 4475 | J10: 1132877 | K10: =IF(J10="","",J10/$J$17) -> 0.11489745
A11: HA | B11: ハワイアン航空 | C11: 311 | D11: 85932 | E11: 0.17498931 | H11: 中国・モンゴル | I11: 7552 | J11: 1399685 | K11: =IF(J11="","",J11/$J$17) -> 0.14195737
A12: NH | B12: 全日空 | C12: 180 | D12: 39126 | E12: 0.079674995 | H12: 中東・アフリカ | I12: 640 | J12: 207063 | K12: =IF(J12="","",J12/$J$17) -> 0.021000524
A13: CI | B13: チャイナエアライン | C13: 90 | D13: 35010 | E13: 0.071293298 | H13: 中南米 | I13: 38 | J13: 6580 | K13: =IF(J13="","",J13/$J$17) -> 0.00066734977
A14: UA | B14: ユナイテッド航空 | C14: 90 | D14: 23336 | E14: 0.04752072 | H14: 東南アジア | I14: 5959 | J14: 1633235 | K14: =IF(J14="","",J14/$J$17) -> 0.16564423
A15: NQ | B15: エアージャパン | C15: 90 | D15: 19260 | E15: 0.039220478 | H15: 南アジア | I15: 380 | J15: 80614 | K15: =IF(J15="","",J15/$J$17) -> 0.0081759475
A16: KE | B16: 大韓航空 | C16: 1 | D16: 276 | E16: 0.000562038 | H16: 北米 | I16: 3871 | J16: 1033343 | K16: =IF(J16="","",J16/$J$17) -> 0.10480262
A17: 合計 | C17: 1791 | D17: 491070 | E17: - | H17: 合計 | I17: =SUM(I2:I16) -> 41696 | J17: =SUM(J2:J16) -> 9859897 | K17: -
A18: ミクロネシア
A19: UA | B19: ユナイテッド航空 | C19: 991 | D19: 174641 | E19: 0.44724011
A20: DL | B20: デルタ航空 | C20: 797 | D20: 145742 | E20: 0.37323233
A21: JL | B21: 日本航空 | C21: 100 | D21: 26100 | E21: 0.066839784
A22: KE | B22: 大韓航空 | C22: 90 | D22: 24789 | E22: 0.06348243
A23: OZ | B23: アシアナ航空 | C23: 96 | D23: 19214 | E23: 0.049205349
A24: 合計 | C24: 2074 | D24: 390486 | E24: -
A25: ロシア
A26: SU | B26: アエロフロート・ロシア航空 | C26: 90 | D26: 27180 | E26: 0.48381068
A27: XF | B27: ウラジオストク航空 | C27: 64 | D27: 9600 | E27: 0.17088236
A28: JL | B28: 日本航空 | C28: 39 | D28: 7254 | E28: 0.12912298
A29: S7 | B29: S7航空 | C29: 38 | D29: 6004 | E29: 0.10687267
A30: HY | B30: ウズベキスタン航空 | C30: 13 | D30: 3211 | E30: 0.057156589
A31: HZ | B31: オーロラ航空 | C31: 27 | D31: 2930 | E31: 0.05215472
A32: 合計 | C32: 271 | D32: 56179 | E32: -
A33: 欧州
A34: LH | B34: ルフトハンザ・ドイツ航空 | C34: 327 | D34: 125096 | E34: 0.17693292
A35: NH | B35: 全日空 | C35: 450 | D35: 99493 | E35: 0.14072063
A36: AF | B36: エールフランス航空 | C36: 259 | D36: 93668 | E36: 0.13248188
A37: JL | B37: 日本航空 | C37: 363 | D37: 89278 | E37: 0.12627276
A38: AZ | B38: アリタリア-イタリア航空 | C38: 228 | D38: 62324 | E38: 0.088149641
A39: KL | B39: KLMオランダ航空 | C39: 189 | D39: 61383 | E39: 0.086818712
A40: AY | B40: フィンエアー | C40: 218 | D40: 57508 | E40: 0.081338001
...

Sheet 14年
A1: スリーレター | B1: 空港 | C1: 便数 | D1: 座席数
A2: ICN | B2: 仁川 | C2: 5276 | D2: 1079063
A3: TPE | B3: 台湾桃園 | C3: 4162 | D3: 1028879
A4: PVG | B4: 上海浦東 | C4: 3518 | D4: 662683
A5: HKG | B5: 香港 | C5: 2552 | D5: 658917
A6: BKK | B6: バンコク | C6: 1809 | D6: 579536
A7: HNL | B7: ホノルル | C7: 1820 | D7: 482410
A8: GMP | B8: 金浦 | C8: 1710 | D8: 428708
A9: SIN | B9: シンガポール | C9: 1438 | D9: 409703
A10: GUM | B10: グアム | C10: 1672 | D10: 308917
A11: PEK | B11: 北京 | C11: 1548 | D11: 293439
A12: MNL | B12: マニラ | C12: 1148 | D12: 288114
A13: PUS | B13: 釜山 | C13: 1692 | D13: 282511
... A106: ROP | B106: ロタ | C106: 1 | D106: 155

Sheet 14年方面別
A1: ツーレター | B1: 航空会社 | C1: 便数 | D1: 座席数 | E1: シェア | H1: 空港 | I1: 便数 | J1: 総座席 | K1: シェア
A2: オセアニア | H2: オセアニア | I2: 556 | J2: 165046 | K2: =IF(J2="","",J2/$J$17) -> 0.016062161
A3: JQ | B3: ジェットスター航空 | C3: 271 | D3: 82241 | E3: 0.49829139 | H3: ハワイ | I3: 1820 | J3: 482410 | K3: =IF(J3="","",J3/$J$17) -> 0.046947804
A4: QF | B4: カンタス航空 | C4: 93 | D4: 33775 | E4: 0.20463992 | H4: ミクロネシア | I4: 2008 | J4: 368766 | K4: =IF(J4="","",J4/$J$17) -> 0.035888049
A5: NZ | B5: ニュージーランド航空 | C5: 101 | D5: 27470 | E5: 0.16643845 | H5: ロシア | I5: 235 | J5: 45871 | K5: =IF(J5="","",J5/$J$17) -> 0.0044641337
A6: JL | B6: 日本航空 | C6: 90 | D6: 21348 | E6: 0.12934576 | H6: 欧州 | I6: 2562 | J6: 688124 | K6: =IF(J6="","",J6/$J$17) -> 0.066967747
A7: NH | B7: 全日空 | C7: 1 | D7: 212 | E7: 0.0012844904 | H7: 韓国 | I7: 8876 | J7: 1824641 | K7: =IF(J7="","",J7/$J$17) -> 0.17757279
A8: 合計 | C8: 556 | D8: 165046 | E8: - | H8: 香港・マカオ | I8: 2666 | J8: 674520 | K8: =IF(J8="","",J8/$J$17) -> 0.065643815
A9: ハワイ | H9: 太平洋 | I9: 127 | J9: 32638 | K9: =IF(J9="","",J9/$J$17) -> 0.0031763073
A10: JL | B10: 日本航空 | C10: 540 | D10: 134880 | E10: 0.27959619 | H10: 台湾 | I10: 5319 | J10: 1303038 | K10: =IF(J10="","",J10/$J$17) -> 0.12681075
A11: DL | B11: デルタ航空 | C11: 447 | D11: 112581 | E11: 0.23337203 | H11: 中国・モンゴル | I11: 8046 | J11: 1484231 | K11: =IF(J11="","",J11/$J$17) -> 0.14444432
A12: HA | B12: ハワイアン航空 | C12: 294 | D12: 81921 | E12: 0.16981613 | H12: 中東・アフリカ | I12: 785 | J12: 229954 | K12: =IF(J12="","",J12/$J$17) -> 0.022378963
A13: NH | B13: 全日空 | C13: 181 | D13: 39194 | E13: 0.081246243 | H13: 中南米 | I13: 39 | J13: 9477 | K13: =IF(J13="","",J13/$J$17) -> 0.00092229501
A14: CI | B14: チャイナエアライン | C14: 90 | D14: 34858 | E14: 0.072258038 | H14: 東南アジア | I14: 6722 | J14: 1862898 | K14: =IF(J14="","",J14/$J$17) -> 0.18129593
A15: UA | B15: ユナイテッド航空 | C15: 90 | D15: 31455 | E15: 0.065203872 | H15: 南アジア | I15: 361 | J15: 70925 | K15: =IF(J15="","",J15/$J$17) -> 0.0069023714
A16: KE | B16: 大韓航空 | C16: 90 | D16: 28689 | E16: 0.05947016 | H16: 北米 | I16: 3960 | J16: 1032915 | K16: =IF(J16="","",J16/$J$17) -> 0.10052257
A17: NQ | B17: エアージャパン | C17: 88 | D17: 18832 | E17: 0.039037333 | H17: 合計 | I17: =SUM(I2:I16) -> 44082 | J17: =SUM(J2:J16) -> 10275454 | K17: -
A18: 合計 | C18: 1820 | D18: 482410 | E18: -
A19: ミクロネシア
A20: UA | B20: ユナイテッド航空 | C20: 984 | D20: 174795 | E20: 0.47399977
A21: DL | B21: デルタ航空 | C21: 735 | D21: 127890 | E21: 0.34680529
A22: JL | B22: 日本航空 | C22: 103 | D22: 26009 | E22: 0.070529821
A23: KE | B23: 大韓航空 | C23: 90 | D23: 22239 | E23: 0.060306536
A24: OZ | B24: アシアナ航空 | C24: 96 | D24: 17833 | E24: 0.04835858
A25: 合計 | C25: 2008 | D25: 368766 | E25: -
A26: ロシア
A27: SU | B27: アエロフロート・ロシア航空 | C27: 90 | D27: 27180 | E27: 0.59253123
A28: S7 | B28: S7航空 | C28: 52 | D28: 8216 | E28: 0.17911099
A29: JL | B29: 日本航空 | C29: 40 | D29: 7440 | E29: 0.16219398
A30: HZ | B30: オーロラ航空 | C30: 52 | D30: 2788 | E30: 0.060779142
A31: HY | B31: ウズベキスタン航空 | C31: 1 | D31: 247 | E31: 0.0053846657
A32: 合計 | C32: 235 | D32: 45871 | E32: -
A33: 欧州
A34: JL | B34: 日本航空 | C34: 450 | D34: 98690 | E34: 0.14341892
A35: LH | B35: ルフトハンザ・ドイツ航空 | C35: 307 | D35: 95105 | E35: 0.1382091
A36: NH | B36: 全日空 | C36: 454 | D36: 94937 | E36: 0.13796496
A37: AF | B37: エールフランス航空 | C37: 251 | D37: 93633 | E37: 0.13606995
A38: KL | B38: KLMオランダ航空 | C38: 208 | D38: 68248 | E38: 0.099179799
A39: AZ | B39: アリタリア-イタリア航空 | C39: 226 | D39: 61754 | E39: 0.089742546
A40: AY | B40: フィンエアー | C40: 213 | D40: 58734 | E40: 0.085353803
...

Sheet 15年
A1: スリーレター | B1: 空港 | C1: 便数 | D1: 座席数
A2: TPE | B2: 台湾桃園 | C2: 4649 | D2: 1147869
A3: ICN | B3: 仁川 | C3: 5117 | D3: 1032601
A4: HKG | B4: 香港 | C4: 3341 | D4: 847667
A5: PVG | B5: 上海浦東 | C5: 4485 | D5: 828414
A6: BKK | B6: バンコク | C6: 1919 | D6: 571779
A7: GMP | B7: 金浦 | C7: 1707 | D7: 423808
A8: SIN | B8: シンガポール | C8: 1531 | D8: 420643
A9: HNL | B9: ホノルル | C9: 1589 | D9: 411047
A10: PEK | B10: 北京 | C10: 1578 | D10: 314892
A11: MNL | B11: マニラ | C11: 1295 | D11: 291853
A12: GUM | B12: グアム | C12: 1513 | D12: 286684
A13: PUS | B13: 釜山 | C13: 1518 | D13: 267690
... A117: JJN | B117: 泉州 | C117: 1 | D117: 180

Sheet 15年方面別
A1: ツーレター | B1: 航空会社 | C1: 便数 | D1: 座席数 | E1: シェア | H1: 空港 | I1: 便数 | J1: 総座席 | K1: シェア
A2: オセアニア | H2: オセアニア | I2: 602 | J2: 184574 | K2: =IF(J2="","",J2/$J$17) -> 0.016806441
A3: JQ | B3: ジェットスター航空 | C3: 292 | D3: 96284 | E3: 0.52165527 | H3: ハワイ | I3: 1589 | J3: 411047 | K3: =IF(J3="","",J3/$J$17) -> 0.037428008
A4: NZ | B4: ニュージーランド航空 | C4: 128 | D4: 33820 | E4: 0.18323274 | H4: ミクロネシア | I4: 1708 | J4: 320772 | K4: =IF(J4="","",J4/$J$17) -> 0.029207991
A5: QF | B5: カンタス航空 | C5: 92 | D5: 33551 | E5: 0.18177533 | H5: ロシア | I5: 250 | J5: 50197 | K5: =IF(J5="","",J5/$J$17) -> 0.0045707029
A6: JL | B6: 日本航空 | C6: 90 | D6: 20919 | E6: 0.11333666 | H6: 欧州 | I6: 2789 | J6: 704396 | K6: =IF(J6="","",J6/$J$17) -> 0.06413899
A7: 合計 | C7: 602 | D7: 184574 | E7: - | H7: 韓国 | I7: 8486 | J7: 1750945 | K7: =IF(J7="","",J7/$J$17) -> 0.15943282
A8: ハワイ | H8: 香港・マカオ | I8: 3452 | J8: 863378 | K8: =IF(J8="","",J8/$J$17) -> 0.078615144
A9: DL | B9: デルタ航空 | C9: 439 | D9: 126332 | E9: 0.30734198 | H9: 太平洋 | I9: 142 | J9: 36628 | K9: =IF(J9="","",J9/$J$17) -> 0.0033351736
A10: JL | B10: 日本航空 | C10: 541 | D10: 122916 | E10: 0.2990315 | H10: 台湾 | I10: 6111 | J10: 1487148 | K10: =IF(J10="","",J10/$J$17) -> 0.13541271
A11: HA | B11: ハワイアン航空 | C11: 218 | D11: 62762 | E11: 0.15268814 | H11: 中国・モンゴル | I11: 9446 | J11: 1767315 | K11: =IF(J11="","",J11/$J$17) -> 0.1609234
A12: NH | B12: 全日空 | C12: 180 | D12: 38756 | E12: 0.094286055 | H12: 中東・アフリカ | I12: 893 | J12: 255114 | K12: =IF(J12="","",J12/$J$17) -> 0.023229482
A13: CI | B13: チャイナエアライン | C13: 90 | D13: 27410 | E13: 0.066683372 | H13: 中南米 | I13: 51 | J13: 12393 | K13: =IF(J13="","",J13/$J$17) -> 0.0011284483
A14: UA | B14: ユナイテッド航空 | C14: 90 | D14: 24315 | E14: 0.059153819 | H14: 東南アジア | I14: 7924 | J14: 2076949 | K14: =IF(J14="","",J14/$J$17) -> 0.18911722
A15: KE | B15: 大韓航空 | C15: 31 | D15: 8556 | E15: 0.020815138 | H15: 南アジア | I15: 360 | J15: 65413 | K15: =IF(J15="","",J15/$J$17) -> 0.0059562004
A16: 合計 | C16: 1589 | D16: 411047 | E16: - | H16: 北米 | I16: 3944 | J16: 996068 | K16: =IF(J16="","",J16/$J$17) -> 0.090697271
A17: ミクロネシア | H17: 合計 | I17: =SUM(I2:I16) -> 47747 | J17: =SUM(J2:J16) -> 10982337 | K17: -
A18: UA | B18: ユナイテッド航空 | C18: 839 | D18: 153552 | E18: 0.47869515
A19: DL | B19: デルタ航空 | C19: 674 | D19: 117276 | E19: 0.36560548
A20: JL | B20: 日本航空 | C20: 97 | D20: 24883 | E20: 0.077572232
A21: KE | B21: 大韓航空 | C21: 89 | D21: 23512 | E21: 0.073298168
A22: OZ | B22: アシアナ航空 | C22: 9 | D22: 1549 | E22: 0.0048289751
A23: 合計 | C23: 1708 | D23: 320772 | E23: -
A24: ロシア
A25: SU | B25: アエロフロート・ロシア航空 | C25: 92 | D25: 26314 | E25: 0.52421459
A26: S7 | B26: S7航空 | C26: 66 | D26: 10428 | E26: 0.2077415
A27: JL | B27: 日本航空 | C27: 39 | D27: 7254 | E27: 0.14451063
A28: HZ | B28: オーロラ航空 | C28: 48 | D28: 4966 | E28: 0.098930215
A29: HY | B29: ウズベキスタン航空 | C29: 5 | D29: 1235 | E29: 0.024603064
A30: 合計 | C30: 250 | D30: 50197 | E30: -
A31: 欧州
A32: NH | B32: 全日空 | C32: 623 | D32: 127336 | E32: 0.18077332
A33: LH | B33: ルフトハンザ・ドイツ航空 | C33: 362 | D33: 107096 | E33: 0.15203948
A34: JL | B34: 日本航空 | C34: 450 | D34: 92118 | E34: 0.13077587
A35: AF | B35: エールフランス航空 | C35: 304 | D35: 89243 | E35: 0.12669436
A36: KL | B36: KLMオランダ航空 | C36: 212 | D36: 66930 | E36: 0.095017575
A37: AZ | B37: アリタリア-イタリア航空 | C37: 203 | D37: 59254 | E37: 0.084120296
A38: AY | B38: フィンエアー | C38: 219 | D38: 57605 | E38: 0.081779283
A39: BA | B39: ブリティッシュ・エアウェイズ | C39: 162 | D39: 41484 | E39: 0.058893009
A40: SK | B40: スカンジナビア航空 | C40: 83 | D40: 20335 | E40: 0.028868705
...

Sheet 16年
A1: スリーレター | B1: 空港 | C1: 便数 | D1: 座席数
A2: TPE | B2: 台湾桃園 | C2: 6322 | D2: 1496197
A3: ICN | B3: 仁川 | C3: 6222 | D3: 1281783
A4: HKG | B4: 香港 | C4: 4385 | D4: 1057414
A5: PVG | B5: 上海浦東 | C5: 5733 | D5: 1055063
A6: BKK | B6: バンコク | C6: 2007 | D6: 561246
A7: SIN | B7: シンガポール | C7: 1637 | D7: 430655
A8: HNL | B8: ホノルル | C8: 1703 | D8: 418146
A9: PUS | B9: 釜山 | C9: 2229 | D9: 411440
A10: GMP | B10: 金浦 | C10: 1662 | D10: 398057
A11: PEK | B11: 北京 | C11: 1846 | D11: 362363
A12: MNL | B12: マニラ | C12: 1404 | D12: 338324
A13: GUM | B13: グアム | C13: 1407 | D13: 274747
... A132: SWA | B132: 汕頭 | C132: 1 | D132: 158

Sheet 16年方面別
A1: ツーレター | B1: 航空会社 | C1: 便数 | D1: 座席数 | E1: シェア | H1: 空港 | I1: 便数 | J1: 総座席 | K1: シェア
A2: オセアニア | H2: オセアニア | I2: 791 | J2: 240255 | K2: =IF(J2="","",J2/$J$17) -> 0.018749778
A3: JQ | B3: ジェットスター航空 | C3: 297 | D3: 99495 | E3: 0.41412249 | H3: ハワイ | I3: 1703 | J3: 418146 | K3: =IF(J3="","",J3/$J$17) -> 0.032632597
A4: QF | B4: カンタス航空 | C4: 183 | D4: 60033 | E4: 0.24987201 | H4: ミクロネシア | I4: 1556 | J4: 304072 | K4: =IF(J4="","",J4/$J$17) -> 0.02373013
A5: NZ | B5: ニュージーランド航空 | C5: 129 | D5: 38958 | E5: 0.16215271 | H5: ロシア | I5: 267 | J5: 52451 | K5: =IF(J5="","",J5/$J$17) -> 0.0040933366
A6: JL | B6: 日本航空 | C6: 91 | D6: 22204 | E6: 0.092418472 | H6: 欧州 | I6: 2511 | J6: 632292 | K6: =IF(J6="","",J6/$J$17) -> 0.049344798
A7: NH | B7: 全日空 | C7: 91 | D7: 19565 | E7: 0.081434309 | H7: 韓国 | I7: 10299 | J7: 2115678 | K7: =IF(J7="","",J7/$J$17) -> 0.16510995
A8: 合計 | C8: 791 | D8: 240255 | E8: - | H8: 香港・マカオ | I8: 4578 | J8: 1089399 | K8: =IF(J8="","",J8/$J$17) -> 0.085017956
A9: ハワイ | H9: 太平洋 | I9: 143 | J9: 36894 | K9: =IF(J9="","",J9/$J$17) -> 0.0028792504
A10: JL | B10: 日本航空 | C10: 564 | D10: 135662 | E10: 0.32443692 | H10: 台湾 | I10: 8273 | J10: 1923566 | K10: =IF(J10="","",J10/$J$17) -> 0.15011731
A11: DL | B11: デルタ航空 | C11: 372 | D11: 84510 | E11: 0.20210644 | H11: 中国・モンゴル | I11: 13592 | J11: 2468477 | K11: =IF(J11="","",J11/$J$17) -> 0.1926428
A12: HA | B12: ハワイアン航空 | C12: 221 | D12: 63609 | E12: 0.15212151 | H12: 中東・アフリカ | I12: 783 | J12: 227372 | K12: =IF(J12="","",J12/$J$17) -> 0.017744373
A13: NH | B13: 全日空 | C13: 273 | D13: 57330 | E13: 0.13710522 | H13: 中南米 | I13: 52 | J13: 12636 | K13: =IF(J13="","",J13/$J$17) -> 0.00098612803
A14: CI | B14: チャイナエアライン | C14: 91 | D14: 27184 | E14: 0.065010786 | H14: 東南アジア | I14: 8469 | J14: 2165873 | K14: =IF(J14="","",J14/$J$17) -> 0.16902723
A15: KE | B15: 大韓航空 | C15: 91 | D15: 25116 | E15: 0.060065145 | H15: 南アジア | I15: 377 | J15: 70129 | K15: =IF(J15="","",J15/$J$17) -> 0.0054729481
A16: UA | B16: ユナイテッド航空 | C16: 91 | D16: 24735 | E16: 0.05915398 | H16: 北米 | I16: 4255 | J16: 1056512 | K16: =IF(J16="","",J16/$J$17) -> 0.082451416
A17: 合計 | C17: 1703 | D17: 418146 | E17: - | H17: 合計 | I17: =SUM(I2:I16) -> 57649 | J17: =SUM(J2:J16) -> 12813752 | K17: -
A18: ミクロネシア
A19: UA | B19: ユナイテッド航空 | C19: 787 | D19: 146094 | E19: 0.48045858
A20: DL | B20: デルタ航空 | C20: 531 | D20: 105369 | E20: 0.34652648
A21: KE | B21: 大韓航空 | C21: 88 | D21: 23040 | E21: 0.075771528
A22: JL | B22: 日本航空 | C22: 91 | D22: 21567 | E22: 0.07092728
A23: TW | B23: ティーウェイ航空 | C23: 48 | D23: 6018 | E23: 0.019791365
A24: OZ | B24: アシアナ航空 | C24: 9 | D24: 1618 | E24: 0.0053211082
A25: LJ | B25: ジンエアー | C25: 2 | D25: 366 | E25: 0.0012036623
A26: 合計 | C26: 1556 | D26: 304072 | E26: -
A27: ロシア
A28: SU | B28: アエロフロート・ロシア航空 | C28: 90 | D28: 27119 | E28: 0.51703495
A29: S7 | B29: S7航空 | C29: 65 | D29: 10270 | E29: 0.1958018
A30: JL | B30: 日本航空 | C30: 40 | D30: 7440 | E30: 0.14184668
A31: HZ | B31: オーロラ航空 | C31: 69 | D31: 6881 | E31: 0.13118911
A32: HY | B32: ウズベキスタン航空 | C32: 3 | D32: 741 | E32: 0.014127471
A33: 合計 | C33: 267 | D33: 52451 | E33: -
A34: 欧州
A35: NH | B35: 全日空 | C35: 623 | D35: 125261 | E35: 0.19810625
A36: LH | B36: ルフトハンザ・ドイツ航空 | C36: 285 | D36: 92842 | E36: 0.14683406
A37: JL | B37: 日本航空 | C37: 398 | D37: 85403 | E37: 0.13506892
A38: AF | B38: エールフランス航空 | C38: 248 | D38: 72761 | E38: 0.115075
A39: AY | B39: フィンエアー | C39: 221 | D39: 57737 | E39: 0.091313823
A40: KL | B40: KLMオランダ航空 | C40: 159 | D40: 48480 | E40: 0.076673436
...

Sheet 17年
A1: スリーレター | B1: 空港 | C1: 便数 | D1: 座席数
A2: ICN | B2: 仁川 | C2: 7829 | D2: 1621348
A3: TPE | B3: 台湾桃園 | C3: 6132 | D3: 1389376
A4: HKG | B4: 香港 | C4: 5031 | D4: 1196443
A5: PVG | B5: 上海浦東 | C5: 5910 | D5: 1046276
A6: BKK | B6: バンコク | C6: 1949 | D6: 578294
A7: PUS | B7: 釜山 | C7: 2787 | D7: 521904
A8: HNL | B8: ホノルル | C8: 1880 | D8: 473338
A9: SIN | B9: シンガポール | C9: 1530 | D9: 385204
A10: GMP | B10: 金浦 | C10: 1620 | D10: 382247
A11: PEK | B11: 北京 | C11: 1913 | D11: 375192
A12: MNL | B12: マニラ | C12: 1527 | D12: 374796
A13: KUL | B13: クアラルンプール | C13: 777 | D13: 232260
... A129: PHX | B129: フェニックス | C129: 1 | D129: 264

Sheet 17年方面別
A1: ツーレター | B1: 航空会社 | C1: 便数 | D1: 座席数 | E1: シェア | H1: 空港 | I1: 便数 | J1: 総座席 | K1: シェア
A2: オセアニア | H2: オセアニア | I2: 913 | J2: 278292 | K2: =IF(J2="","",J2/$J$17) -> 0.020601782
A3: JQ | B3: ジェットスター航空 | C3: 304 | D3: 101840 | E3: 0.36594656 | H3: ハワイ | I3: 1919 | J3: 484804 | K3: =IF(J3="","",J3/$J$17) -> 0.035889735
A4: QF | B4: カンタス航空 | C4: 270 | D4: 85813 | E4: 0.30835597 | H4: ミクロネシア | I4: 1260 | J4: 235496 | K4: =IF(J4="","",J4/$J$17) -> 0.017433621
A5: NZ | B5: ニュージーランド航空 | C5: 159 | D5: 48848 | E5: 0.17552786 | H5: ロシア | I5: 287 | J5: 50270 | K5: =IF(J5="","",J5/$J$17) -> 0.0037214565
A6: JL | B6: 日本航空 | C6: 90 | D6: 21666 | E6: 0.077853478 | H6: 欧州 | I6: 2473 | J6: 616420 | K6: =IF(J6="","",J6/$J$17) -> 0.045633185
A7: NH | B7: 全日空 | C7: 90 | D7: 20125 | E7: 0.072316128 | H7: 韓国 | I7: 12897 | J7: 2640844 | K7: =IF(J7="","",J7/$J$17) -> 0.19550002
A8: 合計 | C8: 913 | D8: 278292 | E8: - | H8: 香港・マカオ | I8: 5251 | J8: 1231957 | K8: =IF(J8="","",J8/$J$17) -> 0.091201002
A9: ハワイ | H9: 太平洋 | I9: 164 | J9: 41648 | K9: =IF(J9="","",J9/$J$17) -> 0.0030831753
A10: JL | B10: 日本航空 | C10: 618 | D10: 136575 | E10: 0.28171178 | H10: 台湾 | I10: 7907 | J10: 1781410 | K10: =IF(J10="","",J10/$J$17) -> 0.13187666
A11: HA | B11: ハワイアン航空 | C11: 399 | D11: 114213 | E11: 0.23558593 | H11: 中国・モンゴル | I11: 13848 | J11: 2490712 | K11: =IF(J11="","",J11/$J$17) -> 0.18438584
A12: DL | B12: デルタ航空 | C12: 361 | D12: 95123 | E12: 0.19620919 | H12: 中東・アフリカ | I12: 659 | J12: 194811 | K12: =IF(J12="","",J12/$J$17) -> 0.014421736
A13: NH | B13: 全日空 | C13: 270 | D13: 61920 | E13: 0.12772172 | H13: 中南米 | I13: 118 | J13: 25344 | K13: =IF(J13="","",J13/$J$17) -> 0.0018762004
A14: CI | B14: チャイナエアライン | C14: 90 | D14: 27648 | E14: 0.057029232 | H14: 東南アジア | I14: 8930 | J14: 2326590 | K14: =IF(J14="","",J14/$J$17) -> 0.17223599
A15: KE | B15: 大韓航空 | C15: 90 | D15: 24840 | E15: 0.051237201 | H15: 南アジア | I15: 372 | J15: 80385 | K15: =IF(J15="","",J15/$J$17) -> 0.005950851
A16: UA | B16: ユナイテッド航空 | C16: 90 | D16: 24210 | E16: 0.049937707 | H16: 北米 | I16: 4093 | J16: 1029169 | K16: =IF(J16="","",J16/$J$17) -> 0.076188734
A17: OZ | B17: アシアナ航空 | C17: 1 | D17: 275 | E17: 0.00056723954 | H17: 合計 | I17: =SUM(I2:I16) -> 61091 | J17: =SUM(J2:J16) -> 13508152 | K17: -
A18: 合計 | C18: 1919 | D18: 484804 | E18: -
A19: ミクロネシア
A20: UA | B20: ユナイテッド航空 | C20: 798 | D20: 148812 | E20: 0.63190882
A21: DL | B21: デルタ航空 | C21: 270 | D21: 45630 | E21: 0.19376125
A22: JL | B22: 日本航空 | C22: 94 | D22: 22278 | E22: 0.094600333
A23: TW | B23: ティーウェイ航空 | C23: 90 | D23: 17010 | E23: 0.072230526
A24: KE | B24: 大韓航空 | C24: 5 | D24: 1253 | E24: 0.0053206849
A25: OZ | B25: アシアナ航空 | C25: 3 | D25: 513 | E25: 0.0021783809
A26: 合計 | C26: 1260 | D26: 235496 | E26: -
A27: ロシア
A28: SU | B28: アエロフロート・ロシア航空 | C28: 89 | D28: 26344 | E28: 0.52405013
A29: S7 | B29: S7航空 | C29: 63 | D29: 9954 | E29: 0.19801074
A30: JL | B30: 日本航空 | C30: 40 | D30: 6440 | E30: 0.12810822
A31: HZ | B31: オーロラ航空 | C31: 67 | D31: 4594 | E31: 0.091386513
A32: R3 | B32: ヤクーツク航空 | C32: 26 | D32: 2444 | E32: 0.048617466
A33: HY | B33: ウズベキスタン航空 | C33: 2 | D33: 494 | E33: 0.0098269346
A34: 合計 | C34: 287 | D34: 50270 | E34: -
A35: 欧州
A36: NH | B36: 全日空 | C36: 624 | D36: 127520 | E36: 0.20687194
A37: LH | B37: ルフトハンザ・ドイツ航空 | C37: 255 | D37: 84782 | E37: 0.13753934
A38: JL | B38: 日本航空 | C38: 404 | D38: 83146 | E38: 0.13488531
A39: AF | B39: エールフランス航空 | C39: 249 | D39: 73758 | E39: 0.11965543
A40: AY | B40: フィンエアー | C40: 208 | D40: 54790 | E40: 0.088884202
...

Sheet 方面別経過分析
A1: 便数
A2: 方面 | B2: 2012年 | C2: 2013年 | D2: 2014年 | E2: 2015年 | F2: 2016年 | G2: 2017年
A3: オセアニア | B3: ='12年方面別'!I2 -> 605 | C3: ='13年方面別'!I2 -> 604 | D3: ='14年方面別'!I2 -> 556 | E3: ='15年方面別'!I2 -> 602 | F3: ='16年方面別'!I2 -> 791 | G3: ='17年方面別'!I2 -> 913
A4: ハワイ | B4: ='12年方面別'!I3 -> 1696 | C4: ='13年方面別'!I3 -> 1791 | D4: ='14年方面別'!I3 -> 1820 | E4: ='15年方面別'!I3 -> 1589 | F4: ='16年方面別'!I3 -> 1703 | G4: ='17年方面別'!I3 -> 1919
A5: ミクロネシア | B5: ='12年方面別'!I4 -> 2124 | C5: ='13年方面別'!I4 -> 2074 | D5: ='14年方面別'!I4 -> 2008 | E5: ='15年方面別'!I4 -> 1708 | F5: ='16年方面別'!I4 -> 1556 | G5: ='17年方面別'!I4 -> 1260
A6: ロシア | B6: ='12年方面別'!I5 -> 233 | C6: ='13年方面別'!I5 -> 271 | D6: ='14年方面別'!I5 -> 235 | E6: ='15年方面別'!I5 -> 250 | F6: ='16年方面別'!I5 -> 267 | G6: ='17年方面別'!I5 -> 287
A7: 欧州 | B7: ='12年方面別'!I6 -> 2501 | C7: ='13年方面別'!I6 -> 2495 | D7: ='14年方面別'!I6 -> 2562 | E7: ='15年方面別'!I6 -> 2789 | F7: ='16年方面別'!I6 -> 2511 | G7: ='17年方面別'!I6 -> 2473
A8: 韓国 | B8: ='12年方面別'!I7 -> 8087 | C8: ='13年方面別'!I7 -> 9100 | D8: ='14年方面別'!I7 -> 8876 | E8: ='15年方面別'!I7 -> 8486 | F8: ='16年方面別'!I7 -> 10299 | G8: ='17年方面別'!I7 -> 12897
A9: 香港・マカオ | B9: ='12年方面別'!I8 -> 2413 | C9: ='13年方面別'!I8 -> 2324 | D9: ='14年方面別'!I8 -> 2666 | E9: ='15年方面別'!I8 -> 3452 | F9: ='16年方面別'!I8 -> 4578 | G9: ='17年方面別'!I8 -> 5251
A10: 太平洋 | B10: ='12年方面別'!I9 -> 124 | C10: ='13年方面別'!I9 -> 122 | D10: ='14年方面別'!I9 -> 127 | E10: ='15年方面別'!I9 -> 142 | F10: ='16年方面別'!I9 -> 143 | G10: ='17年方面別'!I9 -> 164
A11: 台湾 | B11: ='12年方面別'!I10 -> 3722 | C11: ='13年方面別'!I10 -> 4475 | D11: ='14年方面別'!I10 -> 5319 | E11: ='15年方面別'!I10 -> 6111 | F11: ='16年方面別'!I10 -> 8273 | G11: ='17年方面別'!I10 -> 7907
A12: 中国 | B12: ='12年方面別'!I11 -> 8474 | C12: ='13年方面別'!I11 -> 7552 | D12: ='14年方面別'!I11 -> 8046 | E12: ='15年方面別'!I11 -> 9446 | F12: ='16年方面別'!I11 -> 13592 | G12: ='17年方面別'!I11 -> 13848
A13: 中東・アフリカ | B13: ='12年方面別'!I12 -> 482 | C13: ='13年方面別'!I12 -> 640 | D13: ='14年方面別'!I12 -> 785 | E13: ='15年方面別'!I12 -> 893 | F13: ='16年方面別'!I12 -> 783 | G13: ='17年方面別'!I12 -> 659
A14: 中南米 | B14: ='12年方面別'!I13 -> 38 | C14: ='13年方面別'!I13 -> 38 | D14: ='14年方面別'!I13 -> 39 | E14: ='15年方面別'!I13 -> 51 | F14: ='16年方面別'!I13 -> 52 | G14: ='17年方面別'!I13 -> 118
... A18: 合計 | B18: ='12年方面別'!I17 -> 39851 | C18: ='13年方面別'!I17 -> 41696 | D18: ='14年方面別'!I17 -> 44082 | E18: ='15年方面別'!I17 -> 47747 | F18: ='16年方面別'!I17 -> 57649 | G18: ='17年方面別'!I17 -> 61091
A20: 座席数
A21: 方面 | B21: 2012年 | C21: 2013年 | D21: 2014年 | E21: 2015年 | F21: 2016年 | G21: 2017年
A22: オセアニア | B22: ='12年方面別'!J2 -> 187411 | C22: ='13年方面別'!J2 -> 180990 | D22: ='14年方面別'!J2 -> 165046 | E22: ='15年方面別'!J2 -> 184574 | F22: ='16年方面別'!J2 -> 240255 | G22: ='17年方面別'!J2 -> 278292
A23: ハワイ | B23: ='12年方面別'!J3 -> 439218 | C23: ='13年方面別'!J3 -> 491070 | D23: ='14年方面別'!J3 -> 482410 | E23: ='15年方面別'!J3 -> 411047 | F23: ='16年方面別'!J3 -> 418146 | G23: ='17年方面別'!J3 -> 484804
A24: ミクロネシア | B24: ='12年方面別'!J4 -> 380886 | C24: ='13年方面別'!J4 -> 390486 | D24: ='14年方面別'!J4 -> 368766 | E24: ='15年方面別'!J4 -> 320772 | F24: ='16年方面別'!J4 -> 304072 | G24: ='17年方面別'!J4 -> 235496
A25: ロシア | B25: ='12年方面別'!J5 -> 51079 | C25: ='13年方面別'!J5 -> 56179 | D25: ='14年方面別'!J5 -> 45871 | E25: ='15年方面別'!J5 -> 50197 | F25: ='16年方面別'!J5 -> 52451 | G25: ='17年方面別'!J5 -> 50270
A26: 欧州 | B26: ='12年方面別'!J6 -> 689487 | C26: ='13年方面別'!J6 -> 707025 | D26: ='14年方面別'!J6 -> 688124 | E26: ='15年方面別'!J6 -> 704396 | F26: ='16年方面別'!J6 -> 632292 | G26: ='17年方面別'!J6 -> 616420
A27: 韓国 | B27: ='12年方面別'!J7 -> 1804359 | C27: ='13年方面別'!J7 -> 1908195 | D27: ='14年方面別'!J7 -> 1824641 | E27: ='15年方面別'!J7 -> 1750945 | F27: ='16年方面別'!J7 -> 2115678 | G27: ='17年方面別'!J7 -> 2640844
A28: 香港・マカオ | B28: ='12年方面別'!J8 -> 635180 | C28: ='13年方面別'!J8 -> 600066 | D28: ='14年方面別'!J8 -> 674520 | E28: ='15年方面別'!J8 -> 863378 | F28: ='16年方面別'!J8 -> 1089399 | G28: ='17年方面別'!J8 -> 1231957
A29: 太平洋 | B29: ='12年方面別'!J9 -> 33227 | C29: ='13年方面別'!J9 -> 32489 | D29: ='14年方面別'!J9 -> 32638 | E29: ='15年方面別'!J9 -> 36628 | F29: ='16年方面別'!J9 -> 36894 | G29: ='17年方面別'!J9 -> 41648
A30: 台湾 | B30: ='12年方面別'!J10 -> 938683 | C30: ='13年方面別'!J10 -> 1132877 | D30: ='14年方面別'!J10 -> 1303038 | E30: ='15年方面別'!J10 -> 1487148 | F30: ='16年方面別'!J10 -> 1923566 | G30: ='17年方面別'!J10 -> 1781410
A31: 中国 | B31: ='12年方面別'!J11 -> 1535666 | C31: ='13年方面別'!J11 -> 1399685 | D31: ='14年方面別'!J11 -> 1484231 | E31: ='15年方面別'!J11 -> 1767315 | F31: ='16年方面別'!J11 -> 2468477 | G31: ='17年方面別'!J11 -> 2490712
A32: 中東・アフリカ | B32: ='12年方面別'!J12 -> 157208 | C32: ='13年方面別'!J12 -> 207063 | D32: ='14年方面別'!J12 -> 229954 | E32: ='15年方面別'!J12 -> 255114 | F32: ='16年方面別'!J12 -> 227372 | G32: ='17年方面別'!J12 -> 194811
A33: 中南米 | B33: ='12年方面別'!J13 -> 6590 | C33: ='13年方面別'!J13 -> 6580 | D33: ='14年方面別'!J13 -> 9477 | E33: ='15年方面別'!J13 -> 12393 | F33: ='16年方面別'!J13 -> 12636 | G33: ='17年方面別'!J13 -> 25344
... A37: 合計 | B37: ='12年方面別'!J17 -> 9365386 | C37: ='13年方面別'!J17 -> 9859897 | D37: ='14年方面別'!J17 -> 10275454 | E37: ='15年方面別'!J17 -> 10982337 | F37: ='16年方面別'!J17 -> 12813752 | G37: ='17年方面別'!J17 -> 13508152
