Workbook

Sheet 12年
A1: スリーレター | B1: 空港 | C1: 便数 | D1: 座席数
A2: ICN | B2: 仁川 | C2: 20622 | D2: 4579321
A3: TPE | B3: 台湾桃園 | C3: 13814 | D3: 3532638
A4: PVG | B4: 上海浦東 | C4: 14481 | D4: 2685120
A5: HKG | B5: 香港 | C5: 9405 | D5: 2404928
A6: HNL | B6: ホノルル | C6: 7093 | D6: 1890450
A7: BKK | B7: バンコク | C7: 6671 | D7: 1875284
A8: GMP | B8: 金浦 | C8: 7305 | D8: 1778975
A9: SIN | B9: シンガポール | C9: 5232 | D9: 1422676
A10: PEK | B10: 北京 | C10: 6414 | D10: 1215240
A11: GUM | B11: グアム | C11: 6587 | D11: 1159124
A12: MNL | B12: マニラ | C12: 3589 | D12: 974893
A13: PUS | B13: 釜山 | C13: 5497 | D13: 964469
... A112: BWN | B112: バンダルスリブガワン | C112: 1 | D112: 144

Sheet 12年方面別
A1: ツーレター | B1: 航空会社 | C1: 便数 | D1: 座席数 | E1: シェア | H1: 空港 | I1: 便数 | J1: 総座席 | K1: シェア
A2: オセアニア | H2: オセアニア | I2: 2318 | J2: 711169 | K2: 0.018072536
A3: JQ | B3: ジェットスター航空 | C3: 1151 | D3: 348753 | E3: 0.49039399 | H3: ハワイ | I3: 7093 | J3: 1890450 | K3: 0.048040938
A4: QF | B4: カンタス航空 | C4: 366 | D4: 129370 | E4: 0.18191175 | H4: ミクロネシア | I4: 7852 | J4: 1385936 | K4: 0.035220008
A5: JL | B5: 日本航空 | C5: 366 | D5: 119406 | E5: 0.16790102 | H5: ロシア | I5: 1106 | J5: 234508 | K5: 0.0059594193
A6: NZ | B6: ニュージーランド航空 | C6: 435 | D6: 113640 | E6: 0.15979324 | H6: 欧州 | I6: 10662 | J6: 3015364 | K6: 0.076627741
A7: 合計 | C7: 2318 | D7: 711169 | E7: - | H7: 韓国 | I7: 34733 | J7: 7579231 | K7: 0.19260671
A8: ハワイ | H8: 香港・マカオ | I8: 9886 | J8: 2470884 | K8: 0.062791179
A9: DL | B9: デルタ航空 | C9: 1960 | D9: 582856 | E9: 0.30831601 | H9: 太平洋 | I9: 492 | J9: 131133 | K9: 0.0033324088
A10: JL | B10: 日本航空 | C10: 2171 | D10: 516315 | E10: 0.27311751 | H10: 台湾 | I10: 17858 | J10: 4512152 | K10: 0.11466477
A11: HA | B11: ハワイアン航空 | C11: 1021 | D11: 266892 | E11: 0.14117908 | H11: 中国・モンゴル | I11: 34156 | J11: 6072391 | K11: 0.15431424
A12: CI | B12: チャイナエアライン | C12: 474 | D12: 187416 | E12: 0.0991383 | H12: 中東・アフリカ | I12: 2200 | J12: 740432 | K12: 0.01881618
A13: NH | B13: 全日空 | C13: 733 | D13: 149605 | E13: 0.079137242 | H13: 中南米 | I13: 156 | J13: 27182 | K13: 0.00069076081
A14: UA | B14: ユナイテッド航空 | C14: 368 | D14: 109042 | E14: 0.057680446 | H14: 東南アジア | I14: 22966 | J14: 6127910 | K14: 0.15572511
A15: NQ | B15: エアージャパン | C15: 366 | D15: 78324 | E15: 0.041431405 | H15: 南アジア | I15: 1126 | J15: 237973 | K15: 0.0060474734
A16: 合計 | C16: 7093 | D16: 1890450 | E16: - | H16: 北米 | I16: 15366 | J16: 4214099 | K16: 0.10709052
A17: ミクロネシア | H17: 合計 | I17: 167970 | J17: 39350814 | K17: -
A18: DL | B18: デルタ航空 | C18: 2978 | D18: 534318 | E18: 0.38552862
A19: UA | B19: ユナイテッド航空 | C19: 3028 | D19: 511160 | E19: 0.36881934
A20: CO | B20: コンチネンタル航空 | C20: 844 | D20: 115645 | E20: 0.083441804
A21: KE | B21: 大韓航空 | C21: 366 | D21: 91803 | E21: 0.066238989
A22: JL | B22: 日本航空 | C22: 426 | D22: 91449 | E22: 0.065983566
A23: OZ | B23: アシアナ航空 | C23: 210 | D23: 41561 | E23: 0.029987676
A24: 合計 | C24: 7852 | D24: 1385936 | E24: -
A25: ロシア
A26: SU | B26: アエロフロート・ロシア航空 | C26: 366 | D26: 107398 | E26: 0.45797158
A27: JL | B27: 日本航空 | C27: 157 | D27: 42536 | E27: 0.181384
A28: XF | B28: ウラジオストク航空 | C28: 213 | D28: 31910 | E28: 0.13607212
A29: S7 | B29: S7航空 | C29: 150 | D29: 23700 | E29: 0.10106265
A30: HY | B30: ウズベキスタン航空 | C30: 67 | D30: 14530 | E30: 0.061959507
A31: HZ | B31: オーロラ航空 | C31: 138 | D31: 10909 | E31: 0.046518669
A32: UN | B32: トランスアエロ航空 | C32: 15 | D32: 3525 | E32: 0.01503147
A33: 合計 | C33: 1106 | D33: 234508 | E33: -
A34: 欧州
A35: LH | B35: ルフトハンザ・ドイツ航空 | C35: 1429 | D35: 520765 | E35: 0.17270386
A36: NH | B36: 全日空 | C36: 1804 | D36: 393454 | E36: 0.13048309
A37: JL | B37: 日本航空 | C37: 1464 | D37: 374526 | E37: 0.1242059
A38: AF | B38: エールフランス航空 | C38: 1081 | D38: 362040 | E38: 0.12006511
A39: AY | B39: フィンエアー | C39: 1079 | D39: 292049 | E39: 0.096853647
A40: KL | B40: KLMオランダ航空 | C40: 838 | D40: 270609 | E40: 0.089743394
...

Sheet 13年
A1: スリーレター | B1: 空港 | C1: 便数 | D1: 座席数
A2: ICN | B2: 仁川 | C2: 21102 | D2: 4494863
A3: TPE | B3: 台湾桃園 | C3: 15673 | D3: 3922085
A4: PVG | B4: 上海浦東 | C4: 14275 | D4: 2609065
A5: HKG | B5: 香港 | C5: 9067 | D5: 2410541
A6: BKK | B6: バンコク | C6: 6988 | D6: 2133636
A7: HNL | B7: ホノルル | C7: 7454 | D7: 2053738
A8: GMP | B8: 金浦 | C8: 7020 | D8: 1807485
A9: SIN | B9: シンガポール | C9: 5845 | D9: 1564464
A10: GUM | B10: グアム | C10: 6335 | D10: 1183691
A11: PUS | B11: 釜山 | C11: 7034 | D11: 1155629
A12: PEK | B12: 北京 | C12: 6112 | D12: 1151600
A13: MNL | B13: マニラ | C13: 3733 | D13: 1019714
... A110: PNI | B110: ポンペイ | C110: 1 | D110: 124

Sheet 13年方面別
A1: ツーレター | B1: 航空会社 | C1: 便数 | D1: 座席数 | E1: シェア | H1: 空港 | I1: 便数 | J1: 総座席 | K1: シェア
A2: オセアニア | H2: オセアニア | I2: 2207 | J2: 667295 | K2: 0.016404552
A3: JQ | B3: ジェットスター航空 | C3: 1073 | D3: 325119 | E3: 0.4872193 | H3: ハワイ | I3: 7454 | J3: 2053738 | K3: 0.050488392
A4: QF | B4: カンタス航空 | C4: 364 | D4: 131974 | E4: 0.1977746 | H4: ミクロネシア | I4: 7497 | J4: 1394927 | K4: 0.034292408
A5: NZ | B5: ニュージーランド航空 | C5: 405 | D5: 108935 | E5: 0.16324864 | H5: ロシア | I5: 1205 | J5: 242406 | K5: 0.0059592262
A6: JL | B6: 日本航空 | C6: 365 | D6: 101267 | E6: 0.15175747 | H6: 欧州 | I6: 10934 | J6: 3086824 | K6: 0.075885425
A7: 合計 | C7: 2207 | D7: 667295 | E7: - | H7: 韓国 | I7: 36199 | J7: 7646313 | K7: 0.18797434
A8: ハワイ | H8: 香港・マカオ | I8: 9482 | J8: 2466176 | K8: 0.060627627
A9: JL | B9: 日本航空 | C9: 2159 | D9: 585725 | E9: 0.28519948 | H9: 太平洋 | I9: 491 | J9: 127988 | K9: 0.0031464132
A10: DL | B10: デルタ航空 | C10: 1939 | D10: 549582 | E10: 0.26760083 | H10: 台湾 | I10: 19448 | J10: 4887939 | K10: 0.12016342
A11: HA | B11: ハワイアン航空 | C11: 1255 | D11: 349461 | E11: 0.17015851 | H11: 中国・モンゴル | I11: 31517 | J11: 5722966 | K11: 0.14069144
A12: NH | B12: 全日空 | C12: 730 | D12: 159218 | E12: 0.077525955 | H12: 中東・アフリカ | I12: 2915 | J12: 888668 | K12: 0.02184671
A13: CI | B13: チャイナエアライン | C13: 365 | D13: 141775 | E13: 0.069032661 | H13: 中南米 | I13: 156 | J13: 29219 | K13: 0.0007183099
A14: UA | B14: ユナイテッド航空 | C14: 365 | D14: 113691 | E14: 0.055358084 | H14: 東南アジア | I14: 24738 | J14: 6791902 | K14: 0.1669698
A15: NQ | B15: エアージャパン | C15: 365 | D15: 78110 | E15: 0.038033089 | H15: 南アジア | I15: 1483 | J15: 290924 | K15: 0.0071519761
A16: KE | B16: 大韓航空 | C16: 276 | D16: 76176 | E16: 0.037091391 | H16: 北米 | I16: 16463 | J16: 4380144 | K16: 0.10767996
A17: 合計 | C17: 7454 | D17: 2053738 | E17: - | H17: 合計 | I17: 172189 | J17: 40677429 | K17: -
A18: ミクロネシア
A19: UA | B19: ユナイテッド航空 | C19: 3736 | D19: 673877 | E19: 0.48309123
A20: DL | B20: デルタ航空 | C20: 2788 | D20: 493540 | E20: 0.35381063
A21: JL | B21: 日本航空 | C21: 394 | D21: 100328 | E21: 0.071923477
A22: KE | B22: 大韓航空 | C22: 365 | D22: 82875 | E22: 0.059411711
A23: OZ | B23: アシアナ航空 | C23: 214 | D23: 44307 | E23: 0.031762952
A24: 合計 | C24: 7497 | D24: 1394927 | E24: -
A25: ロシア
A26: SU | B26: アエロフロート・ロシア航空 | C26: 365 | D26: 110230 | E26: 0.45473297
A27: XF | B27: ウラジオストク航空 | C27: 242 | D27: 36260 | E27: 0.14958376
A28: JL | B28: 日本航空 | C28: 156 | D28: 32851 | E28: 0.13552057
A29: S7 | B29: S7航空 | C29: 196 | D29: 30968 | E29: 0.12775261
A30: HZ | B30: オーロラ航空 | C30: 170 | D30: 13639 | E30: 0.056265109
A31: HY | B31: ウズベキスタン航空 | C31: 57 | D31: 13340 | E31: 0.055031641
A32: UN | B32: トランスアエロ航空 | C32: 19 | D32: 5118 | E32: 0.021113339
A33: 合計 | C33: 1205 | D33: 242406 | E33: -
A34: 欧州
A35: LH | B35: ルフトハンザ・ドイツ航空 | C35: 1416 | D35: 506468 | E35: 0.16407414
A36: NH | B36: 全日空 | C36: 1823 | D36: 404792 | E36: 0.13113543
A37: AF | B37: エールフランス航空 | C37: 1079 | D37: 400169 | E37: 0.12963778
A38: JL | B38: 日本航空 | C38: 1647 | D38: 391447 | E38: 0.12681222
A39: KL | B39: KLMオランダ航空 | C39: 977 | D39: 314588 | E39: 0.10191316
A40: AY | B40: フィンエアー | C40: 1004 | D40: 270431 | E40: 0.087608169
...

Sheet 14年
A1: スリーレター | B1: 空港 | C1: 便数 | D1: 座席数
A2: TPE | B2: 台湾桃園 | C2: 18398 | D2: 4543445
A3: ICN | B3: 仁川 | C3: 20410 | D3: 4106900
A4: PVG | B4: 上海浦東 | C4: 16232 | D4: 3063357
A5: HKG | B5: 香港 | C5: 11157 | D5: 2907182
A6: BKK | B6: バンコク | C6: 7170 | D6: 2247571
A7: HNL | B7: ホノルル | C7: 6964 | D7: 1825557
A8: GMP | B8: 金浦 | C8: 6935 | D8: 1696627
A9: SIN | B9: シンガポール | C9: 6105 | D9: 1693400
A10: MNL | B10: マニラ | C10: 5514 | D10: 1307587
A11: PEK | B11: 北京 | C11: 6235 | D11: 1238550
A12: GUM | B12: グアム | C12: 6013 | D12: 1118021
A13: PUS | B13: 釜山 | C13: 6088 | D13: 1045857
... A120: FRU | B120: ビシュケク | C120: 1 | D120: 120

Sheet 14年方面別
A1: ツーレター | B1: 航空会社 | C1: 便数 | D1: 座席数 | E1: シェア | H1: 空港 | I1: 便数 | J1: 総座席 | K1: シェア
A2: オセアニア | H2: オセアニア | I2: 2257 | J2: 686337 | K2: 0.015834388
A3: JQ | B3: ジェットスター航空 | C3: 1127 | D3: 353769 | E3: 0.51544504 | H3: ハワイ | I3: 6964 | J3: 1825557 | K3: 0.042117177
A4: QF | B4: カンタス航空 | C4: 369 | D4: 134808 | E4: 0.19641663 | H4: ミクロネシア | I4: 6989 | J4: 1290175 | K4: 0.029765452
A5: NZ | B5: ニュージーランド航空 | C5: 395 | D5: 109228 | E5: 0.15914631 | H5: ロシア | I5: 1161 | J5: 223852 | K5: 0.005164459
A6: JL | B6: 日本航空 | C6: 365 | D6: 88320 | E6: 0.12868314 | H6: 欧州 | I6: 12008 | J6: 3174023 | K6: 0.073227453
A7: NH | B7: 全日空 | C7: 1 | D7: 212 | E7: 0.00030888616 | H7: 韓国 | I7: 34355 | J7: 7010880 | K7: 0.16174706
A8: 合計 | C8: 2257 | D8: 686337 | E8: - | H8: 香港・マカオ | I8: 11613 | J8: 2970526 | K8: 0.068532601
A9: ハワイ | H9: 太平洋 | I9: 552 | J9: 143124 | K9: 0.0033019943
A10: JL | B10: 日本航空 | C10: 2204 | D10: 512193 | E10: 0.28056807 | H10: 台湾 | I10: 23642 | J10: 5760752 | K10: 0.13290553
A11: DL | B11: デルタ航空 | C11: 1782 | D11: 475413 | E11: 0.26042079 | H11: 中国・モンゴル | I11: 34887 | J11: 6543736 | K11: 0.15096964
A12: HA | B12: ハワイアン航空 | C12: 1054 | D12: 298011 | E12: 0.16324388 | H12: 中東・アフリカ | I12: 3438 | J12: 987290 | K12: 0.022777633
A13: NH | B13: 全日空 | C13: 731 | D13: 159458 | E13: 0.087347588 | H13: 中南米 | I13: 194 | J13: 47142 | K13: 0.0010876067
A14: UA | B14: ユナイテッド航空 | C14: 375 | D14: 130608 | E14: 0.071544192 | H14: 東南アジア | I14: 30183 | J14: 8087368 | K14: 0.18658257
A15: CI | B15: チャイナエアライン | C15: 365 | D15: 126223 | E15: 0.069142185 | H15: 南アジア | I15: 1446 | J15: 278941 | K15: 0.0064354099
A16: KE | B16: 大韓航空 | C16: 365 | D16: 104819 | E16: 0.057417544 | H16: 北米 | I16: 16666 | J16: 4315011 | K16: 0.099551032
A17: NQ | B17: エアージャパン | C17: 88 | D17: 18832 | E17: 0.010315756 | H17: 合計 | I17: 186355 | J17: 43344714 | K17: -
A18: 合計 | C18: 6964 | D18: 1825557 | E18: -
A19: ミクロネシア
A20: UA | B20: ユナイテッド航空 | C20: 3553 | D20: 641041 | E20: 0.4968636
A21: DL | B21: デルタ航空 | C21: 2530 | D21: 440220 | E21: 0.34120953
A22: JL | B22: 日本航空 | C22: 408 | D22: 103878 | E22: 0.080514659
A23: KE | B23: 大韓航空 | C23: 366 | D23: 80636 | E23: 0.062500048
A24: OZ | B24: アシアナ航空 | C24: 132 | D24: 24400 | E24: 0.018912163
A25: 合計 | C25: 6989 | D25: 1290175 | E25: -
A26: ロシア
A27: SU | B27: アエロフロート・ロシア航空 | C27: 374 | D27: 110542 | E27: 0.49381734
A28: S7 | B28: S7航空 | C28: 279 | D28: 44082 | E28: 0.19692475
A29: JL | B29: 日本航空 | C29: 187 | D29: 34782 | E29: 0.15537945
A30: HZ | B30: オーロラ航空 | C30: 239 | D30: 17695 | E30: 0.079047764
A31: HY | B31: ウズベキスタン航空 | C31: 62 | D31: 14871 | E31: 0.066432286
A32: R3 | B32: ヤクーツク航空 | C32: 20 | D32: 1880 | E32: 0.0083984061
A33: 合計 | C33: 1161 | D33: 223852 | E33: -
A34: 欧州
A35: NH | B35: 全日空 | C35: 2379 | D35: 487853 | E35: 0.15370178
A36: LH | B36: ルフトハンザ・ドイツ航空 | C36: 1519 | D36: 476871 | E36: 0.15024182
A37: AF | B37: エールフランス航空 | C37: 1280 | D37: 411251 | E37: 0.12956774
A38: JL | B38: 日本航空 | C38: 1825 | D38: 390964 | E38: 0.12317617
A39: KL | B39: KLMオランダ航空 | C39: 984 | D39: 326051 | E39: 0.10272484
A40: AY | B40: フィンエアー | C40: 995 | D40: 270248 | E40: 0.08514368
...

Sheet 15年
A1: スリーレター | B1: 空港 | C1: 便数 | D1: 座席数
A2: TPE | B2: 台湾桃園 | C2: 20821 | D2: 5128328
A3: ICN | B3: 仁川 | C3: 21277 | D3: 4309657
A4: PVG | B4: 上海浦東 | C4: 20464 | D4: 3833649
A5: HKG | B5: 香港 | C5: 15330 | D5: 3761621
A6: BKK | B6: バンコク | C6: 7816 | D6: 2224775
A7: HNL | B7: ホノルル | C7: 6688 | D7: 1763815
A8: SIN | B8: シンガポール | C8: 6416 | D8: 1750769
A9: GMP | B9: 金浦 | C9: 6665 | D9: 1591554
A10: PEK | B10: 北京 | C10: 6733 | D10: 1375844
A11: PUS | B11: 釜山 | C11: 7366 | D11: 1330379
A12: MNL | B12: マニラ | C12: 5317 | D12: 1190979
A13: GUM | B13: グアム | C13: 5565 | D13: 1038454
... A136: TBU | B136: ヌクアロファ | C136: 1 | D136: 230

Sheet 15年方面別
A1: ツーレター | B1: 航空会社 | C1: 便数 | D1: 座席数 | E1: シェア | H1: 空港 | I1: 便数 | J1: 総座席 | K1: シェア
A2: オセアニア | H2: オセアニア | I2: 2446 | J2: 747082 | K2: 0.01568365
A3: JQ | B3: ジェットスター航空 | C3: 1123 | D3: 359383 | E3: 0.48104893 | H3: ハワイ | I3: 6688 | J3: 1763815 | K3: 0.037028141
A4: QF | B4: カンタス航空 | C4: 520 | D4: 177848 | E4: 0.23805687 | H4: ミクロネシア | I4: 6301 | J4: 1167958 | K4: 0.024519189
A5: NZ | B5: ニュージーランド航空 | C5: 416 | D5: 117260 | E5: 0.15695734 | H5: ロシア | I5: 1122 | J5: 226662 | K5: 0.0047583633
A6: JL | B6: 日本航空 | C6: 365 | D6: 87794 | E6: 0.11751588 | H6: 欧州 | I6: 11726 | J6: 3054617 | K6: 0.064126221
A7: NH | B7: 全日空 | C7: 21 | D7: 4423 | E7: 0.0059203675 | H7: 韓国 | I7: 36076 | J7: 7348724 | K7: 0.15427332
A8: UA | B8: ユナイテッド航空 | C8: 1 | D8: 374 | E8: 0.00050061439 | H8: 香港・マカオ | I8: 15935 | J8: 3854419 | K8: 0.080916633
A9: 合計 | C9: 2446 | D9: 747082 | E9: - | H9: 太平洋 | I9: 559 | J9: 144226 | K9: 0.0030277669
A10: ハワイ | H10: 台湾 | I10: 27784 | J10: 6681694 | K10: 0.14027022
A11: JL | B11: 日本航空 | C11: 2254 | D11: 547177 | E11: 0.31022358 | H11: 中国・モンゴル | I11: 45862 | J11: 8534469 | K11: 0.17916591
A12: DL | B12: デルタ航空 | C12: 1600 | D12: 455779 | E12: 0.25840522 | H12: 中東・アフリカ | I12: 3575 | J12: 1025966 | K12: 0.021538321
A13: HA | B13: ハワイアン航空 | C13: 886 | D13: 255024 | E13: 0.14458659 | H13: 中南米 | I13: 208 | J13: 50544 | K13: 0.0010610809
A14: NH | B14: 全日空 | C14: 908 | D14: 198314 | E14: 0.11243469 | H14: 東南アジア | I14: 32932 | J14: 8481602 | K14: 0.17805606
A15: UA | B15: ユナイテッド航空 | C15: 369 | D15: 112545 | E15: 0.063807712 | H15: 南アジア | I15: 1462 | J15: 267631 | K15: 0.0056184342
A16: CI | B16: チャイナエアライン | C16: 365 | D16: 110520 | E16: 0.062659633 | H16: 北米 | I16: 17005 | J16: 4285037 | K16: 0.089956688
A17: KE | B17: 大韓航空 | C17: 306 | D17: 84456 | E17: 0.047882573 | H17: 合計 | I17: 209681 | J17: 47634446 | K17: -
A18: 合計 | C18: 6688 | D18: 1763815 | E18: -
A19: ミクロネシア
A20: UA | B20: ユナイテッド航空 | C20: 3203 | D20: 584857 | E20: 0.50075174
A21: DL | B21: デルタ航空 | C21: 2297 | D21: 402778 | E21: 0.34485658
A22: JL | B22: 日本航空 | C22: 382 | D22: 96495 | E22: 0.082618553
A23: KE | B23: 大韓航空 | C23: 317 | D23: 67662 | E23: 0.057931878
A24: OZ | B24: アシアナ航空 | C24: 60 | D24: 10920 | E24: 0.0093496513
A25: TW | B25: ティーウェイ航空 | C25: 40 | D25: 4880 | E25: 0.0041782324
A26: LJ | B26: ジンエアー | C26: 2 | D26: 366 | E26: 0.00031336743
A27: 合計 | C27: 6301 | D27: 1167958 | E27: -
A28: ロシア
A29: SU | B29: アエロフロート・ロシア航空 | C29: 367 | D29: 109364 | E29: 0.48249817
A30: S7 | B30: S7航空 | C30: 262 | D30: 41396 | E30: 0.18263317
A31: JL | B31: 日本航空 | C31: 186 | D31: 34596 | E31: 0.15263255
A32: HZ | B32: オーロラ航空 | C32: 240 | D32: 27202 | E32: 0.12001129
A33: HY | B33: ウズベキスタン航空 | C33: 51 | D33: 12648 | E33: 0.055801149
A34: R3 | B34: ヤクーツク航空 | C34: 16 | D34: 1456 | E34: 0.0064236617
A35: 合計 | C35: 1122 | D35: 226662 | E35: -
A36: 欧州
A37: LH | B37: ルフトハンザ・ドイツ航空 | C37: 1619 | D37: 525677 | E37: 0.17209261
A38: NH | B38: 全日空 | C38: 2547 | D38: 512768 | E38: 0.16786654
A39: AF | B39: エールフランス航空 | C39: 1307 | D39: 389379 | E39: 0.12747228
A40: JL | B40: 日本航空 | C40: 1825 | D40: 384640 | E40: 0.12592086
...

Sheet 16年
A1: スリーレター | B1: 空港 | C1: 便数 | D1: 座席数
A2: TPE | B2: 台湾桃園 | C2: 27214 | D2: 6293846
A3: ICN | B3: 仁川 | C3: 27229 | D3: 5456283
A4: HKG | B4: 香港 | C4: 18174 | D4: 4320917
A5: PVG | B5: 上海浦東 | C5: 23179 | D5: 4243670
A6: BKK | B6: バンコク | C6: 7785 | D6: 2233508
A7: HNL | B7: ホノルル | C7: 7070 | D7: 1769759
A8: PUS | B8: 釜山 | C8: 9351 | D8: 1701052
A9: SIN | B9: シンガポール | C9: 6395 | D9: 1658525
A10: GMP | B10: 金浦 | C10: 6612 | D10: 1560697
A11: PEK | B11: 北京 | C11: 7386 | D11: 1439654
A12: MNL | B12: マニラ | C12: 5863 | D12: 1366162
A13: GUM | B13: グアム | C13: 5129 | D13: 962571
... A154: VTE | B154: ビエンチャン | C154: 1 | D154: 142

Sheet 16年方面別
A1: ツーレター | B1: 航空会社 | C1: 便数 | D1: 座席数 | E1: シェア | H1: 空港 | I1: 便数 | J1: 総座席 | K1: シェア
A2: オセアニア | H2: オセアニア | I2: 3002 | J2: 908910 | K2: 0.017302328
A3: JQ | B3: ジェットスター航空 | C3: 1068 | D3: 357780 | E3: 0.39363633 | H3: ハワイ | I3: 7075 | J3: 1771229 | K3: 0.033717733
A4: QF | B4: カンタス航空 | C4: 745 | D4: 244360 | E4: 0.2688495 | H4: ミクロネシア | I4: 5662 | J4: 1057654 | K4: 0.02013387
A5: NZ | B5: ニュージーランド航空 | C5: 455 | D5: 137650 | E5: 0.15144514 | H5: ロシア | I5: 1227 | J5: 226697 | K5: 0.0043154832
A6: JL | B6: 日本航空 | C6: 366 | D6: 89304 | E6: 0.098253953 | H6: 欧州 | I6: 11006 | J6: 2800826 | K6: 0.053317501
A7: NH | B7: 全日空 | C7: 366 | D7: 79068 | E7: 0.086992111 | H7: 韓国 | I7: 44385 | J7: 8890319 | K7: 0.16923921
A8: UA | B8: ユナイテッド航空 | C8: 2 | D8: 748 | E8: 0.00082296377 | H8: 香港・マカオ | I8: 19076 | J8: 4467076 | K8: 0.085036817
A9: 合計 | C9: 3002 | D9: 908910 | E9: - | H9: 太平洋 | I9: 589 | J9: 148542 | K9: 0.0028276973
A10: ハワイ | H10: 台湾 | I10: 34639 | J10: 7934414 | K10: 0.15104227
A11: JL | B11: 日本航空 | C11: 2316 | D11: 546238 | E11: 0.30839491 | H11: 中国・モンゴル | I11: 54641 | J11: 9891486 | K11: 0.18829778
A12: DL | B12: デルタ航空 | C12: 1490 | D12: 364958 | E12: 0.20604789 | H12: 中東・アフリカ | I12: 2963 | J12: 875798 | K12: 0.016671996
A13: HA | B13: ハワイアン航空 | C13: 1062 | D13: 305551 | E13: 0.1725079 | H13: 中南米 | I13: 240 | J13: 58376 | K13: 0.0011112659
A14: NH | B14: 全日空 | C14: 1105 | D14: 241887 | E14: 0.1365645 | H14: 東南アジア | I14: 34129 | J14: 8751811 | K14: 0.16660253
A15: CI | B15: チャイナエアライン | C15: 366 | D15: 111801 | E15: 0.063120579 | H15: 南アジア | I15: 1518 | J15: 304287 | K15: 0.0057925135
A16: KE | B16: 大韓航空 | C16: 366 | D16: 101056 | E16: 0.05705417 | H16: 北米 | I16: 17672 | J16: 4443657 | K16: 0.084591005
A17: UA | B17: ユナイテッド航空 | C17: 369 | D17: 99463 | E17: 0.056154794 | H17: 合計 | I17: 237824 | J17: 52531082 | K17: -
A18: OZ | B18: アシアナ航空 | C18: 1 | D18: 275 | E18: 0.00015525943
A19: 合計 | C19: 7075 | D19: 1771229 | E19: -
A20: ミクロネシア
A21: UA | B21: ユナイテッド航空 | C21: 3157 | D21: 587206 | E21: 0.55519669
A22: DL | B22: デルタ航空 | C22: 1585 | D22: 283535 | E22: 0.26807916
A23: JL | B23: 日本航空 | C23: 375 | D23: 88823 | E23: 0.083981151
A24: KE | B24: 大韓航空 | C24: 255 | D24: 58463 | E24: 0.055276111
A25: TW | B25: ティーウェイ航空 | C25: 244 | D25: 31306 | E25: 0.029599472
A26: OZ | B26: アシアナ航空 | C26: 35 | D26: 6122 | E26: 0.0057882824
A27: NH | B27: 全日空 | C27: 6 | D27: 1284 | E27: 0.0012140076
A28: LJ | B28: ジンエアー | C28: 5 | D28: 915 | E28: 0.00086512224
A29: 合計 | C29: 5662 | D29: 1057654 | E29: -
A30: ロシア
A31: SU | B31: アエロフロート・ロシア航空 | C31: 365 | D31: 109988 | E31: 0.48517625
A32: S7 | B32: S7航空 | C32: 261 | D32: 41238 | E32: 0.18190801
A33: JL | B33: 日本航空 | C33: 206 | D33: 35666 | E33: 0.15732895
A34: HZ | B34: オーロラ航空 | C34: 266 | D34: 20799 | E34: 0.091748016
A35: HY | B35: ウズベキスタン航空 | C35: 47 | D35: 11635 | E35: 0.051324014
A36: R3 | B36: ヤクーツク航空 | C36: 69 | D36: 6401 | E36: 0.028235927
A37: 2G | B37: アンガラ航空 | C37: 13 | D37: 970 | E37: 0.0042788392
A38: 合計 | C38: 1227 | D38: 226697 | E38: -
A39: 欧州
A40: NH | B40: 全日空 | C40: 2557 | D40: 513102 | E40: 0.18319667
...

Sheet 方面別経過分析
A1: 便数
A2: 空港 | B2: 2012年 | C2: 2013年 | D2: 2014年 | E2: 2015年 | F2: 2016年
A3: オセアニア | B3: ='12年方面別'!I2 -> 2318 | C3: ='13年方面別'!I2 -> 2207 | D3: ='14年方面別'!I2 -> 2257 | E3: ='15年方面別'!I2 -> 2446 | F3: ='16年方面別'!I2 -> 3002
A4: ハワイ | B4: ='12年方面別'!I3 -> 7093 | C4: ='13年方面別'!I3 -> 7454 | D4: ='14年方面別'!I3 -> 6964 | E4: ='15年方面別'!I3 -> 6688 | F4: ='16年方面別'!I3 -> 7075
A5: ミクロネシア | B5: ='12年方面別'!I4 -> 7852 | C5: ='13年方面別'!I4 -> 7497 | D5: ='14年方面別'!I4 -> 6989 | E5: ='15年方面別'!I4 -> 6301 | F5: ='16年方面別'!I4 -> 5662
A6: ロシア | B6: ='12年方面別'!I5 -> 1106 | C6: ='13年方面別'!I5 -> 1205 | D6: ='14年方面別'!I5 -> 1161 | E6: ='15年方面別'!I5 -> 1122 | F6: ='16年方面別'!I5 -> 1227
A7: 欧州 | B7: ='12年方面別'!I6 -> 10662 | C7: ='13年方面別'!I6 -> 10934 | D7: ='14年方面別'!I6 -> 12008 | E7: ='15年方面別'!I6 -> 11726 | F7: ='16年方面別'!I6 -> 11006
A8: 韓国 | B8: ='12年方面別'!I7 -> 34733 | C8: ='13年方面別'!I7 -> 36199 | D8: ='14年方面別'!I7 -> 34355 | E8: ='15年方面別'!I7 -> 36076 | F8: ='16年方面別'!I7 -> 44385
A9: 香港・マカオ | B9: ='12年方面別'!I8 -> 9886 | C9: ='13年方面別'!I8 -> 9482 | D9: ='14年方面別'!I8 -> 11613 | E9: ='15年方面別'!I8 -> 15935 | F9: ='16年方面別'!I8 -> 19076
A10: 太平洋 | B10: ='12年方面別'!I9 -> 492 | C10: ='13年方面別'!I9 -> 491 | D10: ='14年方面別'!I9 -> 552 | E10: ='15年方面別'!I9 -> 559 | F10: ='16年方面別'!I9 -> 589
A11: 台湾 | B11: ='12年方面別'!I10 -> 17858 | C11: ='13年方面別'!I10 -> 19448 | D11: ='14年方面別'!I10 -> 23642 | E11: ='15年方面別'!I10 -> 27784 | F11: ='16年方面別'!I10 -> 34639
A12: 中国 | B12: ='12年方面別'!I11 -> 34156 | C12: ='13年方面別'!I11 -> 31517 | D12: ='14年方面別'!I11 -> 34887 | E12: ='15年方面別'!I11 -> 45862 | F12: ='16年方面別'!I11 -> 54641
A13: 中東・アフリカ | B13: ='12年方面別'!I12 -> 2200 | C13: ='13年方面別'!I12 -> 2915 | D13: ='14年方面別'!I12 -> 3438 | E13: ='15年方面別'!I12 -> 3575 | F13: ='16年方面別'!I12 -> 2963
A14: 中南米 | B14: ='12年方面別'!I13 -> 156 | C14: ='13年方面別'!I13 -> 156 | D14: ='14年方面別'!I13 -> 194 | E14: ='15年方面別'!I13 -> 208 | F14: ='16年方面別'!I13 -> 240
... A18: 合計 | B18: ='12年方面別'!I17 -> 167970 | C18: ='13年方面別'!I17 -> 172189 | D18: ='14年方面別'!I17 -> 186355 | E18: ='15年方面別'!I17 -> 209681 | F18: ='16年方面別'!I17 -> 237824
A20: 座席数
A21: 空港 | B21: 2012年 | C21: 2013年 | D21: 2014年 | E21: 2015年 | F21: 2016年
A22: オセアニア | B22: ='12年方面別'!J2 -> 711169 | C22: ='13年方面別'!J2 -> 667295 | D22: ='14年方面別'!J2 -> 686337 | E22: ='15年方面別'!J2 -> 747082 | F22: ='16年方面別'!J2 -> 908910
A23: ハワイ | B23: ='12年方面別'!J3 -> 1890450 | C23: ='13年方面別'!J3 -> 2053738 | D23: ='14年方面別'!J3 -> 1825557 | E23: ='15年方面別'!J3 -> 1763815 | F23: ='16年方面別'!J3 -> 1771229
A24: ミクロネシア | B24: ='12年方面別'!J4 -> 1385936 | C24: ='13年方面別'!J4 -> 1394927 | D24: ='14年方面別'!J4 -> 1290175 | E24: ='15年方面別'!J4 -> 1167958 | F24: ='16年方面別'!J4 -> 1057654
A25: ロシア | B25: ='12年方面別'!J5 -> 234508 | C25: ='13年方面別'!J5 -> 242406 | D25: ='14年方面別'!J5 -> 223852 | E25: ='15年方面別'!J5 -> 226662 | F25: ='16年方面別'!J5 -> 226697
A26: 欧州 | B26: ='12年方面別'!J6 -> 3015364 | C26: ='13年方面別'!J6 -> 3086824 | D26: ='14年方面別'!J6 -> 3174023 | E26: ='15年方面別'!J6 -> 3054617 | F26: ='16年方面別'!J6 -> 2800826
A27: 韓国 | B27: ='12年方面別'!J7 -> 7579231 | C27: ='13年方面別'!J7 -> 7646313 | D27: ='14年方面別'!J7 -> 7010880 | E27: ='15年方面別'!J7 -> 7348724 | F27: ='16年方面別'!J7 -> 8890319
A28: 香港・マカオ | B28: ='12年方面別'!J8 -> 2470884 | C28: ='13年方面別'!J8 -> 2466176 | D28: ='14年方面別'!J8 -> 2970526 | E28: ='15年方面別'!J8 -> 3854419 | F28: ='16年方面別'!J8 -> 4467076
A29: 太平洋 | B29: ='12年方面別'!J9 -> 131133 | C29: ='13年方面別'!J9 -> 127988 | D29: ='14年方面別'!J9 -> 143124 | E29: ='15年方面別'!J9 -> 144226 | F29: ='16年方面別'!J9 -> 148542
A30: 台湾 | B30: ='12年方面別'!J10 -> 4512152 | C30: ='13年方面別'!J10 -> 4887939 | D30: ='14年方面別'!J10 -> 5760752 | E30: ='15年方面別'!J10 -> 6681694 | F30: ='16年方面別'!J10 -> 7934414
A31: 中国 | B31: ='12年方面別'!J11 -> 6072391 | C31: ='13年方面別'!J11 -> 5722966 | D31: ='14年方面別'!J11 -> 6543736 | E31: ='15年方面別'!J11 -> 8534469 | F31: ='16年方面別'!J11 -> 9891486
A32: 中東・アフリカ | B32: ='12年方面別'!J12 -> 740432 | C32: ='13年方面別'!J12 -> 888668 | D32: ='14年方面別'!J12 -> 987290 | E32: ='15年方面別'!J12 -> 1025966 | F32: ='16年方面別'!J12 -> 875798
A33: 中南米 | B33: ='12年方面別'!J13 -> 27182 | C33: ='13年方面別'!J13 -> 29219 | D33: ='14年方面別'!J13 -> 47142 | E33: ='15年方面別'!J13 -> 50544 | F33: ='16年方面別'!J13 -> 58376
... A37: 合計 | B37: ='12年方面別'!J17 -> 39350814 | C37: ='13年方面別'!J17 -> 40677429 | D37: ='14年方面別'!J17 -> 43344714 | E37: ='15年方面別'!J17 -> 47634446 | F37: ='16年方面別'!J17 -> 52531082
