Workbook

Sheet 12年
A1: スリーレター | B1: 空港 | C1: 便数 | D1: 座席数
A2: ICN | B2: 仁川 | C2: 20622 | D2: 4579321
A3: TPE | B3: 台湾桃園 | C3: 13814 | D3: 3532638
A4: PVG | B4: 上海浦東 | C4: 14481 | D4: 2685120
A5: HKG | B5: 香港 | C5: 9405 | D5: 2404928
A6: HNL | B6: ホノルル | C6: 7093 | D6: 1890450
A7: BKK | B7: バンコク | C7: 6671 | D7: 1875284
A8: GMP | B8: 金浦 | C8: 7305 | D8: 1778975
A9: SIN | B9: シンガポール | C9: 5232 | D9: 1422676
A10: PEK | B10: 北京 | C10: 6414 | D10: 1215240
A11: GUM | B11: グアム | C11: 6587 | D11: 1159124
A12: MNL | B12: マニラ | C12: 3589 | D12: 974893
A13: PUS | B13: 釜山 | C13: 5497 | D13: 964469
... A112: BWN | B112: バンダルスリブガワン | C112: 1 | D112: 144

Sheet 12年方面別
A1: ツーレター | B1: 航空会社 | C1: 便数 | D1: 座席数 | E1: シェア | H1: 空港 | I1: 便数 | J1: 総座席 | K1: シェア
A2: オセアニア | H2: オセアニア | I2: 2318 | J2: 711169 | K2: 0.018072536
A3: JQ | B3: ジェットスター航空 | C3: 1151 | D3: 348753 | E3: 0.49039399 | H3: ハワイ | I3: 7093 | J3: 1890450 | K3: 0.048040938
A4: QF | B4: カンタス航空 | C4: 366 | D4: 129370 | E4: 0.18191175 | H4: ミクロネシア | I4: 7852 | J4: 1385936 | K4: 0.035220008
A5: JL | B5: 日本航空 | C5: 366 | D5: 119406 | E5: 0.16790102 | H5: ロシア | I5: 1106 | J5: 234508 | K5: 0.0059594193
A6: NZ | B6: ニュージーランド航空 | C6: 435 | D6: 113640 | E6: 0.15979324 | H6: 欧州 | I6: 10662 | J6: 3015364 | K6: 0.076627741
A7: 合計 | C7: 2318 | D7: 711169 | E7: - | H7: 韓国 | I7: 34733 | J7: 7579231 | K7: 0.19260671
A8: ハワイ | H8: 香港・マカオ | I8: 9886 | J8: 2470884 | K8: 0.062791179
A9: DL | B9: デルタ航空 | C9: 1960 | D9: 582856 | E9: 0.30831601 | H9: 太平洋 | I9: 492 | J9: 131133 | K9: 0.0033324088
A10: JL | B10: 日本航空 | C10: 2171 | D10: 516315 | E10: 0.27311751 | H10: 台湾 | I10: 17858 | J10: 4512152 | K10: 0.11466477
A11: HA | B11: ハワイアン航空 | C11: 1021 | D11: 266892 | E11: 0.14117908 | H11: 中国・モンゴル | I11: 34156 | J11: 6072391 | K11: 0.15431424
A12: CI | B12: チャイナエアライン | C12: 474 | D12: 187416 | E12: 0.0991383 | H12: 中東・アフリカ | I12: 2200 | J12: 740432 | K12: 0.01881618
A13: NH | B13: 全日空 | C13: 733 | D13: 149605 | E13: 0.079137242 | H13: 中南米 | I13: 156 | J13: 27182 | K13: 0.00069076081
A14: UA | B14: ユナイテッド航空 | C14: 368 | D14: 109042 | E14: 0.057680446 | H14: 東南アジア | I14: 22966 | J14: 6127910 | K14: 0.15572511
A15: NQ | B15: エアージャパン | C15: 366 | D15: 78324 | E15: 0.041431405 | H15: 南アジア | I15: 1126 | J15: 237973 | K15: 0.0060474734
A16: 合計 | C16: 7093 | D16: 1890450 | E16: - | H16: 北米 | I16: 15366 | J16: 4214099 | K16: 0.10709052
A17: ミクロネシア | H17: 合計 | I17: 167970 | J17: 39350814 | K17: -
A18: DL | B18: デルタ航空 | C18: 2978 | D18: 534318 | E18: 0.38552862
A19: UA | B19: ユナイテッド航空 | C19: 3028 | D19: 511160 | E19: 0.36881934
A20: CO | B20: コンチネンタル航空 | C20: 844 | D20: 115645 | E20: 0.083441804
A21: KE | B21: 大韓航空 | C21: 366 | D21: 91803 | E21: 0.066238989
A22: JL | B22: 日本航空 | C22: 426 | D22: 91449 | E22: 0.065983566
A23: OZ | B23: アシアナ航空 | C23: 210 | D23: 41561 | E23: 0.029987676
A24: 合計 | C24: 7852 | D24: 1385936 | E24: -
A25: ロシア
A26: SU | B26: アエロフロート・ロシア航空 | C26: 366 | D26: 107398 | E26: 0.45797158
A27: JL | B27: 日本航空 | C27: 157 | D27: 42536 | E27: 0.181384
A28: XF | B28: ウラジオストク航空 | C28: 213 | D28: 31910 | E28: 0.13607212
A29: S7 | B29: S7航空 | C29: 150 | D29: 23700 | E29: 0.10106265
A30: HY | B30: ウズベキスタン航空 | C30: 67 | D30: 14530 | E30: 0.061959507
A31: HZ | B31: オーロラ航空 | C31: 138 | D31: 10909 | E31: 0.046518669
A32: UN | B32: トランスアエロ航空 | C32: 15 | D32: 3525 | E32: 0.01503147
A33: 合計 | C33: 1106 | D33: 234508 | E33: -
A34: 欧州
A35: LH | B35: ルフトハンザ・ドイツ航空 | C35: 1429 | D35: 520765 | E35: 0.17270386
A36: NH | B36: 全日空 | C36: 1804 | D36: 393454 | E36: 0.13048309
A37: JL | B37: 日本航空 | C37: 1464 | D37: 374526 | E37: 0.1242059
A38: AF | B38: エールフランス航空 | C38: 1081 | D38: 362040 | E38: 0.12006511
A39: AY | B39: フィンエアー | C39: 1079 | D39: 292049 | E39: 0.096853647
A40: KL | B40: KLMオランダ航空 | C40: 838 | D40: 270609 | E40: 0.089743394
A41: AZ | B41: アリタリア-イタリア航空 | C41: 923 | D41: 258101 | E41: 0.085595305
A42: BA | B42: ブリティッシュ・エアウェイズ | C42: 606 | D42: 160684 | E42: 0.053288426
A43: VS | B43: ヴァージン・アトランティック航空 | C43: 353 | D43: 104508 | E43: 0.034658502
A44: OS | B44: オーストリア航空 | C44: 330 | D44: 101310 | E44: 0.033597934
A45: LX | B45: スイス・インターナショナル・エアラインズ | C45: 395 | D45: 88485 | E45: 0.029344716
A46: SK | B46: スカンジナビア航空 | C46: 349 | D46: 85528 | E46: 0.028364071
... A48: VV | B48: アエロスビット・ウクライナ | C48: 1 | D48: 205 | E48: 6.7985159e-05
A49: 合計 | C49: 10662 | D49: 3015364 | E49: -
A50: 韓国
A51: KE | B51: 大韓航空 | C51: 12748 | D51: 3321858 | E51: 0.43828431
A52: OZ | B52: アシアナ航空 | C52: 9763 | D52: 2082523 | E52: 0.27476706
A53: JL | B53: 日本航空 | C53: 3294 | D53: 638368 | E53: 0.084225959
A54: NH | B54: 全日空 | C54: 2131 | D54: 417277 | E54: 0.055055322
A55: 7C | B55: チェジュ航空 | C55: 1888 | D55: 336882 | E55: 0.044448045
A56: BX | B56: エアプサン | C56: 1192 | D56: 195196 | E56: 0.025754064
A57: ZE | B57: イースター航空 | C57: 944 | D57: 129378 | E57: 0.01707007
A58: UA | B58: ユナイテッド航空 | C58: 356 | D58: 93364 | E58: 0.0123184
A59: DL | B59: デルタ航空 | C59: 502 | D59: 88378 | E59: 0.01166055
A60: MM | B60: ピーチ・アビエーション | C60: 574 | D60: 86100 | E60: 0.011359992
A61: TW | B61: ティーウェイ航空 | C61: 641 | D61: 78202 | E61: 0.010317933
A62: 7G | B62: スターフライヤー | C62: 346 | D62: 49824 | E62: 0.006573754
... A64: JW | B64: バニラエア | C64: 99 | D64: 14850 | E64: 0.0019593017
A65: 合計 | C65: 34733 | D65: 7579231 | E65: -
A66: 香港・マカオ
A67: CX | B67: キャセイパシフィック航空 | C67: 4223 | D67: 1375433 | E67: 0.55665624
A68: NH | B68: 全日空 | C68: 1811 | D68: 326794 | E68: 0.13225793
A69: JL | B69: 日本航空 | C69: 732 | D69: 199312 | E69: 0.080664248
A70: UO | B70: 香港エクスプレス航空 | C70: 691 | D70: 135881 | E70: 0.054992869
A71: DL | B71: デルタ航空 | C71: 358 | D71: 96758 | E71: 0.039159264
A72: KA | B72: 香港ドラゴン航空 | C72: 550 | D72: 90574 | E72: 0.036656516
A73: NX | B73: マカオ航空 | C73: 481 | D73: 65956 | E73: 0.026693281
A74: HX | B74: 香港航空 | C74: 366 | D74: 57280 | E74: 0.023181987
A75: UA | B75: ユナイテッド航空 | C75: 265 | D75: 41960 | E75: 0.016981777
A76: AI | B76: エア・インディア | C76: 143 | D76: 40406 | E76: 0.016352852
A77: MM | B77: ピーチ・アビエーション | C77: 176 | D77: 26400 | E77: 0.010684435
A78: CO | B78: コンチネンタル航空 | C78: 90 | D78: 14130 | E78: 0.0057186011
A79: 合計 | C79: 9886 | D79: 2470884 | E79: -
A80: 太平洋
A81: SB | B81: エアカラン / エア・カレドニア・インターナショナル | C81: 335 | D81: 90071 | E81: 0.68686753
A82: TN | B82: エア・タヒチ・ヌイ | C82: 105 | D82: 30870 | E82: 0.23540985
A83: PX | B83: ニューギニア航空 | C83: 52 | D83: 10192 | E83: 0.077722617
A84: 合計 | C84: 492 | D84: 131133 | E84: -
A85: 台湾
A86: CI | B86: チャイナエアライン | C86: 7340 | D86: 2025825 | E86: 0.44897091
A87: BR | B87: エバー航空 | C87: 2950 | D87: 746136 | E87: 0.16536145
A88: JL | B88: 日本航空 | C88: 2863 | D88: 559749 | E88: 0.12405367
A89: CX | B89: キャセイパシフィック航空 | C89: 1465 | D89: 478954 | E89: 0.10614758
A90: NH | B90: 全日空 | C90: 1098 | D90: 222359 | E90: 0.049280033
A91: DL | B91: デルタ航空 | C91: 357 | D91: 132663 | E91: 0.02940127
A92: 3K | B92: ジェットスター・アジア航空 | C92: 642 | D92: 115560 | E92: 0.025610839
A93: GE | B93: トランスアジア航空 | C93: 553 | D93: 94879 | E93: 0.021027439
A94: UA | B94: ユナイテッド航空 | C94: 293 | D94: 76449 | E94: 0.016942913
A95: TZ | B95: スクート | C95: 64 | D95: 25728 | E95: 0.0057019356
A96: MM | B96: ピーチ・アビエーション | C96: 102 | D96: 15300 | E96: 0.0033908432
A97: VN | B97: ベトナム航空 | C97: 65 | D97: 11830 | E97: 0.0026218088
A98: AE | B98: マンダリン航空 | C98: 66 | D98: 6720 | E98: 0.0014893115
A99: 合計 | C99: 17858 | D99: 4512152 | E99: -
A100: 中国・モンゴル
A101: MU | B101: 中国東方航空 | C101: 7687 | D101: 1379866 | E101: 0.22723603
A102: CA | B102: 中国国際航空 | C102: 6775 | D102: 1238688 | E102: 0.20398686
...

Sheet 13年
A1: スリーレター | B1: 空港 | C1: 便数 | D1: 座席数
A2: ICN | B2: 仁川 | C2: 21102 | D2: 4494863
A3: TPE | B3: 台湾桃園 | C3: 15673 | D3: 3922085
A4: PVG | B4: 上海浦東 | C4: 14275 | D4: 2609065
A5: HKG | B5: 香港 | C5: 9067 | D5: 2410541
A6: BKK | B6: バンコク | C6: 6988 | D6: 2133636
A7: HNL | B7: ホノルル | C7: 7454 | D7: 2053738
A8: GMP | B8: 金浦 | C8: 7020 | D8: 1807485
A9: SIN | B9: シンガポール | C9: 5845 | D9: 1564464
A10: GUM | B10: グアム | C10: 6335 | D10: 1183691
A11: PUS | B11: 釜山 | C11: 7034 | D11: 1155629
A12: PEK | B12: 北京 | C12: 6112 | D12: 1151600
A13: MNL | B13: マニラ | C13: 3733 | D13: 1019714
... A110: PNI | B110: ポンペイ | C110: 1 | D110: 124

Sheet 13年方面別
A1: ツーレター | B1: 航空会社 | C1: 便数 | D1: 座席数 | E1: シェア | H1: 空港 | I1: 便数 | J1: 総座席 | K1: シェア
A2: オセアニア | H2: オセアニア | I2: 2207 | J2: 667295 | K2: 0.016404552
A3: JQ | B3: ジェットスター航空 | C3: 1073 | D3: 325119 | E3: 0.4872193 | H3: ハワイ | I3: 7454 | J3: 2053738 | K3: 0.050488392
A4: QF | B4: カンタス航空 | C4: 364 | D4: 131974 | E4: 0.1977746 | H4: ミクロネシア | I4: 7497 | J4: 1394927 | K4: 0.034292408
A5: NZ | B5: ニュージーランド航空 | C5: 405 | D5: 108935 | E5: 0.16324864 | H5: ロシア | I5: 1205 | J5: 242406 | K5: 0.0059592262
A6: JL | B6: 日本航空 | C6: 365 | D6: 101267 | E6: 0.15175747 | H6: 欧州 | I6: 10934 | J6: 3086824 | K6: 0.075885425
A7: 合計 | C7: 2207 | D7: 667295 | E7: - | H7: 韓国 | I7: 36199 | J7: 7646313 | K7: 0.18797434
A8: ハワイ | H8: 香港・マカオ | I8: 9482 | J8: 2466176 | K8: 0.060627627
A9: JL | B9: 日本航空 | C9: 2159 | D9: 585725 | E9: 0.28519948 | H9: 太平洋 | I9: 491 | J9: 127988 | K9: 0.0031464132
A10: DL | B10: デルタ航空 | C10: 1939 | D10: 549582 | E10: 0.26760083 | H10: 台湾 | I10: 19448 | J10: 4887939 | K10: 0.12016342
A11: HA | B11: ハワイアン航空 | C11: 1255 | D11: 349461 | E11: 0.17015851 | H11: 中国・モンゴル | I11: 31517 | J11: 5722966 | K11: 0.14069144
A12: NH | B12: 全日空 | C12: 730 | D12: 159218 | E12: 0.077525955 | H12: 中東・アフリカ | I12: 2915 | J12: 888668 | K12: 0.02184671
A13: CI | B13: チャイナエアライン | C13: 365 | D13: 141775 | E13: 0.069032661 | H13: 中南米 | I13: 156 | J13: 29219 | K13: 0.0007183099
A14: UA | B14: ユナイテッド航空 | C14: 365 | D14: 113691 | E14: 0.055358084 | H14: 東南アジア | I14: 24738 | J14: 6791902 | K14: 0.1669698
A15: NQ | B15: エアージャパン | C15: 365 | D15: 78110 | E15: 0.038033089 | H15: 南アジア | I15: 1483 | J15: 290924 | K15: 0.0071519761
A16: KE | B16: 大韓航空 | C16: 276 | D16: 76176 | E16: 0.037091391 | H16: 北米 | I16: 16463 | J16: 4380144 | K16: 0.10767996
A17: 合計 | C17: 7454 | D17: 2053738 | E17: - | H17: 合計 | I17: 172189 | J17: 40677429 | K17: -
A18: ミクロネシア
A19: UA | B19: ユナイテッド航空 | C19: 3736 | D19: 673877 | E19: 0.48309123
A20: DL | B20: デルタ航空 | C20: 2788 | D20: 493540 | E20: 0.35381063
A21: JL | B21: 日本航空 | C21: 394 | D21: 100328 | E21: 0.071923477
A22: KE | B22: 大韓航空 | C22: 365 | D22: 82875 | E22: 0.059411711
A23: OZ | B23: アシアナ航空 | C23: 214 | D23: 44307 | E23: 0.031762952
A24: 合計 | C24: 7497 | D24: 1394927 | E24: -
A25: ロシア
A26: SU | B26: アエロフロート・ロシア航空 | C26: 365 | D26: 110230 | E26: 0.45473297
A27: XF | B27: ウラジオストク航空 | C27: 242 | D27: 36260 | E27: 0.14958376
A28: JL | B28: 日本航空 | C28: 156 | D28: 32851 | E28: 0.13552057
A29: S7 | B29: S7航空 | C29: 196 | D29: 30968 | E29: 0.12775261
A30: HZ | B30: オーロラ航空 | C30: 170 | D30: 13639 | E30: 0.056265109
A31: HY | B31: ウズベキスタン航空 | C31: 57 | D31: 13340 | E31: 0.055031641
A32: UN | B32: トランスアエロ航空 | C32: 19 | D32: 5118 | E32: 0.021113339
A33: 合計 | C33: 1205 | D33: 242406 | E33: -
A34: 欧州
A35: LH | B35: ルフトハンザ・ドイツ航空 | C35: 1416 | D35: 506468 | E35: 0.16407414
A36: NH | B36: 全日空 | C36: 1823 | D36: 404792 | E36: 0.13113543
A37: AF | B37: エールフランス航空 | C37: 1079 | D37: 400169 | E37: 0.12963778
A38: JL | B38: 日本航空 | C38: 1647 | D38: 391447 | E38: 0.12681222
A39: KL | B39: KLMオランダ航空 | C39: 977 | D39: 314588 | E39: 0.10191316
A40: AY | B40: フィンエアー | C40: 1004 | D40: 270431 | E40: 0.087608169
A41: AZ | B41: アリタリア-イタリア航空 | C41: 958 | D41: 262425 | E41: 0.085014565
A42: BA | B42: ブリティッシュ・エアウェイズ | C42: 591 | D42: 158015 | E42: 0.051190155
A43: VS | B43: ヴァージン・アトランティック航空 | C43: 365 | D43: 102288 | E43: 0.033136972
A44: OS | B44: オーストリア航空 | C44: 330 | D44: 101675 | E44: 0.032938386
A45: LX | B45: スイス・インターナショナル・エアラインズ | C45: 391 | D45: 87411 | E45: 0.028317455
A46: SK | B46: スカンジナビア航空 | C46: 347 | D46: 85015 | E46: 0.027541253
A47: WK | B47: エーデルワイス航空 | C47: 6 | D47: 2100 | E47: 0.0006803109
A48: 合計 | C48: 10934 | D48: 3086824 | E48: -
A49: 韓国
A50: KE | B50: 大韓航空 | C50: 12615 | D50: 2879147 | E50: 0.37654056
A51: OZ | B51: アシアナ航空 | C51: 9751 | D51: 2115186 | E51: 0.27662823
A52: JL | B52: 日本航空 | C52: 3009 | D52: 661185 | E52: 0.086471087
A53: 7C | B53: チェジュ航空 | C53: 2320 | D53: 430030 | E53: 0.056240177
A54: NH | B54: 全日空 | C54: 1293 | D54: 336764 | E54: 0.044042665
A55: BX | B55: エアプサン | C55: 1825 | D55: 306235 | E55: 0.040050021
A56: MM | B56: ピーチ・アビエーション | C56: 1176 | D56: 191100 | E56: 0.024992438
A57: ZE | B57: イースター航空 | C57: 956 | D57: 171247 | E57: 0.022396023
A58: JW | B58: バニラエア | C58: 863 | D58: 136680 | E58: 0.017875282
A59: LJ | B59: ジンエアー | C59: 627 | D59: 114090 | E59: 0.014920917
A60: 7G | B60: スターフライヤー | C60: 728 | D60: 104832 | E60: 0.013710137
A61: UA | B61: ユナイテッド航空 | C61: 354 | D61: 95226 | E61: 0.012453845
... A63: DL | B63: デルタ航空 | C63: 142 | D63: 24708 | E63: 0.0032313613
A64: 合計 | C64: 36199 | D64: 7646313 | E64: -
A65: 香港・マカオ
A66: CX | B66: キャセイパシフィック航空 | C66: 4248 | D66: 1399233 | E66: 0.56736948
A67: NH | B67: 全日空 | C67: 1828 | D67: 360410 | E67: 0.14614123
A68: JL | B68: 日本航空 | C68: 730 | D68: 195568 | E68: 0.079300099
A69: KA | B69: 香港ドラゴン航空 | C69: 573 | D69: 98374 | E69: 0.039889286
A70: DL | B70: デルタ航空 | C70: 353 | D70: 95584 | E70: 0.03875798
A71: HX | B71: 香港航空 | C71: 284 | D71: 79369 | E71: 0.032183023
A72: MM | B72: ピーチ・アビエーション | C72: 452 | D72: 74250 | E72: 0.03010734
A73: NX | B73: マカオ航空 | C73: 415 | D73: 55635 | E73: 0.022559217
A74: UA | B74: ユナイテッド航空 | C74: 298 | D74: 46190 | E74: 0.018729401
A75: AI | B75: エア・インディア | C75: 156 | D75: 38396 | E75: 0.015569043
A76: UO | B76: 香港エクスプレス航空 | C76: 145 | D76: 23167 | E76: 0.0093938957
A77: 合計 | C77: 9482 | D77: 2466176 | E77: -
A78: 太平洋
A79: SB | B79: エアカラン / エア・カレドニア・インターナショナル | C79: 335 | D79: 89115 | E79: 0.69627621
A80: TN | B80: エア・タヒチ・ヌイ | C80: 104 | D80: 30576 | E80: 0.2388974
A81: PX | B81: ニューギニア航空 | C81: 52 | D81: 8297 | E81: 0.06482639
A82: 合計 | C82: 491 | D82: 127988 | E82: -
A83: 台湾
A84: CI | B84: チャイナエアライン | C84: 6543 | D84: 1740217 | E84: 0.35602265
A85: BR | B85: エバー航空 | C85: 3624 | D85: 915074 | E85: 0.1872106
A86: JL | B86: 日本航空 | C86: 2921 | D86: 614157 | E86: 0.12564744
A87: CX | B87: キャセイパシフィック航空 | C87: 1460 | D87: 508326 | E87: 0.10399598
A88: GE | B88: トランスアジア航空 | C88: 1241 | D88: 303850 | E88: 0.062163214
A89: NH | B89: 全日空 | C89: 1095 | D89: 245278 | E89: 0.05018025
A90: MM | B90: ピーチ・アビエーション | C90: 812 | D90: 131940 | E90: 0.026992972
A91: DL | B91: デルタ航空 | C91: 356 | D91: 131906 | E91: 0.026986016
A92: TZ | B92: スクート | C92: 355 | D92: 130817 | E92: 0.026763223
A93: 3K | B93: ジェットスター・アジア航空 | C93: 665 | D93: 119700 | E93: 0.024488849
A94: AE | B94: マンダリン航空 | C94: 255 | D94: 26514 | E94: 0.0054243721
A95: JW | B95: バニラエア | C95: 121 | D95: 20160 | E95: 0.0041244377
A96: 合計 | C96: 19448 | D96: 4887939 | E96: -
A97: 中国・モンゴル
A98: NH | B98: 全日空 | C98: 7443 | D98: 1410526 | E98: 0.24646765
A99: MU | B99: 中国東方航空 | C99: 7574 | D99: 1241158 | E99: 0.21687321
A100: JL | B100: 日本航空 | C100: 4696 | D100: 1062233 | E100: 0.18560883
A101: CA | B101: 中国国際航空 | C101: 6331 | D101: 1034177 | E101: 0.18070647
...

Sheet 14年
A1: スリーレター | B1: 空港 | C1: 便数 | D1: 座席数
A2: TPE | B2: 台湾桃園 | C2: 18398 | D2: 4543445
A3: ICN | B3: 仁川 | C3: 20410 | D3: 4106900
A4: PVG | B4: 上海浦東 | C4: 16232 | D4: 3063357
A5: HKG | B5: 香港 | C5: 11157 | D5: 2907182
A6: BKK | B6: バンコク | C6: 7170 | D6: 2247571
A7: HNL | B7: ホノルル | C7: 6964 | D7: 1825557
A8: GMP | B8: 金浦 | C8: 6935 | D8: 1696627
A9: SIN | B9: シンガポール | C9: 6105 | D9: 1693400
A10: MNL | B10: マニラ | C10: 5514 | D10: 1307587
A11: PEK | B11: 北京 | C11: 6235 | D11: 1238550
A12: GUM | B12: グアム | C12: 6013 | D12: 1118021
A13: PUS | B13: 釜山 | C13: 6088 | D13: 1045857
... A120: FRU | B120: ビシュケク | C120: 1 | D120: 120

Sheet 14年方面別
A1: ツーレター | B1: 航空会社 | C1: 便数 | D1: 座席数 | E1: シェア | H1: 空港 | I1: 便数 | J1: 総座席 | K1: シェア
A2: オセアニア | H2: オセアニア | I2: 2257 | J2: 686337 | K2: 0.015834388
A3: JQ | B3: ジェットスター航空 | C3: 1127 | D3: 353769 | E3: 0.51544504 | H3: ハワイ | I3: 6964 | J3: 1825557 | K3: 0.042117177
A4: QF | B4: カンタス航空 | C4: 369 | D4: 134808 | E4: 0.19641663 | H4: ミクロネシア | I4: 6989 | J4: 1290175 | K4: 0.029765452
A5: NZ | B5: ニュージーランド航空 | C5: 395 | D5: 109228 | E5: 0.15914631 | H5: ロシア | I5: 1161 | J5: 223852 | K5: 0.005164459
A6: JL | B6: 日本航空 | C6: 365 | D6: 88320 | E6: 0.12868314 | H6: 欧州 | I6: 12008 | J6: 3174023 | K6: 0.073227453
A7: NH | B7: 全日空 | C7: 1 | D7: 212 | E7: 0.00030888616 | H7: 韓国 | I7: 34355 | J7: 7010880 | K7: 0.16174706
A8: 合計 | C8: 2257 | D8: 686337 | E8: - | H8: 香港・マカオ | I8: 11613 | J8: 2970526 | K8: 0.068532601
A9: ハワイ | H9: 太平洋 | I9: 552 | J9: 143124 | K9: 0.0033019943
A10: JL | B10: 日本航空 | C10: 2204 | D10: 512193 | E10: 0.28056807 | H10: 台湾 | I10: 23642 | J10: 5760752 | K10: 0.13290553
A11: DL | B11: デルタ航空 | C11: 1782 | D11: 475413 | E11: 0.26042079 | H11: 中国・モンゴル | I11: 34887 | J11: 6543736 | K11: 0.15096964
A12: HA | B12: ハワイアン航空 | C12: 1054 | D12: 298011 | E12: 0.16324388 | H12: 中東・アフリカ | I12: 3438 | J12: 987290 | K12: 0.022777633
A13: NH | B13: 全日空 | C13: 731 | D13: 159458 | E13: 0.087347588 | H13: 中南米 | I13: 194 | J13: 47142 | K13: 0.0010876067
A14: UA | B14: ユナイテッド航空 | C14: 375 | D14: 130608 | E14: 0.071544192 | H14: 東南アジア | I14: 30183 | J14: 8087368 | K14: 0.18658257
A15: CI | B15: チャイナエアライン | C15: 365 | D15: 126223 | E15: 0.069142185 | H15: 南アジア | I15: 1446 | J15: 278941 | K15: 0.0064354099
A16: KE | B16: 大韓航空 | C16: 365 | D16: 104819 | E16: 0.057417544 | H16: 北米 | I16: 16666 | J16: 4315011 | K16: 0.099551032
A17: NQ | B17: エアージャパン | C17: 88 | D17: 18832 | E17: 0.010315756 | H17: 合計 | I17: 186355 | J17: 43344714 | K17: -
A18: 合計 | C18: 6964 | D18: 1825557 | E18: -
A19: ミクロネシア
A20: UA | B20: ユナイテッド航空 | C20: 3553 | D20: 641041 | E20: 0.4968636
A21: DL | B21: デルタ航空 | C21: 2530 | D21: 440220 | E21: 0.34120953
A22: JL | B22: 日本航空 | C22: 408 | D22: 103878 | E22: 0.080514659
A23: KE | B23: 大韓航空 | C23: 366 | D23: 80636 | E23: 0.062500048
A24: OZ | B24: アシアナ航空 | C24: 132 | D24: 24400 | E24: 0.018912163
A25: 合計 | C25: 6989 | D25: 1290175 | E25: -
A26: ロシア
A27: SU | B27: アエロフロート・ロシア航空 | C27: 374 | D27: 110542 | E27: 0.49381734
A28: S7 | B28: S7航空 | C28: 279 | D28: 44082 | E28: 0.19692475
A29: JL | B29: 日本航空 | C29: 187 | D29: 34782 | E29: 0.15537945
A30: HZ | B30: オーロラ航空 | C30: 239 | D30: 17695 | E30: 0.079047764
A31: HY | B31: ウズベキスタン航空 | C31: 62 | D31: 14871 | E31: 0.066432286
A32: R3 | B32: ヤクーツク航空 | C32: 20 | D32: 1880 | E32: 0.0083984061
A33: 合計 | C33: 1161 | D33: 223852 | E33: -
A34: 欧州
A35: NH | B35: 全日空 | C35: 2379 | D35: 487853 | E35: 0.15370178
A36: LH | B36: ルフトハンザ・ドイツ航空 | C36: 1519 | D36: 476871 | E36: 0.15024182
A37: AF | B37: エールフランス航空 | C37: 1280 | D37: 411251 | E37: 0.12956774
A38: JL | B38: 日本航空 | C38: 1825 | D38: 390964 | E38: 0.12317617
A39: KL | B39: KLMオランダ航空 | C39: 984 | D39: 326051 | E39: 0.10272484
A40: AY | B40: フィンエアー | C40: 995 | D40: 270248 | E40: 0.08514368
A41: AZ | B41: アリタリア-イタリア航空 | C41: 939 | D41: 263528 | E41: 0.083026494
A42: BA | B42: ブリティッシュ・エアウェイズ | C42: 673 | D42: 175311 | E42: 0.055233059
A43: VS | B43: ヴァージン・アトランティック航空 | C43: 360 | D43: 102108 | E43: 0.032169899
A44: OS | B44: オーストリア航空 | C44: 316 | D44: 97360 | E44: 0.030674006
A45: LX | B45: スイス・インターナショナル・エアラインズ | C45: 389 | D45: 86973 | E45: 0.027401503
A46: SK | B46: スカンジナビア航空 | C46: 349 | D46: 85505 | E46: 0.026938998
A47: 合計 | C47: 12008 | D47: 3174023 | E47: -
A48: 韓国
A49: KE | B49: 大韓航空 | C49: 12135 | D49: 2594460 | E49: 0.37006196
A50: OZ | B50: アシアナ航空 | C50: 8823 | D50: 1896664 | E50: 0.27053152
A51: JL | B51: 日本航空 | C51: 2853 | D51: 592380 | E51: 0.084494386
A52: 7C | B52: チェジュ航空 | C52: 2577 | D52: 479322 | E52: 0.068368308
A53: BX | B53: エアプサン | C53: 1894 | D53: 334973 | E53: 0.047779023
A54: NH | B54: 全日空 | C54: 1095 | D54: 266402 | E54: 0.037998368
A55: MM | B55: ピーチ・アビエーション | C55: 1443 | D55: 259740 | E55: 0.037048131
A56: ZE | B56: イースター航空 | C56: 794 | D56: 150021 | E56: 0.021398312
A57: LJ | B57: ジンエアー | C57: 746 | D57: 135165 | E57: 0.01927932
A58: TW | B58: ティーウェイ航空 | C58: 889 | D58: 108458 | E58: 0.015469955
A59: JW | B59: バニラエア | C59: 569 | D59: 102420 | E59: 0.014608722
A60: UA | B60: ユナイテッド航空 | C60: 361 | D60: 65531 | E60: 0.0093470435
A61: 7G | B61: スターフライヤー | C61: 176 | D61: 25344 | E61: 0.0036149528
A62: 合計 | C62: 34355 | D62: 7010880 | E62: -
A63: 香港・マカオ
A64: CX | B64: キャセイパシフィック航空 | C64: 4674 | D64: 1535544 | E64: 0.51692663
A65: NH | B65: 全日空 | C65: 1833 | D65: 357216 | E65: 0.12025345
A66: UO | B66: 香港エクスプレス航空 | C66: 1426 | D66: 247857 | E66: 0.083438758
A67: HX | B67: 香港航空 | C67: 725 | D67: 189296 | E67: 0.063724741
A68: JL | B68: 日本航空 | C68: 730 | D68: 184914 | E68: 0.062249581
A69: KA | B69: 香港ドラゴン航空 | C69: 574 | D69: 146655 | E69: 0.049370044
A70: MM | B70: ピーチ・アビエーション | C70: 730 | D70: 131400 | E70: 0.04423459
A71: DL | B71: デルタ航空 | C71: 283 | D71: 69684 | E71: 0.023458472
A72: NX | B72: マカオ航空 | C72: 451 | D72: 62584 | E72: 0.021068323
A73: AI | B73: エア・インディア | C73: 156 | D73: 39936 | E73: 0.013444084
A74: JW | B74: バニラエア | C74: 26 | D74: 4680 | E74: 0.0015754786
A75: 8M | B75: ミャンマー国際航空 | C75: 5 | D75: 760 | E75: 0.00025584694
A76: 合計 | C76: 11613 | D76: 2970526 | E76: -
A77: 太平洋
A78: SB | B78: エアカラン / エア・カレドニア・インターナショナル | C78: 396 | D78: 106204 | E78: 0.74204187
A79: TN | B79: エア・タヒチ・ヌイ | C79: 104 | D79: 30576 | E79: 0.21363293
A80: PX | B80: ニューギニア航空 | C80: 52 | D80: 6344 | E80: 0.044325201
A81: 合計 | C81: 552 | D81: 143124 | E81: -
A82: 台湾
A83: CI | B83: チャイナエアライン | C83: 7996 | D83: 2088667 | E83: 0.36256846
A84: BR | B84: エバー航空 | C84: 4517 | D84: 1083527 | E84: 0.18808777
A85: JL | B85: 日本航空 | C85: 2920 | D85: 618842 | E85: 0.10742382
A86: CX | B86: キャセイパシフィック航空 | C86: 1460 | D86: 517843 | E86: 0.089891563
A87: GE | B87: トランスアジア航空 | C87: 1807 | D87: 400364 | E87: 0.069498565
A88: MM | B88: ピーチ・アビエーション | C88: 1440 | D88: 259200 | E88: 0.044994126
A89: NH | B89: 全日空 | C89: 1097 | D89: 240896 | E89: 0.041816763
A90: TZ | B90: スクート | C90: 365 | D90: 146730 | E90: 0.025470633
A91: JW | B91: バニラエア | C91: 742 | D91: 133560 | E91: 0.023184473
A92: DL | B92: デルタ航空 | C92: 359 | D92: 127510 | E92: 0.022134263
A93: 3K | B93: ジェットスター・アジア航空 | C93: 609 | D93: 109620 | E93: 0.019028766
A94: AE | B94: マンダリン航空 | C94: 328 | D94: 33644 | E94: 0.0058402098
A95: NX | B95: マカオ航空 | C95: 2 | D95: 349 | E95: 6.0582368e-05
A96: 合計 | C96: 23642 | D96: 5760752 | E96: -
A97: 中国・モンゴル
A98: NH | B98: 全日空 | C98: 7511 | D98: 1443100 | E98: 0.22053151
A99: MU | B99: 中国東方航空 | C99: 8225 | D99: 1384708 | E99: 0.21160817
A100: CA | B100: 中国国際航空 | C100: 6851 | D100: 1273990 | E100: 0.19468848
...

Sheet 15年
A1: スリーレター | B1: 空港 | C1: 便数 | D1: 座席数
A2: TPE | B2: 台湾桃園 | C2: 20821 | D2: 5128328
A3: ICN | B3: 仁川 | C3: 21277 | D3: 4309657
A4: PVG | B4: 上海浦東 | C4: 20464 | D4: 3833649
A5: HKG | B5: 香港 | C5: 15330 | D5: 3761621
A6: BKK | B6: バンコク | C6: 7816 | D6: 2224775
A7: HNL | B7: ホノルル | C7: 6688 | D7: 1763815
A8: SIN | B8: シンガポール | C8: 6416 | D8: 1750769
A9: GMP | B9: 金浦 | C9: 6665 | D9: 1591554
A10: PEK | B10: 北京 | C10: 6733 | D10: 1375844
A11: PUS | B11: 釜山 | C11: 7366 | D11: 1330379
A12: MNL | B12: マニラ | C12: 5317 | D12: 1190979
A13: GUM | B13: グアム | C13: 5565 | D13: 1038454
... A136: TBU | B136: ヌクアロファ | C136: 1 | D136: 230

Sheet 15年方面別
A1: ツーレター | B1: 航空会社 | C1: 便数 | D1: 座席数 | E1: シェア | H1: 空港 | I1: 便数 | J1: 総座席 | K1: シェア
A2: オセアニア | H2: オセアニア | I2: 2446 | J2: 747082 | K2: 0.01568365
A3: JQ | B3: ジェットスター航空 | C3: 1123 | D3: 359383 | E3: 0.48104893 | H3: ハワイ | I3: 6688 | J3: 1763815 | K3: 0.037028141
A4: QF | B4: カンタス航空 | C4: 520 | D4: 177848 | E4: 0.23805687 | H4: ミクロネシア | I4: 6301 | J4: 1167958 | K4: 0.024519189
A5: NZ | B5: ニュージーランド航空 | C5: 416 | D5: 117260 | E5: 0.15695734 | H5: ロシア | I5: 1122 | J5: 226662 | K5: 0.0047583633
A6: JL | B6: 日本航空 | C6: 365 | D6: 87794 | E6: 0.11751588 | H6: 欧州 | I6: 11726 | J6: 3054617 | K6: 0.064126221
A7: NH | B7: 全日空 | C7: 21 | D7: 4423 | E7: 0.0059203675 | H7: 韓国 | I7: 36076 | J7: 7348724 | K7: 0.15427332
A8: UA | B8: ユナイテッド航空 | C8: 1 | D8: 374 | E8: 0.00050061439 | H8: 香港・マカオ | I8: 15935 | J8: 3854419 | K8: 0.080916633
A9: 合計 | C9: 2446 | D9: 747082 | E9: - | H9: 太平洋 | I9: 559 | J9: 144226 | K9: 0.0030277669
A10: ハワイ | H10: 台湾 | I10: 27784 | J10: 6681694 | K10: 0.14027022
A11: JL | B11: 日本航空 | C11: 2254 | D11: 547177 | E11: 0.31022358 | H11: 中国・モンゴル | I11: 45862 | J11: 8534469 | K11: 0.17916591
A12: DL | B12: デルタ航空 | C12: 1600 | D12: 455779 | E12: 0.25840522 | H12: 中東・アフリカ | I12: 3575 | J12: 1025966 | K12: 0.021538321
A13: HA | B13: ハワイアン航空 | C13: 886 | D13: 255024 | E13: 0.14458659 | H13: 中南米 | I13: 208 | J13: 50544 | K13: 0.0010610809
A14: NH | B14: 全日空 | C14: 908 | D14: 198314 | E14: 0.11243469 | H14: 東南アジア | I14: 32932 | J14: 8481602 | K14: 0.17805606
A15: UA | B15: ユナイテッド航空 | C15: 369 | D15: 112545 | E15: 0.063807712 | H15: 南アジア | I15: 1462 | J15: 267631 | K15: 0.0056184342
A16: CI | B16: チャイナエアライン | C16: 365 | D16: 110520 | E16: 0.062659633 | H16: 北米 | I16: 17005 | J16: 4285037 | K16: 0.089956688
A17: KE | B17: 大韓航空 | C17: 306 | D17: 84456 | E17: 0.047882573 | H17: 合計 | I17: 209681 | J17: 47634446 | K17: -
A18: 合計 | C18: 6688 | D18: 1763815 | E18: -
A19: ミクロネシア
A20: UA | B20: ユナイテッド航空 | C20: 3203 | D20: 584857 | E20: 0.50075174
A21: DL | B21: デルタ航空 | C21: 2297 | D21: 402778 | E21: 0.34485658
A22: JL | B22: 日本航空 | C22: 382 | D22: 96495 | E22: 0.082618553
A23: KE | B23: 大韓航空 | C23: 317 | D23: 67662 | E23: 0.057931878
A24: OZ | B24: アシアナ航空 | C24: 60 | D24: 10920 | E24: 0.0093496513
A25: TW | B25: ティーウェイ航空 | C25: 40 | D25: 4880 | E25: 0.0041782324
A26: LJ | B26: ジンエアー | C26: 2 | D26: 366 | E26: 0.00031336743
A27: 合計 | C27: 6301 | D27: 1167958 | E27: -
A28: ロシア
A29: SU | B29: アエロフロート・ロシア航空 | C29: 367 | D29: 109364 | E29: 0.48249817
A30: S7 | B30: S7航空 | C30: 262 | D30: 41396 | E30: 0.18263317
A31: JL | B31: 日本航空 | C31: 186 | D31: 34596 | E31: 0.15263255
A32: HZ | B32: オーロラ航空 | C32: 240 | D32: 27202 | E32: 0.12001129
A33: HY | B33: ウズベキスタン航空 | C33: 51 | D33: 12648 | E33: 0.055801149
A34: R3 | B34: ヤクーツク航空 | C34: 16 | D34: 1456 | E34: 0.0064236617
A35: 合計 | C35: 1122 | D35: 226662 | E35: -
A36: 欧州
A37: LH | B37: ルフトハンザ・ドイツ航空 | C37: 1619 | D37: 525677 | E37: 0.17209261
A38: NH | B38: 全日空 | C38: 2547 | D38: 512768 | E38: 0.16786654
A39: AF | B39: エールフランス航空 | C39: 1307 | D39: 389379 | E39: 0.12747228
A40: JL | B40: 日本航空 | C40: 1825 | D40: 384640 | E40: 0.12592086
A41: KL | B41: KLMオランダ航空 | C41: 896 | D41: 306536 | E41: 0.1003517
A42: AY | B42: フィンエアー | C42: 1005 | D42: 263161 | E42: 0.086151881
A43: AZ | B43: アリタリア-イタリア航空 | C43: 781 | D43: 228104 | E43: 0.074675156
A44: BA | B44: ブリティッシュ・エアウェイズ | C44: 708 | D44: 180224 | E44: 0.059000523
A45: OS | B45: オーストリア航空 | C45: 302 | D45: 93224 | E45: 0.030519047
A46: SK | B46: スカンジナビア航空 | C46: 346 | D46: 84770 | E46: 0.027751433
A47: LX | B47: スイス・インターナショナル・エアラインズ | C47: 362 | D47: 79278 | E47: 0.025953499
A48: VS | B48: ヴァージン・アトランティック航空 | C48: 28 | D48: 6856 | E48: 0.0022444712
A49: 合計 | C49: 11726 | D49: 3054617 | E49: -
A50: 韓国
A51: KE | B51: 大韓航空 | C51: 11737 | D51: 2573387 | E51: 0.35018147
A52: OZ | B52: アシアナ航空 | C52: 8597 | D52: 1871474 | E52: 0.25466652
A53: 7C | B53: チェジュ航空 | C53: 3588 | D53: 667176 | E53: 0.090788006
A54: BX | B54: エアプサン | C54: 2509 | D54: 481979 | E54: 0.06558676
A55: JL | B55: 日本航空 | C55: 2277 | D55: 465669 | E55: 0.063367327
A56: MM | B56: ピーチ・アビエーション | C56: 1492 | D56: 268560 | E56: 0.03654512
A57: NH | B57: 全日空 | C57: 1095 | D57: 254333 | E57: 0.034609138
A58: TW | B58: ティーウェイ航空 | C58: 1976 | D58: 241072 | E58: 0.032804607
A59: LJ | B59: ジンエアー | C59: 1199 | D59: 233740 | E59: 0.031806882
A60: ZE | B60: イースター航空 | C60: 1155 | D60: 218253 | E60: 0.029699442
A61: UA | B61: ユナイテッド航空 | C61: 364 | D61: 57421 | E61: 0.0078137375
A62: JW | B62: バニラエア | C62: 87 | D62: 15660 | E62: 0.0021309822
A63: 合計 | C63: 36076 | D63: 7348724 | E63: -
A64: 香港・マカオ
A65: CX | B65: キャセイパシフィック航空 | C65: 4945 | D65: 1657575 | E65: 0.43004536
A66: UO | B66: 香港エクスプレス航空 | C66: 3232 | D66: 561840 | E66: 0.14576516
A67: NH | B67: 全日空 | C67: 1978 | D67: 389026 | E67: 0.10092987
A68: HX | B68: 香港航空 | C68: 1205 | D68: 314813 | E68: 0.081675863
A69: KA | B69: 香港ドラゴン航空 | C69: 1009 | D69: 230866 | E69: 0.059896446
A70: JL | B70: 日本航空 | C70: 730 | D70: 182367 | E70: 0.047313746
A71: MM | B71: ピーチ・アビエーション | C71: 897 | D71: 161460 | E71: 0.041889582
A72: JW | B72: バニラエア | C72: 661 | D72: 118980 | E72: 0.030868466
A73: NX | B73: マカオ航空 | C73: 605 | D73: 92798 | E73: 0.024075743
A74: GK | B74: ジェットスター・ジャパン | C74: 369 | D74: 66420 | E74: 0.017232169
A75: AI | B75: エア・インディア | C75: 159 | D75: 40704 | E75: 0.010560346
A76: ET | B76: エチオピア航空 | C76: 104 | D76: 27976 | E76: 0.0072581626
A77: DL | B77: デルタ航空 | C77: 41 | D77: 9594 | E77: 0.0024890911
A78: 合計 | C78: 15935 | D78: 3854419 | E78: -
A79: 太平洋
A80: SB | B80: エアカラン / エア・カレドニア・インターナショナル | C80: 403 | D80: 107198 | E80: 0.74326404
A81: TN | B81: エア・タヒチ・ヌイ | C81: 104 | D81: 30576 | E81: 0.21200061
A82: PX | B82: ニューギニア航空 | C82: 51 | D82: 6222 | E82: 0.043140627
A83: NH | B83: 全日空 | C83: 1 | D83: 230 | E83: 0.0015947194
A84: 合計 | C84: 559 | D84: 144226 | E84: -
A85: 台湾
A86: CI | B86: チャイナエアライン | C86: 8549 | D86: 2331719 | E86: 0.34897123
A87: BR | B87: エバー航空 | C87: 5811 | D87: 1375257 | E87: 0.2058246
A88: JL | B88: 日本航空 | C88: 2921 | D88: 617920 | E88: 0.092479542
A89: CX | B89: キャセイパシフィック航空 | C89: 1460 | D89: 506389 | E89: 0.075787517
A90: GE | B90: トランスアジア航空 | C90: 1993 | D90: 473813 | E90: 0.070912107
A91: MM | B91: ピーチ・アビエーション | C91: 1726 | D91: 310680 | E91: 0.046497191
A92: JW | B92: バニラエア | C92: 1496 | D92: 269280 | E92: 0.040301157
A93: NH | B93: 全日空 | C93: 1097 | D93: 248099 | E93: 0.037131153
A94: TZ | B94: スクート | C94: 441 | D94: 168050 | E94: 0.025150808
A95: IT | B95: タイガーエア台湾 | C95: 857 | D95: 128550 | E95: 0.019239133
A96: 3K | B96: ジェットスター・アジア航空 | C96: 610 | D96: 109800 | E96: 0.016432958
A97: DL | B97: デルタ航空 | C97: 361 | D97: 89856 | E97: 0.013448087
... A101: NX | B101: マカオ航空 | C101: 2 | D101: 351 | E101: 5.2531589e-05
A102: 合計 | C102: 27784 | D102: 6681694 | E102: -
A103: 中国・モンゴル
...

Sheet 16年
A1: スリーレター | B1: 空港 | C1: 便数 | D1: 座席数
A2: TPE | B2: 台湾桃園 | C2: 27214 | D2: 6293846
A3: ICN | B3: 仁川 | C3: 27229 | D3: 5456283
A4: HKG | B4: 香港 | C4: 18174 | D4: 4320917
A5: PVG | B5: 上海浦東 | C5: 23179 | D5: 4243670
A6: BKK | B6: バンコク | C6: 7785 | D6: 2233508
A7: HNL | B7: ホノルル | C7: 7070 | D7: 1769759
A8: PUS | B8: 釜山 | C8: 9351 | D8: 1701052
A9: SIN | B9: シンガポール | C9: 6395 | D9: 1658525
A10: GMP | B10: 金浦 | C10: 6612 | D10: 1560697
A11: PEK | B11: 北京 | C11: 7386 | D11: 1439654
A12: MNL | B12: マニラ | C12: 5863 | D12: 1366162
A13: GUM | B13: グアム | C13: 5129 | D13: 962571
... A154: VTE | B154: ビエンチャン | C154: 1 | D154: 142

Sheet 16年方面別
A1: ツーレター | B1: 航空会社 | C1: 便数 | D1: 座席数 | E1: シェア | H1: 空港 | I1: 便数 | J1: 総座席 | K1: シェア
A2: オセアニア | H2: オセアニア | I2: 3002 | J2: 908910 | K2: 0.017302328
A3: JQ | B3: ジェットスター航空 | C3: 1068 | D3: 357780 | E3: 0.39363633 | H3: ハワイ | I3: 7075 | J3: 1771229 | K3: 0.033717733
A4: QF | B4: カンタス航空 | C4: 745 | D4: 244360 | E4: 0.2688495 | H4: ミクロネシア | I4: 5662 | J4: 1057654 | K4: 0.02013387
A5: NZ | B5: ニュージーランド航空 | C5: 455 | D5: 137650 | E5: 0.15144514 | H5: ロシア | I5: 1227 | J5: 226697 | K5: 0.0043154832
A6: JL | B6: 日本航空 | C6: 366 | D6: 89304 | E6: 0.098253953 | H6: 欧州 | I6: 11006 | J6: 2800826 | K6: 0.053317501
A7: NH | B7: 全日空 | C7: 366 | D7: 79068 | E7: 0.086992111 | H7: 韓国 | I7: 44385 | J7: 8890319 | K7: 0.16923921
A8: UA | B8: ユナイテッド航空 | C8: 2 | D8: 748 | E8: 0.00082296377 | H8: 香港・マカオ | I8: 19076 | J8: 4467076 | K8: 0.085036817
A9: 合計 | C9: 3002 | D9: 908910 | E9: - | H9: 太平洋 | I9: 589 | J9: 148542 | K9: 0.0028276973
A10: ハワイ | H10: 台湾 | I10: 34639 | J10: 7934414 | K10: 0.15104227
A11: JL | B11: 日本航空 | C11: 2316 | D11: 546238 | E11: 0.30839491 | H11: 中国・モンゴル | I11: 54641 | J11: 9891486 | K11: 0.18829778
A12: DL | B12: デルタ航空 | C12: 1490 | D12: 364958 | E12: 0.20604789 | H12: 中東・アフリカ | I12: 2963 | J12: 875798 | K12: 0.016671996
A13: HA | B13: ハワイアン航空 | C13: 1062 | D13: 305551 | E13: 0.1725079 | H13: 中南米 | I13: 240 | J13: 58376 | K13: 0.0011112659
A14: NH | B14: 全日空 | C14: 1105 | D14: 241887 | E14: 0.1365645 | H14: 東南アジア | I14: 34129 | J14: 8751811 | K14: 0.16660253
A15: CI | B15: チャイナエアライン | C15: 366 | D15: 111801 | E15: 0.063120579 | H15: 南アジア | I15: 1518 | J15: 304287 | K15: 0.0057925135
A16: KE | B16: 大韓航空 | C16: 366 | D16: 101056 | E16: 0.05705417 | H16: 北米 | I16: 17672 | J16: 4443657 | K16: 0.084591005
A17: UA | B17: ユナイテッド航空 | C17: 369 | D17: 99463 | E17: 0.056154794 | H17: 合計 | I17: 237824 | J17: 52531082 | K17: -
A18: OZ | B18: アシアナ航空 | C18: 1 | D18: 275 | E18: 0.00015525943
A19: 合計 | C19: 7075 | D19: 1771229 | E19: -
A20: ミクロネシア
A21: UA | B21: ユナイテッド航空 | C21: 3157 | D21: 587206 | E21: 0.55519669
A22: DL | B22: デルタ航空 | C22: 1585 | D22: 283535 | E22: 0.26807916
A23: JL | B23: 日本航空 | C23: 375 | D23: 88823 | E23: 0.083981151
A24: KE | B24: 大韓航空 | C24: 255 | D24: 58463 | E24: 0.055276111
A25: TW | B25: ティーウェイ航空 | C25: 244 | D25: 31306 | E25: 0.029599472
A26: OZ | B26: アシアナ航空 | C26: 35 | D26: 6122 | E26: 0.0057882824
A27: NH | B27: 全日空 | C27: 6 | D27: 1284 | E27: 0.0012140076
A28: LJ | B28: ジンエアー | C28: 5 | D28: 915 | E28: 0.00086512224
A29: 合計 | C29: 5662 | D29: 1057654 | E29: -
A30: ロシア
A31: SU | B31: アエロフロート・ロシア航空 | C31: 365 | D31: 109988 | E31: 0.48517625
A32: S7 | B32: S7航空 | C32: 261 | D32: 41238 | E32: 0.18190801
A33: JL | B33: 日本航空 | C33: 206 | D33: 35666 | E33: 0.15732895
A34: HZ | B34: オーロラ航空 | C34: 266 | D34: 20799 | E34: 0.091748016
A35: HY | B35: ウズベキスタン航空 | C35: 47 | D35: 11635 | E35: 0.051324014
A36: R3 | B36: ヤクーツク航空 | C36: 69 | D36: 6401 | E36: 0.028235927
A37: 2G | B37: アンガラ航空 | C37: 13 | D37: 970 | E37: 0.0042788392
A38: 合計 | C38: 1227 | D38: 226697 | E38: -
A39: 欧州
A40: NH | B40: 全日空 | C40: 2557 | D40: 513102 | E40: 0.18319667
A41: LH | B41: ルフトハンザ・ドイツ航空 | C41: 1298 | D41: 424707 | E41: 0.15163634
A42: JL | B42: 日本航空 | C42: 1773 | D42: 367794 | E42: 0.13131626
A43: AF | B43: エールフランス航空 | C43: 1113 | D43: 331728 | E43: 0.11843935
A44: AY | B44: フィンエアー | C44: 1068 | D44: 279777 | E44: 0.099890889
A45: KL | B45: KLMオランダ航空 | C45: 710 | D45: 229845 | E45: 0.082063291
A46: AZ | B46: アリタリア-イタリア航空 | C46: 677 | D46: 194425 | E46: 0.069417022
A47: BA | B47: ブリティッシュ・エアウェイズ | C47: 720 | D47: 186014 | E47: 0.066413979
A48: SK | B48: スカンジナビア航空 | C48: 343 | D48: 84525 | E48: 0.030178597
A49: LX | B49: スイス・インターナショナル・エアラインズ | C49: 363 | D49: 79497 | E49: 0.028383413
A50: OS | B50: オーストリア航空 | C50: 200 | D50: 61756 | E50: 0.02204921
A51: LO | B51: LOTポーランド航空 | C51: 152 | D51: 38298 | E51: 0.013673823
A52: IB | B52: イベリア航空 | C52: 32 | D52: 9358 | E52: 0.0033411572
A53: 合計 | C53: 11006 | D53: 2800826 | E53: -
A54: 韓国
A55: KE | B55: 大韓航空 | C55: 12185 | D55: 2779369 | E55: 0.31262871
A56: OZ | B56: アシアナ航空 | C56: 8761 | D56: 1903597 | E56: 0.21412021
A57: 7C | B57: チェジュ航空 | C57: 5253 | D57: 971298 | E57: 0.10925345
A58: BX | B58: エアプサン | C58: 3463 | D58: 662051 | E58: 0.074468756
A59: LJ | B59: ジンエアー | C59: 2775 | D59: 556999 | E59: 0.062652308
A60: MM | B60: ピーチ・アビエーション | C60: 2482 | D60: 446760 | E60: 0.050252415
A61: ZE | B61: イースター航空 | C61: 2371 | D61: 428882 | E61: 0.048241464
A62: TW | B62: ティーウェイ航空 | C62: 3166 | D62: 401461 | E62: 0.045157097
A63: JL | B63: 日本航空 | C63: 2196 | D63: 375466 | E63: 0.04223313
A64: NH | B64: 全日空 | C64: 1098 | D64: 251365 | E64: 0.028274014
A65: UA | B65: ユナイテッド航空 | C65: 366 | D65: 60616 | E65: 0.006818203
A66: RS | B66: エアソウル | C66: 269 | D66: 52455 | E66: 0.0059002382
A67: 合計 | C67: 44385 | D67: 8890319 | E67: -
A68: 香港・マカオ
A69: CX | B69: キャセイパシフィック航空 | C69: 5006 | D69: 1681303 | E69: 0.37637663
A70: UO | B70: 香港エクスプレス航空 | C70: 4460 | D70: 777986 | E70: 0.17416001
A71: HX | B71: 香港航空 | C71: 2216 | D71: 560047 | E71: 0.12537217
A72: NH | B72: 全日空 | C72: 1940 | D72: 381315 | E72: 0.085361207
A73: KA | B73: 香港ドラゴン航空 | C73: 1068 | D73: 232546 | E73: 0.052057767
A74: JL | B74: 日本航空 | C74: 732 | D74: 163203 | E74: 0.036534637
A75: MM | B75: ピーチ・アビエーション | C75: 904 | D75: 162720 | E75: 0.036426513
A76: NX | B76: マカオ航空 | C76: 902 | D76: 146159 | E76: 0.032719166
A77: GK | B77: ジェットスター・ジャパン | C77: 743 | D77: 133740 | E77: 0.029939047
A78: JW | B78: バニラエア | C78: 732 | D78: 131760 | E78: 0.029495804
A79: ET | B79: エチオピア航空 | C79: 157 | D79: 42260 | E79: 0.0094603271
A80: AI | B80: エア・インディア | C80: 157 | D80: 40174 | E80: 0.0089933549
A81: DL | B81: デルタ航空 | C81: 59 | D81: 13863 | E81: 0.0031033723
A82: 合計 | C82: 19076 | D82: 4467076 | E82: -
A83: 太平洋
A84: SB | B84: エアカラン / エア・カレドニア・インターナショナル | C84: 405 | D84: 107834 | E84: 0.72594956
A85: TN | B85: エア・タヒチ・ヌイ | C85: 105 | D85: 30894 | E85: 0.20798158
A86: PX | B86: ニューギニア航空 | C86: 79 | D86: 9814 | E86: 0.066068856
A87: 合計 | C87: 589 | D87: 148542 | E87: -
A88: 台湾
A89: CI | B89: チャイナエアライン | C89: 9028 | D89: 2453305 | E89: 0.30919801
A90: BR | B90: エバー航空 | C90: 6271 | D90: 1477719 | E90: 0.18624173
A91: JL | B91: 日本航空 | C91: 2939 | D91: 560313 | E91: 0.07061807
A92: IT | B92: タイガーエア台湾 | C92: 3221 | D92: 532350 | E92: 0.067093802
A93: CX | B93: キャセイパシフィック航空 | C93: 1461 | D93: 500704 | E93: 0.063105353
A94: GE | B94: トランスアジア航空 | C94: 2064 | D94: 498467 | E94: 0.062823417
A95: MM | B95: ピーチ・アビエーション | C95: 2468 | D95: 444240 | E95: 0.055989012
A96: JW | B96: バニラエア | C96: 2196 | D96: 395280 | E96: 0.049818424
A97: NH | B97: 全日空 | C97: 1100 | D97: 252755 | E97: 0.031855535
A98: TZ | B98: スクート | C98: 563 | D98: 203790 | E98: 0.025684316
A99: ZV | B99: Vエアー | C99: 998 | D99: 193612 | E99: 0.02440155
A100: GK | B100: ジェットスター・ジャパン | C100: 991 | D100: 178380 | E100: 0.022481812
...

Sheet 方面別経過分析
A1: 便数
A2: 空港 | B2: 2012年 | C2: 2013年 | D2: 2014年 | E2: 2015年 | F2: 2016年
A3: オセアニア | B3: ='12年方面別'!I2 -> 2318 | C3: ='13年方面別'!I2 -> 2207 | D3: ='14年方面別'!I2 -> 2257 | E3: ='15年方面別'!I2 -> 2446 | F3: ='16年方面別'!I2 -> 3002
A4: ハワイ | B4: ='12年方面別'!I3 -> 7093 | C4: ='13年方面別'!I3 -> 7454 | D4: ='14年方面別'!I3 -> 6964 | E4: ='15年方面別'!I3 -> 6688 | F4: ='16年方面別'!I3 -> 7075
A5: ミクロネシア | B5: ='12年方面別'!I4 -> 7852 | C5: ='13年方面別'!I4 -> 7497 | D5: ='14年方面別'!I4 -> 6989 | E5: ='15年方面別'!I4 -> 6301 | F5: ='16年方面別'!I4 -> 5662
A6: ロシア | B6: ='12年方面別'!I5 -> 1106 | C6: ='13年方面別'!I5 -> 1205 | D6: ='14年方面別'!I5 -> 1161 | E6: ='15年方面別'!I5 -> 1122 | F6: ='16年方面別'!I5 -> 1227
A7: 欧州 | B7: ='12年方面別'!I6 -> 10662 | C7: ='13年方面別'!I6 -> 10934 | D7: ='14年方面別'!I6 -> 12008 | E7: ='15年方面別'!I6 -> 11726 | F7: ='16年方面別'!I6 -> 11006
A8: 韓国 | B8: ='12年方面別'!I7 -> 34733 | C8: ='13年方面別'!I7 -> 36199 | D8: ='14年方面別'!I7 -> 34355 | E8: ='15年方面別'!I7 -> 36076 | F8: ='16年方面別'!I7 -> 44385
A9: 香港・マカオ | B9: ='12年方面別'!I8 -> 9886 | C9: ='13年方面別'!I8 -> 9482 | D9: ='14年方面別'!I8 -> 11613 | E9: ='15年方面別'!I8 -> 15935 | F9: ='16年方面別'!I8 -> 19076
A10: 太平洋 | B10: ='12年方面別'!I9 -> 492 | C10: ='13年方面別'!I9 -> 491 | D10: ='14年方面別'!I9 -> 552 | E10: ='15年方面別'!I9 -> 559 | F10: ='16年方面別'!I9 -> 589
A11: 台湾 | B11: ='12年方面別'!I10 -> 17858 | C11: ='13年方面別'!I10 -> 19448 | D11: ='14年方面別'!I10 -> 23642 | E11: ='15年方面別'!I10 -> 27784 | F11: ='16年方面別'!I10 -> 34639
A12: 中国 | B12: ='12年方面別'!I11 -> 34156 | C12: ='13年方面別'!I11 -> 31517 | D12: ='14年方面別'!I11 -> 34887 | E12: ='15年方面別'!I11 -> 45862 | F12: ='16年方面別'!I11 -> 54641
A13: 中東・アフリカ | B13: ='12年方面別'!I12 -> 2200 | C13: ='13年方面別'!I12 -> 2915 | D13: ='14年方面別'!I12 -> 3438 | E13: ='15年方面別'!I12 -> 3575 | F13: ='16年方面別'!I12 -> 2963
A14: 中南米 | B14: ='12年方面別'!I13 -> 156 | C14: ='13年方面別'!I13 -> 156 | D14: ='14年方面別'!I13 -> 194 | E14: ='15年方面別'!I13 -> 208 | F14: ='16年方面別'!I13 -> 240
... A18: 合計 | B18: ='12年方面別'!I17 -> 167970 | C18: ='13年方面別'!I17 -> 172189 | D18: ='14年方面別'!I17 -> 186355 | E18: ='15年方面別'!I17 -> 209681 | F18: ='16年方面別'!I17 -> 237824
A20: 座席数
A21: 空港 | B21: 2012年 | C21: 2013年 | D21: 2014年 | E21: 2015年 | F21: 2016年
A22: オセアニア | B22: ='12年方面別'!J2 -> 711169 | C22: ='13年方面別'!J2 -> 667295 | D22: ='14年方面別'!J2 -> 686337 | E22: ='15年方面別'!J2 -> 747082 | F22: ='16年方面別'!J2 -> 908910
A23: ハワイ | B23: ='12年方面別'!J3 -> 1890450 | C23: ='13年方面別'!J3 -> 2053738 | D23: ='14年方面別'!J3 -> 1825557 | E23: ='15年方面別'!J3 -> 1763815 | F23: ='16年方面別'!J3 -> 1771229
A24: ミクロネシア | B24: ='12年方面別'!J4 -> 1385936 | C24: ='13年方面別'!J4 -> 1394927 | D24: ='14年方面別'!J4 -> 1290175 | E24: ='15年方面別'!J4 -> 1167958 | F24: ='16年方面別'!J4 -> 1057654
A25: ロシア | B25: ='12年方面別'!J5 -> 234508 | C25: ='13年方面別'!J5 -> 242406 | D25: ='14年方面別'!J5 -> 223852 | E25: ='15年方面別'!J5 -> 226662 | F25: ='16年方面別'!J5 -> 226697
A26: 欧州 | B26: ='12年方面別'!J6 -> 3015364 | C26: ='13年方面別'!J6 -> 3086824 | D26: ='14年方面別'!J6 -> 3174023 | E26: ='15年方面別'!J6 -> 3054617 | F26: ='16年方面別'!J6 -> 2800826
A27: 韓国 | B27: ='12年方面別'!J7 -> 7579231 | C27: ='13年方面別'!J7 -> 7646313 | D27: ='14年方面別'!J7 -> 7010880 | E27: ='15年方面別'!J7 -> 7348724 | F27: ='16年方面別'!J7 -> 8890319
A28: 香港・マカオ | B28: ='12年方面別'!J8 -> 2470884 | C28: ='13年方面別'!J8 -> 2466176 | D28: ='14年方面別'!J8 -> 2970526 | E28: ='15年方面別'!J8 -> 3854419 | F28: ='16年方面別'!J8 -> 4467076
A29: 太平洋 | B29: ='12年方面別'!J9 -> 131133 | C29: ='13年方面別'!J9 -> 127988 | D29: ='14年方面別'!J9 -> 143124 | E29: ='15年方面別'!J9 -> 144226 | F29: ='16年方面別'!J9 -> 148542
A30: 台湾 | B30: ='12年方面別'!J10 -> 4512152 | C30: ='13年方面別'!J10 -> 4887939 | D30: ='14年方面別'!J10 -> 5760752 | E30: ='15年方面別'!J10 -> 6681694 | F30: ='16年方面別'!J10 -> 7934414
A31: 中国 | B31: ='12年方面別'!J11 -> 6072391 | C31: ='13年方面別'!J11 -> 5722966 | D31: ='14年方面別'!J11 -> 6543736 | E31: ='15年方面別'!J11 -> 8534469 | F31: ='16年方面別'!J11 -> 9891486
A32: 中東・アフリカ | B32: ='12年方面別'!J12 -> 740432 | C32: ='13年方面別'!J12 -> 888668 | D32: ='14年方面別'!J12 -> 987290 | E32: ='15年方面別'!J12 -> 1025966 | F32: ='16年方面別'!J12 -> 875798
A33: 中南米 | B33: ='12年方面別'!J13 -> 27182 | C33: ='13年方面別'!J13 -> 29219 | D33: ='14年方面別'!J13 -> 47142 | E33: ='15年方面別'!J13 -> 50544 | F33: ='16年方面別'!J13 -> 58376
... A37: 合計 | B37: ='12年方面別'!J17 -> 39350814 | C37: ='13年方面別'!J17 -> 40677429 | D37: ='14年方面別'!J17 -> 43344714 | E37: ='15年方面別'!J17 -> 47634446 | F37: ='16年方面別'!J17 -> 52531082
