Workbook

Sheet 12年
A1: スリーレター | B1: 出発空港 | C1: 便数 | D1: 座席数
A2: NRT | B2: 成田 | C2: 74122 | D2: 18615994
A3: KIX | B3: 関西 | C3: 34377 | D3: 7706374
A4: HND | B4: 羽田 | C4: 19334 | D4: 5020030
A5: NGO | B5: 中部 | C5: 13785 | D5: 3049267
A6: FUK | B6: 福岡 | C6: 10789 | D6: 2210315
A7: CTS | B7: 新千歳 | C7: 3090 | D7: 712964
A8: OKA | B8: 那覇 | C8: 2641 | D8: 457823
A9: HIJ | B9: 広島 | C9: 1832 | D9: 282549
A10: FSZ | B10: 静岡 | C10: 1078 | D10: 174920
A11: OKJ | B11: 岡山 | C11: 934 | D11: 145528
A12: KIJ | B12: 新潟 | C12: 812 | D12: 132051
A13: SDJ | B13: 仙台 | C13: 686 | D13: 121476
... A41: TKS | B41: 徳島 | C41: 1 | D41: 178

Sheet 12年詳細
A1: ツーレター | B1: 航空会社 | C1: 便数 | D1: 座席 | E1: シェア | H1: 空港 | I1: 便数 | J1: 総座席 | K1: シェア
A2: AKJ / 旭川 | H2: NRT / 成田 | I2: 74122 | J2: 18615994 | K2: 0.47307774
A3: OZ | B3: アシアナ航空 | C3: 42 | D3: 7825 | E3: 0.61242858 | H3: KIX / 関西 | I3: 34377 | J3: 7706374 | K3: 0.19583773
A4: GE | B4: トランスアジア航空 | C4: 26 | D4: 4252 | E4: 0.33278547 | H4: HND / 羽田 | I4: 19334 | J4: 5020030 | K4: 0.12757119
A5: MU | B5: 中国東方航空 | C5: 4 | D5: 700 | E5: 0.054785943 | H5: NGO / 中部 | I5: 13785 | J5: 3049267 | K5: 0.077489299
A6: 合計 | C6: 72 | D6: 12777 | E6: - | H6: FUK / 福岡 | I6: 10789 | J6: 2210315 | K6: 0.056169486
A7: AOJ / 青森 | H7: CTS / 新千歳 | I7: 3090 | J7: 712964 | K7: 0.018118151
A8: KE | B8: 大韓航空 | C8: 188 | D8: 31910 | E8: 0.99234979 | H8: OKA / 那覇 | I8: 2641 | J8: 457823 | K8: 0.011634397
A9: CZ | B9: 中国南方航空 | C9: 2 | D9: 246 | E9: 0.0076502052 | H9: HIJ / 広島 | I9: 1832 | J9: 282549 | K9: 0.0071802581
A10: 合計 | C10: 190 | D10: 32156 | E10: - | H10: FSZ / 静岡 | I10: 1078 | J10: 174920 | K10: 0.0044451431
A11: AXT / 秋田 | H11: OKJ / 岡山 | I11: 934 | J11: 145528 | K11: 0.0036982208
A12: KE | B12: 大韓航空 | C12: 156 | D12: 26097 | E12: 1 | H12: KIJ / 新潟 | I12: 812 | J12: 132051 | K12: 0.0033557374
A13: 合計 | C13: 156 | D13: 26097 | E13: - | H13: SDJ / 仙台 | I13: 686 | J13: 121476 | K13: 0.0030870009
A14: CTS / 新千歳 | H14: KMQ / 小松 | I14: 657 | J14: 104036 | K14: 0.0026438081
A15: KE | B15: 大韓航空 | C15: 862 | D15: 202698 | E15: 0.28430327 | H15: TOY / 富山 | I15: 577 | J15: 82896 | K15: 0.0021065892
A16: CI | B16: チャイナエアライン | C16: 379 | D16: 117889 | E16: 0.16535056 | H16: KOJ / 鹿児島 | I16: 450 | J16: 82695 | K16: 0.0021014813
A17: CX | B17: キャセイパシフィック航空 | C17: 292 | D17: 105733 | E17: 0.14830062 | H17: KKJ / 北九州 | I17: 395 | J17: 58644 | K17: 0.0014902868
A18: BR | B18: エバー航空 | C18: 366 | D18: 104156 | E18: 0.14608872 | H18: TAK / 高松 | I18: 268 | J18: 45700 | K18: 0.0011613483
A19: LJ | B19: ジンエアー | C19: 234 | D19: 43206 | E19: 0.060600535 | H19: KMI / 宮崎 | I19: 266 | J19: 44106 | K19: 0.0011208409
A20: MU | B20: 中国東方航空 | C20: 248 | D20: 37320 | E20: 0.052344859 | H20: MYJ / 松山 | I20: 305 | J20: 41753 | K20: 0.0010610454
A21: CA | B21: 中国国際航空 | C21: 179 | D21: 30249 | E21: 0.042427107 | H21: HKD / 函館 | I21: 212 | J21: 38661 | K21: 0.00098247015
A22: HZ | B22: オーロラ航空 | C22: 138 | D22: 10909 | E22: 0.015300913 | H22: AOJ / 青森 | I22: 190 | J22: 32156 | K22: 0.00081716226
A23: CZ | B23: 中国南方航空 | C23: 88 | D23: 10784 | E23: 0.015125588 | H23: NGS / 長崎 | I23: 210 | J23: 30314 | K23: 0.00077035255
A24: UA | B24: ユナイテッド航空 | C24: 81 | D24: 10085 | E24: 0.014145174 | H24: YGJ / 米子 | I24: 165 | J24: 27152 | K24: 0.00068999843
A25: GE | B25: トランスアジア航空 | C25: 52 | D25: 8504 | E25: 0.011927671 | H25: IBR / 茨城 | I25: 148 | J25: 26636 | K25: 0.00067688562
A26: TG | B26: タイ国際航空 | C26: 26 | D26: 7780 | E26: 0.010912192 | H26: AXT / 秋田 | I26: 156 | J26: 26097 | K26: 0.00066318831
... A31: SQ | B31: シンガポール航空 | C31: 1 | D31: 266 | E31: 0.00037309037 | H31: OBO / 帯広 | I31: 26 | J31: 4252 | K31: 0.00010805367
A32: 合計 | C32: 3090 | D32: 712964 | E32: - | H32: KUH / 釧路 | I32: 26 | J32: 4252 | K32: 0.00010805367
A33: DNA / 嘉手納 | H33: DNA / 嘉手納 | I33: 10 | J33: 2254 | K33: 5.7279628e-05
A34: UA | B34: ユナイテッド航空 | C34: 8 | D34: 1940 | E34: 0.8606921 | H34: FKS / 福島 | I34: 6 | J34: 1078 | K34: 2.7394605e-05
A35: CO | B35: コンチネンタル航空 | C35: 2 | D35: 314 | E35: 0.1393079 | H35: UBJ / 山口宇部 | I35: 6 | J35: 972 | K35: 2.4700887e-05
A36: 合計 | C36: 10 | D36: 2254 | E36: - | H36: IWK / 岩国 | I36: 5 | J36: 856 | K36: 2.1753044e-05
A37: FKS / 福島 | H37: MMB / 女満別 | I37: 2 | J37: 366 | K37: 9.3009512e-06
A38: OZ | B38: アシアナ航空 | C38: 2 | D38: 400 | E38: 0.37105751 | H38: OKO / 横田 | I38: 2 | J38: 360 | K38: 9.1484766e-06
A39: LJ | B39: ジンエアー | C39: 2 | D39: 366 | E39: 0.33951763 | H39: IWO / 硫黄島 | I39: 2 | J39: 314 | K39: 7.9795046e-06
A40: MU | B40: 中国東方航空 | C40: 2 | D40: 312 | E40: 0.28942486 | H40: KCZ / 高知 | I40: 1 | J40: 183 | K40: 4.6504756e-06
A41: 合計 | C41: 6 | D41: 1078 | E41: - | H41: TKS / 徳島 | I41: 1 | J41: 178 | K41: 4.5234134e-06
A42: FSZ / 静岡 | H42: 合計 | I42: 167970 | J42: 39350814 | K42: -
A43: OZ | B43: アシアナ航空 | C43: 362 | D43: 59898 | E43: 0.34243083
A44: KE | B44: 大韓航空 | C44: 352 | D44: 57912 | E44: 0.33107706
A45: CI | B45: チャイナエアライン | C45: 197 | D45: 31391 | E45: 0.17945918
A46: MU | B46: 中国東方航空 | C46: 165 | D46: 25363 | E46: 0.14499771
A47: NX | B47: マカオ航空 | C47: 2 | D47: 356 | E47: 0.0020352161
A48: 合計 | C48: 1078 | D48: 174920 | E48: -
A49: FUK / 福岡
A50: KE | B50: 大韓航空 | C50: 1867 | D50: 450386 | E50: 0.20376553
A51: OZ | B51: アシアナ航空 | C51: 1562 | D51: 304778 | E51: 0.13788894
A52: CI | B52: チャイナエアライン | C52: 762 | D52: 234847 | E52: 0.10625047
A53: MU | B53: 中国東方航空 | C53: 1010 | D53: 150197 | E53: 0.067952758
A54: CX | B54: キャセイパシフィック航空 | C54: 366 | D54: 131383 | E54: 0.059440849
A55: CA | B55: 中国国際航空 | C55: 719 | D55: 117643 | E55: 0.05322454
A56: TG | B56: タイ国際航空 | C56: 366 | D56: 109530 | E56: 0.049554023
A57: BR | B57: エバー航空 | C57: 324 | D57: 86640 | E57: 0.039198033
A58: TW | B58: ティーウェイ航空 | C58: 641 | D58: 78202 | E58: 0.035380477
A59: SQ | B59: シンガポール航空 | C59: 269 | D59: 76665 | E59: 0.034685101
A60: BX | B60: エアプサン | C60: 413 | D60: 66342 | E60: 0.030014726
A61: HA | B61: ハワイアン航空 | C61: 259 | D61: 65268 | E61: 0.029528823
... A71: NX | B71: マカオ航空 | C71: 8 | D71: 1424 | E71: 0.00064425206
A72: 合計 | C72: 10789 | D72: 2210315 | E72: -
A73: HIJ / 広島
A74: CI | B74: チャイナエアライン | C74: 496 | D74: 79229 | E74: 0.280408
A75: OZ | B75: アシアナ航空 | C75: 409 | D75: 73009 | E75: 0.25839412
A76: MU | B76: 中国東方航空 | C76: 424 | D76: 66036 | E76: 0.23371521
A77: CA | B77: 中国国際航空 | C77: 261 | D77: 33603 | E77: 0.11892804
A78: CZ | B78: 中国南方航空 | C78: 122 | D78: 14928 | E78: 0.052833314
A79: UA | B79: ユナイテッド航空 | C79: 84 | D79: 10772 | E79: 0.038124361
A80: CO | B80: コンチネンタル航空 | C80: 28 | D80: 3538 | E80: 0.012521722
A81: NX | B81: マカオ航空 | C81: 6 | D81: 1068 | E81: 0.0037798753
A82: LJ | B82: ジンエアー | C82: 2 | D82: 366 | E82: 0.0012953505
A83: 合計 | C83: 1832 | D83: 282549 | E83: -
A84: HKD / 函館
A85: KE | B85: 大韓航空 | C85: 135 | D85: 23876 | E85: 0.61757327
A86: GE | B86: トランスアジア航空 | C86: 54 | D86: 8989 | E86: 0.23250821
A87: BR | B87: エバー航空 | C87: 23 | D87: 5796 | E87: 0.14991852
A88: 合計 | C88: 212 | D88: 38661 | E88: -
A89: HND / 羽田
A90: JL | B90: 日本航空 | C90: 4758 | D90: 1228214 | E90: 0.24466268
A91: NH | B91: 全日空 | C91: 4732 | D91: 1014465 | E91: 0.20208345
A92: KE | B92: 大韓航空 | C92: 1526 | D92: 513979 | E92: 0.10238564
A93: CI | B93: チャイナエアライン | C93: 1080 | D93: 338040 | E93: 0.067338243
A94: OZ | B94: アシアナ航空 | C94: 1366 | D94: 324302 | E94: 0.064601606
A95: CX | B95: キャセイパシフィック航空 | C95: 732 | D95: 254260 | E95: 0.0506491
A96: SQ | B96: シンガポール航空 | C96: 732 | D96: 220483 | E96: 0.043920654
A97: BR | B97: エバー航空 | C97: 732 | D97: 191584 | E97: 0.038163915
A98: CA | B98: 中国国際航空 | C98: 696 | D98: 128760 | E98: 0.025649249
A99: TG | B99: タイ国際航空 | C99: 366 | D99: 128095 | E99: 0.02551678
A100: DL | B100: デルタ航空 | C100: 522 | D100: 126846 | E100: 0.025267976
A101: MU | B101: 中国東方航空 | C101: 366 | D101: 109068 | E101: 0.021726563
... A110: UA | B110: ユナイテッド航空 | C110: 4 | D110: 720 | E110: 0.00014342544
A111: 合計 | C111: 19334 | D111: 5020030 | E111: -
A112: HSG / 佐賀
A113: 9C | B113: 春秋航空 | C113: 60 | D113: 10800 | E113: 0.97455333
A114: OZ | B114: アシアナ航空 | C114: 2 | D114: 282 | E114: 0.02544667
A115: 合計 | C115: 62 | D115: 11082 | E115: -
A116: IBR / 茨城
A117: 9C | B117: 春秋航空 | C117: 146 | D117: 26280 | E117: 0.98663463
A118: NX | B118: マカオ航空 | C118: 2 | D118: 356 | E118: 0.01336537
A119: 合計 | C119: 148 | D119: 26636 | E119: -
A120: IWK / 岩国
A121: UA | B121: ユナイテッド航空 | C121: 5 | D121: 856 | E121: 1
...

Sheet 13年
A1: スリーレター | B1: 出発空港 | C1: 便数 | D1: 座席数
A2: NRT | B2: 成田 | C2: 75805 | D2: 19272594
A3: KIX | B3: 関西 | C3: 35218 | D3: 7918146
A4: HND | B4: 羽田 | C4: 19428 | D4: 5030178
A5: NGO | B5: 中部 | C5: 14485 | D5: 3163084
A6: FUK | B6: 福岡 | C6: 10748 | D6: 2255622
A7: CTS | B7: 新千歳 | C7: 3380 | D7: 825533
A8: OKA | B8: 那覇 | C8: 3042 | D8: 556618
A9: HIJ | B9: 広島 | C9: 1527 | D9: 234912
A10: FSZ | B10: 静岡 | C10: 942 | D10: 150640
A11: OKJ | B11: 岡山 | C11: 915 | D11: 141671
A12: KIJ | B12: 新潟 | C12: 749 | D12: 118068
A13: SDJ | B13: 仙台 | C13: 671 | D13: 116013
... A42: IWO | B42: 硫黄島 | C42: 1 | D42: 155

Sheet 13年詳細
A1: ツーレター | B1: 航空会社 | C1: 便数 | D1: 座席 | E1: シェア | H1: 空港 | I1: 便数 | J1: 総座席 | K1: シェア
A2: AKJ / 旭川 | H2: AKJ / 旭川 | I2: 212 | J2: 52564 | K2: 0.0012922154
A3: BR | B3: エバー航空 | C3: 105 | D3: 26460 | E3: 0.50338635 | H3: AOJ / 青森 | I3: 156 | J3: 23895 | K3: 0.00058742651
A4: GE | B4: トランスアジア航空 | C4: 52 | D4: 16375 | E4: 0.311525 | H4: AXT / 秋田 | I4: 156 | J4: 22413 | K4: 0.00055099353
A5: OZ | B5: アシアナ航空 | C5: 55 | D5: 9729 | E5: 0.18508865 | H5: CTS / 新千歳 | I5: 3380 | J5: 825533 | K5: 0.020294621
A6: 合計 | C6: 212 | D6: 52564 | E6: - | H6: DNA / 嘉手納 | I6: 15 | J6: 2322 | K6: 5.7083254e-05
A7: AOJ / 青森 | H7: FKS / 福島 | I7: 10 | J7: 1740 | K7: 4.2775565e-05
A8: KE | B8: 大韓航空 | C8: 156 | D8: 23895 | E8: 1 | H8: FSZ / 静岡 | I8: 942 | J8: 150640 | K8: 0.0037032822
A9: 合計 | C9: 156 | D9: 23895 | E9: - | H9: FUK / 福岡 | I9: 10748 | J9: 2255622 | K9: 0.05545144
A10: AXT / 秋田 | H10: HIJ / 広島 | I10: 1527 | J10: 234912 | K10: 0.0057749963
A11: KE | B11: 大韓航空 | C11: 156 | D11: 22413 | E11: 1 | H11: HKD / 函館 | I11: 301 | J11: 82589 | K11: 0.0020303397
A12: 合計 | C12: 156 | D12: 22413 | E12: - | H12: HND / 羽田 | I12: 19428 | J12: 5030178 | K12: 0.12366018
A13: CTS / 新千歳 | H13: HSG / 佐賀 | I13: 99 | J13: 17530 | K13: 0.00043095152
A14: KE | B14: 大韓航空 | C14: 850 | D14: 194741 | E14: 0.23589729 | H14: IBR / 茨城 | I14: 190 | J14: 34194 | K14: 0.0008406136
A15: CI | B15: チャイナエアライン | C15: 410 | D15: 132474 | E15: 0.16047087 | H15: ISG / 石垣 | I15: 75 | J15: 9694 | K15: 0.00023831398
A16: CX | B16: キャセイパシフィック航空 | C16: 325 | D16: 117611 | E16: 0.14246675 | H16: IWK / 岩国 | I16: 7 | J16: 1085 | K16: 2.6673269e-05
A17: BR | B17: エバー航空 | C17: 366 | D17: 94795 | E17: 0.11482884 | H17: IWO / 硫黄島 | I17: 1 | J17: 155 | K17: 3.810467e-06
A18: TG | B18: タイ国際航空 | C18: 244 | D18: 80372 | E18: 0.097357707 | H18: KCZ / 高知 | I18: 10 | J18: 1587 | K18: 3.9014265e-05
A19: LJ | B19: ジンエアー | C19: 236 | D19: 43032 | E19: 0.052126323 | H19: KIJ / 新潟 | I19: 749 | J19: 118068 | K19: 0.0029025433
A20: HA | B20: ハワイアン航空 | C20: 156 | D20: 39914 | E20: 0.048349369 | H20: KIX / 関西 | I20: 35218 | J20: 7918146 | K20: 0.19465699
A21: GE | B21: トランスアジア航空 | C21: 113 | D21: 34659 | E21: 0.041983785 | H21: KKJ / 北九州 | I21: 728 | J21: 104832 | K21: 0.002577154
A22: MU | B22: 中国東方航空 | C22: 212 | D22: 30620 | E22: 0.037091188 | H22: KMI / 宮崎 | I22: 267 | J22: 46568 | K22: 0.0011448118
A23: CA | B23: 中国国際航空 | C23: 125 | D23: 20875 | E23: 0.025286694 | H23: KMJ / 熊本 | I23: 160 | J23: 25687 | K23: 0.00063148042
A24: UA | B24: ユナイテッド航空 | C24: 143 | D24: 17813 | E24: 0.021577575 | H24: KMQ / 小松 | I24: 787 | J24: 114774 | K24: 0.0028215648
A25: HZ | B25: オーロラ航空 | C25: 168 | D25: 13395 | E25: 0.016225881 | H25: KOJ / 鹿児島 | I25: 473 | J25: 77169 | K25: 0.0018970963
... A28: ZE | B28: イースター航空 | C28: 1 | D28: 140 | E28: 0.00016958741 | H28: MYJ / 松山 | I28: 306 | J28: 47337 | K28: 0.0011637166
A29: 合計 | C29: 3380 | D29: 825533 | E29: - | H29: NGO / 中部 | I29: 14485 | J29: 3163084 | K29: 0.077760175
A30: DNA / 嘉手納 | H30: NGS / 長崎 | I30: 180 | J30: 27241 | K30: 0.00066968343
A31: UA | B31: ユナイテッド航空 | C31: 15 | D31: 2322 | E31: 1 | H31: NRT / 成田 | I31: 75805 | J31: 19272594 | K31: 0.47379086
A32: 合計 | C32: 15 | D32: 2322 | E32: - | H32: OBO / 帯広 | I32: 43 | J32: 13640 | K32: 0.00033532109
A33: FKS / 福島 | H33: OIT / 大分 | I33: 105 | J33: 15082 | K33: 0.00037077073
A34: OZ | B34: アシアナ航空 | C34: 10 | D34: 1740 | E34: 1 | H34: OKA / 那覇 | I34: 3042 | J34: 556618 | K34: 0.013683707
A35: 合計 | C35: 10 | D35: 1740 | E35: - | H35: OKJ / 岡山 | I35: 915 | J35: 141671 | K35: 0.0034827914
A36: FSZ / 静岡 | H36: SDJ / 仙台 | I36: 671 | J36: 116013 | K36: 0.0028520239
A37: OZ | B37: アシアナ航空 | C37: 328 | D37: 51878 | E37: 0.34438396 | H37: SHB / 中標津 | I37: 2 | J37: 310 | K37: 7.620934e-06
A38: KE | B38: 大韓航空 | C38: 295 | D38: 47892 | E38: 0.31792353 | H38: TAK / 高松 | I38: 332 | J38: 57017 | K38: 0.0014016864
A39: CI | B39: チャイナエアライン | C39: 196 | D39: 31539 | E39: 0.2093667 | H39: TOY / 富山 | I39: 447 | J39: 72053 | K39: 0.0017713263
A40: MU | B40: 中国東方航空 | C40: 123 | D40: 19331 | E40: 0.12832581 | H40: TTJ / 鳥取 | I40: 2 | J40: 244 | K40: 5.9984125e-06
A41: 合計 | C41: 942 | D41: 150640 | E41: - | H41: UBJ / 山口宇部 | I41: 2 | J41: 348 | K41: 8.555113e-06
A42: FUK / 福岡 | H42: YGJ / 米子 | I42: 156 | J42: 24821 | K42: 0.00061019097
A43: KE | B43: 大韓航空 | C43: 1807 | D43: 410301 | E43: 0.18190149 | H43: 合計 | I43: 172189 | J43: 40677429 | K43: -
A44: OZ | B44: アシアナ航空 | C44: 1238 | D44: 260920 | E44: 0.11567541
A45: CI | B45: チャイナエアライン | C45: 704 | D45: 191126 | E45: 0.084733169
A46: MU | B46: 中国東方航空 | C46: 990 | D46: 151003 | E46: 0.066945171
A47: CX | B47: キャセイパシフィック航空 | C47: 365 | D47: 125023 | E47: 0.055427283
A48: BX | B48: エアプサン | C48: 730 | D48: 118260 | E48: 0.052428997
A49: CA | B49: 中国国際航空 | C49: 722 | D49: 111292 | E49: 0.049339827
A50: BR | B50: エバー航空 | C50: 365 | D50: 110049 | E50: 0.04878876
A51: TG | B51: タイ国際航空 | C51: 365 | D51: 109330 | E51: 0.048470001
A52: HA | B52: ハワイアン航空 | C52: 365 | D52: 93905 | E52: 0.041631532
A53: SQ | B53: シンガポール航空 | C53: 326 | D53: 92910 | E53: 0.041190412
A54: DL | B54: デルタ航空 | C54: 365 | D54: 80954 | E54: 0.035889879
A55: 7C | B55: チェジュ航空 | C55: 433 | D55: 80224 | E55: 0.035566243
... A65: WK | B65: エーデルワイス航空 | C65: 1 | D65: 363 | E65: 0.00016093122
A66: 合計 | C66: 10748 | D66: 2255622 | E66: -
A67: HIJ / 広島
A68: OZ | B68: アシアナ航空 | C68: 380 | D68: 65422 | E68: 0.27849578
A69: MU | B69: 中国東方航空 | C69: 406 | D69: 62528 | E69: 0.26617627
A70: CI | B70: チャイナエアライン | C70: 370 | D70: 58758 | E70: 0.25012771
A71: CA | B71: 中国国際航空 | C71: 259 | D71: 33326 | E71: 0.14186589
A72: UA | B72: ユナイテッド航空 | C72: 109 | D72: 14105 | E72: 0.060043761
A73: WK | B73: エーデルワイス航空 | C73: 1 | D73: 363 | E73: 0.0015452595
A74: NZ | B74: ニュージーランド航空 | C74: 1 | D74: 234 | E74: 0.0009961177
A75: NX | B75: マカオ航空 | C75: 1 | D75: 176 | E75: 0.00074921673
A76: 合計 | C76: 1527 | D76: 234912 | E76: -
A77: HKD / 函館
A78: BR | B78: エバー航空 | C78: 183 | D78: 46116 | E78: 0.55837945
A79: GE | B79: トランスアジア航空 | C79: 113 | D79: 35756 | E79: 0.43293901
A80: KE | B80: 大韓航空 | C80: 5 | D80: 717 | E80: 0.0086815435
A81: 合計 | C81: 301 | D81: 82589 | E81: -
A82: HND / 羽田
A83: JL | B83: 日本航空 | C83: 4744 | D83: 1195865 | E83: 0.23773811
A84: NH | B84: 全日空 | C84: 4738 | D84: 1115420 | E84: 0.22174563
A85: KE | B85: 大韓航空 | C85: 1460 | D85: 424659 | E85: 0.084422261
A86: OZ | B86: アシアナ航空 | C86: 1338 | D86: 354106 | E86: 0.070396316
A87: CX | B87: キャセイパシフィック航空 | C87: 730 | D87: 241934 | E87: 0.048096509
A88: CI | B88: チャイナエアライン | C88: 730 | D88: 228490 | E88: 0.04542384
A89: BR | B89: エバー航空 | C89: 730 | D89: 225570 | E89: 0.044843344
A90: SQ | B90: シンガポール航空 | C90: 724 | D90: 204265 | E90: 0.040607907
A91: CA | B91: 中国国際航空 | C91: 726 | D91: 133918 | E91: 0.026622915
A92: D7 | B92: エアアジアX | C92: 362 | D92: 132778 | E92: 0.026396283
A93: TG | B93: タイ国際航空 | C93: 365 | D93: 127935 | E93: 0.025433494
A94: DL | B94: デルタ航空 | C94: 545 | D94: 116692 | E94: 0.023198384
... A102: UO | B102: 香港エクスプレス航空 | C102: 23 | D102: 3450 | E102: 0.00068586042
A103: 合計 | C103: 19428 | D103: 5030178 | E103: -
A104: HSG / 佐賀
A105: 9C | B105: 春秋航空 | C105: 94 | D105: 16920 | E105: 0.96520251
A106: TW | B106: ティーウェイ航空 | C106: 5 | D106: 610 | E106: 0.03479749
A107: 合計 | C107: 99 | D107: 17530 | E107: -
A108: IBR / 茨城
A109: 9C | B109: 春秋航空 | C109: 188 | D109: 33840 | E109: 0.98964731
A110: OZ | B110: アシアナ航空 | C110: 2 | D110: 354 | E110: 0.010352693
A111: 合計 | C111: 190 | D111: 34194 | E111: -
A112: ISG / 石垣
A113: GE | B113: トランスアジア航空 | C113: 38 | D113: 5700 | E113: 0.58799257
A114: AE | B114: マンダリン航空 | C114: 35 | D114: 3640 | E114: 0.37548999
A115: OZ | B115: アシアナ航空 | C115: 2 | D115: 354 | E115: 0.036517433
A116: 合計 | C116: 75 | D116: 9694 | E116: -
A117: IWK / 岩国
A118: UA | B118: ユナイテッド航空 | C118: 7 | D118: 1085 | E118: 1
...

Sheet 14年
A1: スリーレター | B1: 出発空港 | C1: 便数 | D1: 座席数
A2: NRT | B2: 成田 | C2: 76193 | D2: 18886241
A3: KIX | B3: 関西 | C3: 38619 | D3: 8662730
A4: HND | B4: 羽田 | C4: 26386 | D4: 6661102
A5: NGO | B5: 中部 | C5: 14769 | D5: 3098756
A6: FUK | B6: 福岡 | C6: 11536 | D6: 2407444
A7: CTS | B7: 新千歳 | C7: 4123 | D7: 996505
A8: OKA | B8: 那覇 | C8: 4588 | D8: 911708
A9: HIJ | B9: 広島 | C9: 1505 | D9: 237506
A10: FSZ | B10: 静岡 | C10: 874 | D10: 145690
A11: OKJ | B11: 岡山 | C11: 808 | D11: 133248
A12: KMQ | B12: 小松 | C12: 764 | D12: 124722
A13: KIJ | B13: 新潟 | C13: 716 | D13: 108107
... A43: IWO | B43: 硫黄島 | C43: 1 | D43: 155

Sheet 14年詳細
A1: ツーレター | B1: 航空会社 | C1: 便数 | D1: 座席 | E1: シェア | H1: 空港 | I1: 便数 | J1: 総座席 | K1: シェア
A2: AKJ / 旭川 | H2: NRT / 成田 | I2: 76193 | J2: 18886241 | K2: 0.4357219
A3: BR | B3: エバー航空 | C3: 155 | D3: 38992 | E3: 0.422325 | H3: KIX / 関西 | I3: 38619 | J3: 8662730 | K3: 0.19985667
A4: GE | B4: トランスアジア航空 | C4: 82 | D4: 24600 | E4: 0.26644427 | H4: HND / 羽田 | I4: 26386 | J4: 6661102 | K4: 0.15367738
A5: MU | B5: 中国東方航空 | C5: 130 | D5: 21946 | E5: 0.23769861 | H5: NGO / 中部 | I5: 14769 | J5: 3098756 | K5: 0.071490978
A6: OZ | B6: アシアナ航空 | C6: 39 | D6: 6789 | E6: 0.07353212 | H6: FUK / 福岡 | I6: 11536 | J6: 2407444 | K6: 0.055541813
A7: 合計 | C7: 406 | D7: 92327 | E7: - | H7: CTS / 新千歳 | I7: 4123 | J7: 996505 | K7: 0.022990231
A8: AOJ / 青森 | H8: OKA / 那覇 | I8: 4588 | J8: 911708 | K8: 0.021033891
A9: KE | B9: 大韓航空 | C9: 157 | D9: 22255 | E9: 0.98915507 | H9: HIJ / 広島 | I9: 1505 | J9: 237506 | K9: 0.0054794686
A10: CZ | B10: 中国南方航空 | C10: 2 | D10: 244 | E10: 0.010844926 | H10: FSZ / 静岡 | I10: 874 | J10: 145690 | K10: 0.0033611942
A11: 合計 | C11: 159 | D11: 22499 | E11: - | H11: OKJ / 岡山 | I11: 808 | J11: 133248 | K11: 0.0030741465
A12: AXT / 秋田 | H12: KMQ / 小松 | I12: 764 | J12: 124722 | K12: 0.0028774443
A13: KE | B13: 大韓航空 | C13: 116 | D13: 17338 | E13: 1 | H13: KIJ / 新潟 | I13: 716 | J13: 108107 | K13: 0.0024941219
A14: 合計 | C14: 116 | D14: 17338 | E14: - | H14: SDJ / 仙台 | I14: 595 | J14: 104684 | K14: 0.0024151503
A15: CTS / 新千歳 | H15: HKD / 函館 | I15: 384 | J15: 102915 | K15: 0.002374338
A16: KE | B16: 大韓航空 | C16: 777 | D16: 172886 | E16: 0.17349236 | H16: KOJ / 鹿児島 | I16: 588 | J16: 96567 | K16: 0.0022278841
A17: CI | B17: チャイナエアライン | C17: 475 | D17: 165367 | E17: 0.16594698 | H17: TAK / 高松 | I17: 527 | J17: 92674 | K17: 0.0021380692
A18: CX | B18: キャセイパシフィック航空 | C18: 366 | D18: 130895 | E18: 0.13135408 | H18: AKJ / 旭川 | I18: 406 | J18: 92327 | K18: 0.0021300637
A19: TG | B19: タイ国際航空 | C19: 352 | D19: 128128 | E19: 0.12857738 | H19: TOY / 富山 | I19: 560 | J19: 88459 | K19: 0.0020408256
A20: BR | B20: エバー航空 | C20: 395 | D20: 104700 | E20: 0.10506721 | H20: IBR / 茨城 | I20: 325 | J20: 58360 | K20: 0.0013464156
A21: LJ | B21: ジンエアー | C21: 284 | D21: 52056 | E21: 0.052238574 | H21: KMI / 宮崎 | I21: 305 | J21: 54020 | K21: 0.0012462881
A22: MU | B22: 中国東方航空 | C22: 291 | D22: 46170 | E22: 0.04633193 | H22: HSG / 佐賀 | I22: 314 | J22: 47414 | K22: 0.0010938819
A23: HA | B23: ハワイアン航空 | C23: 157 | D23: 40663 | E23: 0.040805616 | H23: MYJ / 松山 | I23: 226 | J23: 36094 | K23: 0.00083271976
A24: TW | B24: ティーウェイ航空 | C24: 301 | D24: 36722 | E24: 0.036850794 | H24: NGS / 長崎 | I24: 219 | J24: 35649 | K24: 0.00082245323
A25: GE | B25: トランスアジア航空 | C25: 105 | D25: 31382 | E25: 0.031492065 | H25: KMJ / 熊本 | I25: 156 | J25: 26568 | K25: 0.00061294671
A26: CA | B26: 中国国際航空 | C26: 174 | D26: 30213 | E26: 0.030318965 | H26: YGJ / 米子 | I26: 157 | J26: 26035 | K26: 0.00060064994
A27: UA | B27: ユナイテッド航空 | C27: 140 | D27: 20910 | E27: 0.020983337 | H27: KKJ / 北九州 | I27: 176 | J27: 25344 | K27: 0.00058470798
... A34: NX | B34: マカオ航空 | C34: 5 | D34: 823 | E34: 0.00082588647 | H34: UBJ / 山口宇部 | I34: 17 | J34: 2989 | K34: 6.8958812e-05
A35: 合計 | C35: 4123 | D35: 996505 | E35: - | H35: OBO / 帯広 | I35: 10 | J35: 1615 | K35: 3.7259445e-05
A36: DNA / 嘉手納 | H36: OKD / 丘珠 | I36: 4 | J36: 720 | K36: 1.6611022e-05
A37: UA | B37: ユナイテッド航空 | C37: 16 | D37: 3735 | E37: 1 | H37: MMY / 宮古 | I37: 3 | J37: 531 | K37: 1.2250629e-05
A38: 合計 | C38: 16 | D38: 3735 | E38: - | H38: IWK / 岩国 | I38: 2 | J38: 310 | K38: 7.1519678e-06
A39: FSZ / 静岡 | H39: MMB / 女満別 | I39: 2 | J39: 302 | K39: 6.9674009e-06
A40: OZ | B40: アシアナ航空 | C40: 254 | D40: 41173 | E40: 0.28260691 | H40: TTJ / 鳥取 | I40: 2 | J40: 196 | K40: 4.5218893e-06
A41: MU | B41: 中国東方航空 | C41: 216 | D41: 36401 | E41: 0.24985243 | H41: SHM / 南紀白浜 | I41: 1 | J41: 177 | K41: 4.0835429e-06
A42: CI | B42: チャイナエアライン | C42: 206 | D42: 33066 | E42: 0.22696136 | H42: OKO / 横田 | I42: 1 | J42: 155 | K42: 3.5759839e-06
A43: GS | B43: 天津航空 | C43: 156 | D43: 27156 | E43: 0.18639577 | H43: IWO / 硫黄島 | I43: 1 | J43: 155 | K43: 3.5759839e-06
A44: KE | B44: 大韓航空 | C44: 38 | D44: 7368 | E44: 0.050573135 | H44: 合計 | I44: 186355 | J44: 43344714 | K44: -
A45: JD | B45: 北京首都航空 | C45: 2 | D45: 330 | E45: 0.0022650834
A46: R3 | B46: ヤクーツク航空 | C46: 2 | D46: 196 | E46: 0.0013453223
A47: 合計 | C47: 874 | D47: 145690 | E47: -
A48: FUK / 福岡
A49: KE | B49: 大韓航空 | C49: 1825 | D49: 402889 | E49: 0.16735135
A50: OZ | B50: アシアナ航空 | C50: 1190 | D50: 261109 | E50: 0.10845901
A51: CI | B51: チャイナエアライン | C51: 733 | D51: 194543 | E51: 0.080808941
A52: MU | B52: 中国東方航空 | C52: 1150 | D52: 178987 | E52: 0.074347316
A53: CA | B53: 中国国際航空 | C53: 823 | D53: 139289 | E53: 0.057857628
A54: BX | B54: エアプサン | C54: 799 | D54: 129186 | E54: 0.053661061
A55: CX | B55: キャセイパシフィック航空 | C55: 365 | D55: 126678 | E55: 0.052619292
A56: BR | B56: エバー航空 | C56: 368 | D56: 110203 | E56: 0.045775935
A57: TG | B57: タイ国際航空 | C57: 361 | D57: 106484 | E57: 0.044231143
A58: SQ | B58: シンガポール航空 | C58: 365 | D58: 104025 | E58: 0.043209728
A59: KA | B59: 香港ドラゴン航空 | C59: 365 | D59: 90047 | E59: 0.03740357
A60: 7C | B60: チェジュ航空 | C60: 464 | D60: 86304 | E60: 0.035848809
... A72: NX | B72: マカオ航空 | C72: 4 | D72: 704 | E72: 0.00029242632
A73: 合計 | C73: 11536 | D73: 2407444 | E73: -
A74: HIJ / 広島
A75: OZ | B75: アシアナ航空 | C75: 375 | D75: 64774 | E75: 0.27272574
A76: CI | B76: チャイナエアライン | C76: 371 | D76: 59617 | E76: 0.25101261
A77: MU | B77: 中国東方航空 | C77: 302 | D77: 47572 | E77: 0.2002981
A78: CA | B78: 中国国際航空 | C78: 241 | D78: 30431 | E78: 0.12812729
A79: 9C | B79: 春秋航空 | C79: 144 | D79: 25920 | E79: 0.10913409
A80: UA | B80: ユナイテッド航空 | C80: 70 | D80: 8724 | E80: 0.036731704
A81: NZ | B81: ニュージーランド航空 | C81: 1 | D81: 312 | E81: 0.001313651
A82: PR | B82: フィリピン航空 | C82: 1 | D82: 156 | E82: 0.00065682551
A83: 合計 | C83: 1505 | D83: 237506 | E83: -
A84: HKD / 函館
A85: BR | B85: エバー航空 | C85: 209 | D85: 52668 | E85: 0.51176213
A86: GE | B86: トランスアジア航空 | C86: 157 | D86: 47100 | E86: 0.45765923
A87: GS | B87: 天津航空 | C87: 17 | D87: 3026 | E87: 0.029402905
A88: CZ | B88: 中国南方航空 | C88: 1 | D88: 121 | E88: 0.0011757275
A89: 合計 | C89: 384 | D89: 102915 | E89: -
A90: HND / 羽田
A91: NH | B91: 全日空 | C91: 7523 | D91: 1679854 | E91: 0.2521886
A92: JL | B92: 日本航空 | C92: 5853 | D92: 1432385 | E92: 0.21503724
A93: KE | B93: 大韓航空 | C93: 1460 | D93: 395222 | E93: 0.059332825
A94: OZ | B94: アシアナ航空 | C94: 1270 | D94: 348142 | E94: 0.052264926
A95: SQ | B95: シンガポール航空 | C95: 1007 | D95: 281879 | E95: 0.042317172
A96: CX | B96: キャセイパシフィック航空 | C96: 730 | D96: 244850 | E96: 0.036758182
A97: CI | B97: チャイナエアライン | C97: 752 | D97: 232716 | E97: 0.034936562
A98: TG | B98: タイ国際航空 | C98: 641 | D98: 225866 | E98: 0.033908203
A99: BR | B99: エバー航空 | C99: 730 | D99: 225570 | E99: 0.033863766
A100: LH | B100: ルフトハンザ・ドイツ航空 | C100: 531 | D100: 174483 | E100: 0.026194314
A101: CA | B101: 中国国際航空 | C101: 730 | D101: 147158 | E101: 0.02209214
A102: AF | B102: エールフランス航空 | C102: 482 | D102: 144918 | E102: 0.02175586
... A118: MR | B118: フンヌ・エア | C118: 10 | D118: 1200 | E118: 0.00018015037
A119: 合計 | C119: 26386 | D119: 6661102 | E119: -
A120: HSG / 佐賀
A121: 9C | B121: 春秋航空 | C121: 157 | D121: 28260 | E121: 0.59602649
A122: TW | B122: ティーウェイ航空 | C122: 157 | D122: 19154 | E122: 0.40397351
A123: 合計 | C123: 314 | D123: 47414 | E123: -
A124: IBR / 茨城
A125: 9C | B125: 春秋航空 | C125: 320 | D125: 57600 | E125: 0.98697738
A126: 8M | B126: ミャンマー国際航空 | C126: 5 | D126: 760 | E126: 0.013022618
A127: 合計 | C127: 325 | D127: 58360 | E127: -
A128: ISG / 石垣
A129: CI | B129: チャイナエアライン | C129: 70 | D129: 11060 | E129: 0.96090356
A130: GE | B130: トランスアジア航空 | C130: 3 | D130: 450 | E130: 0.039096438
A131: 合計 | C131: 73 | D131: 11510 | E131: -
A132: IWK / 岩国
...

Sheet 15年
A1: スリーレター | B1: 出発空港 | C1: 便数 | D1: 座席数
A2: NRT | B2: 成田 | C2: 77420 | D2: 18933237
A3: KIX | B3: 関西 | C3: 48118 | D3: 10351126
A4: HND | B4: 羽田 | C4: 31120 | D4: 7759154
A5: NGO | B5: 中部 | C5: 16283 | D5: 3184518
A6: FUK | B6: 福岡 | C6: 13392 | D6: 2794121
A7: OKA | B7: 那覇 | C7: 6708 | D7: 1386886
A8: CTS | B8: 新千歳 | C8: 5326 | D8: 1346927
A9: FSZ | B9: 静岡 | C9: 1690 | D9: 277824
A10: HIJ | B10: 広島 | C10: 1428 | D10: 221127
A11: HKD | B11: 函館 | C11: 596 | D11: 128795
A12: KMQ | B12: 小松 | C12: 713 | D12: 121194
A13: AKJ | B13: 旭川 | C13: 611 | D13: 120625
... A41: TTJ | B41: 鳥取 | C41: 1 | D41: 158

Sheet 15年詳細
A1: ツーレター | B1: 航空会社 | C1: 便数 | D1: 座席 | E1: シェア | H1: 空港 | I1: 便数 | J1: 総座席 | K1: シェア
A2: AKJ / 旭川 | H2: NRT / 成田 | I2: 77420 | J2: 18933237 | K2: 0.39746945
A3: MU | B3: 中国東方航空 | C3: 286 | D3: 47088 | E3: 0.39036684 | H3: KIX / 関西 | I3: 48118 | J3: 10351126 | K3: 0.21730338
A4: GE | B4: トランスアジア航空 | C4: 114 | D4: 33900 | E4: 0.28103627 | H4: HND / 羽田 | I4: 31120 | J4: 7759154 | K4: 0.16288956
A5: BR | B5: エバー航空 | C5: 86 | D5: 17524 | E5: 0.14527668 | H5: NGO / 中部 | I5: 16283 | J5: 3184518 | K5: 0.06685326
A6: 9C | B6: 春秋航空 | C6: 80 | D6: 14400 | E6: 0.11937824 | H6: FUK / 福岡 | I6: 13392 | J6: 2794121 | K6: 0.058657573
A7: OZ | B7: アシアナ航空 | C7: 45 | D7: 7713 | E7: 0.063941969 | H7: OKA / 那覇 | I7: 6708 | J7: 1386886 | K7: 0.029115191
A8: 合計 | C8: 611 | D8: 120625 | E8: - | H8: CTS / 新千歳 | I8: 5326 | J8: 1346927 | K8: 0.028276323
A9: AOJ / 青森 | H9: FSZ / 静岡 | I9: 1690 | J9: 277824 | K9: 0.005832418
A10: KE | B10: 大韓航空 | C10: 148 | D10: 21515 | E10: 0.97569271 | H10: HIJ / 広島 | I10: 1428 | J10: 221127 | K10: 0.0046421659
A11: CZ | B11: 中国南方航空 | C11: 2 | D11: 536 | E11: 0.024307288 | H11: HKD / 函館 | I11: 596 | J11: 128795 | K11: 0.0027038207
A12: 合計 | C12: 150 | D12: 22051 | E12: - | H12: KMQ / 小松 | I12: 713 | J12: 121194 | K12: 0.0025442513
A13: AXT / 秋田 | H13: AKJ / 旭川 | I13: 611 | J13: 120625 | K13: 0.0025323061
A14: KE | B14: 大韓航空 | C14: 118 | D14: 18828 | E14: 1 | H14: OKJ / 岡山 | I14: 753 | J14: 110193 | K14: 0.002313305
A15: 合計 | C15: 118 | D15: 18828 | E15: - | H15: KOJ / 鹿児島 | I15: 633 | J15: 108237 | K15: 0.0022722422
A16: CTS / 新千歳 | H16: SDJ / 仙台 | I16: 648 | J16: 108090 | K16: 0.0022691562
A17: CI | B17: チャイナエアライン | C17: 713 | D17: 245228 | E17: 0.1820648 | H17: TAK / 高松 | I17: 578 | J17: 100122 | K17: 0.0021018823
A18: KE | B18: 大韓航空 | C18: 774 | D18: 181016 | E18: 0.13439184 | H18: KIJ / 新潟 | I18: 604 | J18: 91637 | K18: 0.0019237549
A19: CX | B19: キャセイパシフィック航空 | C19: 426 | D19: 155538 | E19: 0.11547619 | H19: IBR / 茨城 | I19: 470 | J19: 83063 | K19: 0.0017437591
A20: BR | B20: エバー航空 | C20: 496 | D20: 131682 | E20: 0.097764764 | H20: TOY / 富山 | I20: 527 | J20: 82711 | K20: 0.0017363695
A21: TG | B21: タイ国際航空 | C21: 345 | D21: 111662 | E21: 0.082901301 | H21: KMI / 宮崎 | I21: 391 | J21: 68645 | K21: 0.001441079
A22: LJ | B22: ジンエアー | C22: 382 | D22: 82132 | E22: 0.060977321 | H22: HSG / 佐賀 | I22: 312 | J22: 47112 | K22: 0.00098903218
A23: HX | B23: 香港航空 | C23: 260 | D23: 73772 | E23: 0.0547706 | H23: MYJ / 松山 | I23: 225 | J23: 35321 | K23: 0.00074150122
A24: MU | B24: 中国東方航空 | C24: 260 | D24: 46980 | E24: 0.034879396 | H24: KMJ / 熊本 | I24: 196 | J24: 33968 | K24: 0.00071309741
A25: 9C | B25: 春秋航空 | C25: 252 | D25: 45360 | E25: 0.033676658 | H25: OIT / 大分 | I25: 236 | J25: 30392 | K25: 0.00063802568
A26: TW | B26: ティーウェイ航空 | C26: 347 | D26: 42334 | E26: 0.031430063 | H26: YGJ / 米子 | I26: 156 | J26: 25802 | K26: 0.00054166684
A27: HA | B27: ハワイアン航空 | C27: 156 | D27: 40404 | E27: 0.029997171 | H27: AOJ / 青森 | I27: 150 | J27: 22051 | K27: 0.00046292131
A28: GE | B28: トランスアジア航空 | C28: 132 | D28: 38489 | E28: 0.028575416 | H28: AXT / 秋田 | I28: 118 | J28: 18828 | K28: 0.00039526019
... A38: NX | B38: マカオ航空 | C38: 5 | D38: 875 | E38: 0.00064962689 | H38: ITM / 伊丹 | I38: 2 | J38: 354 | K38: 7.4315969e-06
A39: 合計 | C39: 5326 | D39: 1346927 | E39: - | H39: FKS / 福島 | I39: 2 | J39: 352 | K39: 7.3896105e-06
A40: DNA / 嘉手納 | H40: TKS / 徳島 | I40: 1 | J40: 230 | K40: 4.8284386e-06
A41: UA | B41: ユナイテッド航空 | C41: 13 | D41: 2885 | E41: 1 | H41: TTJ / 鳥取 | I41: 1 | J41: 158 | K41: 3.3169274e-06
A42: 合計 | C42: 13 | D42: 2885 | E42: - | H42: 合計 | I42: 209681 | J42: 47634446 | K42: -
A43: FKS / 福島
A44: GE | B44: トランスアジア航空 | C44: 2 | D44: 352 | E44: 1
A45: 合計 | C45: 2 | D45: 352 | E45: -
A46: FSZ / 静岡
A47: MU | B47: 中国東方航空 | C47: 603 | D47: 98996 | E47: 0.35632631
A48: GS | B48: 天津航空 | C48: 331 | D48: 57653 | E48: 0.20751627
A49: JD | B49: 北京首都航空 | C49: 230 | D49: 35582 | E49: 0.12807389
A50: CI | B50: チャイナエアライン | C50: 208 | D50: 33013 | E50: 0.11882703
A51: OZ | B51: アシアナ航空 | C51: 154 | D51: 26624 | E51: 0.095830454
A52: CZ | B52: 中国南方航空 | C52: 157 | D52: 24802 | E52: 0.089272345
A53: 8L | B53: 雲南祥鵬航空 | C53: 4 | D53: 712 | E53: 0.0025627736
A54: OM | B54: MIATモンゴル航空 | C54: 2 | D54: 324 | E54: 0.0011662059
A55: UA | B55: ユナイテッド航空 | C55: 1 | D55: 118 | E55: 0.00042472933
A56: 合計 | C56: 1690 | D56: 277824 | E56: -
A57: FUK / 福岡
A58: KE | B58: 大韓航空 | C58: 1873 | D58: 423570 | E58: 0.15159329
A59: OZ | B59: アシアナ航空 | C59: 1099 | D59: 256459 | E59: 0.091785216
A60: MU | B60: 中国東方航空 | C60: 1564 | D60: 248935 | E60: 0.089092419
A61: BX | B61: エアプサン | C61: 1173 | D61: 228207 | E61: 0.081673986
A62: CI | B62: チャイナエアライン | C62: 748 | D62: 223694 | E62: 0.080058809
A63: CA | B63: 中国国際航空 | C63: 951 | D63: 162473 | E63: 0.058148162
A64: BR | B64: エバー航空 | C64: 539 | D64: 142922 | E64: 0.05115097
A65: 7C | B65: チェジュ航空 | C65: 735 | D65: 136710 | E65: 0.048927731
A66: CX | B66: キャセイパシフィック航空 | C66: 367 | D66: 118894 | E66: 0.042551486
A67: SQ | B67: シンガポール航空 | C67: 365 | D67: 104025 | E67: 0.037229955
A68: TG | B68: タイ国際航空 | C68: 365 | D68: 100797 | E68: 0.036074672
A69: KA | B69: 香港ドラゴン航空 | C69: 365 | D69: 94405 | E69: 0.033787012
... A83: NX | B83: マカオ航空 | C83: 7 | D83: 1176 | E83: 0.00042088371
A84: 合計 | C84: 13392 | D84: 2794121 | E84: -
A85: HIJ / 広島
A86: CI | B86: チャイナエアライン | C86: 473 | D86: 77327 | E86: 0.34969497
A87: MU | B87: 中国東方航空 | C87: 345 | D87: 51774 | E87: 0.23413694
A88: OZ | B88: アシアナ航空 | C88: 292 | D88: 49779 | E88: 0.22511498
A89: CA | B89: 中国国際航空 | C89: 245 | D89: 30625 | E89: 0.13849507
A90: KA | B90: 香港ドラゴン航空 | C90: 43 | D90: 7066 | E90: 0.031954488
A91: UO | B91: 香港エクスプレス航空 | C91: 19 | D91: 3306 | E91: 0.014950684
A92: UA | B92: ユナイテッド航空 | C92: 9 | D92: 1068 | E92: 0.0048298037
A93: R3 | B93: ヤクーツク航空 | C93: 2 | D93: 182 | E93: 0.00082305643
A94: 合計 | C94: 1428 | D94: 221127 | E94: -
A95: HKD / 函館
A96: BR | B96: エバー航空 | C96: 273 | D96: 53292 | E96: 0.41377383
A97: GE | B97: トランスアジア航空 | C97: 156 | D97: 46564 | E97: 0.36153577
A98: GS | B98: 天津航空 | C98: 105 | D98: 18684 | E98: 0.14506774
A99: CA | B99: 中国国際航空 | C99: 51 | D99: 8517 | E99: 0.066128343
A100: MU | B100: 中国東方航空 | C100: 11 | D100: 1738 | E100: 0.013494313
A101: 合計 | C101: 596 | D101: 128795 | E101: -
A102: HND / 羽田
A103: NH | B103: 全日空 | C103: 8773 | D103: 1977400 | E103: 0.25484737
A104: JL | B104: 日本航空 | C104: 6416 | D104: 1509808 | E104: 0.1945841
A105: KE | B105: 大韓航空 | C105: 1447 | D105: 390749 | E105: 0.050359743
A106: OZ | B106: アシアナ航空 | C106: 1249 | D106: 343243 | E106: 0.044237168
A107: SQ | B107: シンガポール航空 | C107: 1095 | D107: 299189 | E107: 0.038559487
A108: TG | B108: タイ国際航空 | C108: 730 | D108: 258323 | E108: 0.033292676
A109: CX | B109: キャセイパシフィック航空 | C109: 730 | D109: 231936 | E109: 0.029891919
A110: CI | B110: チャイナエアライン | C110: 734 | D110: 229607 | E110: 0.029591757
A111: BR | B111: エバー航空 | C111: 730 | D111: 225570 | E111: 0.029071468
A112: LH | B112: ルフトハンザ・ドイツ航空 | C112: 669 | D112: 218134 | E112: 0.028113116
A113: CA | B113: 中国国際航空 | C113: 858 | D113: 186924 | E113: 0.024090771
A114: AF | B114: エールフランス航空 | C114: 598 | D114: 172810 | E114: 0.022271758
... A141: BK | B141: 奥凱航空 | C141: 1 | D141: 179 | E141: 2.3069525e-05
A142: 合計 | C142: 31120 | D142: 7759154 | E142: -
A143: HSG / 佐賀
A144: 9C | B144: 春秋航空 | C144: 156 | D144: 28080 | E144: 0.59602649
A145: TW | B145: ティーウェイ航空 | C145: 156 | D145: 19032 | E145: 0.40397351
A146: 合計 | C146: 312 | D146: 47112 | E146: -
A147: IBR / 茨城
A148: 9C | B148: 春秋航空 | C148: 417 | D148: 75060 | E148: 0.90365145
...

Sheet 16年
A1: スリーレター | B1: 出発空港 | C1: 便数 | D1: 座席数
A2: NRT | B2: 成田 | C2: 82542 | D2: 19372928
A3: KIX | B3: 関西 | C3: 56380 | D3: 11790724
A4: HND | B4: 羽田 | C4: 37665 | D4: 9188678
A5: NGO | B5: 中部 | C5: 17932 | D5: 3498564
A6: FUK | B6: 福岡 | C6: 16081 | D6: 3249331
A7: OKA | B7: 那覇 | C7: 8487 | D7: 1754005
A8: CTS | B8: 新千歳 | C8: 6681 | D8: 1682195
A9: HIJ | B9: 広島 | C9: 1559 | D9: 235709
A10: FSZ | B10: 静岡 | C10: 1328 | D10: 219141
A11: OKJ | B11: 岡山 | C11: 893 | D11: 140631
A12: HKD | B12: 函館 | C12: 717 | D12: 139880
A13: KOJ | B13: 鹿児島 | C13: 795 | D13: 136267
... A42: IWO | B42: 硫黄島 | C42: 1 | D42: 166

Sheet 16年詳細
A1: ツーレター | B1: 航空会社 | C1: 便数 | D1: 座席 | E1: シェア | H1: 空港 | I1: 便数 | J1: 総座席 | K1: シェア
A2: AKJ / 旭川 | H2: NRT / 成田 | I2: 82542 | J2: 19372928 | K2: 0.36878981
A3: MU | B3: 中国東方航空 | C3: 267 | D3: 43509 | E3: 0.39251046 | H3: KIX / 関西 | I3: 56380 | J3: 11790724 | K3: 0.22445233
A4: GE | B4: トランスアジア航空 | C4: 132 | D4: 37230 | E4: 0.33586533 | H4: HND / 羽田 | I4: 37665 | J4: 9188678 | K4: 0.17491888
A5: 9C | B5: 春秋航空 | C5: 82 | D5: 14760 | E5: 0.13315531 | H5: NGO / 中部 | I5: 17932 | J5: 3498564 | K5: 0.066599885
A6: OZ | B6: アシアナ航空 | C6: 47 | D6: 9100 | E6: 0.0820944 | H6: FUK / 福岡 | I6: 16081 | J6: 3249331 | K6: 0.061855398
A7: BR | B7: エバー航空 | C7: 33 | D7: 6072 | E7: 0.054777714 | H7: OKA / 那覇 | I7: 8487 | J7: 1754005 | K7: 0.033389851
A8: NX | B8: マカオ航空 | C8: 1 | D8: 177 | E8: 0.0015967812 | H8: CTS / 新千歳 | I8: 6681 | J8: 1682195 | K8: 0.032022851
A9: 合計 | C9: 562 | D9: 110848 | E9: - | H9: HIJ / 広島 | I9: 1559 | J9: 235709 | K9: 0.0044870387
A10: AOJ / 青森 | H10: FSZ / 静岡 | I10: 1328 | J10: 219141 | K10: 0.0041716445
A11: KE | B11: 大韓航空 | C11: 157 | D11: 22388 | E11: 1 | H11: OKJ / 岡山 | I11: 893 | J11: 140631 | K11: 0.0026771008
A12: 合計 | C12: 157 | D12: 22388 | E12: - | H12: HKD / 函館 | I12: 717 | J12: 139880 | K12: 0.0026628045
A13: CTS / 新千歳 | H13: KOJ / 鹿児島 | I13: 795 | J13: 136267 | K13: 0.0025940261
A14: CI | B14: チャイナエアライン | C14: 737 | D14: 247016 | E14: 0.14684148 | H14: TAK / 高松 | I14: 746 | J14: 129520 | K14: 0.0024655879
A15: KE | B15: 大韓航空 | C15: 913 | D15: 214269 | E15: 0.12737465 | H15: SDJ / 仙台 | I15: 763 | J15: 128316 | K15: 0.0024426681
A16: BR | B16: エバー航空 | C16: 734 | D16: 185360 | E16: 0.11018937 | H16: KMQ / 小松 | I16: 712 | J16: 121036 | K16: 0.0023040835
A17: CX | B17: キャセイパシフィック航空 | C17: 409 | D17: 151262 | E17: 0.089919421 | H17: AKJ / 旭川 | I17: 562 | J17: 110848 | K17: 0.0021101412
A18: TG | B18: タイ国際航空 | C18: 344 | D18: 120641 | E18: 0.071716418 | H18: IBR / 茨城 | I18: 605 | J18: 107566 | K18: 0.0020476639
A19: D7 | B19: エアアジアX | C19: 253 | D19: 95381 | E19: 0.056700323 | H19: TOY / 富山 | I19: 544 | J19: 83596 | K19: 0.0015913626
A20: LJ | B20: ジンエアー | C20: 366 | D20: 89179 | E20: 0.053013473 | H20: KIJ / 新潟 | I20: 563 | J20: 82875 | K20: 0.0015776374
A21: HX | B21: 香港航空 | C21: 295 | D21: 84983 | E21: 0.050519113 | H21: KMI / 宮崎 | I21: 411 | J21: 71556 | K21: 0.001362165
A22: GE | B22: トランスアジア航空 | C22: 215 | D22: 60464 | E22: 0.035943514 | H22: HSG / 佐賀 | I22: 301 | J22: 45936 | K22: 0.00087445372
A23: MU | B23: 中国東方航空 | C23: 280 | D23: 52646 | E23: 0.031296015 | H23: YGJ / 米子 | I23: 200 | J23: 34985 | K23: 0.00066598666
A24: 9C | B24: 春秋航空 | C24: 270 | D24: 48600 | E24: 0.028890824 | H24: KMJ / 熊本 | I24: 205 | J24: 33734 | K24: 0.00064217219
A25: OZ | B25: アシアナ航空 | C25: 184 | D25: 46586 | E25: 0.027693579 | H25: OIT / 大分 | I25: 261 | J25: 32977 | K25: 0.00062776167
... A39: NH | B39: 全日空 | C39: 1 | D39: 264 | E39: 0.00015693781 | H39: IWK / 岩国 | I39: 1 | J39: 235 | K39: 4.473542e-06
A40: 合計 | C40: 6681 | D40: 1682195 | E40: - | H40: TTJ / 鳥取 | I40: 2 | J40: 186 | K40: 3.5407609e-06
A41: DNA / 嘉手納 | H41: MSJ / 三沢 | I41: 1 | J41: 166 | K41: 3.1600339e-06
A42: UA | B42: ユナイテッド航空 | C42: 14 | D42: 3308 | E42: 1 | H42: IWO / 硫黄島 | I42: 1 | J42: 166 | K42: 3.1600339e-06
A43: 合計 | C43: 14 | D43: 3308 | E43: - | H43: 合計 | I43: 237824 | J43: 52531082 | K43: -
A44: FKS / 福島
A45: GE | B45: トランスアジア航空 | C45: 2 | D45: 364 | E45: 0.48663102
A46: NH | B46: 全日空 | C46: 1 | D46: 202 | E46: 0.27005348
A47: R3 | B47: ヤクーツク航空 | C47: 2 | D47: 182 | E47: 0.24331551
A48: 合計 | C48: 5 | D48: 748 | E48: -
A49: FSZ / 静岡
A50: MU | B50: 中国東方航空 | C50: 642 | D50: 104888 | E50: 0.47863248
A51: JD | B51: 北京首都航空 | C51: 216 | D51: 34845 | E51: 0.15900721
A52: CI | B52: チャイナエアライン | C52: 210 | D52: 33649 | E52: 0.15354954
A53: OZ | B53: アシアナ航空 | C53: 120 | D53: 20631 | E53: 0.094144866
A54: GS | B54: 天津航空 | C54: 66 | D54: 11662 | E54: 0.053216879
A55: RS | B55: エアソウル | C55: 59 | D55: 11505 | E55: 0.052500445
A56: CZ | B56: 中国南方航空 | C56: 9 | D56: 1159 | E56: 0.0052888323
A57: UA | B57: ユナイテッド航空 | C57: 3 | D57: 354 | E57: 0.0016153983
A58: OM | B58: MIATモンゴル航空 | C58: 2 | D58: 280 | E58: 0.0012777162
A59: KA | B59: 香港ドラゴン航空 | C59: 1 | D59: 168 | E59: 0.0007666297
A60: 合計 | C60: 1328 | D60: 219141 | E60: -
A61: FUK / 福岡
A62: KE | B62: 大韓航空 | C62: 1917 | D62: 432226 | E62: 0.13302
A63: BX | B63: エアプサン | C63: 1578 | D63: 302387 | E63: 0.09306131
A64: OZ | B64: アシアナ航空 | C64: 1094 | D64: 261599 | E64: 0.080508572
A65: MU | B65: 中国東方航空 | C65: 1562 | D65: 243670 | E65: 0.074990821
A66: CI | B66: チャイナエアライン | C66: 754 | D66: 227910 | E66: 0.070140592
A67: 7C | B67: チェジュ航空 | C67: 1051 | D67: 194398 | E67: 0.059827084
A68: BR | B68: エバー航空 | C68: 637 | D68: 159143 | E68: 0.048977159
A69: UO | B69: 香港エクスプレス航空 | C69: 776 | D69: 135024 | E69: 0.0415544
A70: CA | B70: 中国国際航空 | C70: 758 | D70: 131858 | E70: 0.040580046
A71: LJ | B71: ジンエアー | C71: 694 | D71: 127152 | E71: 0.039131747
A72: CX | B72: キャセイパシフィック航空 | C72: 365 | D72: 116260 | E72: 0.035779673
A73: TG | B73: タイ国際航空 | C73: 366 | D73: 108468 | E73: 0.033381641
... A92: KL | B92: KLMオランダ航空 | C92: 1 | D92: 318 | E92: 9.7866299e-05
A93: 合計 | C93: 16081 | D93: 3249331 | E93: -
A94: HIJ / 広島
A95: CI | B95: チャイナエアライン | C95: 451 | D95: 73740 | E95: 0.31284338
A96: MU | B96: 中国東方航空 | C96: 366 | D96: 45020 | E96: 0.19099822
A97: OZ | B97: アシアナ航空 | C97: 209 | D97: 35914 | E97: 0.15236584
A98: CA | B98: 中国国際航空 | C98: 239 | D98: 30119 | E98: 0.12778044
A99: UO | B99: 香港エクスプレス航空 | C99: 153 | D99: 26622 | E99: 0.11294435
A100: KA | B100: 香港ドラゴン航空 | C100: 89 | D100: 14154 | E100: 0.060048619
A101: RS | B101: エアソウル | C101: 52 | D101: 10140 | E101: 0.043019146
A102: 合計 | C102: 1559 | D102: 235709 | E102: -
A103: HKD / 函館
A104: BR | B104: エバー航空 | C104: 322 | D104: 59248 | E104: 0.42356305
A105: GE | B105: トランスアジア航空 | C105: 114 | D105: 31903 | E105: 0.22807406
A106: GS | B106: 天津航空 | C106: 104 | D106: 18407 | E106: 0.13159136
A107: IT | B107: タイガーエア台湾 | C107: 92 | D107: 16560 | E107: 0.11838719
A108: MU | B108: 中国東方航空 | C108: 48 | D108: 7584 | E108: 0.054217901
A109: CA | B109: 中国国際航空 | C109: 34 | D109: 5678 | E109: 0.040591936
A110: BK | B110: 奥凱航空 | C110: 2 | D110: 325 | E110: 0.0023234201
A111: NX | B111: マカオ航空 | C111: 1 | D111: 175 | E111: 0.0012510723
A112: 合計 | C112: 717 | D112: 139880 | E112: -
A113: HNA / 花巻
A114: GE | B114: トランスアジア航空 | C114: 2 | D114: 364 | E114: 1
A115: 合計 | C115: 2 | D115: 364 | E115: -
A116: HND / 羽田
A117: NH | B117: 全日空 | C117: 10540 | D117: 2409807 | E117: 0.26225829
A118: JL | B118: 日本航空 | C118: 7321 | D118: 1644389 | E118: 0.17895817
A119: KE | B119: 大韓航空 | C119: 1464 | D119: 404674 | E119: 0.044040503
A120: OZ | B120: アシアナ航空 | C120: 1316 | D120: 329580 | E120: 0.035868054
A121: SQ | B121: シンガポール航空 | C121: 1098 | D121: 306040 | E121: 0.033306206
A122: MU | B122: 中国東方航空 | C122: 1098 | D122: 301511 | E122: 0.032813317
A123: CA | B123: 中国国際航空 | C123: 1440 | D123: 295800 | E123: 0.032191791
A124: TG | B124: タイ国際航空 | C124: 732 | D124: 269608 | E124: 0.029341326
A125: CX | B125: キャセイパシフィック航空 | C125: 732 | D125: 232012 | E125: 0.025249769
A126: CI | B126: チャイナエアライン | C126: 732 | D126: 229116 | E126: 0.024934599
A127: BR | B127: エバー航空 | C127: 732 | D127: 226188 | E127: 0.024615946
A128: LH | B128: ルフトハンザ・ドイツ航空 | C128: 664 | D128: 219118 | E128: 0.023846521
... A156: SV | B156: サウディア | C156: 1 | D156: 413 | E156: 4.4946618e-05
A157: 合計 | C157: 37665 | D157: 9188678 | E157: -
A158: HSG / 佐賀
...

Sheet 経過分析
A1: 便数
A2: 空港 | B2: 2012年 | C2: 2013年 | D2: 2014年 | E2: 2015年 | F2: 2016年
A3: AKJ / 旭川 | B3: =IF(ISERROR(VLOOKUP(A3,'12年詳細'!$H$2:$J$100,2,FALSE))=TRUE, 0,VLOOKUP(A3,'12年詳細'!$H$2:$J$100,2,FALSE)) -> 72 | C3: =IF(ISERROR(VLOOKUP(A3,'13年詳細'!$H$2:$J$100,2,FALSE))=TRUE, 0,VLOOKUP(A3,'13年詳細'!$H$2:$J$100,2,FALSE)) -> 212 | D3: =IF(ISERROR(VLOOKUP(A3,'14年詳細'!$H$2:$J$100,2,FALSE))=TRUE, 0,VLOOKUP(A3,'14年詳細'!$H$2:$J$100,2,FALSE)) -> 406 | E3: =IF(ISERROR(VLOOKUP(A3,'15年詳細'!$H$2:$J$100,2,FALSE))=TRUE, 0,VLOOKUP(A3,'15年詳細'!$H$2:$J$100,2,FALSE)) -> 611 | F3: =IF(ISERROR(VLOOKUP(A3,'16年詳細'!$H$2:$J$100,2,FALSE))=TRUE, 0,VLOOKUP(A3,'16年詳細'!$H$2:$J$100,2,FALSE)) -> 562
A4: AOJ / 青森 | B4: =IF(ISERROR(VLOOKUP(A4,'12年詳細'!$H$2:$J$100,2,FALSE))=TRUE, 0,VLOOKUP(A4,'12年詳細'!$H$2:$J$100,2,FALSE)) -> 190 | C4: =IF(ISERROR(VLOOKUP(A4,'13年詳細'!$H$2:$J$100,2,FALSE))=TRUE, 0,VLOOKUP(A4,'13年詳細'!$H$2:$J$100,2,FALSE)) -> 156 | D4: =IF(ISERROR(VLOOKUP(A4,'14年詳細'!$H$2:$J$100,2,FALSE))=TRUE, 0,VLOOKUP(A4,'14年詳細'!$H$2:$J$100,2,FALSE)) -> 159 | E4: =IF(ISERROR(VLOOKUP(A4,'15年詳細'!$H$2:$J$100,2,FALSE))=TRUE, 0,VLOOKUP(A4,'15年詳細'!$H$2:$J$100,2,FALSE)) -> 150 | F4: =IF(ISERROR(VLOOKUP(A4,'16年詳細'!$H$2:$J$100,2,FALSE))=TRUE, 0,VLOOKUP(A4,'16年詳細'!$H$2:$J$100,2,FALSE)) -> 157
A5: AXT / 秋田 | B5: =IF(ISERROR(VLOOKUP(A5,'12年詳細'!$H$2:$J$100,2,FALSE))=TRUE, 0,VLOOKUP(A5,'12年詳細'!$H$2:$J$100,2,FALSE)) -> 156 | C5: =IF(ISERROR(VLOOKUP(A5,'13年詳細'!$H$2:$J$100,2,FALSE))=TRUE, 0,VLOOKUP(A5,'13年詳細'!$H$2:$J$100,2,FALSE)) -> 156 | D5: =IF(ISERROR(VLOOKUP(A5,'14年詳細'!$H$2:$J$100,2,FALSE))=TRUE, 0,VLOOKUP(A5,'14年詳細'!$H$2:$J$100,2,FALSE)) -> 116 | E5: =IF(ISERROR(VLOOKUP(A5,'15年詳細'!$H$2:$J$100,2,FALSE))=TRUE, 0,VLOOKUP(A5,'15年詳細'!$H$2:$J$100,2,FALSE)) -> 118 | F5: =IF(ISERROR(VLOOKUP(A5,'16年詳細'!$H$2:$J$100,2,FALSE))=TRUE, 0,VLOOKUP(A5,'16年詳細'!$H$2:$J$100,2,FALSE)) -> 0
A6: CTS / 新千歳 | B6: =IF(ISERROR(VLOOKUP(A6,'12年詳細'!$H$2:$J$100,2,FALSE))=TRUE, 0,VLOOKUP(A6,'12年詳細'!$H$2:$J$100,2,FALSE)) -> 3090 | C6: =IF(ISERROR(VLOOKUP(A6,'13年詳細'!$H$2:$J$100,2,FALSE))=TRUE, 0,VLOOKUP(A6,'13年詳細'!$H$2:$J$100,2,FALSE)) -> 3380 | D6: =IF(ISERROR(VLOOKUP(A6,'14年詳細'!$H$2:$J$100,2,FALSE))=TRUE, 0,VLOOKUP(A6,'14年詳細'!$H$2:$J$100,2,FALSE)) -> 4123 | E6: =IF(ISERROR(VLOOKUP(A6,'15年詳細'!$H$2:$J$100,2,FALSE))=TRUE, 0,VLOOKUP(A6,'15年詳細'!$H$2:$J$100,2,FALSE)) -> 5326 | F6: =IF(ISERROR(VLOOKUP(A6,'16年詳細'!$H$2:$J$100,2,FALSE))=TRUE, 0,VLOOKUP(A6,'16年詳細'!$H$2:$J$100,2,FALSE)) -> 6681
A7: DNA / 嘉手納 | B7: =IF(ISERROR(VLOOKUP(A7,'12年詳細'!$H$2:$J$100,2,FALSE))=TRUE, 0,VLOOKUP(A7,'12年詳細'!$H$2:$J$100,2,FALSE)) -> 10 | C7: =IF(ISERROR(VLOOKUP(A7,'13年詳細'!$H$2:$J$100,2,FALSE))=TRUE, 0,VLOOKUP(A7,'13年詳細'!$H$2:$J$100,2,FALSE)) -> 15 | D7: =IF(ISERROR(VLOOKUP(A7,'14年詳細'!$H$2:$J$100,2,FALSE))=TRUE, 0,VLOOKUP(A7,'14年詳細'!$H$2:$J$100,2,FALSE)) -> 16 | E7: =IF(ISERROR(VLOOKUP(A7,'15年詳細'!$H$2:$J$100,2,FALSE))=TRUE, 0,VLOOKUP(A7,'15年詳細'!$H$2:$J$100,2,FALSE)) -> 13 | F7: =IF(ISERROR(VLOOKUP(A7,'16年詳細'!$H$2:$J$100,2,FALSE))=TRUE, 0,VLOOKUP(A7,'16年詳細'!$H$2:$J$100,2,FALSE)) -> 14
A8: FKS / 福島 | B8: =IF(ISERROR(VLOOKUP(A8,'12年詳細'!$H$2:$J$100,2,FALSE))=TRUE, 0,VLOOKUP(A8,'12年詳細'!$H$2:$J$100,2,FALSE)) -> 6 | C8: =IF(ISERROR(VLOOKUP(A8,'13年詳細'!$H$2:$J$100,2,FALSE))=TRUE, 0,VLOOKUP(A8,'13年詳細'!$H$2:$J$100,2,FALSE)) -> 10 | D8: =IF(ISERROR(VLOOKUP(A8,'14年詳細'!$H$2:$J$100,2,FALSE))=TRUE, 0,VLOOKUP(A8,'14年詳細'!$H$2:$J$100,2,FALSE)) -> 0 | E8: =IF(ISERROR(VLOOKUP(A8,'15年詳細'!$H$2:$J$100,2,FALSE))=TRUE, 0,VLOOKUP(A8,'15年詳細'!$H$2:$J$100,2,FALSE)) -> 2 | F8: =IF(ISERROR(VLOOKUP(A8,'16年詳細'!$H$2:$J$100,2,FALSE))=TRUE, 0,VLOOKUP(A8,'16年詳細'!$H$2:$J$100,2,FALSE)) -> 5
A9: FSZ / 静岡 | B9: =IF(ISERROR(VLOOKUP(A9,'12年詳細'!$H$2:$J$100,2,FALSE))=TRUE, 0,VLOOKUP(A9,'12年詳細'!$H$2:$J$100,2,FALSE)) -> 1078 | C9: =IF(ISERROR(VLOOKUP(A9,'13年詳細'!$H$2:$J$100,2,FALSE))=TRUE, 0,VLOOKUP(A9,'13年詳細'!$H$2:$J$100,2,FALSE)) -> 942 | D9: =IF(ISERROR(VLOOKUP(A9,'14年詳細'!$H$2:$J$100,2,FALSE))=TRUE, 0,VLOOKUP(A9,'14年詳細'!$H$2:$J$100,2,FALSE)) -> 874 | E9: =IF(ISERROR(VLOOKUP(A9,'15年詳細'!$H$2:$J$100,2,FALSE))=TRUE, 0,VLOOKUP(A9,'15年詳細'!$H$2:$J$100,2,FALSE)) -> 1690 | F9: =IF(ISERROR(VLOOKUP(A9,'16年詳細'!$H$2:$J$100,2,FALSE))=TRUE, 0,VLOOKUP(A9,'16年詳細'!$H$2:$J$100,2,FALSE)) -> 1328
A10: FUK / 福岡 | B10: =IF(ISERROR(VLOOKUP(A10,'12年詳細'!$H$2:$J$100,2,FALSE))=TRUE, 0,VLOOKUP(A10,'12年詳細'!$H$2:$J$100,2,FALSE)) -> 10789 | C10: =IF(ISERROR(VLOOKUP(A10,'13年詳細'!$H$2:$J$100,2,FALSE))=TRUE, 0,VLOOKUP(A10,'13年詳細'!$H$2:$J$100,2,FALSE)) -> 10748 | D10: =IF(ISERROR(VLOOKUP(A10,'14年詳細'!$H$2:$J$100,2,FALSE))=TRUE, 0,VLOOKUP(A10,'14年詳細'!$H$2:$J$100,2,FALSE)) -> 11536 | E10: =IF(ISERROR(VLOOKUP(A10,'15年詳細'!$H$2:$J$100,2,FALSE))=TRUE, 0,VLOOKUP(A10,'15年詳細'!$H$2:$J$100,2,FALSE)) -> 13392 | F10: =IF(ISERROR(VLOOKUP(A10,'16年詳細'!$H$2:$J$100,2,FALSE))=TRUE, 0,VLOOKUP(A10,'16年詳細'!$H$2:$J$100,2,FALSE)) -> 16081
A11: HIJ / 広島 | B11: =IF(ISERROR(VLOOKUP(A11,'12年詳細'!$H$2:$J$100,2,FALSE))=TRUE, 0,VLOOKUP(A11,'12年詳細'!$H$2:$J$100,2,FALSE)) -> 1832 | C11: =IF(ISERROR(VLOOKUP(A11,'13年詳細'!$H$2:$J$100,2,FALSE))=TRUE, 0,VLOOKUP(A11,'13年詳細'!$H$2:$J$100,2,FALSE)) -> 1527 | D11: =IF(ISERROR(VLOOKUP(A11,'14年詳細'!$H$2:$J$100,2,FALSE))=TRUE, 0,VLOOKUP(A11,'14年詳細'!$H$2:$J$100,2,FALSE)) -> 1505 | E11: =IF(ISERROR(VLOOKUP(A11,'15年詳細'!$H$2:$J$100,2,FALSE))=TRUE, 0,VLOOKUP(A11,'15年詳細'!$H$2:$J$100,2,FALSE)) -> 1428 | F11: =IF(ISERROR(VLOOKUP(A11,'16年詳細'!$H$2:$J$100,2,FALSE))=TRUE, 0,VLOOKUP(A11,'16年詳細'!$H$2:$J$100,2,FALSE)) -> 1559
A12: HKD / 函館 | B12: =IF(ISERROR(VLOOKUP(A12,'12年詳細'!$H$2:$J$100,2,FALSE))=TRUE, 0,VLOOKUP(A12,'12年詳細'!$H$2:$J$100,2,FALSE)) -> 212 | C12: =IF(ISERROR(VLOOKUP(A12,'13年詳細'!$H$2:$J$100,2,FALSE))=TRUE, 0,VLOOKUP(A12,'13年詳細'!$H$2:$J$100,2,FALSE)) -> 301 | D12: =IF(ISERROR(VLOOKUP(A12,'14年詳細'!$H$2:$J$100,2,FALSE))=TRUE, 0,VLOOKUP(A12,'14年詳細'!$H$2:$J$100,2,FALSE)) -> 384 | E12: =IF(ISERROR(VLOOKUP(A12,'15年詳細'!$H$2:$J$100,2,FALSE))=TRUE, 0,VLOOKUP(A12,'15年詳細'!$H$2:$J$100,2,FALSE)) -> 596 | F12: =IF(ISERROR(VLOOKUP(A12,'16年詳細'!$H$2:$J$100,2,FALSE))=TRUE, 0,VLOOKUP(A12,'16年詳細'!$H$2:$J$100,2,FALSE)) -> 717
A13: HNA / 花巻 | B13: =IF(ISERROR(VLOOKUP(A13,'12年詳細'!$H$2:$J$100,2,FALSE))=TRUE, 0,VLOOKUP(A13,'12年詳細'!$H$2:$J$100,2,FALSE)) -> 0 | C13: =IF(ISERROR(VLOOKUP(A13,'13年詳細'!$H$2:$J$100,2,FALSE))=TRUE, 0,VLOOKUP(A13,'13年詳細'!$H$2:$J$100,2,FALSE)) -> 0 | D13: =IF(ISERROR(VLOOKUP(A13,'14年詳細'!$H$2:$J$100,2,FALSE))=TRUE, 0,VLOOKUP(A13,'14年詳細'!$H$2:$J$100,2,FALSE)) -> 0 | E13: =IF(ISERROR(VLOOKUP(A13,'15年詳細'!$H$2:$J$100,2,FALSE))=TRUE, 0,VLOOKUP(A13,'15年詳細'!$H$2:$J$100,2,FALSE)) -> 0 | F13: =IF(ISERROR(VLOOKUP(A13,'16年詳細'!$H$2:$J$100,2,FALSE))=TRUE, 0,VLOOKUP(A13,'16年詳細'!$H$2:$J$100,2,FALSE)) -> 2
A14: HND / 羽田 | B14: =IF(ISERROR(VLOOKUP(A14,'12年詳細'!$H$2:$J$100,2,FALSE))=TRUE, 0,VLOOKUP(A14,'12年詳細'!$H$2:$J$100,2,FALSE)) -> 19334 | C14: =IF(ISERROR(VLOOKUP(A14,'13年詳細'!$H$2:$J$100,2,FALSE))=TRUE, 0,VLOOKUP(A14,'13年詳細'!$H$2:$J$100,2,FALSE)) -> 19428 | D14: =IF(ISERROR(VLOOKUP(A14,'14年詳細'!$H$2:$J$100,2,FALSE))=TRUE, 0,VLOOKUP(A14,'14年詳細'!$H$2:$J$100,2,FALSE)) -> 26386 | E14: =IF(ISERROR(VLOOKUP(A14,'15年詳細'!$H$2:$J$100,2,FALSE))=TRUE, 0,VLOOKUP(A14,'15年詳細'!$H$2:$J$100,2,FALSE)) -> 31120 | F14: =IF(ISERROR(VLOOKUP(A14,'16年詳細'!$H$2:$J$100,2,FALSE))=TRUE, 0,VLOOKUP(A14,'16年詳細'!$H$2:$J$100,2,FALSE)) -> 37665
... A51: 合計 | B51: =IF(ISERROR(VLOOKUP(A51,'12年詳細'!$H$2:$J$100,2,FALSE))=TRUE, 0,VLOOKUP(A51,'12年詳細'!$H$2:$J$100,2,FALSE)) -> 167970 | C51: =IF(ISERROR(VLOOKUP(A51,'13年詳細'!$H$2:$J$100,2,FALSE))=TRUE, 0,VLOOKUP(A51,'13年詳細'!$H$2:$J$100,2,FALSE)) -> 172189 | D51: =IF(ISERROR(VLOOKUP(A51,'14年詳細'!$H$2:$J$100,2,FALSE))=TRUE, 0,VLOOKUP(A51,'14年詳細'!$H$2:$J$100,2,FALSE)) -> 186355 | E51: =IF(ISERROR(VLOOKUP(A51,'15年詳細'!$H$2:$J$100,2,FALSE))=TRUE, 0,VLOOKUP(A51,'15年詳細'!$H$2:$J$100,2,FALSE)) -> 209681 | F51: =IF(ISERROR(VLOOKUP(A51,'16年詳細'!$H$2:$J$100,2,FALSE))=TRUE, 0,VLOOKUP(A51,'16年詳細'!$H$2:$J$100,2,FALSE)) -> 237824
A53: 座席数
A54: 空港 | B54: 2012年 | C54: 2013年 | D54: 2014年 | E54: 2015年 | F54: 2016年
A55: AKJ / 旭川 | B55: =IF(ISERROR(VLOOKUP(A55,'12年詳細'!$H$2:$J$100,3,FALSE))=TRUE, 0,VLOOKUP(A55,'12年詳細'!$H$2:$J$100,3,FALSE)) -> 12777 | C55: =IF(ISERROR(VLOOKUP(A55,'13年詳細'!$H$2:$J$100,3,FALSE))=TRUE, 0,VLOOKUP(A55,'13年詳細'!$H$2:$J$100,3,FALSE)) -> 52564 | D55: =IF(ISERROR(VLOOKUP(A55,'14年詳細'!$H$2:$J$100,3,FALSE))=TRUE, 0,VLOOKUP(A55,'14年詳細'!$H$2:$J$100,3,FALSE)) -> 92327 | E55: =IF(ISERROR(VLOOKUP(A55,'15年詳細'!$H$2:$J$100,3,FALSE))=TRUE, 0,VLOOKUP(A55,'15年詳細'!$H$2:$J$100,3,FALSE)) -> 120625 | F55: =IF(ISERROR(VLOOKUP(A55,'16年詳細'!$H$2:$J$100,3,FALSE))=TRUE, 0,VLOOKUP(A55,'16年詳細'!$H$2:$J$100,3,FALSE)) -> 110848
A56: AOJ / 青森 | B56: =IF(ISERROR(VLOOKUP(A56,'12年詳細'!$H$2:$J$100,3,FALSE))=TRUE, 0,VLOOKUP(A56,'12年詳細'!$H$2:$J$100,3,FALSE)) -> 32156 | C56: =IF(ISERROR(VLOOKUP(A56,'13年詳細'!$H$2:$J$100,3,FALSE))=TRUE, 0,VLOOKUP(A56,'13年詳細'!$H$2:$J$100,3,FALSE)) -> 23895 | D56: =IF(ISERROR(VLOOKUP(A56,'14年詳細'!$H$2:$J$100,3,FALSE))=TRUE, 0,VLOOKUP(A56,'14年詳細'!$H$2:$J$100,3,FALSE)) -> 22499 | E56: =IF(ISERROR(VLOOKUP(A56,'15年詳細'!$H$2:$J$100,3,FALSE))=TRUE, 0,VLOOKUP(A56,'15年詳細'!$H$2:$J$100,3,FALSE)) -> 22051 | F56: =IF(ISERROR(VLOOKUP(A56,'16年詳細'!$H$2:$J$100,3,FALSE))=TRUE, 0,VLOOKUP(A56,'16年詳細'!$H$2:$J$100,3,FALSE)) -> 22388
A57: AXT / 秋田 | B57: =IF(ISERROR(VLOOKUP(A57,'12年詳細'!$H$2:$J$100,3,FALSE))=TRUE, 0,VLOOKUP(A57,'12年詳細'!$H$2:$J$100,3,FALSE)) -> 26097 | C57: =IF(ISERROR(VLOOKUP(A57,'13年詳細'!$H$2:$J$100,3,FALSE))=TRUE, 0,VLOOKUP(A57,'13年詳細'!$H$2:$J$100,3,FALSE)) -> 22413 | D57: =IF(ISERROR(VLOOKUP(A57,'14年詳細'!$H$2:$J$100,3,FALSE))=TRUE, 0,VLOOKUP(A57,'14年詳細'!$H$2:$J$100,3,FALSE)) -> 17338 | E57: =IF(ISERROR(VLOOKUP(A57,'15年詳細'!$H$2:$J$100,3,FALSE))=TRUE, 0,VLOOKUP(A57,'15年詳細'!$H$2:$J$100,3,FALSE)) -> 18828 | F57: =IF(ISERROR(VLOOKUP(A57,'16年詳細'!$H$2:$J$100,3,FALSE))=TRUE, 0,VLOOKUP(A57,'16年詳細'!$H$2:$J$100,3,FALSE)) -> 0
A58: CTS / 新千歳 | B58: =IF(ISERROR(VLOOKUP(A58,'12年詳細'!$H$2:$J$100,3,FALSE))=TRUE, 0,VLOOKUP(A58,'12年詳細'!$H$2:$J$100,3,FALSE)) -> 712964 | C58: =IF(ISERROR(VLOOKUP(A58,'13年詳細'!$H$2:$J$100,3,FALSE))=TRUE, 0,VLOOKUP(A58,'13年詳細'!$H$2:$J$100,3,FALSE)) -> 825533 | D58: =IF(ISERROR(VLOOKUP(A58,'14年詳細'!$H$2:$J$100,3,FALSE))=TRUE, 0,VLOOKUP(A58,'14年詳細'!$H$2:$J$100,3,FALSE)) -> 996505 | E58: =IF(ISERROR(VLOOKUP(A58,'15年詳細'!$H$2:$J$100,3,FALSE))=TRUE, 0,VLOOKUP(A58,'15年詳細'!$H$2:$J$100,3,FALSE)) -> 1346927 | F58: =IF(ISERROR(VLOOKUP(A58,'16年詳細'!$H$2:$J$100,3,FALSE))=TRUE, 0,VLOOKUP(A58,'16年詳細'!$H$2:$J$100,3,FALSE)) -> 1682195
A59: DNA / 嘉手納 | B59: =IF(ISERROR(VLOOKUP(A59,'12年詳細'!$H$2:$J$100,3,FALSE))=TRUE, 0,VLOOKUP(A59,'12年詳細'!$H$2:$J$100,3,FALSE)) -> 2254 | C59: =IF(ISERROR(VLOOKUP(A59,'13年詳細'!$H$2:$J$100,3,FALSE))=TRUE, 0,VLOOKUP(A59,'13年詳細'!$H$2:$J$100,3,FALSE)) -> 2322 | D59: =IF(ISERROR(VLOOKUP(A59,'14年詳細'!$H$2:$J$100,3,FALSE))=TRUE, 0,VLOOKUP(A59,'14年詳細'!$H$2:$J$100,3,FALSE)) -> 3735 | E59: =IF(ISERROR(VLOOKUP(A59,'15年詳細'!$H$2:$J$100,3,FALSE))=TRUE, 0,VLOOKUP(A59,'15年詳細'!$H$2:$J$100,3,FALSE)) -> 2885 | F59: =IF(ISERROR(VLOOKUP(A59,'16年詳細'!$H$2:$J$100,3,FALSE))=TRUE, 0,VLOOKUP(A59,'16年詳細'!$H$2:$J$100,3,FALSE)) -> 3308
A60: FKS / 福島 | B60: =IF(ISERROR(VLOOKUP(A60,'12年詳細'!$H$2:$J$100,3,FALSE))=TRUE, 0,VLOOKUP(A60,'12年詳細'!$H$2:$J$100,3,FALSE)) -> 1078 | C60: =IF(ISERROR(VLOOKUP(A60,'13年詳細'!$H$2:$J$100,3,FALSE))=TRUE, 0,VLOOKUP(A60,'13年詳細'!$H$2:$J$100,3,FALSE)) -> 1740 | D60: =IF(ISERROR(VLOOKUP(A60,'14年詳細'!$H$2:$J$100,3,FALSE))=TRUE, 0,VLOOKUP(A60,'14年詳細'!$H$2:$J$100,3,FALSE)) -> 0 | E60: =IF(ISERROR(VLOOKUP(A60,'15年詳細'!$H$2:$J$100,3,FALSE))=TRUE, 0,VLOOKUP(A60,'15年詳細'!$H$2:$J$100,3,FALSE)) -> 352 | F60: =IF(ISERROR(VLOOKUP(A60,'16年詳細'!$H$2:$J$100,3,FALSE))=TRUE, 0,VLOOKUP(A60,'16年詳細'!$H$2:$J$100,3,FALSE)) -> 748
A61: FSZ / 静岡 | B61: =IF(ISERROR(VLOOKUP(A61,'12年詳細'!$H$2:$J$100,3,FALSE))=TRUE, 0,VLOOKUP(A61,'12年詳細'!$H$2:$J$100,3,FALSE)) -> 174920 | C61: =IF(ISERROR(VLOOKUP(A61,'13年詳細'!$H$2:$J$100,3,FALSE))=TRUE, 0,VLOOKUP(A61,'13年詳細'!$H$2:$J$100,3,FALSE)) -> 150640 | D61: =IF(ISERROR(VLOOKUP(A61,'14年詳細'!$H$2:$J$100,3,FALSE))=TRUE, 0,VLOOKUP(A61,'14年詳細'!$H$2:$J$100,3,FALSE)) -> 145690 | E61: =IF(ISERROR(VLOOKUP(A61,'15年詳細'!$H$2:$J$100,3,FALSE))=TRUE, 0,VLOOKUP(A61,'15年詳細'!$H$2:$J$100,3,FALSE)) -> 277824 | F61: =IF(ISERROR(VLOOKUP(A61,'16年詳細'!$H$2:$J$100,3,FALSE))=TRUE, 0,VLOOKUP(A61,'16年詳細'!$H$2:$J$100,3,FALSE)) -> 219141
A62: FUK / 福岡 | B62: =IF(ISERROR(VLOOKUP(A62,'12年詳細'!$H$2:$J$100,3,FALSE))=TRUE, 0,VLOOKUP(A62,'12年詳細'!$H$2:$J$100,3,FALSE)) -> 2210315 | C62: =IF(ISERROR(VLOOKUP(A62,'13年詳細'!$H$2:$J$100,3,FALSE))=TRUE, 0,VLOOKUP(A62,'13年詳細'!$H$2:$J$100,3,FALSE)) -> 2255622 | D62: =IF(ISERROR(VLOOKUP(A62,'14年詳細'!$H$2:$J$100,3,FALSE))=TRUE, 0,VLOOKUP(A62,'14年詳細'!$H$2:$J$100,3,FALSE)) -> 2407444 | E62: =IF(ISERROR(VLOOKUP(A62,'15年詳細'!$H$2:$J$100,3,FALSE))=TRUE, 0,VLOOKUP(A62,'15年詳細'!$H$2:$J$100,3,FALSE)) -> 2794121 | F62: =IF(ISERROR(VLOOKUP(A62,'16年詳細'!$H$2:$J$100,3,FALSE))=TRUE, 0,VLOOKUP(A62,'16年詳細'!$H$2:$J$100,3,FALSE)) -> 3249331
A63: HIJ / 広島 | B63: =IF(ISERROR(VLOOKUP(A63,'12年詳細'!$H$2:$J$100,3,FALSE))=TRUE, 0,VLOOKUP(A63,'12年詳細'!$H$2:$J$100,3,FALSE)) -> 282549 | C63: =IF(ISERROR(VLOOKUP(A63,'13年詳細'!$H$2:$J$100,3,FALSE))=TRUE, 0,VLOOKUP(A63,'13年詳細'!$H$2:$J$100,3,FALSE)) -> 234912 | D63: =IF(ISERROR(VLOOKUP(A63,'14年詳細'!$H$2:$J$100,3,FALSE))=TRUE, 0,VLOOKUP(A63,'14年詳細'!$H$2:$J$100,3,FALSE)) -> 237506 | E63: =IF(ISERROR(VLOOKUP(A63,'15年詳細'!$H$2:$J$100,3,FALSE))=TRUE, 0,VLOOKUP(A63,'15年詳細'!$H$2:$J$100,3,FALSE)) -> 221127 | F63: =IF(ISERROR(VLOOKUP(A63,'16年詳細'!$H$2:$J$100,3,FALSE))=TRUE, 0,VLOOKUP(A63,'16年詳細'!$H$2:$J$100,3,FALSE)) -> 235709
A64: HKD / 函館 | B64: =IF(ISERROR(VLOOKUP(A64,'12年詳細'!$H$2:$J$100,3,FALSE))=TRUE, 0,VLOOKUP(A64,'12年詳細'!$H$2:$J$100,3,FALSE)) -> 38661 | C64: =IF(ISERROR(VLOOKUP(A64,'13年詳細'!$H$2:$J$100,3,FALSE))=TRUE, 0,VLOOKUP(A64,'13年詳細'!$H$2:$J$100,3,FALSE)) -> 82589 | D64: =IF(ISERROR(VLOOKUP(A64,'14年詳細'!$H$2:$J$100,3,FALSE))=TRUE, 0,VLOOKUP(A64,'14年詳細'!$H$2:$J$100,3,FALSE)) -> 102915 | E64: =IF(ISERROR(VLOOKUP(A64,'15年詳細'!$H$2:$J$100,3,FALSE))=TRUE, 0,VLOOKUP(A64,'15年詳細'!$H$2:$J$100,3,FALSE)) -> 128795 | F64: =IF(ISERROR(VLOOKUP(A64,'16年詳細'!$H$2:$J$100,3,FALSE))=TRUE, 0,VLOOKUP(A64,'16年詳細'!$H$2:$J$100,3,FALSE)) -> 139880
A65: HNA / 花巻 | B65: =IF(ISERROR(VLOOKUP(A65,'12年詳細'!$H$2:$J$100,3,FALSE))=TRUE, 0,VLOOKUP(A65,'12年詳細'!$H$2:$J$100,3,FALSE)) -> 0 | C65: =IF(ISERROR(VLOOKUP(A65,'13年詳細'!$H$2:$J$100,3,FALSE))=TRUE, 0,VLOOKUP(A65,'13年詳細'!$H$2:$J$100,3,FALSE)) -> 0 | D65: =IF(ISERROR(VLOOKUP(A65,'14年詳細'!$H$2:$J$100,3,FALSE))=TRUE, 0,VLOOKUP(A65,'14年詳細'!$H$2:$J$100,3,FALSE)) -> 0 | E65: =IF(ISERROR(VLOOKUP(A65,'15年詳細'!$H$2:$J$100,3,FALSE))=TRUE, 0,VLOOKUP(A65,'15年詳細'!$H$2:$J$100,3,FALSE)) -> 0 | F65: =IF(ISERROR(VLOOKUP(A65,'16年詳細'!$H$2:$J$100,3,FALSE))=TRUE, 0,VLOOKUP(A65,'16年詳細'!$H$2:$J$100,3,FALSE)) -> 364
A66: HND / 羽田 | B66: =IF(ISERROR(VLOOKUP(A66,'12年詳細'!$H$2:$J$100,3,FALSE))=TRUE, 0,VLOOKUP(A66,'12年詳細'!$H$2:$J$100,3,FALSE)) -> 5020030 | C66: =IF(ISERROR(VLOOKUP(A66,'13年詳細'!$H$2:$J$100,3,FALSE))=TRUE, 0,VLOOKUP(A66,'13年詳細'!$H$2:$J$100,3,FALSE)) -> 5030178 | D66: =IF(ISERROR(VLOOKUP(A66,'14年詳細'!$H$2:$J$100,3,FALSE))=TRUE, 0,VLOOKUP(A66,'14年詳細'!$H$2:$J$100,3,FALSE)) -> 6661102 | E66: =IF(ISERROR(VLOOKUP(A66,'15年詳細'!$H$2:$J$100,3,FALSE))=TRUE, 0,VLOOKUP(A66,'15年詳細'!$H$2:$J$100,3,FALSE)) -> 7759154 | F66: =IF(ISERROR(VLOOKUP(A66,'16年詳細'!$H$2:$J$100,3,FALSE))=TRUE, 0,VLOOKUP(A66,'16年詳細'!$H$2:$J$100,3,FALSE)) -> 9188678
... A103: 合計 | B103: =IF(ISERROR(VLOOKUP(A103,'12年詳細'!$H$2:$J$100,3,FALSE))=TRUE, 0,VLOOKUP(A103,'12年詳細'!$H$2:$J$100,3,FALSE)) -> 39350814 | C103: =IF(ISERROR(VLOOKUP(A103,'13年詳細'!$H$2:$J$100,3,FALSE))=TRUE, 0,VLOOKUP(A103,'13年詳細'!$H$2:$J$100,3,FALSE)) -> 40677429 | D103: =IF(ISERROR(VLOOKUP(A103,'14年詳細'!$H$2:$J$100,3,FALSE))=TRUE, 0,VLOOKUP(A103,'14年詳細'!$H$2:$J$100,3,FALSE)) -> 43344714 | E103: =IF(ISERROR(VLOOKUP(A103,'15年詳細'!$H$2:$J$100,3,FALSE))=TRUE, 0,VLOOKUP(A103,'15年詳細'!$H$2:$J$100,3,FALSE)) -> 47634446 | F103: =IF(ISERROR(VLOOKUP(A103,'16年詳細'!$H$2:$J$100,3,FALSE))=TRUE, 0,VLOOKUP(A103,'16年詳細'!$H$2:$J$100,3,FALSE)) -> 52531082
