Workbook

Sheet 12年
A1: ツーレター | B1: 航空会社 | C1: 便数 | D1: 座席数
A2: JL | B2: 日本航空 | C2: 22877 | D2: 5060791
A3: NH | B3: 全日空 | C3: 21137 | D3: 3935315
A4: KE | B4: 大韓航空 | C4: 13472 | D4: 3494869
A5: DL | B5: デルタ航空 | C5: 12186 | D5: 3254146
A6: CI | B6: チャイナエアライン | C6: 8024 | D6: 2293863
A7: OZ | B7: アシアナ航空 | C7: 9973 | D7: 2124084
A8: UA | B8: ユナイテッド航空 | C8: 7936 | D8: 1889051
A9: CX | B9: キャセイパシフィック航空 | C9: 5688 | D9: 1854387
A10: MU | B10: 中国東方航空 | C10: 7687 | D10: 1379866
A11: CA | B11: 中国国際航空 | C11: 6775 | D11: 1238688
A12: TG | B12: タイ国際航空 | C12: 3240 | D12: 1060756
A13: SQ | B13: シンガポール航空 | C13: 2964 | D13: 989580
... A87: BI | B87: ロイヤルブルネイ航空 | C87: 1 | D87: 144

Sheet 13年
A1: ツーレター | B1: 航空会社 | C1: 便数 | D1: 座席数
A2: JL | B2: 日本航空 | C2: 23673 | D2: 5541914
A3: NH | B3: 全日空 | C3: 21609 | D3: 4481062
A4: DL | B4: デルタ航空 | C4: 11569 | D4: 3071627
A5: KE | B5: 大韓航空 | C5: 13345 | D5: 3058378
A6: OZ | B6: アシアナ航空 | C6: 9965 | D6: 2159493
A7: UA | B7: ユナイテッド航空 | C7: 8818 | D7: 2069172
A8: CI | B8: チャイナエアライン | C8: 7061 | D8: 1941509
A9: CX | B9: キャセイパシフィック航空 | C9: 5708 | D9: 1907559
A10: TG | B10: タイ国際航空 | C10: 3590 | D10: 1263921
A11: MU | B11: 中国東方航空 | C11: 7574 | D11: 1241158
A12: SQ | B12: シンガポール航空 | C12: 3176 | D12: 1046803
A13: CA | B13: 中国国際航空 | C13: 6331 | D13: 1034177
... A82: PG | B82: バンコク・エアウェイズ | C82: 3 | D82: 412

Sheet 14年
A1: ツーレター | B1: 航空会社 | C1: 便数 | D1: 座席数
A2: JL | B2: 日本航空 | C2: 24680 | D2: 5621613
A3: NH | B3: 全日空 | C3: 23772 | D3: 4944589
A4: KE | B4: 大韓航空 | C4: 12866 | D4: 2779915
A5: DL | B5: デルタ航空 | C5: 10190 | D5: 2710973
A6: CI | B6: チャイナエアライン | C6: 8475 | D6: 2259236
A7: CX | B7: キャセイパシフィック航空 | C7: 6134 | D7: 2053387
A8: UA | B8: ユナイテッド航空 | C8: 8186 | D8: 1937045
A9: OZ | B9: アシアナ航空 | C9: 8955 | D9: 1921064
A10: MU | B10: 中国東方航空 | C10: 8225 | D10: 1384708
A11: TG | B11: タイ国際航空 | C11: 3652 | D11: 1353629
A12: CA | B12: 中国国際航空 | C12: 6851 | D12: 1273990
A13: SQ | B13: シンガポール航空 | C13: 3572 | D13: 1125009
... A84: MR | B84: フンヌ・エア | C84: 10 | D84: 1200

Sheet 15年
A1: ツーレター | B1: 航空会社 | C1: 便数 | D1: 座席数
A2: JL | B2: 日本航空 | C2: 25189 | D2: 5458557
A3: NH | B3: 全日空 | C3: 25555 | D3: 5401352
A4: KE | B4: 大韓航空 | C4: 12360 | D4: 2725505
A5: CI | B5: チャイナエアライン | C5: 8914 | D5: 2442239
A6: DL | B6: デルタ航空 | C6: 8997 | D6: 2250473
A7: CX | B7: キャセイパシフィック航空 | C7: 6405 | D7: 2163964
A8: MU | B8: 中国東方航空 | C8: 11141 | D8: 1997018
A9: OZ | B9: アシアナ航空 | C9: 8657 | D9: 1882394
A10: UA | B10: ユナイテッド航空 | C10: 7551 | D10: 1755645
A11: CA | B11: 中国国際航空 | C11: 7699 | D11: 1510704
A12: BR | B12: エバー航空 | C12: 5811 | D12: 1375257
A13: TG | B13: タイ国際航空 | C13: 3798 | D13: 1336901
... A89: BK | B89: 奥凱航空 | C89: 1 | D89: 179

Sheet 16年
A1: ツーレター | B1: 航空会社 | C1: 便数 | D1: 座席数
A2: NH | B2: 全日空 | C2: 28346 | D2: 6050510
A3: JL | B3: 日本航空 | C3: 25885 | D3: 5244180
A4: KE | B4: 大韓航空 | C4: 12806 | D4: 2938888
A5: CI | B5: チャイナエアライン | C5: 9394 | D5: 2565106
A6: MU | B6: 中国東方航空 | C6: 12355 | D6: 2200020
A7: CX | B7: キャセイパシフィック航空 | C7: 6467 | D7: 2182007
A8: DL | B8: デルタ航空 | C8: 7825 | D8: 1920233
A9: OZ | B9: アシアナ航空 | C9: 8797 | D9: 1909994
A10: UA | B10: ユナイテッド航空 | C10: 7315 | D10: 1678139
A11: CA | B11: 中国国際航空 | C11: 8035 | D11: 1505359
A12: BR | B12: エバー航空 | C12: 6271 | D12: 1477719
A13: TG | B13: タイ国際航空 | C13: 3834 | D13: 1361404
... A101: QV | B101: ラオス国営航空 | C101: 1 | D101: 142

Sheet Sheet1
A1: 便数
A2: ツーレター | B2: 航空会社 | C2: 2012年 | D2: 2013年 | E2: 2014年 | F2: 2015年 | G2: 2016年
A3: 2G | B3: アンガラ航空 | C3: =IF(ISERROR(VLOOKUP(A3,'12年'!$A$2:$D$150,3,FALSE))=TRUE, 0,VLOOKUP(A3,'12年'!$A$2:$D$150,3,FALSE)) -> 0 | D3: =IF(ISERROR(VLOOKUP(A3,'13年'!$A$2:$D$150,3,FALSE))=TRUE, 0,VLOOKUP(A3,'13年'!$A$2:$D$150,3,FALSE)) -> 0 | E3: =IF(ISERROR(VLOOKUP(A3,'14年'!$A$2:$D$150,3,FALSE))=TRUE, 0,VLOOKUP(A3,'14年'!$A$2:$D$150,3,FALSE)) -> 0 | F3: =IF(ISERROR(VLOOKUP(A3,'15年'!$A$2:$D$150,3,FALSE))=TRUE, 0,VLOOKUP(A3,'15年'!$A$2:$D$150,3,FALSE)) -> 0 | G3: =IF(ISERROR(VLOOKUP(A3,'16年'!$A$2:$D$150,3,FALSE))=TRUE, 0,VLOOKUP(A3,'16年'!$A$2:$D$150,3,FALSE)) -> 13
A4: 3K | B4: ジェットスター・アジア航空 | C4: =IF(ISERROR(VLOOKUP(A4,'12年'!$A$2:$D$150,3,FALSE))=TRUE, 0,VLOOKUP(A4,'12年'!$A$2:$D$150,3,FALSE)) -> 802 | D4: =IF(ISERROR(VLOOKUP(A4,'13年'!$A$2:$D$150,3,FALSE))=TRUE, 0,VLOOKUP(A4,'13年'!$A$2:$D$150,3,FALSE)) -> 873 | E4: =IF(ISERROR(VLOOKUP(A4,'14年'!$A$2:$D$150,3,FALSE))=TRUE, 0,VLOOKUP(A4,'14年'!$A$2:$D$150,3,FALSE)) -> 1001 | F4: =IF(ISERROR(VLOOKUP(A4,'15年'!$A$2:$D$150,3,FALSE))=TRUE, 0,VLOOKUP(A4,'15年'!$A$2:$D$150,3,FALSE)) -> 1179 | G4: =IF(ISERROR(VLOOKUP(A4,'16年'!$A$2:$D$150,3,FALSE))=TRUE, 0,VLOOKUP(A4,'16年'!$A$2:$D$150,3,FALSE)) -> 1030
A5: 3U | B5: 四川航空 | C5: =IF(ISERROR(VLOOKUP(A5,'12年'!$A$2:$D$150,3,FALSE))=TRUE, 0,VLOOKUP(A5,'12年'!$A$2:$D$150,3,FALSE)) -> 0 | D5: =IF(ISERROR(VLOOKUP(A5,'13年'!$A$2:$D$150,3,FALSE))=TRUE, 0,VLOOKUP(A5,'13年'!$A$2:$D$150,3,FALSE)) -> 0 | E5: =IF(ISERROR(VLOOKUP(A5,'14年'!$A$2:$D$150,3,FALSE))=TRUE, 0,VLOOKUP(A5,'14年'!$A$2:$D$150,3,FALSE)) -> 0 | F5: =IF(ISERROR(VLOOKUP(A5,'15年'!$A$2:$D$150,3,FALSE))=TRUE, 0,VLOOKUP(A5,'15年'!$A$2:$D$150,3,FALSE)) -> 14 | G5: =IF(ISERROR(VLOOKUP(A5,'16年'!$A$2:$D$150,3,FALSE))=TRUE, 0,VLOOKUP(A5,'16年'!$A$2:$D$150,3,FALSE)) -> 367
A6: 5J | B6: セブパシフィック航空 | C6: =IF(ISERROR(VLOOKUP(A6,'12年'!$A$2:$D$150,3,FALSE))=TRUE, 0,VLOOKUP(A6,'12年'!$A$2:$D$150,3,FALSE)) -> 157 | D6: =IF(ISERROR(VLOOKUP(A6,'13年'!$A$2:$D$150,3,FALSE))=TRUE, 0,VLOOKUP(A6,'13年'!$A$2:$D$150,3,FALSE)) -> 164 | E6: =IF(ISERROR(VLOOKUP(A6,'14年'!$A$2:$D$150,3,FALSE))=TRUE, 0,VLOOKUP(A6,'14年'!$A$2:$D$150,3,FALSE)) -> 765 | F6: =IF(ISERROR(VLOOKUP(A6,'15年'!$A$2:$D$150,3,FALSE))=TRUE, 0,VLOOKUP(A6,'15年'!$A$2:$D$150,3,FALSE)) -> 999 | G6: =IF(ISERROR(VLOOKUP(A6,'16年'!$A$2:$D$150,3,FALSE))=TRUE, 0,VLOOKUP(A6,'16年'!$A$2:$D$150,3,FALSE)) -> 1171
A7: 7C | B7: チェジュ航空 | C7: =IF(ISERROR(VLOOKUP(A7,'12年'!$A$2:$D$150,3,FALSE))=TRUE, 0,VLOOKUP(A7,'12年'!$A$2:$D$150,3,FALSE)) -> 1888 | D7: =IF(ISERROR(VLOOKUP(A7,'13年'!$A$2:$D$150,3,FALSE))=TRUE, 0,VLOOKUP(A7,'13年'!$A$2:$D$150,3,FALSE)) -> 2320 | E7: =IF(ISERROR(VLOOKUP(A7,'14年'!$A$2:$D$150,3,FALSE))=TRUE, 0,VLOOKUP(A7,'14年'!$A$2:$D$150,3,FALSE)) -> 2577 | F7: =IF(ISERROR(VLOOKUP(A7,'15年'!$A$2:$D$150,3,FALSE))=TRUE, 0,VLOOKUP(A7,'15年'!$A$2:$D$150,3,FALSE)) -> 3588 | G7: =IF(ISERROR(VLOOKUP(A7,'16年'!$A$2:$D$150,3,FALSE))=TRUE, 0,VLOOKUP(A7,'16年'!$A$2:$D$150,3,FALSE)) -> 5282
A8: 7G | B8: スターフライヤー | C8: =IF(ISERROR(VLOOKUP(A8,'12年'!$A$2:$D$150,3,FALSE))=TRUE, 0,VLOOKUP(A8,'12年'!$A$2:$D$150,3,FALSE)) -> 346 | D8: =IF(ISERROR(VLOOKUP(A8,'13年'!$A$2:$D$150,3,FALSE))=TRUE, 0,VLOOKUP(A8,'13年'!$A$2:$D$150,3,FALSE)) -> 728 | E8: =IF(ISERROR(VLOOKUP(A8,'14年'!$A$2:$D$150,3,FALSE))=TRUE, 0,VLOOKUP(A8,'14年'!$A$2:$D$150,3,FALSE)) -> 176 | F8: =IF(ISERROR(VLOOKUP(A8,'15年'!$A$2:$D$150,3,FALSE))=TRUE, 0,VLOOKUP(A8,'15年'!$A$2:$D$150,3,FALSE)) -> 0 | G8: =IF(ISERROR(VLOOKUP(A8,'16年'!$A$2:$D$150,3,FALSE))=TRUE, 0,VLOOKUP(A8,'16年'!$A$2:$D$150,3,FALSE)) -> 0
A9: 8B | B9: ビジネス・エア | C9: =IF(ISERROR(VLOOKUP(A9,'12年'!$A$2:$D$150,3,FALSE))=TRUE, 0,VLOOKUP(A9,'12年'!$A$2:$D$150,3,FALSE)) -> 152 | D9: =IF(ISERROR(VLOOKUP(A9,'13年'!$A$2:$D$150,3,FALSE))=TRUE, 0,VLOOKUP(A9,'13年'!$A$2:$D$150,3,FALSE)) -> 0 | E9: =IF(ISERROR(VLOOKUP(A9,'14年'!$A$2:$D$150,3,FALSE))=TRUE, 0,VLOOKUP(A9,'14年'!$A$2:$D$150,3,FALSE)) -> 0 | F9: =IF(ISERROR(VLOOKUP(A9,'15年'!$A$2:$D$150,3,FALSE))=TRUE, 0,VLOOKUP(A9,'15年'!$A$2:$D$150,3,FALSE)) -> 0 | G9: =IF(ISERROR(VLOOKUP(A9,'16年'!$A$2:$D$150,3,FALSE))=TRUE, 0,VLOOKUP(A9,'16年'!$A$2:$D$150,3,FALSE)) -> 0
A10: 8L | B10: 雲南祥鵬航空 | C10: =IF(ISERROR(VLOOKUP(A10,'12年'!$A$2:$D$150,3,FALSE))=TRUE, 0,VLOOKUP(A10,'12年'!$A$2:$D$150,3,FALSE)) -> 0 | D10: =IF(ISERROR(VLOOKUP(A10,'13年'!$A$2:$D$150,3,FALSE))=TRUE, 0,VLOOKUP(A10,'13年'!$A$2:$D$150,3,FALSE)) -> 0 | E10: =IF(ISERROR(VLOOKUP(A10,'14年'!$A$2:$D$150,3,FALSE))=TRUE, 0,VLOOKUP(A10,'14年'!$A$2:$D$150,3,FALSE)) -> 0 | F10: =IF(ISERROR(VLOOKUP(A10,'15年'!$A$2:$D$150,3,FALSE))=TRUE, 0,VLOOKUP(A10,'15年'!$A$2:$D$150,3,FALSE)) -> 23 | G10: =IF(ISERROR(VLOOKUP(A10,'16年'!$A$2:$D$150,3,FALSE))=TRUE, 0,VLOOKUP(A10,'16年'!$A$2:$D$150,3,FALSE)) -> 102
A11: 8M | B11: ミャンマー国際航空 | C11: =IF(ISERROR(VLOOKUP(A11,'12年'!$A$2:$D$150,3,FALSE))=TRUE, 0,VLOOKUP(A11,'12年'!$A$2:$D$150,3,FALSE)) -> 0 | D11: =IF(ISERROR(VLOOKUP(A11,'13年'!$A$2:$D$150,3,FALSE))=TRUE, 0,VLOOKUP(A11,'13年'!$A$2:$D$150,3,FALSE)) -> 4 | E11: =IF(ISERROR(VLOOKUP(A11,'14年'!$A$2:$D$150,3,FALSE))=TRUE, 0,VLOOKUP(A11,'14年'!$A$2:$D$150,3,FALSE)) -> 9 | F11: =IF(ISERROR(VLOOKUP(A11,'15年'!$A$2:$D$150,3,FALSE))=TRUE, 0,VLOOKUP(A11,'15年'!$A$2:$D$150,3,FALSE)) -> 0 | G11: =IF(ISERROR(VLOOKUP(A11,'16年'!$A$2:$D$150,3,FALSE))=TRUE, 0,VLOOKUP(A11,'16年'!$A$2:$D$150,3,FALSE)) -> 0
A12: 9C | B12: 春秋航空 | C12: =IF(ISERROR(VLOOKUP(A12,'12年'!$A$2:$D$150,3,FALSE))=TRUE, 0,VLOOKUP(A12,'12年'!$A$2:$D$150,3,FALSE)) -> 318 | D12: =IF(ISERROR(VLOOKUP(A12,'13年'!$A$2:$D$150,3,FALSE))=TRUE, 0,VLOOKUP(A12,'13年'!$A$2:$D$150,3,FALSE)) -> 376 | E12: =IF(ISERROR(VLOOKUP(A12,'14年'!$A$2:$D$150,3,FALSE))=TRUE, 0,VLOOKUP(A12,'14年'!$A$2:$D$150,3,FALSE)) -> 1310 | F12: =IF(ISERROR(VLOOKUP(A12,'15年'!$A$2:$D$150,3,FALSE))=TRUE, 0,VLOOKUP(A12,'15年'!$A$2:$D$150,3,FALSE)) -> 3647 | G12: =IF(ISERROR(VLOOKUP(A12,'16年'!$A$2:$D$150,3,FALSE))=TRUE, 0,VLOOKUP(A12,'16年'!$A$2:$D$150,3,FALSE)) -> 4488
A13: AA | B13: アメリカン航空 | C13: =IF(ISERROR(VLOOKUP(A13,'12年'!$A$2:$D$150,3,FALSE))=TRUE, 0,VLOOKUP(A13,'12年'!$A$2:$D$150,3,FALSE)) -> 1824 | D13: =IF(ISERROR(VLOOKUP(A13,'13年'!$A$2:$D$150,3,FALSE))=TRUE, 0,VLOOKUP(A13,'13年'!$A$2:$D$150,3,FALSE)) -> 1749 | E13: =IF(ISERROR(VLOOKUP(A13,'14年'!$A$2:$D$150,3,FALSE))=TRUE, 0,VLOOKUP(A13,'14年'!$A$2:$D$150,3,FALSE)) -> 1338 | F13: =IF(ISERROR(VLOOKUP(A13,'15年'!$A$2:$D$150,3,FALSE))=TRUE, 0,VLOOKUP(A13,'15年'!$A$2:$D$150,3,FALSE)) -> 1382 | G13: =IF(ISERROR(VLOOKUP(A13,'16年'!$A$2:$D$150,3,FALSE))=TRUE, 0,VLOOKUP(A13,'16年'!$A$2:$D$150,3,FALSE)) -> 1752
A14: AC | B14: エア・カナダ | C14: =IF(ISERROR(VLOOKUP(A14,'12年'!$A$2:$D$150,3,FALSE))=TRUE, 0,VLOOKUP(A14,'12年'!$A$2:$D$150,3,FALSE)) -> 896 | D14: =IF(ISERROR(VLOOKUP(A14,'13年'!$A$2:$D$150,3,FALSE))=TRUE, 0,VLOOKUP(A14,'13年'!$A$2:$D$150,3,FALSE)) -> 976 | E14: =IF(ISERROR(VLOOKUP(A14,'14年'!$A$2:$D$150,3,FALSE))=TRUE, 0,VLOOKUP(A14,'14年'!$A$2:$D$150,3,FALSE)) -> 1109 | F14: =IF(ISERROR(VLOOKUP(A14,'15年'!$A$2:$D$150,3,FALSE))=TRUE, 0,VLOOKUP(A14,'15年'!$A$2:$D$150,3,FALSE)) -> 1284 | G14: =IF(ISERROR(VLOOKUP(A14,'16年'!$A$2:$D$150,3,FALSE))=TRUE, 0,VLOOKUP(A14,'16年'!$A$2:$D$150,3,FALSE)) -> 1303
... A118: ZV | B118: Vエアー | C118: =IF(ISERROR(VLOOKUP(A118,'12年'!$A$2:$D$150,3,FALSE))=TRUE, 0,VLOOKUP(A118,'12年'!$A$2:$D$150,3,FALSE)) -> 0 | D118: =IF(ISERROR(VLOOKUP(A118,'13年'!$A$2:$D$150,3,FALSE))=TRUE, 0,VLOOKUP(A118,'13年'!$A$2:$D$150,3,FALSE)) -> 0 | E118: =IF(ISERROR(VLOOKUP(A118,'14年'!$A$2:$D$150,3,FALSE))=TRUE, 0,VLOOKUP(A118,'14年'!$A$2:$D$150,3,FALSE)) -> 0 | F118: =IF(ISERROR(VLOOKUP(A118,'15年'!$A$2:$D$150,3,FALSE))=TRUE, 0,VLOOKUP(A118,'15年'!$A$2:$D$150,3,FALSE)) -> 0 | G118: =IF(ISERROR(VLOOKUP(A118,'16年'!$A$2:$D$150,3,FALSE))=TRUE, 0,VLOOKUP(A118,'16年'!$A$2:$D$150,3,FALSE)) -> 998
B119: 合計 | C119: =SUM(C3:C118) -> 167970 | D119: =SUM(D3:D118) -> 172189 | E119: =SUM(E3:E118) -> 186355 | F119: =SUM(F3:F118) -> 209681 | G119: =SUM(G3:G118) -> 237824
A121: 座席数
A122: ツーレター | B122: 空港 | C122: 2012年 | D122: 2013年 | E122: 2014年 | F122: 2015年 | G122: 2016年
A123: 2G | B123: アンガラ航空 | C123: =IF(ISERROR(VLOOKUP(A3,'12年'!$A$2:$D$150,4,FALSE))=TRUE, 0,VLOOKUP(A3,'12年'!$A$2:$D$150,4,FALSE)) -> 0 | D123: =IF(ISERROR(VLOOKUP(A3,'13年'!$A$2:$D$150,4,FALSE))=TRUE, 0,VLOOKUP(A3,'13年'!$A$2:$D$150,4,FALSE)) -> 0 | E123: =IF(ISERROR(VLOOKUP(A3,'14年'!$A$2:$D$150,4,FALSE))=TRUE, 0,VLOOKUP(A3,'14年'!$A$2:$D$150,4,FALSE)) -> 0 | F123: =IF(ISERROR(VLOOKUP(A3,'15年'!$A$2:$D$150,4,FALSE))=TRUE, 0,VLOOKUP(A3,'15年'!$A$2:$D$150,4,FALSE)) -> 0 | G123: =IF(ISERROR(VLOOKUP(A3,'16年'!$A$2:$D$150,4,FALSE))=TRUE, 0,VLOOKUP(A3,'16年'!$A$2:$D$150,4,FALSE)) -> 970
A124: 3K | B124: ジェットスター・アジア航空 | C124: =IF(ISERROR(VLOOKUP(A4,'12年'!$A$2:$D$150,4,FALSE))=TRUE, 0,VLOOKUP(A4,'12年'!$A$2:$D$150,4,FALSE)) -> 144360 | D124: =IF(ISERROR(VLOOKUP(A4,'13年'!$A$2:$D$150,4,FALSE))=TRUE, 0,VLOOKUP(A4,'13年'!$A$2:$D$150,4,FALSE)) -> 157140 | E124: =IF(ISERROR(VLOOKUP(A4,'14年'!$A$2:$D$150,4,FALSE))=TRUE, 0,VLOOKUP(A4,'14年'!$A$2:$D$150,4,FALSE)) -> 180180 | F124: =IF(ISERROR(VLOOKUP(A4,'15年'!$A$2:$D$150,4,FALSE))=TRUE, 0,VLOOKUP(A4,'15年'!$A$2:$D$150,4,FALSE)) -> 212220 | G124: =IF(ISERROR(VLOOKUP(A4,'16年'!$A$2:$D$150,4,FALSE))=TRUE, 0,VLOOKUP(A4,'16年'!$A$2:$D$150,4,FALSE)) -> 185400
A125: 3U | B125: 四川航空 | C125: =IF(ISERROR(VLOOKUP(A5,'12年'!$A$2:$D$150,4,FALSE))=TRUE, 0,VLOOKUP(A5,'12年'!$A$2:$D$150,4,FALSE)) -> 0 | D125: =IF(ISERROR(VLOOKUP(A5,'13年'!$A$2:$D$150,4,FALSE))=TRUE, 0,VLOOKUP(A5,'13年'!$A$2:$D$150,4,FALSE)) -> 0 | E125: =IF(ISERROR(VLOOKUP(A5,'14年'!$A$2:$D$150,4,FALSE))=TRUE, 0,VLOOKUP(A5,'14年'!$A$2:$D$150,4,FALSE)) -> 0 | F125: =IF(ISERROR(VLOOKUP(A5,'15年'!$A$2:$D$150,4,FALSE))=TRUE, 0,VLOOKUP(A5,'15年'!$A$2:$D$150,4,FALSE)) -> 3235 | G125: =IF(ISERROR(VLOOKUP(A5,'16年'!$A$2:$D$150,4,FALSE))=TRUE, 0,VLOOKUP(A5,'16年'!$A$2:$D$150,4,FALSE)) -> 90106
A126: 5J | B126: セブパシフィック航空 | C126: =IF(ISERROR(VLOOKUP(A6,'12年'!$A$2:$D$150,4,FALSE))=TRUE, 0,VLOOKUP(A6,'12年'!$A$2:$D$150,4,FALSE)) -> 28260 | D126: =IF(ISERROR(VLOOKUP(A6,'13年'!$A$2:$D$150,4,FALSE))=TRUE, 0,VLOOKUP(A6,'13年'!$A$2:$D$150,4,FALSE)) -> 29520 | E126: =IF(ISERROR(VLOOKUP(A6,'14年'!$A$2:$D$150,4,FALSE))=TRUE, 0,VLOOKUP(A6,'14年'!$A$2:$D$150,4,FALSE)) -> 138468 | F126: =IF(ISERROR(VLOOKUP(A6,'15年'!$A$2:$D$150,4,FALSE))=TRUE, 0,VLOOKUP(A6,'15年'!$A$2:$D$150,4,FALSE)) -> 179820 | G126: =IF(ISERROR(VLOOKUP(A6,'16年'!$A$2:$D$150,4,FALSE))=TRUE, 0,VLOOKUP(A6,'16年'!$A$2:$D$150,4,FALSE)) -> 213804
A127: 7C | B127: チェジュ航空 | C127: =IF(ISERROR(VLOOKUP(A7,'12年'!$A$2:$D$150,4,FALSE))=TRUE, 0,VLOOKUP(A7,'12年'!$A$2:$D$150,4,FALSE)) -> 336882 | D127: =IF(ISERROR(VLOOKUP(A7,'13年'!$A$2:$D$150,4,FALSE))=TRUE, 0,VLOOKUP(A7,'13年'!$A$2:$D$150,4,FALSE)) -> 430030 | E127: =IF(ISERROR(VLOOKUP(A7,'14年'!$A$2:$D$150,4,FALSE))=TRUE, 0,VLOOKUP(A7,'14年'!$A$2:$D$150,4,FALSE)) -> 479322 | F127: =IF(ISERROR(VLOOKUP(A7,'15年'!$A$2:$D$150,4,FALSE))=TRUE, 0,VLOOKUP(A7,'15年'!$A$2:$D$150,4,FALSE)) -> 667176 | G127: =IF(ISERROR(VLOOKUP(A7,'16年'!$A$2:$D$150,4,FALSE))=TRUE, 0,VLOOKUP(A7,'16年'!$A$2:$D$150,4,FALSE)) -> 976692
A128: 7G | B128: スターフライヤー | C128: =IF(ISERROR(VLOOKUP(A8,'12年'!$A$2:$D$150,4,FALSE))=TRUE, 0,VLOOKUP(A8,'12年'!$A$2:$D$150,4,FALSE)) -> 49824 | D128: =IF(ISERROR(VLOOKUP(A8,'13年'!$A$2:$D$150,4,FALSE))=TRUE, 0,VLOOKUP(A8,'13年'!$A$2:$D$150,4,FALSE)) -> 104832 | E128: =IF(ISERROR(VLOOKUP(A8,'14年'!$A$2:$D$150,4,FALSE))=TRUE, 0,VLOOKUP(A8,'14年'!$A$2:$D$150,4,FALSE)) -> 25344 | F128: =IF(ISERROR(VLOOKUP(A8,'15年'!$A$2:$D$150,4,FALSE))=TRUE, 0,VLOOKUP(A8,'15年'!$A$2:$D$150,4,FALSE)) -> 0 | G128: =IF(ISERROR(VLOOKUP(A8,'16年'!$A$2:$D$150,4,FALSE))=TRUE, 0,VLOOKUP(A8,'16年'!$A$2:$D$150,4,FALSE)) -> 0
A129: 8B | B129: ビジネス・エア | C129: =IF(ISERROR(VLOOKUP(A9,'12年'!$A$2:$D$150,4,FALSE))=TRUE, 0,VLOOKUP(A9,'12年'!$A$2:$D$150,4,FALSE)) -> 37767 | D129: =IF(ISERROR(VLOOKUP(A9,'13年'!$A$2:$D$150,4,FALSE))=TRUE, 0,VLOOKUP(A9,'13年'!$A$2:$D$150,4,FALSE)) -> 0 | E129: =IF(ISERROR(VLOOKUP(A9,'14年'!$A$2:$D$150,4,FALSE))=TRUE, 0,VLOOKUP(A9,'14年'!$A$2:$D$150,4,FALSE)) -> 0 | F129: =IF(ISERROR(VLOOKUP(A9,'15年'!$A$2:$D$150,4,FALSE))=TRUE, 0,VLOOKUP(A9,'15年'!$A$2:$D$150,4,FALSE)) -> 0 | G129: =IF(ISERROR(VLOOKUP(A9,'16年'!$A$2:$D$150,4,FALSE))=TRUE, 0,VLOOKUP(A9,'16年'!$A$2:$D$150,4,FALSE)) -> 0
A130: 8L | B130: 雲南祥鵬航空 | C130: =IF(ISERROR(VLOOKUP(A10,'12年'!$A$2:$D$150,4,FALSE))=TRUE, 0,VLOOKUP(A10,'12年'!$A$2:$D$150,4,FALSE)) -> 0 | D130: =IF(ISERROR(VLOOKUP(A10,'13年'!$A$2:$D$150,4,FALSE))=TRUE, 0,VLOOKUP(A10,'13年'!$A$2:$D$150,4,FALSE)) -> 0 | E130: =IF(ISERROR(VLOOKUP(A10,'14年'!$A$2:$D$150,4,FALSE))=TRUE, 0,VLOOKUP(A10,'14年'!$A$2:$D$150,4,FALSE)) -> 0 | F130: =IF(ISERROR(VLOOKUP(A10,'15年'!$A$2:$D$150,4,FALSE))=TRUE, 0,VLOOKUP(A10,'15年'!$A$2:$D$150,4,FALSE)) -> 4094 | G130: =IF(ISERROR(VLOOKUP(A10,'16年'!$A$2:$D$150,4,FALSE))=TRUE, 0,VLOOKUP(A10,'16年'!$A$2:$D$150,4,FALSE)) -> 18356
A131: 8M | B131: ミャンマー国際航空 | C131: =IF(ISERROR(VLOOKUP(A11,'12年'!$A$2:$D$150,4,FALSE))=TRUE, 0,VLOOKUP(A11,'12年'!$A$2:$D$150,4,FALSE)) -> 0 | D131: =IF(ISERROR(VLOOKUP(A11,'13年'!$A$2:$D$150,4,FALSE))=TRUE, 0,VLOOKUP(A11,'13年'!$A$2:$D$150,4,FALSE)) -> 608 | E131: =IF(ISERROR(VLOOKUP(A11,'14年'!$A$2:$D$150,4,FALSE))=TRUE, 0,VLOOKUP(A11,'14年'!$A$2:$D$150,4,FALSE)) -> 1272 | F131: =IF(ISERROR(VLOOKUP(A11,'15年'!$A$2:$D$150,4,FALSE))=TRUE, 0,VLOOKUP(A11,'15年'!$A$2:$D$150,4,FALSE)) -> 0 | G131: =IF(ISERROR(VLOOKUP(A11,'16年'!$A$2:$D$150,4,FALSE))=TRUE, 0,VLOOKUP(A11,'16年'!$A$2:$D$150,4,FALSE)) -> 0
A132: 9C | B132: 春秋航空 | C132: =IF(ISERROR(VLOOKUP(A12,'12年'!$A$2:$D$150,4,FALSE))=TRUE, 0,VLOOKUP(A12,'12年'!$A$2:$D$150,4,FALSE)) -> 57240 | D132: =IF(ISERROR(VLOOKUP(A12,'13年'!$A$2:$D$150,4,FALSE))=TRUE, 0,VLOOKUP(A12,'13年'!$A$2:$D$150,4,FALSE)) -> 67680 | E132: =IF(ISERROR(VLOOKUP(A12,'14年'!$A$2:$D$150,4,FALSE))=TRUE, 0,VLOOKUP(A12,'14年'!$A$2:$D$150,4,FALSE)) -> 235800 | F132: =IF(ISERROR(VLOOKUP(A12,'15年'!$A$2:$D$150,4,FALSE))=TRUE, 0,VLOOKUP(A12,'15年'!$A$2:$D$150,4,FALSE)) -> 656460 | G132: =IF(ISERROR(VLOOKUP(A12,'16年'!$A$2:$D$150,4,FALSE))=TRUE, 0,VLOOKUP(A12,'16年'!$A$2:$D$150,4,FALSE)) -> 807840
A133: AA | B133: アメリカン航空 | C133: =IF(ISERROR(VLOOKUP(A13,'12年'!$A$2:$D$150,4,FALSE))=TRUE, 0,VLOOKUP(A13,'12年'!$A$2:$D$150,4,FALSE)) -> 450528 | D133: =IF(ISERROR(VLOOKUP(A13,'13年'!$A$2:$D$150,4,FALSE))=TRUE, 0,VLOOKUP(A13,'13年'!$A$2:$D$150,4,FALSE)) -> 432003 | E133: =IF(ISERROR(VLOOKUP(A13,'14年'!$A$2:$D$150,4,FALSE))=TRUE, 0,VLOOKUP(A13,'14年'!$A$2:$D$150,4,FALSE)) -> 330486 | F133: =IF(ISERROR(VLOOKUP(A13,'15年'!$A$2:$D$150,4,FALSE))=TRUE, 0,VLOOKUP(A13,'15年'!$A$2:$D$150,4,FALSE)) -> 338561 | G133: =IF(ISERROR(VLOOKUP(A13,'16年'!$A$2:$D$150,4,FALSE))=TRUE, 0,VLOOKUP(A13,'16年'!$A$2:$D$150,4,FALSE)) -> 430917
A134: AC | B134: エア・カナダ | C134: =IF(ISERROR(VLOOKUP(A14,'12年'!$A$2:$D$150,4,FALSE))=TRUE, 0,VLOOKUP(A14,'12年'!$A$2:$D$150,4,FALSE)) -> 264877 | D134: =IF(ISERROR(VLOOKUP(A14,'13年'!$A$2:$D$150,4,FALSE))=TRUE, 0,VLOOKUP(A14,'13年'!$A$2:$D$150,4,FALSE)) -> 268560 | E134: =IF(ISERROR(VLOOKUP(A14,'14年'!$A$2:$D$150,4,FALSE))=TRUE, 0,VLOOKUP(A14,'14年'!$A$2:$D$150,4,FALSE)) -> 282110 | F134: =IF(ISERROR(VLOOKUP(A14,'15年'!$A$2:$D$150,4,FALSE))=TRUE, 0,VLOOKUP(A14,'15年'!$A$2:$D$150,4,FALSE)) -> 338563 | G134: =IF(ISERROR(VLOOKUP(A14,'16年'!$A$2:$D$150,4,FALSE))=TRUE, 0,VLOOKUP(A14,'16年'!$A$2:$D$150,4,FALSE)) -> 391706
... A238: ZV | B238: Vエアー | C238: =IF(ISERROR(VLOOKUP(A118,'12年'!$A$2:$D$150,4,FALSE))=TRUE, 0,VLOOKUP(A118,'12年'!$A$2:$D$150,4,FALSE)) -> 0 | D238: =IF(ISERROR(VLOOKUP(A118,'13年'!$A$2:$D$150,4,FALSE))=TRUE, 0,VLOOKUP(A118,'13年'!$A$2:$D$150,4,FALSE)) -> 0 | E238: =IF(ISERROR(VLOOKUP(A118,'14年'!$A$2:$D$150,4,FALSE))=TRUE, 0,VLOOKUP(A118,'14年'!$A$2:$D$150,4,FALSE)) -> 0 | F238: =IF(ISERROR(VLOOKUP(A118,'15年'!$A$2:$D$150,4,FALSE))=TRUE, 0,VLOOKUP(A118,'15年'!$A$2:$D$150,4,FALSE)) -> 0 | G238: =IF(ISERROR(VLOOKUP(A118,'16年'!$A$2:$D$150,4,FALSE))=TRUE, 0,VLOOKUP(A118,'16年'!$A$2:$D$150,4,FALSE)) -> 193612
B239: 合計 | C239: =SUM(C123:C238) -> 39350814 | D239: =SUM(D123:D238) -> 40677429 | E239: =SUM(E123:E238) -> 43344714 | F239: =SUM(F123:F238) -> 47634446 | G239: =SUM(G123:G238) -> 52531082
